Data-Handle v1.000001 Perl 5 v5.35.11 i86pc-solaris-64
- Status
- Pass
- From
- Carlos Guevara
- Dist
-
Data-Handle v1.000001
- Platform
- Perl 5 v5.35.11 i86pc-solaris-64
- Date
- 2022-04-05 05:08:23
- ID
- 6b487dc4-b49e-11ec-8b13-2f1f1c368c3c
This distribution has been tested as part of the CPAN Testers
project, supporting the Perl programming language. See
http://wiki.cpantesters.org/ for more information or email
questions to cpan-testers-discuss@perl.org
--
Dear Kent Fredric (PAUSE Custodial Account),
This is a computer-generated report for Data-Handle-1.000001
on perl 5.35.11, created by CPAN-Reporter-1.2018.
Thank you for uploading your work to CPAN. Congratulations!
All tests were successful.
Sections of this report:
* Tester comments
* Program output
* Prerequisites
* Environment and other context
------------------------------
TESTER COMMENTS
------------------------------
Additional comments from tester:
this report is from an automated smoke testing program
and was not reviewed by a human for accuracy
------------------------------
PROGRAM OUTPUT
------------------------------
Output from '/usr/bin/make test':
PERL_DL_NONLAZY=1 "/export/home/cpan/bin/perl-blead/bin/perl5.35.11" "-MExtUtils::Command::MM" "-MTest::Harness" "-e" "undef *Test::Harness::Switches; test_harness(0, 'blib/lib', 'blib/arch')" t/*.t t/00-compile/*.t t/alternative_techniques/*.t
t/00-compile/lib_Data_Handle_Exception_pm.t .... ok
t/00-compile/lib_Data_Handle_IO_pm.t ........... ok
t/00-compile/lib_Data_Handle_pm.t .............. ok
#
# Versions for all modules listed in MYMETA.json (including optional ones):
#
# === Configure Requires ===
#
# Module Want Have
# ------------------- ---- ----
# ExtUtils::MakeMaker any 7.64
#
# === Configure Recommends ===
#
# Module Want Have
# ------------------- ---- ----
# ExtUtils::MakeMaker 7.00 7.64
#
# === Build Requires ===
#
# Module Want Have
# ------------------- ---- ----
# ExtUtils::MakeMaker any 7.64
#
# === Test Requires ===
#
# Module Want Have
# ------------------- ---- --------
# Data::Dumper any 2.184
# ExtUtils::MakeMaker any 7.64
# File::Spec any 3.84
# IO::Handle any 1.48
# Test::Fatal any 0.016
# Test::More any 1.302190
# lib any 0.65
#
# === Test Recommends ===
#
# Module Want Have
# ------------------- -------- --------
# CPAN::Meta 2.120900 2.150010
# ExtUtils::MakeMaker 7.00 7.64
# Test::More 0.99 1.302190
#
# === Runtime Requires ===
#
# Module Want Have
# --------------- ---- -----
# Carp 1.22 1.52
# IO::File any 1.48
# Package::Stash 0.15 0.40
# Scalar::Util any 1.62
# Symbol any 1.09
# Term::ANSIColor any 5.01
# Try::Tiny any 0.31
# overload any 1.35
# parent any 0.238
# strict any 1.12
# warnings any 1.58
#
t/00-report-prereqs.t .......................... ok
#
#
# ** This is an example Exception, isn't it pretty?
#
# Data_Not_There has no DATA symbol
#
# [32mException 'Data::Handle::Exception::NoSymbol' thrown at /export/home/cpan/.cpan/build/Data-Handle-1.000001-0/blib/lib/Data/Handle.pm line 118[0m
# 2. Data::Handle::new(...) called at t/01_lowlevel.t line 26[0m
# [33m3. main::__ANON__(...) called at /export/home/cpan/bin/perl-blead/lib/site_perl/5.35.11/Test/Fatal.pm line 158[0m
# [33m4. Test::Fatal::try {...} (...) called at /export/home/cpan/bin/perl-blead/lib/site_perl/5.35.11/Try/Tiny.pm line 100[0m
# [33m5. eval {...} called at /export/home/cpan/bin/perl-blead/lib/site_perl/5.35.11/Try/Tiny.pm line 93[0m
# [33m6. Try::Tiny::try(...) called at /export/home/cpan/bin/perl-blead/lib/site_perl/5.35.11/Test/Fatal.pm line 165[0m
# 7. Test::Fatal::exception(...) called at t/01_lowlevel.t line 29[0m
#
t/01_lowlevel.t ................................ ok
t/02_example.t ................................. ok
t/03_mess_with_seek.t .......................... ok
t/04_things_that_fail.t ........................ ok
t/alternative_techniques/03_fdup_test.t ........ skipped: Example alternative technique that doesn't work
t/alternative_techniques/03_fdup_test_cowns.t .. skipped: Example alternative technique that doesn't work
t/alternative_techniques/04_fopen.t ............ skipped: Example alternative technique that doesn't work
t/alternative_techniques/05_new_from_fd.t ...... skipped: Example alternative technique that doesn't work
All tests successful.
Files=12, Tests=162, 2 wallclock secs ( 0.09 usr 0.06 sys + 1.40 cusr 0.41 csys = 1.96 CPU)
Result: PASS
------------------------------
PREREQUISITES
------------------------------
Prerequisite modules loaded:
requires:
Module Need Have
------------------- ----- --------
Carp 1.22 1.52
IO::File 0 1.48
overload 0 1.35
Package::Stash 0.15 0.40
parent 0 0.238
perl 5.008 5.035011
Scalar::Util 0 1.62
strict 0 1.12
Symbol 0 1.09
Term::ANSIColor 0 5.01
Try::Tiny 0 0.31
warnings 0 1.58
build_requires:
Module Need Have
------------------- ----- --------
Data::Dumper 0 2.184
ExtUtils::MakeMaker 0 7.64
File::Spec 0 3.84
IO::Handle 0 1.48
lib 0 0.65
Test::Fatal 0 0.016
Test::More 0 1.302190
configure_requires:
Module Need Have
------------------- ----- --------
ExtUtils::MakeMaker 0 7.64
perl 5.008 5.035011
------------------------------
ENVIRONMENT AND OTHER CONTEXT
------------------------------
Environment variables:
AUTOMATED_TESTING = 1
DATE_MANIP_TEST_DM5 = 1
LANG = en_US.UTF-8
LC_ALL = C
NONINTERACTIVE_TESTING = 1
PATH = /export/home/cpan/bin/perl-blead/bin:/usr/bin:/usr/sbin:/sbin:/usr/gnu/bin
PERL5LIB =
PERL5OPT =
PERL5_CPANPLUS_IS_RUNNING = 1791
PERL5_CPAN_IS_RUNNING = 1791
PERL_MM_USE_DEFAULT = 1
PERL_USE_UNSAFE_INC = 1
PERL_VERSION = blead
SHELL = /usr/bin/bash
TERM = screen
Perl special variables (and OS-specific diagnostics, for MSWin32):
$^X = /export/home/cpan/bin/perl-blead/bin/perl5.35.11
$UID/$EUID = 101 / 101
$GID = 1 1
$EGID = 1 1
Perl module toolchain versions installed:
Module Have
------------------- --------
CPAN 2.33
CPAN::Meta 2.150010
Cwd 3.84
ExtUtils::CBuilder 0.280236
ExtUtils::Command 7.64
ExtUtils::Install 2.20
ExtUtils::MakeMaker 7.64
ExtUtils::Manifest 1.73
ExtUtils::ParseXS 3.45
File::Spec 3.84
JSON 4.05
JSON::PP 4.07
Module::Build 0.4231
Module::Signature n/a
Parse::CPAN::Meta 2.150010
Test::Harness 3.43
Test::More 1.302190
YAML n/a
YAML::Syck n/a
version 0.9929
--
Summary of my perl5 (revision 5 version 35 subversion 11) configuration:
Commit id: 2caf82775aff58fd4599ee9fb0841a887715c56b
Platform:
osname=solaris
osvers=2.11
archname=i86pc-solaris-64
uname='sunos cjg-hipster 5.11 illumos-74e98f497a i86pc i386 i86pc '
config_args='-des -Dprefix=~/bin/perl-blead -Dscriptdir=~/bin/perl-blead/bin -Dusedevel -Duse64bitall -Dcc=gcc'
hint=recommended
useposix=true
d_sigaction=define
useithreads=undef
usemultiplicity=undef
use64bitint=define
use64bitall=define
uselongdouble=undef
usemymalloc=n
default_inc_excludes_dot=define
Compiler:
cc='gcc'
ccflags ='-m64 -fwrapv -fno-strict-aliasing -pipe -fstack-protector-strong -I/usr/gnu/include -D_LARGEFILE_SOURCE -D_FILE_OFFSET_BITS=64 -D_FORTIFY_SOURCE=2 -DPERL_USE_SAFE_PUTENV'
optimize='-O'
cppflags='-m64 -fwrapv -fno-strict-aliasing -pipe -fstack-protector-strong -I/usr/gnu/include'
ccversion=''
gccversion='7.5.0'
gccosandvers=''
intsize=4
longsize=8
ptrsize=8
doublesize=8
byteorder=12345678
doublekind=3
d_longlong=define
longlongsize=8
d_longdbl=define
longdblsize=16
longdblkind=3
ivtype='long'
ivsize=8
nvtype='double'
nvsize=8
Off_t='off_t'
lseeksize=8
alignbytes=8
prototype=define
Linker and Libraries:
ld='gcc'
ldflags =' -m64 -fstack-protector-strong -L/usr/gnu/lib '
libpth=/usr/gcc/7/lib /usr/lib /usr/gnu/lib /usr/ccs/lib
libs=-lpthread -lsocket -lnsl -lgdbm -ldb -ldl -lm -lc
perllibs=-lpthread -lsocket -lnsl -ldl -lm -lc
libc=/lib/libc.so
so=so
useshrplib=true
libperl=libperl.so
gnulibc_version=''
Dynamic Linking:
dlsrc=dl_dlopen.xs
dlext=so
d_dlsymun=undef
ccdlflags=' -R /export/home/cpan/bin/perl-blead/lib/5.35.11/i86pc-solaris-64/CORE'
cccdlflags='-fPIC'
lddlflags=' -shared -m64 -L/usr/gnu/lib -fstack-protector-strong'
Characteristics of this binary (from libperl):
Compile-time options:
HAS_TIMES
PERLIO_LAYERS
PERL_COPY_ON_WRITE
PERL_DONT_CREATE_GVSV
PERL_MALLOC_WRAP
PERL_OP_PARENT
PERL_PRESERVE_IVUV
PERL_USE_DEVEL
PERL_USE_SAFE_PUTENV
USE_64_BIT_ALL
USE_64_BIT_INT
USE_LARGE_FILES
USE_LOCALE
USE_LOCALE_COLLATE
USE_LOCALE_CTYPE
USE_LOCALE_NUMERIC
USE_LOCALE_TIME
USE_PERLIO
USE_PERL_ATOF
Built under solaris
Compiled at Apr 4 2022 21:44:20
%ENV:
PERL5LIB=""
PERL5OPT=""
PERL5_CPANPLUS_IS_RUNNING="1791"
PERL5_CPAN_IS_RUNNING="1791"
PERL_MM_USE_DEFAULT="1"
PERL_USE_UNSAFE_INC="1"
PERL_VERSION="blead"
@INC:
/export/home/cpan/bin/perl-blead/lib/site_perl/5.35.11/i86pc-solaris-64
/export/home/cpan/bin/perl-blead/lib/site_perl/5.35.11
/export/home/cpan/bin/perl-blead/lib/5.35.11/i86pc-solaris-64
/export/home/cpan/bin/perl-blead/lib/5.35.11
.