Back
From: metabase:user:30977d10-2aae-11df-837a-5e0a49663a4f
Subject: PASS HTML-Scrubber-0.15 v5.20.3 SunOS/Solaris
Date: 2016-12-30T05:11:28Z
This distribution has been tested as part of the CPAN Testers
project, supporting the Perl programming language. See
http://wiki.cpantesters.org/ for more information or email
questions to cpan-testers-discuss@perl.org
--
Dear Nigel Metheringham,
This is a computer-generated report for HTML-Scrubber-0.15
on perl 5.20.3, created by CPAN-Reporter-1.2018.
Thank you for uploading your work to CPAN. Congratulations!
All tests were successful.
Sections of this report:
* Tester comments
* Program output
* Prerequisites
* Environment and other context
------------------------------
TESTER COMMENTS
------------------------------
Additional comments from tester:
this report is from an automated smoke testing program
and was not reviewed by a human for accuracy
------------------------------
PROGRAM OUTPUT
------------------------------
Output from './Build test':
t/00-compile.t ............... ok
# Testing with Perl 5.020003, /home/stro/perl/5.20.3/bin/perl
# Carp version is 1.3301
# File::Spec version is 3.48_01
# File::Temp version is 0.2304
# HTML::Entities version is 3.69
# HTML::Parser version is 3.72
# IO::Handle version is 1.35
# IPC::Open3 version is 1.16
# Module::Build version is 0.422
# Scalar::Util version is 1.47
# Test version is 1.26
# Test::CPAN::Meta version is 0.25
# Test::EOL version is 1.6
# Test::Memory::Cycle version is 1.06
# Test::More version is 1.302073
# Test::NoTabs version is 1.4
# blib version is 1.06
# strict version is 1.08
# utf8 version is 1.13_01
# warnings version is 1.23
t/000-report-versions.t ...... ok
# Testing HTML::Scrubber 0.15, Perl 5.020003, /home/stro/perl/5.20.3/bin/perl
t/01_use.t ................... ok
t/02_basic.t ................. ok
t/03_more.t .................. ok
t/04_style_script.t .......... ok
t/05_pi_comment.t ............ ok
t/06_scrub_file.t ............ ok
t/07_booleans.t .............. ok
t/08_cb_attrs.t .............. ok
t/09_memory_cycle.t .......... ok
t/09_no_scrub_warnings.t ..... ok
t/author-critic.t ............ skipped: these tests are for testing by the author
t/author-eol.t ............... skipped: these tests are for testing by the author
t/author-no-tabs.t ........... skipped: these tests are for testing by the author
t/author-pod-spell.t ......... skipped: these tests are for testing by the author
t/jvn53973084.t .............. ok
t/release-dist-manifest.t .... skipped: these tests are for release candidate testing
t/release-distmeta.t ......... skipped: these tests are for release candidate testing
t/release-has-version.t ...... skipped: these tests are for release candidate testing
t/release-minimum-version.t .. skipped: these tests are for release candidate testing
t/release-pod-syntax.t ....... skipped: these tests are for release candidate testing
t/release-portability.t ...... skipped: these tests are for release candidate testing
t/release-synopsis.t ......... skipped: these tests are for release candidate testing
t/release-unused-vars.t ...... skipped: these tests are for release candidate testing
t/rt19063_xhtml.t ............ ok
t/rt25477_self_closing.t ..... ok
t/rt72659_utf8.t ............. ok
t/rt79044_multiple.t ......... ok
All tests successful.
Files=29, Tests=177, 1 wallclock secs ( 0.08 usr 0.04 sys + 1.08 cusr 0.12 csys = 1.32 CPU)
Result: PASS
------------------------------
PREREQUISITES
------------------------------
Prerequisite modules loaded:
requires:
Module Need Have
------------------- ----- --------
HTML::Entities 0 3.69
HTML::Parser 3.47 3.72
perl 5.008 5.020003
Scalar::Util 0 1.47
strict 0 1.08
warnings 0 1.23
build_requires:
Module Need Have
------------------- ----- --------
blib 1.01 1.06
Carp 0 1.3301
File::Spec 0 3.48_01
File::Temp 0 0.2304
IO::Handle 0 1.35
IPC::Open3 0 1.16
Module::Build 0.28 0.4220
Test 0 1.26
Test::CPAN::Meta 0 0.25
Test::EOL 0 1.6
Test::Memory::Cycle 0 1.06
Test::More 0.94 1.302073
Test::NoTabs 0 1.4
utf8 0 1.13_01
configure_requires:
Module Need Have
------------------- ----- --------
Module::Build 0.28 0.4220
------------------------------
ENVIRONMENT AND OTHER CONTEXT
------------------------------
Environment variables:
AUTOMATED_TESTING = 1
LANG = en_US.UTF-8
PATH = /usr/gnu/bin:/usr/bin:/usr/sbin:/sbin:/usr/sfw/bin:
PERL5LIB =
PERL5OPT =
PERL5_CPANPLUS_IS_RUNNING = 27531
PERL5_CPAN_IS_RUNNING = 27531
PERL5_CPAN_IS_RUNNING_IN_RECURSION = 11406,27531
PERL_CR_SMOKER_CURRENT = Text-Shirasu-0.0.3
PERL_EXTUTILS_AUTOINSTALL = --defaultdeps
PERL_MM_USE_DEFAULT = 1
SHELL = /bin/bash
TERM = xterm
Perl special variables (and OS-specific diagnostics, for MSWin32):
$^X = /home/stro/perl/5.20.3/bin/perl
$UID/$EUID = 101 / 101
$GID = 10 10
$EGID = 10 10
Perl module toolchain versions installed:
Module Have
------------------- --------
CPAN 2.14
CPAN::Meta 2.150010
Cwd 3.48_01
ExtUtils::CBuilder 0.280217
ExtUtils::Command 7.24
ExtUtils::Install 1.67
ExtUtils::MakeMaker 7.24
ExtUtils::Manifest 1.70
ExtUtils::ParseXS 3.24
File::Spec 3.48_01
JSON 2.90
JSON::PP 2.27400
Module::Build 0.4220
Module::Signature n/a
Parse::CPAN::Meta 2.150010
Test::Harness 3.36
Test::More 1.302073
YAML 1.21
YAML::Syck 1.29
version 0.9909
--
Summary of my perl5 (revision 5 version 20 subversion 3) configuration:
Platform:
osname=solaris, osvers=2.11, archname=i86pc-solaris
uname='sunos vm-openindiana-001 5.11 illumos-2816291 i86pc i386 i86pc '
config_args='-Dcc=gcc'
hint=recommended, useposix=true, d_sigaction=define
useithreads=undef, usemultiplicity=undef
use64bitint=undef, use64bitall=undef, uselongdouble=undef
usemymalloc=n, bincompat5005=undef
Compiler:
cc='gcc', ccflags ='-fno-strict-aliasing -pipe -I/usr/gnu/include -D_LARGEFILE_SOURCE -D_FILE_OFFSET_BITS=64 -DPERL_USE_SAFE_PUTENV',
optimize='-O',
cppflags='-fno-strict-aliasing -pipe -I/usr/gnu/include'
ccversion='', gccversion='3.4.3 (csl-sol210-3_4-20050802)', gccosandvers='solaris2.11'
intsize=4, longsize=4, ptrsize=4, doublesize=8, byteorder=1234
d_longlong=define, longlongsize=8, d_longdbl=define, longdblsize=12
ivtype='long', ivsize=4, nvtype='double', nvsize=8, Off_t='off_t', lseeksize=8
alignbytes=4, prototype=define
Linker and Libraries:
ld='gcc', ldflags =' -L/usr/gnu/lib '
libpth=/usr/gcc/3.4/lib /usr/lib /usr/gnu/lib /usr/ccs/lib
libs=-lpthread -lsocket -lnsl -lgdbm -ldb -ldl -lm -lc
perllibs=-lpthread -lsocket -lnsl -ldl -lm -lc
libc=/lib/libc.so, so=so, useshrplib=false, libperl=libperl.a
gnulibc_version=''
Dynamic Linking:
dlsrc=dl_dlopen.xs, dlext=so, d_dlsymun=undef, ccdlflags=' '
cccdlflags='-fPIC', lddlflags='-shared -L/usr/gnu/lib'
Characteristics of this binary (from libperl):
Compile-time options: HAS_TIMES PERLIO_LAYERS PERL_DONT_CREATE_GVSV
PERL_HASH_FUNC_ONE_AT_A_TIME_HARD PERL_MALLOC_WRAP
PERL_NEW_COPY_ON_WRITE PERL_PRESERVE_IVUV
PERL_USE_SAFE_PUTENV USE_LARGE_FILES USE_LOCALE
USE_LOCALE_COLLATE USE_LOCALE_CTYPE
USE_LOCALE_NUMERIC USE_PERLIO USE_PERL_ATOF
Built under solaris
Compiled at Dec 24 2016 13:12:21
%ENV:
PERL5LIB=""
PERL5OPT=""
PERL5_CPANPLUS_IS_RUNNING="27531"
PERL5_CPAN_IS_RUNNING="27531"
PERL5_CPAN_IS_RUNNING_IN_RECURSION="11406,27531"
PERL_CR_SMOKER_CURRENT="Text-Shirasu-0.0.3"
PERL_EXTUTILS_AUTOINSTALL="--defaultdeps"
PERL_MM_USE_DEFAULT="1"
@INC:
/home/stro/perl/5.20.3/lib/site_perl/5.20.3/i86pc-solaris
/home/stro/perl/5.20.3/lib/site_perl/5.20.3
/home/stro/perl/5.20.3/lib/5.20.3/i86pc-solaris
/home/stro/perl/5.20.3/lib/5.20.3
.