Report for Dist-Zilla-Plugin-SpellingCommonMistakesTests-1.001000

Back
From: metabase:user:30dda8bc-2aae-11df-837a-5e0a49663a4f
Subject: PASS Dist-Zilla-Plugin-SpellingCommonMistakesTests-1.001000 v5.10.1 GNU/Linux
Date: 2011-04-02T16:29:45Z

This distribution has been tested as part of the CPAN Testers
project, supporting the Perl programming language.  See
http://wiki.cpantesters.org/ for more information or email
questions to cpan-testers-discuss@perl.org


--
Dear Adam Lesperance,

This is a computer-generated report for Dist-Zilla-Plugin-SpellingCommonMistakesTests-1.001000
on perl 5.10.1, created by CPAN-Reporter-1.1902.

Thank you for uploading your work to CPAN.  Congratulations!
All tests were successful.

Sections of this report:

    * Tester comments
    * Program output
    * Prerequisites
    * Environment and other context

------------------------------
TESTER COMMENTS
------------------------------

Additional comments from tester:

this report is from an automated smoke testing program
and was not reviewed by a human for accuracy

------------------------------
PROGRAM OUTPUT
------------------------------

Output from './Build test':

t/00-compile.t .................. ok
# 
[Bootstrap::lib] lib added to @INC at (eval 4) line 1
# 
# perl: v5.10.1 (wanted 5.008) on linux from /net/netfile2/ag-russell/install/Fedora-14-i686/perlbrew/perls/perl-5.10.1/bin/perl
# 
# Dist::Zilla::Plugin::Bootstrap::lib           => 0.01000003 (want any version)
# Dist::Zilla::Plugin::InlineFiles              => 4.200004   (want any version)
# English                                       => 1.04       (want any version)
# File::Find                                    => 1.14       (want any version)
# File::Temp                                    => 0.22       (want any version)
# Module::Build                                 => 0.38       (want 0.3601) 
# Moose                                         => 1.24       (want any version)
# Pod::Spell::CommonMistakes                    => 1.000      (want any version)
# Test::More                                    => 0.98       (want 0.88)   
# Test::Pod::Spelling::CommonMistakes           => 1.000      (want any version)
# utf8                                          => 1.07       (want any version)
# 
# Thanks for using my code.  I hope it works for you.
# If not, please try and include this output in the bug report.
# That will help me reproduce the issue and solve you problem.
# 
t/000-report-versions-tiny.t .... ok
t/author-critic.t ............... skipped: these tests are for testing by the author
t/release-common_spelling.t ..... skipped: these tests are for release candidate testing
t/release-consistent-version.t .. skipped: these tests are for release candidate testing
t/release-cpan-changes.t ........ skipped: these tests are for release candidate testing
t/release-dist-manifest.t ....... skipped: these tests are for release candidate testing
t/release-distmeta.t ............ skipped: these tests are for release candidate testing
t/release-eol.t ................. skipped: these tests are for release candidate testing
t/release-has-version.t ......... skipped: these tests are for release candidate testing
t/release-kwalitee.t ............ skipped: these tests are for release candidate testing
t/release-minimum-version.t ..... skipped: these tests are for release candidate testing
t/release-no-tabs.t ............. skipped: these tests are for release candidate testing
t/release-pod-coverage.t ........ skipped: these tests are for release candidate testing
t/release-pod-syntax.t .......... skipped: these tests are for release candidate testing
t/release-portability.t ......... skipped: these tests are for release candidate testing
t/release-unused-vars.t ......... skipped: these tests are for release candidate testing
All tests successful.
Files=17, Tests=2,  2 wallclock secs ( 0.05 usr  0.02 sys +  0.89 cusr  0.20 csys =  1.16 CPU)
Result: PASS

------------------------------
PREREQUISITES
------------------------------

Prerequisite modules loaded:

requires:

    Module                              Need   Have      
    ----------------------------------- ------ ----------
    Dist::Zilla::Plugin::InlineFiles    0      4.200004  
    Moose                               0      1.24      
    perl                                5.008  5.010001  
    Pod::Spell::CommonMistakes          0      1.000     
    Test::Pod::Spelling::CommonMistakes 0      1.000     
    utf8                                0      1.07      

build_requires:

    Module                              Need   Have      
    ----------------------------------- ------ ----------
    Dist::Zilla::Plugin::Bootstrap::lib 0      0.01000003
    English                             0      1.04      
    File::Find                          0      1.14      
    File::Temp                          0      0.22      
    Module::Build                       0.3601 0.3800    
    Test::More                          0.88   0.98      

configure_requires:

    Module                              Need   Have      
    ----------------------------------- ------ ----------
    Module::Build                       0.3601 0.3800    


------------------------------
ENVIRONMENT AND OTHER CONTEXT
------------------------------

Environment variables:

    AUTOMATED_TESTING = 1
    LANG = en_US.utf8
    LD_LIBRARY_PATH = /net/netfile2/ag-russell/install/Fedora-14-i686/gromacs-4.5.4/lib:/net/netfile2/ag-russell/install/Fedora-14-i686/lib:/net/netfile2/ag-russell/install/Fedora-14-i686/lib64:/usr/lib/mysql
    PATH = /net/netfile2/ag-russell/perl/Fedora-14-i686/perl-5.10.1/bin:/net/netfile2/ag-russell/install/Fedora-14-i686/perlbrew/bin:/net/netfile2/ag-russell/install/Fedora-14-i686/perlbrew/perls/perl-5.10.1/bin:/usr/java/jdk1.6.0_24/bin:/net/netfile2/ag-russell/install/Fedora-14-i686/gromacs-4.5.4/bin::/home/bq_cdavis/scripts:/home/bq_cdavis/usr/bin:/bin:/sbin:/usr/bin:/usr/sbin:/usr/local/bin:/net/netfile2/ag-russell/admin:/net/netfile2/ag-russell/admin/data:/net/netfile2/ag-russell/install/Fedora-14-i686/bin:/net/netfile2/ag-russell/code/misc/bin:/net/netfile2/ag-russell/lbin
    PATH_WITHOUT_PERLBREW = /usr/java/jdk1.6.0_24/bin:/net/netfile2/ag-russell/install/Fedora-14-i686/gromacs-4.5.4/bin:/net/netfile2/ag-russell/perl/Fedora-14-i686/bin:/home/bq_cdavis/scripts:/home/bq_cdavis/usr/bin:/bin:/sbin:/usr/bin:/usr/sbin:/usr/local/bin:/net/netfile2/ag-russell/admin:/net/netfile2/ag-russell/admin/data:/net/netfile2/ag-russell/install/Fedora-14-i686/bin:/net/netfile2/ag-russell/code/misc/bin:/net/netfile2/ag-russell/lbin
    PERL5LIB = /tmp/cpan/Fedora-14-i686/perl-5.10.1/build/Test-Pod-Spelling-CommonMistakes-1.000-xbwqhg/blib/arch:/tmp/cpan/Fedora-14-i686/perl-5.10.1/build/Test-Pod-Spelling-CommonMistakes-1.000-xbwqhg/blib/lib:/tmp/cpan/Fedora-14-i686/perl-5.10.1/build/Pod-Spell-CommonMistakes-1.000-7Fqv7q/blib/arch:/tmp/cpan/Fedora-14-i686/perl-5.10.1/build/Pod-Spell-CommonMistakes-1.000-7Fqv7q/blib/lib:/tmp/cpan/Fedora-14-i686/perl-5.10.1/build/IO-stringy-2.110-_vHx68/blib/arch:/tmp/cpan/Fedora-14-i686/perl-5.10.1/build/IO-stringy-2.110-_vHx68/blib/lib:/tmp/cpan/Fedora-14-i686/perl-5.10.1/build/Pod-Spell-1.01-paIXw1/blib/arch:/tmp/cpan/Fedora-14-i686/perl-5.10.1/build/Pod-Spell-1.01-paIXw1/blib/lib:/tmp/cpan/Fedora-14-i686/perl-5.10.1/build/Test-Pod-1.45-ATI21I/blib/arch:/tmp/cpan/Fedora-14-i686/perl-5.10.1/build/Test-Pod-1.45-ATI21I/blib/lib:/tmp/cpan/Fedora-14-i686/perl-5.10.1/build/Dist-Zilla-Plugin-Bootstrap-lib-0.01000003-_EUsBj/blib/arch:/tmp/cpan/Fedora-14-i686/perl-5.10.1/build/Dist-Zilla-Plugin-Bootstrap-lib-0.01000003-_EUsBj/blib/lib:/net/netfile2/ag-russell/perl/Fedora-14-i686/perl-5.10.1/lib/perl5/i686-linux-thread-multi:/net/netfile2/ag-russell/perl/Fedora-14-i686/perl-5.10.1/lib/perl5::::/net/netfile2/ag-russell/install/Fedora-14-i686/lib/perl5:/net/netfile2/ag-russell/code/misc/lib
    PERL5OPT = 
    PERL5_CPANPLUS_IS_RUNNING = 8651
    PERL5_CPAN_IS_RUNNING = 8651
    PERL5_CPAN_IS_RUNNING_IN_RECURSION = 14349,8651
    PERLBREW_PATH = /net/netfile2/ag-russell/install/Fedora-14-i686/perlbrew/bin:/net/netfile2/ag-russell/install/Fedora-14-i686/perlbrew/perls/perl-5.10.1/bin
    PERLBREW_PERL = perl-5.10.1
    PERLBREW_ROOT = /net/netfile2/ag-russell/install/Fedora-14-i686/perlbrew
    PERLBREW_VERSION = 0.17
    PERL_CR_SMOKER_CURRENT = Dist-Zilla-Plugin-SpellingCommonMistakesTests-1.001000
    PERL_EXTUTILS_AUTOINSTALL = --defaultdeps
    PERL_LOCAL_LIB_ROOT = /net/netfile2/ag-russell/perl/Fedora-14-i686/perl-5.10.1
    PERL_MB_OPT = --install_base /net/netfile2/ag-russell/perl/Fedora-14-i686/perl-5.10.1
    PERL_MM_OPT = INSTALL_BASE=/net/netfile2/ag-russell/perl/Fedora-14-i686/perl-5.10.1
    PERL_MM_USE_DEFAULT = 1
    SHELL = /bin/bash
    TERM = xterm

Perl special variables (and OS-specific diagnostics, for MSWin32):

    $^X = /net/netfile2/ag-russell/install/Fedora-14-i686/perlbrew/perls/perl-5.10.1/bin/perl
    $UID/$EUID = 2699 / 2699
    $GID = 2048 2048 10000 10003 10004 10099
    $EGID = 2048 2048 10000 10003 10004 10099

Perl module toolchain versions installed:

    Module              Have    
    ------------------- --------
    CPAN                1.9600  
    Cwd                 3.33    
    ExtUtils::CBuilder  0.280202
    ExtUtils::Command   1.16    
    ExtUtils::Install   1.54    
    ExtUtils::MakeMaker 6.55_02 
    ExtUtils::Manifest  1.56    
    ExtUtils::ParseXS   2.2206  
    File::Spec          3.33    
    Module::Build       0.3800  
    Module::Signature   n/a     
    Test::Harness       3.17    
    Test::More          0.98    
    YAML                0.72    
    YAML::Syck          n/a     
    version             0.88    


--

Summary of my perl5 (revision 5 version 10 subversion 1) configuration:
   
  Platform:
    osname=linux, osvers=2.6.35.11-83.fc14.i686.pae, archname=i686-linux-thread-multi
    uname='linux bq-pc-rr05 2.6.35.11-83.fc14.i686.pae #1 smp mon feb 7 06:57:55 utc 2011 i686 i686 i386 gnulinux '
    config_args='-de -Dprefix=/net/netfile2/ag-russell/install/Fedora-14-i686/perlbrew/perls/perl-5.10.1 -Dusethreads'
    hint=recommended, useposix=true, d_sigaction=define
    useithreads=define, usemultiplicity=define
    useperlio=define, d_sfio=undef, uselargefiles=define, usesocks=undef
    use64bitint=undef, use64bitall=undef, uselongdouble=undef
    usemymalloc=n, bincompat5005=undef
  Compiler:
    cc='cc', ccflags ='-D_REENTRANT -D_GNU_SOURCE -fno-strict-aliasing -pipe -fstack-protector -I/usr/local/include -D_LARGEFILE_SOURCE -D_FILE_OFFSET_BITS=64',
    optimize='-O2',
    cppflags='-D_REENTRANT -D_GNU_SOURCE -fno-strict-aliasing -pipe -fstack-protector -I/usr/local/include'
    ccversion='', gccversion='4.5.1 20100924 (Red Hat 4.5.1-4)', gccosandvers=''
    intsize=4, longsize=4, ptrsize=4, doublesize=8, byteorder=1234
    d_longlong=define, longlongsize=8, d_longdbl=define, longdblsize=12
    ivtype='long', ivsize=4, nvtype='double', nvsize=8, Off_t='off_t', lseeksize=8
    alignbytes=4, prototype=define
  Linker and Libraries:
    ld='cc', ldflags =' -fstack-protector -L/usr/local/lib'
    libpth=/usr/local/lib /lib /usr/lib
    libs=-lnsl -ldl -lm -lcrypt -lutil -lpthread -lc
    perllibs=-lnsl -ldl -lm -lcrypt -lutil -lpthread -lc
    libc=/lib/libc-2.13.so, so=so, useshrplib=false, libperl=libperl.a
    gnulibc_version='2.13'
  Dynamic Linking:
    dlsrc=dl_dlopen.xs, dlext=so, d_dlsymun=undef, ccdlflags='-Wl,-E'
    cccdlflags='-fPIC', lddlflags='-shared -O2 -L/usr/local/lib -fstack-protector'


Characteristics of this binary (from libperl): 
  Compile-time options: MULTIPLICITY PERL_DONT_CREATE_GVSV
                        PERL_IMPLICIT_CONTEXT PERL_MALLOC_WRAP USE_ITHREADS
                        USE_LARGE_FILES USE_PERLIO USE_REENTRANT_API
  Built under linux
  Compiled at Mar 10 2011 18:24:59
  %ENV:
    PERL5LIB="/tmp/cpan/Fedora-14-i686/perl-5.10.1/build/Test-Pod-Spelling-CommonMistakes-1.000-xbwqhg/blib/arch:/tmp/cpan/Fedora-14-i686/perl-5.10.1/build/Test-Pod-Spelling-CommonMistakes-1.000-xbwqhg/blib/lib:/tmp/cpan/Fedora-14-i686/perl-5.10.1/build/Pod-Spell-CommonMistakes-1.000-7Fqv7q/blib/arch:/tmp/cpan/Fedora-14-i686/perl-5.10.1/build/Pod-Spell-CommonMistakes-1.000-7Fqv7q/blib/lib:/tmp/cpan/Fedora-14-i686/perl-5.10.1/build/IO-stringy-2.110-_vHx68/blib/arch:/tmp/cpan/Fedora-14-i686/perl-5.10.1/build/IO-stringy-2.110-_vHx68/blib/lib:/tmp/cpan/Fedora-14-i686/perl-5.10.1/build/Pod-Spell-1.01-paIXw1/blib/arch:/tmp/cpan/Fedora-14-i686/perl-5.10.1/build/Pod-Spell-1.01-paIXw1/blib/lib:/tmp/cpan/Fedora-14-i686/perl-5.10.1/build/Test-Pod-1.45-ATI21I/blib/arch:/tmp/cpan/Fedora-14-i686/perl-5.10.1/build/Test-Pod-1.45-ATI21I/blib/lib:/tmp/cpan/Fedora-14-i686/perl-5.10.1/build/Dist-Zilla-Plugin-Bootstrap-lib-0.01000003-_EUsBj/blib/arch:/tmp/cpan/Fedora-14-i686/perl-5.10.1/build/Dist-Zilla-Plugin-Bootstrap-lib-0.01000003-_EUsBj/blib/lib:/net/netfile2/ag-russell/perl/Fedora-14-i686/perl-5.10.1/lib/perl5/i686-linux-thread-multi:/net/netfile2/ag-russell/perl/Fedora-14-i686/perl-5.10.1/lib/perl5::::/net/netfile2/ag-russell/install/Fedora-14-i686/lib/perl5:/net/netfile2/ag-russell/code/misc/lib"
    PERL5OPT=""
    PERL5_CPANPLUS_IS_RUNNING="8651"
    PERL5_CPAN_IS_RUNNING="8651"
    PERL5_CPAN_IS_RUNNING_IN_RECURSION="14349,8651"
    PERLBREW_PATH="/net/netfile2/ag-russell/install/Fedora-14-i686/perlbrew/bin:/net/netfile2/ag-russell/install/Fedora-14-i686/perlbrew/perls/perl-5.10.1/bin"
    PERLBREW_PERL="perl-5.10.1"
    PERLBREW_ROOT="/net/netfile2/ag-russell/install/Fedora-14-i686/perlbrew"
    PERLBREW_VERSION="0.17"
    PERL_CR_SMOKER_CURRENT="Dist-Zilla-Plugin-SpellingCommonMistakesTests-1.001000"
    PERL_EXTUTILS_AUTOINSTALL="--defaultdeps"
    PERL_LOCAL_LIB_ROOT="/net/netfile2/ag-russell/perl/Fedora-14-i686/perl-5.10.1"
    PERL_MB_OPT="--install_base /net/netfile2/ag-russell/perl/Fedora-14-i686/perl-5.10.1"
    PERL_MM_OPT="INSTALL_BASE=/net/netfile2/ag-russell/perl/Fedora-14-i686/perl-5.10.1"
    PERL_MM_USE_DEFAULT="1"
  @INC:
    /tmp/cpan/Fedora-14-i686/perl-5.10.1/build/Test-Pod-Spelling-CommonMistakes-1.000-xbwqhg/blib/arch
    /tmp/cpan/Fedora-14-i686/perl-5.10.1/build/Test-Pod-Spelling-CommonMistakes-1.000-xbwqhg/blib/lib
    /tmp/cpan/Fedora-14-i686/perl-5.10.1/build/Pod-Spell-CommonMistakes-1.000-7Fqv7q/blib/arch
    /tmp/cpan/Fedora-14-i686/perl-5.10.1/build/Pod-Spell-CommonMistakes-1.000-7Fqv7q/blib/lib
    /tmp/cpan/Fedora-14-i686/perl-5.10.1/build/IO-stringy-2.110-_vHx68/blib/arch
    /tmp/cpan/Fedora-14-i686/perl-5.10.1/build/IO-stringy-2.110-_vHx68/blib/lib
    /tmp/cpan/Fedora-14-i686/perl-5.10.1/build/Pod-Spell-1.01-paIXw1/blib/arch
    /tmp/cpan/Fedora-14-i686/perl-5.10.1/build/Pod-Spell-1.01-paIXw1/blib/lib
    /tmp/cpan/Fedora-14-i686/perl-5.10.1/build/Test-Pod-1.45-ATI21I/blib/arch
    /tmp/cpan/Fedora-14-i686/perl-5.10.1/build/Test-Pod-1.45-ATI21I/blib/lib
    /tmp/cpan/Fedora-14-i686/perl-5.10.1/build/Dist-Zilla-Plugin-Bootstrap-lib-0.01000003-_EUsBj/blib/arch
    /tmp/cpan/Fedora-14-i686/perl-5.10.1/build/Dist-Zilla-Plugin-Bootstrap-lib-0.01000003-_EUsBj/blib/lib
    /net/netfile2/ag-russell/perl/Fedora-14-i686/perl-5.10.1/lib/perl5/i686-linux-thread-multi
    /net/netfile2/ag-russell/perl/Fedora-14-i686/perl-5.10.1/lib/perl5/i686-linux-thread-multi
    /net/netfile2/ag-russell/perl/Fedora-14-i686/perl-5.10.1/lib/perl5
    /net/netfile2/ag-russell/install/Fedora-14-i686/lib/perl5
    /net/netfile2/ag-russell/code/misc/lib
    /net/netfile2/ag-russell/install/Fedora-14-i686/perlbrew/perls/perl-5.10.1/lib/5.10.1/i686-linux-thread-multi
    /net/netfile2/ag-russell/install/Fedora-14-i686/perlbrew/perls/perl-5.10.1/lib/5.10.1
    /net/netfile2/ag-russell/install/Fedora-14-i686/perlbrew/perls/perl-5.10.1/lib/site_perl/5.10.1/i686-linux-thread-multi
    /net/netfile2/ag-russell/install/Fedora-14-i686/perlbrew/perls/perl-5.10.1/lib/site_perl/5.10.1
    .