Class-Singleton v1.6 Perl 5 v5.42.0 darwin-thread-multi-2level
- Status
- Pass
- From
- Dagfinn Ilmari MannsÃÂÃÂ¥ker
- Dist
-
Class-Singleton v1.6
- Platform
- Perl 5 v5.42.0 darwin-thread-multi-2level
- Date
- 2025-09-26 12:57:56
- ID
- 6bd37450-9ad8-11f0-95dd-eead1810f8c0
This distribution has been tested as part of the CPAN Testers
project, supporting the Perl programming language. See
http://wiki.cpantesters.org/ for more information or email
questions to cpan-testers-discuss@perl.org
--
Dear SHAY,
This is a computer-generated report for Class-Singleton-1.6
on perl 5.42.0, created by App::cpanminus::reporter 0.22 (1.7048).
Thank you for uploading your work to CPAN. Congratulations!
All tests were successful.
Sections of this report:
* Tester comments
* Program output
* Prerequisites
* Environment and other context
------------------------------
TESTER COMMENTS
------------------------------
Additional comments from tester:
none provided
------------------------------
PROGRAM OUTPUT
------------------------------
Output from '':
Building and testing Class-Singleton-1.6
cp lib/Class/Singleton.pm blib/lib/Class/Singleton.pm
PERL_DL_NONLAZY=1 "/Users/ilmari/perl5/perlbrew/perls/42.0t/bin/perl" "-MExtUtils::Command::MM" "-MTest::Harness" "-e" "undef *Test::Harness::Switches; test_harness(0, 'blib/lib', 'blib/arch')" t/*.t
t/changes.t ....... skipped: Author testing only
t/critic.t ........ skipped: Author testing only
t/pod.t ........... skipped: Author testing only
t/pod_coverage.t .. skipped: Author testing only
t/singleton.t ..... ok
All tests successful.
Files=5, Tests=29, 0 wallclock secs ( 0.01 usr 0.01 sys + 0.08 cusr 0.02 csys = 0.12 CPU)
Result: PASS
------------------------------
PREREQUISITES
------------------------------
Prerequisite modules loaded:
runtime:
Module Need Have
------------------- -------- --------
perl 5.008001 5.042000
strict 0 1.14
warnings 0 1.74
build:
Module Need Have
------------------- -------- --------
ExtUtils::MakeMaker 0 7.76
configure:
Module Need Have
------------------- -------- --------
ExtUtils::MakeMaker 6.64 7.76
perl 5.008001 5.042000
strict 0 1.14
warnings 0 1.74
------------------------------
ENVIRONMENT AND OTHER CONTEXT
------------------------------
Environment variables:
LANG = en_GB.UTF-8
LC_TERMINAL = iTerm2
LC_TERMINAL_VERSION = 3.6.1
PATH = /Users/ilmari/.perlbrew/libs/42.0t@std/bin:/Users/ilmari/perl5/perlbrew/bin:/Users/ilmari/perl5/perlbrew/perls/42.0t/bin:/Users/ilmari/.volta/bin:/Users/ilmari/.rd/bin:/Users/ilmari/.bun/bin:/Users/ilmari/.volta/bin:/Users/ilmari/.rd/bin:/Users/ilmari/.cargo/bin:/Users/ilmari/.pyenv/shims:/Users/ilmari/.perlbrew/libs/42.0@std/bin:/Users/ilmari/perl5/perlbrew/bin:/Users/ilmari/perl5/perlbrew/perls/42.0/bin:/Users/ilmari/.local/bin:/opt/homebrew/opt/gnu-units/libexec/gnubin:/opt/homebrew/opt/gnu-sed/libexec/gnubin:/opt/homebrew/opt/coreutils/libexec/gnubin:/opt/homebrew/opt/unzip/bin:/opt/homebrew/opt/libxml2/bin:/opt/homebrew/opt/curl/bin:/opt/homebrew/bin:/opt/homebrew/sbin:/usr/local/bin:/System/Cryptexes/App/usr/bin:/usr/bin:/bin:/usr/sbin:/sbin:/var/run/com.apple.security.cryptexd/codex.system/bootstrap/usr/local/bin:/var/run/com.apple.security.cryptexd/codex.system/bootstrap/usr/bin:/var/run/com.apple.security.cryptexd/codex.system/bootstrap/usr/appleinternal/bin:/usr/local/sbin:/Applications/iTerm.app/Contents/Resources/utilities:/Users/ilmari/go/bin
PERL5LIB = /Users/ilmari/.perlbrew/libs/42.0t@std/lib/perl5
PERLBREW_HOME = /Users/ilmari/.perlbrew
PERLBREW_LIB = std
PERLBREW_MANPATH = /Users/ilmari/.perlbrew/libs/42.0t@std/man:/Users/ilmari/perl5/perlbrew/perls/42.0t/man
PERLBREW_PATH = /Users/ilmari/.perlbrew/libs/42.0t@std/bin:/Users/ilmari/perl5/perlbrew/bin:/Users/ilmari/perl5/perlbrew/perls/42.0t/bin
PERLBREW_PERL = 42.0t
PERLBREW_ROOT = /Users/ilmari/perl5/perlbrew
PERLBREW_SHELLRC_VERSION = 1.00
PERLBREW_VERSION = 1.00
PERL_LOCAL_LIB_ROOT = /Users/ilmari/.perlbrew/libs/42.0t@std
PERL_MB_OPT = --install_base "/Users/ilmari/.perlbrew/libs/42.0t@std"
PERL_MM_OPT = INSTALL_BASE=/Users/ilmari/.perlbrew/libs/42.0t@std
SHELL = /opt/homebrew/bin/bash
TERM = xterm-256color
TMPDIR = /var/folders/s3/rjxz_y393b10cp8hdzrtwkdw0000gn/T/
Perl special variables (and OS-specific diagnostics, for MSWin32):
EGID = 20 20 12 61 79 80 81 98 702 33 100 204 250 395 398 399 400
EUID = 501
EXECUTABLE_NAME = /Users/ilmari/perl5/perlbrew/perls/42.0t/bin/perl
GID = 20 20 12 61 79 80 81 98 702 33 100 204 250 395 398 399 400
UID = 501
Perl module toolchain versions installed:
Module Have
------------------- --------
CPAN 2.38
CPAN::Meta 2.150010
Cwd 3.94
ExtUtils::CBuilder 0.280242
ExtUtils::Command 7.76
ExtUtils::Install 2.22
ExtUtils::MakeMaker 7.76
ExtUtils::Manifest 1.75
ExtUtils::ParseXS 3.57
File::Spec 3.94
JSON n/a
JSON::PP 4.16
Module::Build 0.4234
Module::Signature n/a
Parse::CPAN::Meta 2.150010
Test::Harness 3.50
Test::More 1.302210
YAML n/a
YAML::Syck n/a
version 0.9933
--
Summary of my perl5 (revision 5 version 42 subversion 0) configuration:
Platform:
osname=darwin
osvers=24.6.0
archname=darwin-thread-multi-2level
uname='darwin hf-jhk6c61rw9 24.6.0 darwin kernel version 24.6.0: mon jul 14 11:28:30 pdt 2025; root:xnu-11417.140.69~1release_arm64_t6030 arm64 arm darwin '
config_args='-de -Dprefix=/Users/ilmari/perl5/perlbrew/perls/42.0t -Duseshrplib -Dman1dir=none -Dman3dir=none -Dusethreads -Aeval:scriptdir=/Users/ilmari/perl5/perlbrew/perls/42.0t/bin'
hint=recommended
useposix=true
d_sigaction=define
useithreads=define
usemultiplicity=define
use64bitint=define
use64bitall=define
uselongdouble=undef
usemymalloc=n
default_inc_excludes_dot=define
Compiler:
cc='cc'
ccflags ='-fno-common -DPERL_DARWIN -DNO_THREAD_SAFE_QUERYLOCALE -DNO_POSIX_2008_LOCALE -DHAS_BROKEN_LANGINFO_CODESET -DNO_LOCALE_COLLATE -fno-strict-aliasing -pipe -fstack-protector-strong'
optimize='-O3'
cppflags='-fno-common -DPERL_DARWIN -DNO_THREAD_SAFE_QUERYLOCALE -DNO_POSIX_2008_LOCALE -DHAS_BROKEN_LANGINFO_CODESET -DNO_LOCALE_COLLATE -fno-strict-aliasing -pipe -fstack-protector-strong'
ccversion=''
gccversion='Apple LLVM 17.0.0 (clang-1700.0.13.5)'
gccosandvers=''
intsize=4
longsize=8
ptrsize=8
doublesize=8
byteorder=12345678
doublekind=3
d_longlong=define
longlongsize=8
d_longdbl=define
longdblsize=8
longdblkind=0
ivtype='long'
ivsize=8
nvtype='double'
nvsize=8
Off_t='off_t'
lseeksize=8
alignbytes=8
prototype=define
Linker and Libraries:
ld='cc'
ldflags =' -fstack-protector-strong'
libpth=/Library/Developer/CommandLineTools/usr/lib/clang/17/lib /Library/Developer/CommandLineTools/SDKs/MacOSX15.5.sdk/usr/lib /Library/Developer/CommandLineTools/usr/lib /usr/lib
libs=
perllibs=
libc=
so=dylib
useshrplib=true
libperl=libperl.dylib
gnulibc_version=''
Dynamic Linking:
dlsrc=dl_dlopen.xs
dlext=bundle
d_dlsymun=undef
ccdlflags=' '
cccdlflags=' '
lddlflags='-bundle -undefined dynamic_lookup -fstack-protector-strong'
Characteristics of this binary (from libperl):
Compile-time options:
HAS_LONG_DOUBLE
HAS_STRTOLD
HAS_TIMES
MULTIPLICITY
PERLIO_LAYERS
PERL_COPY_ON_WRITE
PERL_DONT_CREATE_GVSV
PERL_HASH_FUNC_SIPHASH13
PERL_HASH_USE_SBOX32
PERL_MALLOC_WRAP
PERL_OP_PARENT
PERL_PRESERVE_IVUV
PERL_USE_SAFE_PUTENV
USE_64_BIT_ALL
USE_64_BIT_INT
USE_ITHREADS
USE_LARGE_FILES
USE_LOCALE
USE_LOCALE_CTYPE
USE_LOCALE_NUMERIC
USE_LOCALE_TIME
USE_PERLIO
USE_PERL_ATOF
USE_REENTRANT_API
Built under darwin
Compiled at Sep 26 2025 13:33:43
%ENV:
PERL5LIB="/Users/ilmari/.perlbrew/libs/42.0t@std/lib/perl5"
PERLBREW_HOME="/Users/ilmari/.perlbrew"
PERLBREW_LIB="std"
PERLBREW_MANPATH="/Users/ilmari/.perlbrew/libs/42.0t@std/man:/Users/ilmari/perl5/perlbrew/perls/42.0t/man"
PERLBREW_PATH="/Users/ilmari/.perlbrew/libs/42.0t@std/bin:/Users/ilmari/perl5/perlbrew/bin:/Users/ilmari/perl5/perlbrew/perls/42.0t/bin"
PERLBREW_PERL="42.0t"
PERLBREW_ROOT="/Users/ilmari/perl5/perlbrew"
PERLBREW_SHELLRC_VERSION="1.00"
PERLBREW_VERSION="1.00"
PERL_LOCAL_LIB_ROOT="/Users/ilmari/.perlbrew/libs/42.0t@std"
PERL_MB_OPT="--install_base "/Users/ilmari/.perlbrew/libs/42.0t@std""
PERL_MM_OPT="INSTALL_BASE=/Users/ilmari/.perlbrew/libs/42.0t@std"
@INC:
/Users/ilmari/.perlbrew/libs/42.0t@std/lib/perl5/darwin-thread-multi-2level
/Users/ilmari/.perlbrew/libs/42.0t@std/lib/perl5
/Users/ilmari/perl5/perlbrew/perls/42.0t/lib/site_perl/5.42.0/darwin-thread-multi-2level
/Users/ilmari/perl5/perlbrew/perls/42.0t/lib/site_perl/5.42.0
/Users/ilmari/perl5/perlbrew/perls/42.0t/lib/5.42.0/darwin-thread-multi-2level
/Users/ilmari/perl5/perlbrew/perls/42.0t/lib/5.42.0