Back
From: metabase:user:314402c4-2aae-11df-837a-5e0a49663a4f
Subject: PASS CatalystX-ExtJS-Direct-2.1.5 v5.12.5 GNU/Linux
Date: 2016-05-28T14:56:56Z
This distribution has been tested as part of the CPAN Testers
project, supporting the Perl programming language. See
http://wiki.cpantesters.org/ for more information or email
questions to cpan-testers-discuss@perl.org
--
Dear Moritz Onken,
This is a computer-generated report for CatalystX-ExtJS-Direct-2.1.5
on perl 5.12.5, created by CPAN-Reporter-1.2017.
Thank you for uploading your work to CPAN. Congratulations!
All tests were successful.
Sections of this report:
* Tester comments
* Program output
* Prerequisites
* Environment and other context
------------------------------
TESTER COMMENTS
------------------------------
Additional comments from tester:
none provided
------------------------------
PROGRAM OUTPUT
------------------------------
Output from './Build test':
#
#
# Generated by Dist::Zilla::Plugin::ReportVersions::Tiny v1.10
# perl: 5.012005 (wanted any version) on linux from /bbbike/perl-5.12.5/bin/perl
#
# Catalyst::Action::REST => 1.20 (want 0.88)
# Catalyst::Action::RenderView => 0.16 (want any version)
# Catalyst::Runtime => 5.90104 (want 5.80024)
# JSON => 2.90 (want any version)
# Module::Build => 0.4218 (want 0.3601)
# Moose => 2.1801 (want 1.21)
# Test::More => 1.302015 (want 0.88)
# Try::Tiny => 0.24 (want any version)
#
# Thanks for using my code. I hope it works for you.
# If not, please try and include this output in the bug report.
# That will help me reproduce the issue and solve your problem.
#
t/000-report-versions-tiny.t .. ok
t/api.t ....................... ok
t/exception.t ................. ok
t/json.t ...................... ok
t/router.t .................... ok
t/synopsis.t .................. ok
All tests successful.
Files=6, Tests=41, 4 wallclock secs ( 0.02 usr 0.03 sys + 3.43 cusr 0.35 csys = 3.83 CPU)
Result: PASS
------------------------------
PREREQUISITES
------------------------------
Prerequisite modules loaded:
requires:
Module Need Have
---------------------------- ------- --------
Catalyst::Action::RenderView 0 0.16
Catalyst::Action::REST 0.88 1.20
Catalyst::Runtime 5.80024 5.90104
JSON 0 2.90
Moose 1.21 2.1801
Try::Tiny 0 0.24
build_requires:
Module Need Have
---------------------------- ------- --------
Module::Build 0.3601 0.4218
Test::More 0.88 1.302015
configure_requires:
Module Need Have
---------------------------- ------- --------
Module::Build 0.3601 0.4218
------------------------------
ENVIRONMENT AND OTHER CONTEXT
------------------------------
Environment variables:
LANG = C
PATH = /usr/local/bin:/usr/bin:/bin:/usr/local/sbin:/usr/sbin:/sbin:/home/cpansand/bin/linux-gnu:/home/cpansand/bin/sh:/home/cpansand/bin:/usr/games:/home/cpansand/devel:/home/eserte/src/srezic-misc/scripts
PERL5LIB = /home/cpansand/.cpan/build/2016052812/Test-WWW-Mechanize-Catalyst-0.60-AkIw2b/blib/arch:/home/cpansand/.cpan/build/2016052812/Test-WWW-Mechanize-Catalyst-0.60-AkIw2b/blib/lib
PERL5OPT =
PERL5_CPANPLUS_IS_RUNNING = 30559
PERL5_CPAN_IS_RUNNING = 30559
PERL5_CPAN_IS_RUNNING_IN_RECURSION = 28597,30559
PERLDOC = -MPod::Perldoc::ToTextOverstrike
PERL_BATCH = yes
PERL_CANARY_STABILITY_NOPROMPT = 1
PERL_CPAN_REPORTER_CONFIG = /run/user/1023/cpansmoker/2016052806/cpanreporter_004_config.ini
PERL_EXTUTILS_AUTOINSTALL = --defaultdeps
SHELL = /bin/zsh
TERM = screen
TMPDIR = /run/user/1023/cpansmoker/2016052806
Perl special variables (and OS-specific diagnostics, for MSWin32):
$^X = /bbbike/perl-5.12.5/bin/perl
$UID/$EUID = 1023 / 1023
$GID = 1023 1023
$EGID = 1023 1023
Perl module toolchain versions installed:
Module Have
------------------- --------
CPAN 1.94_56
CPAN::Meta 2.143240
Cwd 3.62
ExtUtils::CBuilder 0.27
ExtUtils::Command 7.16
ExtUtils::Install 1.55
ExtUtils::MakeMaker 7.16
ExtUtils::Manifest 1.70
ExtUtils::ParseXS 3.30
File::Spec 3.62
JSON 2.90
JSON::PP 2.27400
Module::Build 0.4218
Module::Signature 0.79
Parse::CPAN::Meta 1.4414
Test::Harness 3.36
Test::More 1.302015
YAML 1.15
YAML::Syck 1.29
version 0.9916
--
Summary of my perl5 (revision 5 version 12 subversion 5) configuration:
Platform:
osname=linux, osvers=3.16.0-4-amd64, archname=x86_64-linux
uname='linux eserte 3.16.0-4-amd64 #1 smp debian 3.16.7-ckt25-2 (2016-04-08) x86_64 gnulinux '
config_args='-ds -e -Dprefix=/opt/perl-5.12.5 -Dcf_email=srezic@cpan.org'
hint=recommended, useposix=true, d_sigaction=define
useithreads=undef, usemultiplicity=undef
useperlio=define, d_sfio=undef, uselargefiles=define, usesocks=undef
use64bitint=define, use64bitall=define, uselongdouble=undef
usemymalloc=n, bincompat5005=undef
Compiler:
cc='cc', ccflags ='-fno-strict-aliasing -pipe -fstack-protector -I/usr/local/include -D_LARGEFILE_SOURCE -D_FILE_OFFSET_BITS=64',
optimize='-O2',
cppflags='-fno-strict-aliasing -pipe -fstack-protector -I/usr/local/include'
ccversion='', gccversion='4.9.2', gccosandvers=''
intsize=4, longsize=8, ptrsize=8, doublesize=8, byteorder=12345678
d_longlong=define, longlongsize=8, d_longdbl=define, longdblsize=16
ivtype='long', ivsize=8, nvtype='double', nvsize=8, Off_t='off_t', lseeksize=8
alignbytes=8, prototype=define
Linker and Libraries:
ld='cc', ldflags =' -fstack-protector -L/usr/local/lib'
libpth=/usr/local/lib /lib/x86_64-linux-gnu /lib/../lib /usr/lib/x86_64-linux-gnu /usr/lib/../lib /lib /usr/lib
libs=-lnsl -lgdbm -ldb -ldl -lm -lcrypt -lutil -lc -lgdbm_compat
perllibs=-lnsl -ldl -lm -lcrypt -lutil -lc
libc=libc-2.19.so, so=so, useshrplib=false, libperl=libperl.a
gnulibc_version='2.19'
Dynamic Linking:
dlsrc=dl_dlopen.xs, dlext=so, d_dlsymun=undef, ccdlflags='-Wl,-E'
cccdlflags='-fPIC', lddlflags='-shared -O2 -L/usr/local/lib -fstack-protector'
Characteristics of this binary (from libperl):
Compile-time options: PERL_DONT_CREATE_GVSV PERL_MALLOC_WRAP USE_64_BIT_ALL
USE_64_BIT_INT USE_LARGE_FILES USE_PERLIO
USE_PERL_ATOF
Locally applied patches:
Devel::PatchPerl 1.42
Built under linux
Compiled at May 7 2016 10:05:30
%ENV:
PERL5LIB="/home/cpansand/.cpan/build/2016052812/Test-WWW-Mechanize-Catalyst-0.60-AkIw2b/blib/arch:/home/cpansand/.cpan/build/2016052812/Test-WWW-Mechanize-Catalyst-0.60-AkIw2b/blib/lib"
PERL5OPT=""
PERL5_CPANPLUS_IS_RUNNING="30559"
PERL5_CPAN_IS_RUNNING="30559"
PERL5_CPAN_IS_RUNNING_IN_RECURSION="28597,30559"
PERLDOC="-MPod::Perldoc::ToTextOverstrike"
PERL_BATCH="yes"
PERL_CANARY_STABILITY_NOPROMPT="1"
PERL_CPAN_REPORTER_CONFIG="/run/user/1023/cpansmoker/2016052806/cpanreporter_004_config.ini"
PERL_EXTUTILS_AUTOINSTALL="--defaultdeps"
@INC:
/home/cpansand/.cpan/build/2016052812/Test-WWW-Mechanize-Catalyst-0.60-AkIw2b/blib/arch
/home/cpansand/.cpan/build/2016052812/Test-WWW-Mechanize-Catalyst-0.60-AkIw2b/blib/lib
/opt/perl-5.12.5/lib/site_perl/5.12.5/x86_64-linux
/opt/perl-5.12.5/lib/site_perl/5.12.5
/opt/perl-5.12.5/lib/5.12.5/x86_64-linux
/opt/perl-5.12.5/lib/5.12.5
.