Back
From: metabase:user:314402c4-2aae-11df-837a-5e0a49663a4f
Subject: PASS DBIx-Table-TestDataGenerator-0.005 v5.16.3 GNU/Linux
Date: 2016-03-19T10:36:21Z
This distribution has been tested as part of the CPAN Testers
project, supporting the Perl programming language. See
http://wiki.cpantesters.org/ for more information or email
questions to cpan-testers-discuss@perl.org
--
Dear Jose Diaz Seng,
This is a computer-generated report for DBIx-Table-TestDataGenerator-0.005
on perl 5.16.3, created by CPAN-Reporter-1.2016.
Thank you for uploading your work to CPAN. Congratulations!
All tests were successful.
Sections of this report:
* Tester comments
* Program output
* Prerequisites
* Environment and other context
------------------------------
TESTER COMMENTS
------------------------------
Additional comments from tester:
none provided
------------------------------
PROGRAM OUTPUT
------------------------------
Output from './Build test':
# Testing DBIx::Table::TestDataGenerator 0.005, Perl 5.016003, /bbbike/perl-5.16.3/bin/perl
t/00-load.t ............................. ok
t/01DBIC.t .............................. ok
t/02DataGeneration.t .................... ok
t/03DataGeneration_null_root_parents.t .. ok
t/04DataGeneration_csv.t ................ ok
t/boilerplate.t ......................... ok
All tests successful.
Test Summary Report
-------------------
t/boilerplate.t (Wstat: 0 Tests: 5 Failed: 0)
TODO passed: 1-5
Files=6, Tests=28, 7 wallclock secs ( 0.02 usr 0.04 sys + 2.89 cusr 0.41 csys = 3.36 CPU)
Result: PASS
------------------------------
PREREQUISITES
------------------------------
Prerequisite modules loaded:
requires:
Module Need Have
-------------------------------------- -------- --------
aliased 0 0.34
Carp 0 1.38
Cwd 0 3.60
Data::GUID 0 0.048
DBD::CSV 0 0.48
DBD::SQLite 0 1.50
DBI 0 1.633
DBI::Const::GetInfoType 0 2.008697
DBIx::Class::Helper::ResultSet::Random 2.016004 2.030001
DBIx::Class::Optional::Dependencies 0 0
DBIx::Class::Relationship 0 0
DBIx::Class::Schema::Loader 0 0.07043
DBIx::RunSQL 0 0.12
File::Basename 0 2.84
File::Spec 0 3.60
List::Util 0 1.43
Moo 0 2.001001
perl 5.006 5.016003
Readonly 0 2.00
SQL::Abstract 0 1.81
SQL::Translator 0.11018 0.11021
Test::Exception 0 0.41
build_requires:
Module Need Have
-------------------------------------- -------- --------
Pod::Coverage 0 0.23
Pod::Coverage::Moose 0 0.07
Test::CheckManifest 0 1.29
Test::More 0 1.001014
Test::Pod 0 1.51
Test::Pod::Coverage 0 1.10
configure_requires:
Module Need Have
-------------------------------------- -------- --------
DBIx::Class 0.08203 0.082820
Module::Build 0.4 0.4214
------------------------------
ENVIRONMENT AND OTHER CONTEXT
------------------------------
Environment variables:
LANG = C
PATH = /usr/local/bin:/usr/bin:/bin:/usr/local/sbin:/usr/sbin:/sbin:/home/cpansand/bin/linux-gnu:/home/cpansand/bin/sh:/home/cpansand/bin:/home/cpansand/bin/pistachio-perl/bin:/usr/games:/home/cpansand/devel:/home/eserte/src/srezic-misc/scripts
PERL5LIB =
PERL5OPT =
PERL5_CPANPLUS_IS_RUNNING = 23175
PERL5_CPAN_IS_RUNNING = 23175
PERL5_CPAN_IS_RUNNING_IN_RECURSION = 17032,23175
PERLDOC = -MPod::Perldoc::ToTextOverstrike
PERL_BATCH = yes
PERL_CANARY_STABILITY_NOPROMPT = 1
PERL_CPAN_REPORTER_CONFIG = /var/tmp/cpansmoker-1023/2016031909/cpanreporter_005_config.ini
PERL_EXTUTILS_AUTOINSTALL = --defaultdeps
SHELL = /bin/zsh
TERM = screen
TMPDIR = /var/tmp/cpansmoker-1023/2016031909
Perl special variables (and OS-specific diagnostics, for MSWin32):
$^X = /bbbike/perl-5.16.3/bin/perl
$UID/$EUID = 1023 / 1023
$GID = 1023 1023
$EGID = 1023 1023
Perl module toolchain versions installed:
Module Have
------------------- --------
CPAN 1.9800
CPAN::Meta 2.150005
Cwd 3.60
ExtUtils::CBuilder 0.280223
ExtUtils::Command 7.10
ExtUtils::Install 2.04
ExtUtils::MakeMaker 7.10
ExtUtils::Manifest 1.68
ExtUtils::ParseXS 3.24
File::Spec 3.60
JSON 2.90
JSON::PP 2.27300
Module::Build 0.4214
Module::Signature 0.78
Parse::CPAN::Meta 1.4414
Test::Harness 3.36
Test::More 1.001014
YAML 1.15
YAML::Syck 1.29
version 0.9916
--
Summary of my perl5 (revision 5 version 16 subversion 3) configuration:
Platform:
osname=linux, osvers=3.2.0-4-amd64, archname=x86_64-linux
uname='linux eserte 3.2.0-4-amd64 #1 smp debian 3.2.57-3 x86_64 gnulinux '
config_args='-ds -e -Dprefix=/opt/perl-5.16.3'
hint=recommended, useposix=true, d_sigaction=define
useithreads=undef, usemultiplicity=undef
useperlio=define, d_sfio=undef, uselargefiles=define, usesocks=undef
use64bitint=define, use64bitall=define, uselongdouble=undef
usemymalloc=n, bincompat5005=undef
Compiler:
cc='cc', ccflags ='-fno-strict-aliasing -pipe -fstack-protector -I/usr/local/include -D_LARGEFILE_SOURCE -D_FILE_OFFSET_BITS=64',
optimize='-O2',
cppflags='-fno-strict-aliasing -pipe -fstack-protector -I/usr/local/include'
ccversion='', gccversion='4.7.2', gccosandvers=''
intsize=4, longsize=8, ptrsize=8, doublesize=8, byteorder=12345678
d_longlong=define, longlongsize=8, d_longdbl=define, longdblsize=16
ivtype='long', ivsize=8, nvtype='double', nvsize=8, Off_t='off_t', lseeksize=8
alignbytes=8, prototype=define
Linker and Libraries:
ld='cc', ldflags =' -fstack-protector -L/usr/local/lib'
libpth=/usr/local/lib /lib/x86_64-linux-gnu /lib/../lib /usr/lib/x86_64-linux-gnu /usr/lib/../lib /lib /usr/lib
libs=-lnsl -ldb -ldl -lm -lcrypt -lutil -lc
perllibs=-lnsl -ldl -lm -lcrypt -lutil -lc
libc=, so=so, useshrplib=false, libperl=libperl.a
gnulibc_version='2.13'
Dynamic Linking:
dlsrc=dl_dlopen.xs, dlext=so, d_dlsymun=undef, ccdlflags='-Wl,-E'
cccdlflags='-fPIC', lddlflags='-shared -O2 -L/usr/local/lib -fstack-protector'
Characteristics of this binary (from libperl):
Compile-time options: HAS_TIMES PERLIO_LAYERS PERL_DONT_CREATE_GVSV
PERL_MALLOC_WRAP PERL_PRESERVE_IVUV USE_64_BIT_ALL
USE_64_BIT_INT USE_LARGE_FILES USE_LOCALE
USE_LOCALE_COLLATE USE_LOCALE_CTYPE
USE_LOCALE_NUMERIC USE_PERLIO USE_PERL_ATOF
Built under linux
Compiled at May 15 2014 11:12:25
%ENV:
PERL5LIB=""
PERL5OPT=""
PERL5_CPANPLUS_IS_RUNNING="23175"
PERL5_CPAN_IS_RUNNING="23175"
PERL5_CPAN_IS_RUNNING_IN_RECURSION="17032,23175"
PERLDOC="-MPod::Perldoc::ToTextOverstrike"
PERL_BATCH="yes"
PERL_CANARY_STABILITY_NOPROMPT="1"
PERL_CPAN_REPORTER_CONFIG="/var/tmp/cpansmoker-1023/2016031909/cpanreporter_005_config.ini"
PERL_EXTUTILS_AUTOINSTALL="--defaultdeps"
@INC:
/opt/perl-5.16.3/lib/site_perl/5.16.3/x86_64-linux
/opt/perl-5.16.3/lib/site_perl/5.16.3
/opt/perl-5.16.3/lib/5.16.3/x86_64-linux
/opt/perl-5.16.3/lib/5.16.3
.