LWP-Protocol-Coro-http vv1.14.0 Perl 5 v5.22.1 amd64-freebsd

Status
Pass
From
Slaven Rezić (SREZIC)
Dist
LWP-Protocol-Coro-http vv1.14.0
Platform
Perl 5 v5.22.1 amd64-freebsd
Date
2018-05-13 16:19:33
ID
6c30458c-56c9-11e8-a51a-a712cc7c7111
This distribution has been tested as part of the CPAN Testers
project, supporting the Perl programming language.  See
http://wiki.cpantesters.org/ for more information or email
questions to cpan-testers-discuss@perl.org


--
Dear ikegami,

This is a computer-generated report for LWP-Protocol-Coro-http-v1.14.0
on perl 5.22.1, created by CPAN-Reporter-1.2018.

Thank you for uploading your work to CPAN.  Congratulations!
All tests were successful.

Sections of this report:

    * Tester comments
    * Program output
    * Prerequisites
    * Environment and other context

------------------------------
TESTER COMMENTS
------------------------------

Additional comments from tester:

none provided

------------------------------
PROGRAM OUTPUT
------------------------------

Output from './Build test':

# Testing LWP::Protocol::Coro::http v1.14.0, Perl 5.022001
# AnyEvent 7.14
# AnyEvent::DNS 7.14
# AnyEvent::HTTP 2.23
# AnyEvent::HTTP::Socks 0.05
# AnyEvent::Handle 7.14
# AnyEvent::Socket 7.14
# AnyEvent::Util 7.14
# AutoLoader 5.74
# Carp 1.38
# Config 5.022001
# Coro 6.514
# Coro::Channel 6.514
# Coro::Semaphore 6.514
# Coro::State 6.514
# DynaLoader 1.32
# Errno 1.23
# Exporter 5.72
# Exporter::Heavy 5.72
# Fcntl 1.13
# Guard 1.023
# HTTP::Headers 6.16
# HTTP::Message 6.16
# HTTP::Response 6.16
# HTTP::Status 6.16
# IO 1.39
# IO::Handle 1.39
# IO::Select 1.39
# IO::Socket 1.39
# IO::Socket::INET 1.39
# IO::Socket::IP 0.39
# IO::Socket::Socks 0.73
# IO::Socket::UNIX 1.39
# LWP::MemberMixin 6.33
# LWP::Protocol 6.33
# LWP::Protocol::Coro::http v1.14.0
# LWP::Protocol::http 6.33
# List::Util 1.5
# Log::Agent 1.002
# Log::Agent::Formatting <unknown>
# Log::Agent::Message <unknown>
# Log::Agent::Priorities <unknown>
# Net::HTTP 6.18
# Net::HTTP::Methods 6.18
# POSIX 1.53_01
# PerlIO 1.09
# Scalar::Util 1.5
# SelectSaver 1.02
# Socket 2.025
# Storable 2.53_01
# Sub::Util 1.5
# Symbol 1.07
# Test::Builder 1.302136
# Test::Builder::Formatter 1.302136
# Test::Builder::Module 1.302136
# Test::Builder::TodoDiag 1.302136
# Test::More 1.302136
# Test2::API 1.302136
# Test2::API::Context 1.302136
# Test2::API::Instance 1.302136
# Test2::API::Stack 1.302136
# Test2::Event 1.302136
# Test2::Event::Bail 1.302136
# Test2::Event::Diag 1.302136
# Test2::Event::Exception 1.302136
# Test2::Event::Fail 1.302136
# Test2::Event::Note 1.302136
# Test2::Event::Ok 1.302136
# Test2::Event::Pass 1.302136
# Test2::Event::Plan 1.302136
# Test2::Event::Skip 1.302136
# Test2::Event::Subtest 1.302136
# Test2::Event::V2 1.302136
# Test2::Event::Waiting 1.302136
# Test2::EventFacet 1.302136
# Test2::EventFacet::About 1.302136
# Test2::EventFacet::Amnesty 1.302136
# Test2::EventFacet::Assert 1.302136
# Test2::EventFacet::Control 1.302136
# Test2::EventFacet::Error 1.302136
# Test2::EventFacet::Hub 1.302136
# Test2::EventFacet::Info 1.302136
# Test2::EventFacet::Meta 1.302136
# Test2::EventFacet::Parent 1.302136
# Test2::EventFacet::Plan 1.302136
# Test2::EventFacet::Trace 1.302136
# Test2::Formatter 1.302136
# Test2::Formatter::TAP 1.302136
# Test2::Hub 1.302136
# Test2::Hub::Interceptor 1.302136
# Test2::Hub::Interceptor::Terminator 1.302136
# Test2::Hub::Subtest 1.302136
# Test2::Util 1.302136
# Test2::Util::ExternalMeta 1.302136
# Test2::Util::Facets2Legacy 1.302136
# Test2::Util::HashBase 1.302136
# Test2::Util::Trace 1.302136
# Tie::Hash 1.05
# Try::Tiny 0.30
# URI 1.74
# URI::Escape 3.31
# XSLoader 0.24
# base 2.22
# common::sense 3.74
# constant 1.33
# mro 1.17
# overload 1.26
# overloading 0.02
# parent 0.236
# strict 1.09
# vars 1.03
# version 0.9922
# version::regex 0.9922
# version::vxs 0.9922
# warnings 1.34
# warnings::register 1.04
t/00_load.t .................. ok
# Retrieving URL: http://localhost:45574/
# Waiting for reply
# Waiting for reply
# Waiting for reply
# Waiting for reply
# Shutting down server
# Done
t/01_timer.t ................. ok
# Retrieving URL: http://localhost:62648/chunks
# Waiting for reply
# Got chunk
# Waiting for reply
# Got chunk
# Waiting for reply
# Got chunk
# Waiting for reply
# Got chunk
# Waiting for reply
# Got chunk
# Waiting for reply
# Shutting down server
# Done
t/02_large.t ................. ok
# Retrieving URL: http://localhost:24804/error/after_headers
# Waiting for reply
# Got chunk
# Waiting for reply
# Got chunk
# Waiting for reply
# Shutting down server
# Done
t/03_error_after_headers.t ... ok
# Retrieving URL: http://localhost:17238/error/notfound/foo
# Waiting for reply
# Shutting down server
# Done
t/04_error_404.t ............. ok
# Retrieving URL: http://doesnotexist.example
t/05_error_500_bogus_host.t .. ok
# Retrieving URL: http://localhost:16874/referer
# Waiting for reply
# Shutting down server
# Done
t/06_referer.t ............... ok
# Retrieving URL: http://localhost:38191/
# Shutting down server
# Done
t/07_proxy.t ................. ok
# Retrieving URL: http://localhost:56174/multiline_header
# Waiting for reply
# Shutting down server
# Done
t/08_multiline_header.t ...... ok
All tests successful.
Files=9, Tests=28, 31 wallclock secs ( 0.01 usr  0.05 sys +  0.31 cusr  1.61 csys =  1.98 CPU)
Result: PASS

------------------------------
PREREQUISITES
------------------------------

Prerequisite modules loaded:

requires:

    Module                     Need   Have    
    -------------------------- ------ --------
    AnyEvent::HTTP             2      2.23    
    AnyEvent::HTTP::Socks      0      0.05    
    Coro::Channel              0      6.514   
    HTTP::Response             0      6.16    
    LWP::Protocol              0      6.33    
    LWP::Protocol::http        0      6.33    
    LWP::Simple                5.827  6.33    
    version                    0      0.9922  

build_requires:

    Module                     Need   Have    
    -------------------------- ------ --------
    AnyEvent                   0      7.14    
    Carp                       0      1.38    
    CGI                        0      4.38    
    File::Spec                 0      3.74    
    File::Temp                 0      0.2304  
    FindBin                    0      1.51    
    Getopt::Long               0      2.5     
    HTTP::Daemon               0      6.01    
    LWP::Simple                0      6.33    
    Test::More                 0      1.302136
    URI                        0      1.74    
    URI::URL                   0      5.04    

configure_requires:

    Module                     Need   Have    
    -------------------------- ------ --------
    Module::Build              0.3614 0.4224  
    Software::License::CC0_1_0 0      0.103010


------------------------------
ENVIRONMENT AND OTHER CONTEXT
------------------------------

Environment variables:

    LC_ALL = de_DE.ISO8859-1
    PATH = /usr/local/bin:/usr/bin:/bin:/usr/local/sbin:/usr/sbin:/sbin:/home/cpansand/bin/freebsd10.3:/home/cpansand/bin/sh:/home/cpansand/bin:/usr/games:/home/cpansand/devel:/home/eserte/src/srezic-misc/scripts
    PERL5LIB = 
    PERL5OPT = 
    PERL5_CPANPLUS_IS_RUNNING = 99909
    PERL5_CPAN_IS_RUNNING = 99909
    PERL5_CPAN_IS_RUNNING_IN_RECURSION = 96716,99909
    PERLDOC = -MPod::Perldoc::ToTextOverstrike
    PERL_BATCH = yes
    PERL_CANARY_STABILITY_NOPROMPT = 1
    PERL_CPAN_REPORTER_CONFIG = /var/tmp/cpansmoker-1023/2018051309/cpanreporter_000_config.ini
    PERL_EXTUTILS_AUTOINSTALL = --defaultdeps
    SHELL = /usr/local/bin/zsh
    TERM = screen
    TMPDIR = /var/tmp/cpansmoker-1023/2018051309

Perl special variables (and OS-specific diagnostics, for MSWin32):

    $^X = /usr/perl5.22.1p/bin/perl5.22.1
    $UID/$EUID = 1023 / 1023
    $GID = 1023 1023
    $EGID = 1023 1023

Perl module toolchain versions installed:

    Module              Have    
    ------------------- --------
    CPAN                2.16    
    CPAN::Meta          2.150010
    Cwd                 3.74    
    ExtUtils::CBuilder  0.280230
    ExtUtils::Command   7.34    
    ExtUtils::Install   2.14    
    ExtUtils::MakeMaker 7.34    
    ExtUtils::Manifest  1.70    
    ExtUtils::ParseXS   3.30    
    File::Spec          3.74    
    JSON                2.97001 
    JSON::PP            2.97000 
    Module::Build       0.4224  
    Module::Signature   0.81    
    Parse::CPAN::Meta   2.150010
    Test::Harness       3.42    
    Test::More          1.302136
    YAML                1.25    
    YAML::Syck          1.30    
    version             0.9922  


--

Summary of my perl5 (revision 5 version 22 subversion 1) configuration:
   
  Platform:
    osname=freebsd, osvers=10.1-release, archname=amd64-freebsd
    uname='freebsd cvrsnica-freebsd-101.herceg.de 10.1-release freebsd 10.1-release #0 r274401: tue nov 11 21:02:49 utc 2014 root@releng1.nyi.freebsd.org:usrobjusrsrcsysgeneric amd64 '
    config_args='-ds -e -Dprefix=/usr/perl5.22.1p -Dcf_email=srezic@cpan.org'
    hint=recommended, useposix=true, d_sigaction=define
    useithreads=undef, usemultiplicity=undef
    use64bitint=define, use64bitall=define, uselongdouble=undef
    usemymalloc=n, bincompat5005=undef
  Compiler:
    cc='cc', ccflags ='-DHAS_FPSETMASK -DHAS_FLOATINGPOINT_H -fno-strict-aliasing -pipe -fstack-protector -I/usr/local/include -D_FORTIFY_SOURCE=2',
    optimize='-O',
    cppflags='-DHAS_FPSETMASK -DHAS_FLOATINGPOINT_H -fno-strict-aliasing -pipe -fstack-protector -I/usr/local/include'
    ccversion='', gccversion='4.2.1 Compatible FreeBSD Clang 3.4.1 (tags/RELEASE_34/dot1-final 208032)', gccosandvers=''
    intsize=4, longsize=8, ptrsize=8, doublesize=8, byteorder=12345678, doublekind=3
    d_longlong=define, longlongsize=8, d_longdbl=define, longdblsize=16, longdblkind=3
    ivtype='long', ivsize=8, nvtype='double', nvsize=8, Off_t='off_t', lseeksize=8
    alignbytes=8, prototype=define
  Linker and Libraries:
    ld='cc', ldflags ='-pthread -Wl,-E  -fstack-protector -L/usr/local/lib'
    libpth=/usr/lib /usr/local/lib /usr/include/clang/3.4.1 /usr/lib
    libs=-lpthread -lgdbm -lm -lcrypt -lutil -lc
    perllibs=-lpthread -lm -lcrypt -lutil -lc
    libc=, so=so, useshrplib=false, libperl=libperl.a
    gnulibc_version=''
  Dynamic Linking:
    dlsrc=dl_dlopen.xs, dlext=so, d_dlsymun=undef, ccdlflags=' '
    cccdlflags='-DPIC -fPIC', lddlflags='-shared  -L/usr/local/lib -fstack-protector'


Characteristics of this binary (from libperl): 
  Compile-time options: HAS_TIMES PERLIO_LAYERS PERL_DONT_CREATE_GVSV
                        PERL_HASH_FUNC_ONE_AT_A_TIME_HARD PERL_MALLOC_WRAP
                        PERL_NEW_COPY_ON_WRITE PERL_PRESERVE_IVUV
                        USE_64_BIT_ALL USE_64_BIT_INT USE_LARGE_FILES
                        USE_LOCALE USE_LOCALE_COLLATE USE_LOCALE_CTYPE
                        USE_LOCALE_NUMERIC USE_LOCALE_TIME USE_PERLIO
                        USE_PERL_ATOF
  Built under freebsd
  Compiled at Dec 15 2015 07:47:22
  %ENV:
    PERL5LIB=""
    PERL5OPT=""
    PERL5_CPANPLUS_IS_RUNNING="99909"
    PERL5_CPAN_IS_RUNNING="99909"
    PERL5_CPAN_IS_RUNNING_IN_RECURSION="96716,99909"
    PERLDOC="-MPod::Perldoc::ToTextOverstrike"
    PERL_BATCH="yes"
    PERL_CANARY_STABILITY_NOPROMPT="1"
    PERL_CPAN_REPORTER_CONFIG="/var/tmp/cpansmoker-1023/2018051309/cpanreporter_000_config.ini"
    PERL_EXTUTILS_AUTOINSTALL="--defaultdeps"
  @INC:
    /usr/perl5.22.1p/lib/site_perl/5.22.1/amd64-freebsd
    /usr/perl5.22.1p/lib/site_perl/5.22.1
    /usr/perl5.22.1p/lib/5.22.1/amd64-freebsd
    /usr/perl5.22.1p/lib/5.22.1
    .