Report for MooseX-Attribute-ValidateWithException-0.1.1

Back
From: metabase:user:d17af2e9-6de4-1014-8fd6-2c1c47d6983c
Subject: PASS MooseX-Attribute-ValidateWithException-0.1.1 v5.12.3 
Date: 2011-06-18T11:00:10Z

This distribution has been tested as part of the CPAN Testers
project, supporting the Perl programming language.  See
http://wiki.cpantesters.org/ for more information or email
questions to cpan-testers-discuss@perl.org


--

Dear KENTNL,

This is a computer-generated error report created automatically by
CPANPLUS, version 0.9105. Testers personal comments may appear
at the end of this report.

MAKE TEST passed:
t/00-compile.t ................ ok
# 
# 
# perl: v5.12.3 (wanted any version) on MSWin32 from D:\strawberry\perl\bin\perl.exe
# 
# Dist::Zilla::PluginBundle::Author::KENTNL     => module not found. (want 1.0.0)  
# Dist::Zilla::PluginBundle::Author::KENTNL::Lite => module not found. (want 0.01009803)
# English                                       => 1.04       (want any version)
# File::Find                                    => 1.15       (want any version)
# File::Temp                                    => 0.22       (want any version)
# Module::Build                                 => 0.38       (want 0.3601) 
# Moose                                         => 2.0007     (want any version)
# Moose::Exporter                               => 2.0007     (want any version)
# Moose::Role                                   => 2.0007     (want any version)
# Test::Fatal                                   => 0.006      (want any version)
# Test::More                                    => 0.98       (want 0.88)   
# Throwable::Error                              => 0.100090   (want any version)
# 
# Thanks for using my code.  I hope it works for you.
# If not, please try and include this output in the bug report.
# That will help me reproduce the issue and solve you problem.
# 
t/000-report-versions-tiny.t .. ok
t/01-basic.t .................. ok
t/author-critic.t ............. skipped: these tests are for testing by the author
t/release-cpan-changes.t ...... skipped: these tests are for release candidate testing
t/release-distmeta.t .......... skipped: these tests are for release candidate testing
t/release-eol.t ............... skipped: these tests are for release candidate testing
t/release-kwalitee.t .......... skipped: these tests are for release candidate testing
t/release-pod-coverage.t ...... skipped: these tests are for release candidate testing
t/release-pod-syntax.t ........ skipped: these tests are for release candidate testing
All tests successful.
Files=10, Tests=5,  1 wallclock secs ( 0.03 usr +  0.00 sys =  0.03 CPU)
Result: PASS

[MSG] [Sat Jun 18 13:00:10 2011] Sending test report for 'MooseX-Attribute-ValidateWithException-0.1.1'

This report was machine-generated by CPANPLUS::Dist::YACSmoke 0.62.

------------------------------
ENVIRONMENT AND OTHER CONTEXT
------------------------------

Environment variables:

    AUTOMATED_TESTING = 1
    COMSPEC = C:\Windows\system32\cmd.exe
    NUMBER_OF_PROCESSORS = 8
    PATH = C:\Program Files (x86)\AMD APP\bin\x86_64;C:\Program Files (x86)\AMD APP\bin\x86;C:\Windows\system32;C:\Windows;C:\Windows\System32\Wbem;C:\Windows\System32\WindowsPowerShell\v1.0\;C:\Program Files (x86)\ATI Technologies\ATI.ACE\Core-Static;C:\Program Files (x86)\QuickTime\QTSystem\;D:\strawberry\c\bin;D:\strawberry\perl\site\bin;D:\strawberry\perl\bin;C:\Program Files (x86)\Git\cmd;D:\ruby\Ruby192\bin
    PERL5LIB = D:\strawberry\cpanplus\5.12.3\build\MooseX-Attribute-ValidateWithException-0.1.1\blib;D:\strawberry\cpanplus\5.12.3\build\MooseX-Attribute-ValidateWithException-0.1.1\blib\arch;D:\strawberry\cpanplus\5.12.3\build\MooseX-Attribute-ValidateWithException-0.1.1\blib\lib;D:\strawberry\cpanplus\5.12.3\build\Throwable-0.100090\blib;D:\strawberry\cpanplus\5.12.3\build\Throwable-0.100090\blib\arch;D:\strawberry\cpanplus\5.12.3\build\Throwable-0.100090\blib\lib;D:\strawberry\cpanplus\5.12.3\build\Devel-StackTrace-1.23\blib;D:\strawberry\cpanplus\5.12.3\build\Devel-StackTrace-1.23\blib\arch;D:\strawberry\cpanplus\5.12.3\build\Devel-StackTrace-1.23\blib\lib;
    PERL5_CPANPLUS_IS_RUNNING = 1360
    PERL5_CPANPLUS_IS_VERSION = 0.9105
    PERL_EXTUTILS_AUTOINSTALL = --defaultdeps
    PERL_JSON_BACKEND = JSON::XS
    PERL_MM_USE_DEFAULT = 1
    PERL_YAML_BACKEND = YAML
    PROCESSOR_IDENTIFIER = Intel64 Family 6 Model 42 Stepping 7, GenuineIntel
    TERM = dumb

Perl special variables (and OS-specific diagnostics, for MSWin32):

    Perl: $^X = D:\strawberry\perl\bin\perl.exe
    UID:  $<  = 0
    EUID: $>  = 0
    GID:  $(  = 0
    EGID: $)  = 0
    Win32::GetOSName = Win7
    Win32::GetOSVersion = Service Pack 1, 6, 1, 7601, 2, 1, 0, 768, 1
    Win32::IsAdminUser = 0


-------------------------------


--

Summary of my perl5 (revision 5 version 12 subversion 3) configuration:
   
  Platform:
    osname=MSWin32, osvers=6.1, archname=MSWin32-x64-multi-thread
    uname='Win32 strawberryperl 5.12.3.0 #1 Sun May 15 09:43:50 2011 x64'
    config_args='undef'
    hint=recommended, useposix=true, d_sigaction=undef
    useithreads=define, usemultiplicity=define
    useperlio=define, d_sfio=undef, uselargefiles=define, usesocks=undef
    use64bitint=define, use64bitall=undef, uselongdouble=undef
    usemymalloc=n, bincompat5005=undef
  Compiler:
    cc='gcc', ccflags =' -s -O2 -DWIN32 -DHAVE_DES_FCRYPT -DWIN64 -DCONSERVATIVE  -DUSE_SITECUSTOMIZE -DPERL_IMPLICIT_CONTEXT -DPERL_IMPLICIT_SYS -fno-strict-aliasing -mms-bitfields -DPERL_MSVCRT_READFIX',
    optimize='-s -O2',
    cppflags='-DWIN32'
    ccversion='', gccversion='4.4.3', gccosandvers=''
    intsize=4, longsize=4, ptrsize=8, doublesize=8, byteorder=12345678
    d_longlong=define, longlongsize=8, d_longdbl=define, longdblsize=12
    ivtype='long long', ivsize=8, nvtype='double', nvsize=8, Off_t='long long', lseeksize=8
    alignbytes=8, prototype=define
  Linker and Libraries:
    ld='g++', ldflags ='-s -L"D:\strawberry\perl\lib\CORE" -L"D:\strawberry\c\lib"'
    libpth=D:\strawberry\c\lib D:\strawberry\c\x86_64-w64-mingw32\lib
    libs=-lmoldname -lkernel32 -luser32 -lgdi32 -lwinspool -lcomdlg32 -ladvapi32 -lshell32 -lole32 -loleaut32 -lnetapi32 -luuid -lws2_32 -lmpr -lwinmm -lversion -lodbc32 -lodbccp32 -lcomctl32
    perllibs=-lmoldname -lkernel32 -luser32 -lgdi32 -lwinspool -lcomdlg32 -ladvapi32 -lshell32 -lole32 -loleaut32 -lnetapi32 -luuid -lws2_32 -lmpr -lwinmm -lversion -lodbc32 -lodbccp32 -lcomctl32
    libc=, so=dll, useshrplib=true, libperl=libperl512.a
    gnulibc_version=''
  Dynamic Linking:
    dlsrc=dl_win32.xs, dlext=dll, d_dlsymun=undef, ccdlflags=' '
    cccdlflags=' ', lddlflags='-mdll -s -L"D:\strawberry\perl\lib\CORE" -L"D:\strawberry\c\lib"'


Characteristics of this binary (from libperl): 
  Compile-time options: MULTIPLICITY PERL_DONT_CREATE_GVSV
                        PERL_IMPLICIT_CONTEXT PERL_IMPLICIT_SYS
                        PERL_MALLOC_WRAP PL_OP_SLAB_ALLOC USE_64_BIT_INT
                        USE_ITHREADS USE_LARGE_FILES USE_PERLIO USE_PERL_ATOF
                        USE_SITECUSTOMIZE
  Built under MSWin32
  Compiled at May 15 2011 09:52:35
  %ENV:
    PERL5LIB="D:\strawberry\cpanplus\5.12.3\build\MooseX-Attribute-ValidateWithException-0.1.1\blib;D:\strawberry\cpanplus\5.12.3\build\MooseX-Attribute-ValidateWithException-0.1.1\blib\arch;D:\strawberry\cpanplus\5.12.3\build\MooseX-Attribute-ValidateWithException-0.1.1\blib\lib;D:\strawberry\cpanplus\5.12.3\build\Throwable-0.100090\blib;D:\strawberry\cpanplus\5.12.3\build\Throwable-0.100090\blib\arch;D:\strawberry\cpanplus\5.12.3\build\Throwable-0.100090\blib\lib;D:\strawberry\cpanplus\5.12.3\build\Devel-StackTrace-1.23\blib;D:\strawberry\cpanplus\5.12.3\build\Devel-StackTrace-1.23\blib\arch;D:\strawberry\cpanplus\5.12.3\build\Devel-StackTrace-1.23\blib\lib;"
    PERL5_CPANPLUS_IS_RUNNING="1360"
    PERL5_CPANPLUS_IS_VERSION="0.9105"
    PERL_EXTUTILS_AUTOINSTALL="--defaultdeps"
    PERL_JSON_BACKEND="JSON::XS"
    PERL_MM_USE_DEFAULT="1"
    PERL_YAML_BACKEND="YAML"
  @INC:
    D:\strawberry\cpanplus\5.12.3\build\MooseX-Attribute-ValidateWithException-0.1.1\blib
    D:\strawberry\cpanplus\5.12.3\build\MooseX-Attribute-ValidateWithException-0.1.1\blib\arch
    D:\strawberry\cpanplus\5.12.3\build\MooseX-Attribute-ValidateWithException-0.1.1\blib\lib
    D:\strawberry\cpanplus\5.12.3\build\Throwable-0.100090\blib
    D:\strawberry\cpanplus\5.12.3\build\Throwable-0.100090\blib\arch
    D:\strawberry\cpanplus\5.12.3\build\Throwable-0.100090\blib\lib
    D:\strawberry\cpanplus\5.12.3\build\Devel-StackTrace-1.23\blib
    D:\strawberry\cpanplus\5.12.3\build\Devel-StackTrace-1.23\blib\arch
    D:\strawberry\cpanplus\5.12.3\build\Devel-StackTrace-1.23\blib\lib
    D:/strawberry/perl/site/lib
    D:/strawberry/perl/vendor/lib
    D:/strawberry/perl/lib
    .