Text-WideChar-Util v0.16 Perl 5 v5.27.5 amd64-freebsd

Status
Pass
From
Slaven Rezić (SREZIC)
Dist
Text-WideChar-Util v0.16
Platform
Perl 5 v5.27.5 amd64-freebsd
Date
2017-12-23 11:14:20
ID
6c4eeb7e-e7d2-11e7-a12d-a75dc85a5c8f
This distribution has been tested as part of the CPAN Testers
project, supporting the Perl programming language.  See
http://wiki.cpantesters.org/ for more information or email
questions to cpan-testers-discuss@perl.org


--
Dear perlancar,

This is a computer-generated report for Text-WideChar-Util-0.16
on perl 5.27.5, created by CPAN-Reporter-1.2018.

Thank you for uploading your work to CPAN.  Congratulations!
All tests were successful.

Sections of this report:

    * Tester comments
    * Program output
    * Prerequisites
    * Environment and other context

------------------------------
TESTER COMMENTS
------------------------------

Additional comments from tester:

none provided

------------------------------
PROGRAM OUTPUT
------------------------------

Output from '/usr/bin/make test':

PERL_DL_NONLAZY=1 "/usr/perl5.27.5p/bin/perl5.27.5" "-MExtUtils::Command::MM" "-MTest::Harness" "-e" "undef *Test::Harness::Switches; test_harness(0, 'blib/lib', 'blib/arch')" t/*.t
t/00-compile.t ............ ok
t/01-basics.t ............. skipped: Chinese locale not supported on this system
t/release-pod-coverage.t .. skipped: these tests are for release candidate testing
t/release-pod-syntax.t .... skipped: these tests are for release candidate testing
t/release-rinci.t ......... skipped: these tests are for release candidate testing
Wide character (U+5B58) in pattern match (m//) at /home/cpansand/.cpan/build/2017122309/Text-WideChar-Util-0.16-0/blib/lib/Text/WideChar/Util.pm line 161.
Wide character (U+5B58) in pattern match (m//) at /home/cpansand/.cpan/build/2017122309/Text-WideChar-Util-0.16-0/blib/lib/Text/WideChar/Util.pm line 161.
Wide character (U+5B58) in pattern match (m//) at /home/cpansand/.cpan/build/2017122309/Text-WideChar-Util-0.16-0/blib/lib/Text/WideChar/Util.pm line 193.
Wide character (U+5B58) in pattern match (m//) at /home/cpansand/.cpan/build/2017122309/Text-WideChar-Util-0.16-0/blib/lib/Text/WideChar/Util.pm line 193.
Wide character (U+5B58) in pattern match (m//) at /home/cpansand/.cpan/build/2017122309/Text-WideChar-Util-0.16-0/blib/lib/Text/WideChar/Util.pm line 193.
Wide character (U+5B58) in pattern match (m//) at /home/cpansand/.cpan/build/2017122309/Text-WideChar-Util-0.16-0/blib/lib/Text/WideChar/Util.pm line 193.
Wide character (U+5B58) in pattern match (m//) at /home/cpansand/.cpan/build/2017122309/Text-WideChar-Util-0.16-0/blib/lib/Text/WideChar/Util.pm line 193.
Wide character (U+5B58) in pattern match (m//) at /home/cpansand/.cpan/build/2017122309/Text-WideChar-Util-0.16-0/blib/lib/Text/WideChar/Util.pm line 193.
Wide character (U+5B58) in pattern match (m//) at /home/cpansand/.cpan/build/2017122309/Text-WideChar-Util-0.16-0/blib/lib/Text/WideChar/Util.pm line 193.
Wide character (U+5B58) in pattern match (m//) at /home/cpansand/.cpan/build/2017122309/Text-WideChar-Util-0.16-0/blib/lib/Text/WideChar/Util.pm line 193.
Wide character (U+50A8) in pattern match (m//) at /home/cpansand/.cpan/build/2017122309/Text-WideChar-Util-0.16-0/blib/lib/Text/WideChar/Util.pm line 193.
Wide character (U+50A8) in pattern match (m//) at /home/cpansand/.cpan/build/2017122309/Text-WideChar-Util-0.16-0/blib/lib/Text/WideChar/Util.pm line 193.
Wide character (U+50A8) in pattern match (m//) at /home/cpansand/.cpan/build/2017122309/Text-WideChar-Util-0.16-0/blib/lib/Text/WideChar/Util.pm line 193.
Wide character (U+50A8) in pattern match (m//) at /home/cpansand/.cpan/build/2017122309/Text-WideChar-Util-0.16-0/blib/lib/Text/WideChar/Util.pm line 193.
Wide character (U+50A8) in pattern match (m//) at /home/cpansand/.cpan/build/2017122309/Text-WideChar-Util-0.16-0/blib/lib/Text/WideChar/Util.pm line 193.
Wide character (U+50A8) in pattern match (m//) at /home/cpansand/.cpan/build/2017122309/Text-WideChar-Util-0.16-0/blib/lib/Text/WideChar/Util.pm line 193.
Wide character (U+50A8) in pattern match (m//) at /home/cpansand/.cpan/build/2017122309/Text-WideChar-Util-0.16-0/blib/lib/Text/WideChar/Util.pm line 193.
Wide character (U+50A8) in pattern match (m//) at /home/cpansand/.cpan/build/2017122309/Text-WideChar-Util-0.16-0/blib/lib/Text/WideChar/Util.pm line 193.
Wide character (U+548C) in pattern match (m//) at /home/cpansand/.cpan/build/2017122309/Text-WideChar-Util-0.16-0/blib/lib/Text/WideChar/Util.pm line 193.
Wide character (U+548C) in pattern match (m//) at /home/cpansand/.cpan/build/2017122309/Text-WideChar-Util-0.16-0/blib/lib/Text/WideChar/Util.pm line 193.
Wide character (U+548C) in pattern match (m//) at /home/cpansand/.cpan/build/2017122309/Text-WideChar-Util-0.16-0/blib/lib/Text/WideChar/Util.pm line 193.
Wide character (U+548C) in pattern match (m//) at /home/cpansand/.cpan/build/2017122309/Text-WideChar-Util-0.16-0/blib/lib/Text/WideChar/Util.pm line 193.
Wide character (U+548C) in pattern match (m//) at /home/cpansand/.cpan/build/2017122309/Text-WideChar-Util-0.16-0/blib/lib/Text/WideChar/Util.pm line 193.
Wide character (U+548C) in pattern match (m//) at /home/cpansand/.cpan/build/2017122309/Text-WideChar-Util-0.16-0/blib/lib/Text/WideChar/Util.pm line 193.
Wide character (U+548C) in pattern match (m//) at /home/cpansand/.cpan/build/2017122309/Text-WideChar-Util-0.16-0/blib/lib/Text/WideChar/Util.pm line 193.
Wide character (U+548C) in pattern match (m//) at /home/cpansand/.cpan/build/2017122309/Text-WideChar-Util-0.16-0/blib/lib/Text/WideChar/Util.pm line 193.
Wide character (U+4FE1) in pattern match (m//) at /home/cpansand/.cpan/build/2017122309/Text-WideChar-Util-0.16-0/blib/lib/Text/WideChar/Util.pm line 193.
Wide character (U+4FE1) in pattern match (m//) at /home/cpansand/.cpan/build/2017122309/Text-WideChar-Util-0.16-0/blib/lib/Text/WideChar/Util.pm line 193.
Wide character (U+4FE1) in pattern match (m//) at /home/cpansand/.cpan/build/2017122309/Text-WideChar-Util-0.16-0/blib/lib/Text/WideChar/Util.pm line 193.
Wide character (U+4FE1) in pattern match (m//) at /home/cpansand/.cpan/build/2017122309/Text-WideChar-Util-0.16-0/blib/lib/Text/WideChar/Util.pm line 193.
Wide character (U+4FE1) in pattern match (m//) at /home/cpansand/.cpan/build/2017122309/Text-WideChar-Util-0.16-0/blib/lib/Text/WideChar/Util.pm line 193.
Wide character (U+4FE1) in pattern match (m//) at /home/cpansand/.cpan/build/2017122309/Text-WideChar-Util-0.16-0/blib/lib/Text/WideChar/Util.pm line 193.
Wide character (U+4FE1) in pattern match (m//) at /home/cpansand/.cpan/build/2017122309/Text-WideChar-Util-0.16-0/blib/lib/Text/WideChar/Util.pm line 193.
Wide character (U+4FE1) in pattern match (m//) at /home/cpansand/.cpan/build/2017122309/Text-WideChar-Util-0.16-0/blib/lib/Text/WideChar/Util.pm line 193.
Wide character (U+606F) in pattern match (m//) at /home/cpansand/.cpan/build/2017122309/Text-WideChar-Util-0.16-0/blib/lib/Text/WideChar/Util.pm line 193.
Wide character (U+606F) in pattern match (m//) at /home/cpansand/.cpan/build/2017122309/Text-WideChar-Util-0.16-0/blib/lib/Text/WideChar/Util.pm line 193.
Wide character (U+606F) in pattern match (m//) at /home/cpansand/.cpan/build/2017122309/Text-WideChar-Util-0.16-0/blib/lib/Text/WideChar/Util.pm line 193.
Wide character (U+606F) in pattern match (m//) at /home/cpansand/.cpan/build/2017122309/Text-WideChar-Util-0.16-0/blib/lib/Text/WideChar/Util.pm line 193.
Wide character (U+606F) in pattern match (m//) at /home/cpansand/.cpan/build/2017122309/Text-WideChar-Util-0.16-0/blib/lib/Text/WideChar/Util.pm line 193.
Wide character (U+606F) in pattern match (m//) at /home/cpansand/.cpan/build/2017122309/Text-WideChar-Util-0.16-0/blib/lib/Text/WideChar/Util.pm line 193.
Wide character (U+606F) in pattern match (m//) at /home/cpansand/.cpan/build/2017122309/Text-WideChar-Util-0.16-0/blib/lib/Text/WideChar/Util.pm line 193.
Wide character (U+606F) in pattern match (m//) at /home/cpansand/.cpan/build/2017122309/Text-WideChar-Util-0.16-0/blib/lib/Text/WideChar/Util.pm line 193.
Wide character (U+7BA1) in pattern match (m//) at /home/cpansand/.cpan/build/2017122309/Text-WideChar-Util-0.16-0/blib/lib/Text/WideChar/Util.pm line 193.
Wide character (U+7BA1) in pattern match (m//) at /home/cpansand/.cpan/build/2017122309/Text-WideChar-Util-0.16-0/blib/lib/Text/WideChar/Util.pm line 193.
Wide character (U+7BA1) in pattern match (m//) at /home/cpansand/.cpan/build/2017122309/Text-WideChar-Util-0.16-0/blib/lib/Text/WideChar/Util.pm line 193.
Wide character (U+7BA1) in pattern match (m//) at /home/cpansand/.cpan/build/2017122309/Text-WideChar-Util-0.16-0/blib/lib/Text/WideChar/Util.pm line 193.
Wide character (U+7BA1) in pattern match (m//) at /home/cpansand/.cpan/build/2017122309/Text-WideChar-Util-0.16-0/blib/lib/Text/WideChar/Util.pm line 193.
Wide character (U+7BA1) in pattern match (m//) at /home/cpansand/.cpan/build/2017122309/Text-WideChar-Util-0.16-0/blib/lib/Text/WideChar/Util.pm line 193.
Wide character (U+7BA1) in pattern match (m//) at /home/cpansand/.cpan/build/2017122309/Text-WideChar-Util-0.16-0/blib/lib/Text/WideChar/Util.pm line 193.
Wide character (U+7BA1) in pattern match (m//) at /home/cpansand/.cpan/build/2017122309/Text-WideChar-Util-0.16-0/blib/lib/Text/WideChar/Util.pm line 193.
Wide character (U+7406) in pattern match (m//) at /home/cpansand/.cpan/build/2017122309/Text-WideChar-Util-0.16-0/blib/lib/Text/WideChar/Util.pm line 193.
Wide character (U+7406) in pattern match (m//) at /home/cpansand/.cpan/build/2017122309/Text-WideChar-Util-0.16-0/blib/lib/Text/WideChar/Util.pm line 193.
Wide character (U+7406) in pattern match (m//) at /home/cpansand/.cpan/build/2017122309/Text-WideChar-Util-0.16-0/blib/lib/Text/WideChar/Util.pm line 193.
Wide character (U+7406) in pattern match (m//) at /home/cpansand/.cpan/build/2017122309/Text-WideChar-Util-0.16-0/blib/lib/Text/WideChar/Util.pm line 193.
Wide character (U+7406) in pattern match (m//) at /home/cpansand/.cpan/build/2017122309/Text-WideChar-Util-0.16-0/blib/lib/Text/WideChar/Util.pm line 193.
Wide character (U+7406) in pattern match (m//) at /home/cpansand/.cpan/build/2017122309/Text-WideChar-Util-0.16-0/blib/lib/Text/WideChar/Util.pm line 193.
Wide character (U+7406) in pattern match (m//) at /home/cpansand/.cpan/build/2017122309/Text-WideChar-Util-0.16-0/blib/lib/Text/WideChar/Util.pm line 193.
Wide character (U+7406) in pattern match (m//) at /home/cpansand/.cpan/build/2017122309/Text-WideChar-Util-0.16-0/blib/lib/Text/WideChar/Util.pm line 193.
Wide character (U+516C) in pattern match (m//) at /home/cpansand/.cpan/build/2017122309/Text-WideChar-Util-0.16-0/blib/lib/Text/WideChar/Util.pm line 193.
Wide character (U+516C) in pattern match (m//) at /home/cpansand/.cpan/build/2017122309/Text-WideChar-Util-0.16-0/blib/lib/Text/WideChar/Util.pm line 193.
Wide character (U+516C) in pattern match (m//) at /home/cpansand/.cpan/build/2017122309/Text-WideChar-Util-0.16-0/blib/lib/Text/WideChar/Util.pm line 193.
Wide character (U+516C) in pattern match (m//) at /home/cpansand/.cpan/build/2017122309/Text-WideChar-Util-0.16-0/blib/lib/Text/WideChar/Util.pm line 193.
Wide character (U+516C) in pattern match (m//) at /home/cpansand/.cpan/build/2017122309/Text-WideChar-Util-0.16-0/blib/lib/Text/WideChar/Util.pm line 193.
Wide character (U+516C) in pattern match (m//) at /home/cpansand/.cpan/build/2017122309/Text-WideChar-Util-0.16-0/blib/lib/Text/WideChar/Util.pm line 193.
Wide character (U+516C) in pattern match (m//) at /home/cpansand/.cpan/build/2017122309/Text-WideChar-Util-0.16-0/blib/lib/Text/WideChar/Util.pm line 193.
Wide character (U+516C) in pattern match (m//) at /home/cpansand/.cpan/build/2017122309/Text-WideChar-Util-0.16-0/blib/lib/Text/WideChar/Util.pm line 193.
Wide character (U+53F8) in pattern match (m//) at /home/cpansand/.cpan/build/2017122309/Text-WideChar-Util-0.16-0/blib/lib/Text/WideChar/Util.pm line 193.
Wide character (U+53F8) in pattern match (m//) at /home/cpansand/.cpan/build/2017122309/Text-WideChar-Util-0.16-0/blib/lib/Text/WideChar/Util.pm line 193.
Wide character (U+53F8) in pattern match (m//) at /home/cpansand/.cpan/build/2017122309/Text-WideChar-Util-0.16-0/blib/lib/Text/WideChar/Util.pm line 193.
Wide character (U+53F8) in pattern match (m//) at /home/cpansand/.cpan/build/2017122309/Text-WideChar-Util-0.16-0/blib/lib/Text/WideChar/Util.pm line 193.
Wide character (U+53F8) in pattern match (m//) at /home/cpansand/.cpan/build/2017122309/Text-WideChar-Util-0.16-0/blib/lib/Text/WideChar/Util.pm line 193.
Wide character (U+53F8) in pattern match (m//) at /home/cpansand/.cpan/build/2017122309/Text-WideChar-Util-0.16-0/blib/lib/Text/WideChar/Util.pm line 193.
Wide character (U+53F8) in pattern match (m//) at /home/cpansand/.cpan/build/2017122309/Text-WideChar-Util-0.16-0/blib/lib/Text/WideChar/Util.pm line 193.
Wide character (U+53F8) in pattern match (m//) at /home/cpansand/.cpan/build/2017122309/Text-WideChar-Util-0.16-0/blib/lib/Text/WideChar/Util.pm line 193.
Wide character (U+4F4D) in pattern match (m//) at /home/cpansand/.cpan/build/2017122309/Text-WideChar-Util-0.16-0/blib/lib/Text/WideChar/Util.pm line 195.
Wide character (U+4E8E) in pattern match (m//) at /home/cpansand/.cpan/build/2017122309/Text-WideChar-Util-0.16-0/blib/lib/Text/WideChar/Util.pm line 195.
Wide character (U+963F) in pattern match (m//) at /home/cpansand/.cpan/build/2017122309/Text-WideChar-Util-0.16-0/blib/lib/Text/WideChar/Util.pm line 195.
Wide character (U+6839) in pattern match (m//) at /home/cpansand/.cpan/build/2017122309/Text-WideChar-Util-0.16-0/blib/lib/Text/WideChar/Util.pm line 195.
Wide character (U+5EF7) in pattern match (m//) at /home/cpansand/.cpan/build/2017122309/Text-WideChar-Util-0.16-0/blib/lib/Text/WideChar/Util.pm line 195.
Wide character (U+9996) in pattern match (m//) at /home/cpansand/.cpan/build/2017122309/Text-WideChar-Util-0.16-0/blib/lib/Text/WideChar/Util.pm line 195.
Wide character (U+90FD) in pattern match (m//) at /home/cpansand/.cpan/build/2017122309/Text-WideChar-Util-0.16-0/blib/lib/Text/WideChar/Util.pm line 195.
Wide character (U+5E03) in pattern match (m//) at /home/cpansand/.cpan/build/2017122309/Text-WideChar-Util-0.16-0/blib/lib/Text/WideChar/Util.pm line 195.
Wide character (U+5B9C) in pattern match (m//) at /home/cpansand/.cpan/build/2017122309/Text-WideChar-Util-0.16-0/blib/lib/Text/WideChar/Util.pm line 195.
Wide character (U+8BFA) in pattern match (m//) at /home/cpansand/.cpan/build/2017122309/Text-WideChar-Util-0.16-0/blib/lib/Text/WideChar/Util.pm line 195.
Wide character (U+65AF) in pattern match (m//) at /home/cpansand/.cpan/build/2017122309/Text-WideChar-Util-0.16-0/blib/lib/Text/WideChar/Util.pm line 195.
Wide character (U+827E) in pattern match (m//) at /home/cpansand/.cpan/build/2017122309/Text-WideChar-Util-0.16-0/blib/lib/Text/WideChar/Util.pm line 195.
Wide character (U+5229) in pattern match (m//) at /home/cpansand/.cpan/build/2017122309/Text-WideChar-Util-0.16-0/blib/lib/Text/WideChar/Util.pm line 195.
Wide character (U+65AF) in pattern match (m//) at /home/cpansand/.cpan/build/2017122309/Text-WideChar-Util-0.16-0/blib/lib/Text/WideChar/Util.pm line 195.
Wide character (U+7684) in pattern match (m//) at /home/cpansand/.cpan/build/2017122309/Text-WideChar-Util-0.16-0/blib/lib/Text/WideChar/Util.pm line 195.
Wide character (U+4E00) in pattern match (m//) at /home/cpansand/.cpan/build/2017122309/Text-WideChar-Util-0.16-0/blib/lib/Text/WideChar/Util.pm line 195.
Wide character (U+4E2A) in pattern match (m//) at /home/cpansand/.cpan/build/2017122309/Text-WideChar-Util-0.16-0/blib/lib/Text/WideChar/Util.pm line 195.
Wide character (U+5927) in pattern match (m//) at /home/cpansand/.cpan/build/2017122309/Text-WideChar-Util-0.16-0/blib/lib/Text/WideChar/Util.pm line 195.
Wide character (U+6570) in pattern match (m//) at /home/cpansand/.cpan/build/2017122309/Text-WideChar-Util-0.16-0/blib/lib/Text/WideChar/Util.pm line 195.
Wide character (U+636E) in pattern match (m//) at /home/cpansand/.cpan/build/2017122309/Text-WideChar-Util-0.16-0/blib/lib/Text/WideChar/Util.pm line 195.
Wide character (U+4E2D) in pattern match (m//) at /home/cpansand/.cpan/build/2017122309/Text-WideChar-Util-0.16-0/blib/lib/Text/WideChar/Util.pm line 195.
Wide character (U+5FC3) in pattern match (m//) at /home/cpansand/.cpan/build/2017122309/Text-WideChar-Util-0.16-0/blib/lib/Text/WideChar/Util.pm line 195.
Wide character (U+5468) in pattern match (m//) at /home/cpansand/.cpan/build/2017122309/Text-WideChar-Util-0.16-0/blib/lib/Text/WideChar/Util.pm line 195.
Wide character (U+4E09) in pattern match (m//) at /home/cpansand/.cpan/build/2017122309/Text-WideChar-Util-0.16-0/blib/lib/Text/WideChar/Util.pm line 195.
Wide character (U+906D) in pattern match (m//) at /home/cpansand/.cpan/build/2017122309/Text-WideChar-Util-0.16-0/blib/lib/Text/WideChar/Util.pm line 195.
Wide character (U+5927) in pattern match (m//) at /home/cpansand/.cpan/build/2017122309/Text-WideChar-Util-0.16-0/blib/lib/Text/WideChar/Util.pm line 195.
Wide character (U+706B) in pattern match (m//) at /home/cpansand/.cpan/build/2017122309/Text-WideChar-Util-0.16-0/blib/lib/Text/WideChar/Util.pm line 195.
Wide character (U+70E7) in pattern match (m//) at /home/cpansand/.cpan/build/2017122309/Text-WideChar-Util-0.16-0/blib/lib/Text/WideChar/Util.pm line 195.
Wide character (U+6BC1) in pattern match (m//) at /home/cpansand/.cpan/build/2017122309/Text-WideChar-Util-0.16-0/blib/lib/Text/WideChar/Util.pm line 195.
Wide character (U+FF0C) in pattern match (m//) at /home/cpansand/.cpan/build/2017122309/Text-WideChar-Util-0.16-0/blib/lib/Text/WideChar/Util.pm line 195.
Wide character (U+4E5D) in pattern match (m//) at /home/cpansand/.cpan/build/2017122309/Text-WideChar-Util-0.16-0/blib/lib/Text/WideChar/Util.pm line 195.
Wide character (U+540D) in pattern match (m//) at /home/cpansand/.cpan/build/2017122309/Text-WideChar-Util-0.16-0/blib/lib/Text/WideChar/Util.pm line 195.
Wide character (U+6D88) in pattern match (m//) at /home/cpansand/.cpan/build/2017122309/Text-WideChar-Util-0.16-0/blib/lib/Text/WideChar/Util.pm line 195.
Wide character (U+9632) in pattern match (m//) at /home/cpansand/.cpan/build/2017122309/Text-WideChar-Util-0.16-0/blib/lib/Text/WideChar/Util.pm line 195.
Wide character (U+5458) in pattern match (m//) at /home/cpansand/.cpan/build/2017122309/Text-WideChar-Util-0.16-0/blib/lib/Text/WideChar/Util.pm line 195.
Wide character (U+5728) in pattern match (m//) at /home/cpansand/.cpan/build/2017122309/Text-WideChar-Util-0.16-0/blib/lib/Text/WideChar/Util.pm line 195.
Wide character (U+6551) in pattern match (m//) at /home/cpansand/.cpan/build/2017122309/Text-WideChar-Util-0.16-0/blib/lib/Text/WideChar/Util.pm line 195.
Wide character (U+706B) in pattern match (m//) at /home/cpansand/.cpan/build/2017122309/Text-WideChar-Util-0.16-0/blib/lib/Text/WideChar/Util.pm line 195.
Wide character (U+4E2D) in pattern match (m//) at /home/cpansand/.cpan/build/2017122309/Text-WideChar-Util-0.16-0/blib/lib/Text/WideChar/Util.pm line 195.
Wide character (U+4E27) in pattern match (m//) at /home/cpansand/.cpan/build/2017122309/Text-WideChar-Util-0.16-0/blib/lib/Text/WideChar/Util.pm line 195.
Wide character (U+751F) in pattern match (m//) at /home/cpansand/.cpan/build/2017122309/Text-WideChar-Util-0.16-0/blib/lib/Text/WideChar/Util.pm line 195.
Wide character (U+FF0C) in pattern match (m//) at /home/cpansand/.cpan/build/2017122309/Text-WideChar-Util-0.16-0/blib/lib/Text/WideChar/Util.pm line 195.
Wide character (U+4EBA) in pattern match (m//) at /home/cpansand/.cpan/build/2017122309/Text-WideChar-Util-0.16-0/blib/lib/Text/WideChar/Util.pm line 195.
Wide character (U+5931) in pattern match (m//) at /home/cpansand/.cpan/build/2017122309/Text-WideChar-Util-0.16-0/blib/lib/Text/WideChar/Util.pm line 195.
Wide character (U+8E2A) in pattern match (m//) at /home/cpansand/.cpan/build/2017122309/Text-WideChar-Util-0.16-0/blib/lib/Text/WideChar/Util.pm line 195.
Wide character (U+FF0C) in pattern match (m//) at /home/cpansand/.cpan/build/2017122309/Text-WideChar-Util-0.16-0/blib/lib/Text/WideChar/Util.pm line 195.
Wide character (U+4EBA) in pattern match (m//) at /home/cpansand/.cpan/build/2017122309/Text-WideChar-Util-0.16-0/blib/lib/Text/WideChar/Util.pm line 195.
Wide character (U+53D7) in pattern match (m//) at /home/cpansand/.cpan/build/2017122309/Text-WideChar-Util-0.16-0/blib/lib/Text/WideChar/Util.pm line 195.
Wide character (U+4F24) in pattern match (m//) at /home/cpansand/.cpan/build/2017122309/Text-WideChar-Util-0.16-0/blib/lib/Text/WideChar/Util.pm line 195.
Wide character (U+3002) in pattern match (m//) at /home/cpansand/.cpan/build/2017122309/Text-WideChar-Util-0.16-0/blib/lib/Text/WideChar/Util.pm line 195.
Wide character (U+6570) in pattern match (m//) at /home/cpansand/.cpan/build/2017122309/Text-WideChar-Util-0.16-0/blib/lib/Text/WideChar/Util.pm line 195.
Wide character (U+636E) in pattern match (m//) at /home/cpansand/.cpan/build/2017122309/Text-WideChar-Util-0.16-0/blib/lib/Text/WideChar/Util.pm line 195.
Wide character (U+4E2D) in pattern match (m//) at /home/cpansand/.cpan/build/2017122309/Text-WideChar-Util-0.16-0/blib/lib/Text/WideChar/Util.pm line 195.
Wide character (U+5FC3) in pattern match (m//) at /home/cpansand/.cpan/build/2017122309/Text-WideChar-Util-0.16-0/blib/lib/Text/WideChar/Util.pm line 195.
Wide character (U+50A8) in pattern match (m//) at /home/cpansand/.cpan/build/2017122309/Text-WideChar-Util-0.16-0/blib/lib/Text/WideChar/Util.pm line 195.
Wide character (U+5B58) in pattern match (m//) at /home/cpansand/.cpan/build/2017122309/Text-WideChar-Util-0.16-0/blib/lib/Text/WideChar/Util.pm line 195.
Wide character (U+4E86) in pattern match (m//) at /home/cpansand/.cpan/build/2017122309/Text-WideChar-Util-0.16-0/blib/lib/Text/WideChar/Util.pm line 195.
Wide character (U+963F) in pattern match (m//) at /home/cpansand/.cpan/build/2017122309/Text-WideChar-Util-0.16-0/blib/lib/Text/WideChar/Util.pm line 195.
Wide character (U+6839) in pattern match (m//) at /home/cpansand/.cpan/build/2017122309/Text-WideChar-Util-0.16-0/blib/lib/Text/WideChar/Util.pm line 195.
Wide character (U+5EF7) in pattern match (m//) at /home/cpansand/.cpan/build/2017122309/Text-WideChar-Util-0.16-0/blib/lib/Text/WideChar/Util.pm line 195.
Wide character (U+592E) in pattern match (m//) at /home/cpansand/.cpan/build/2017122309/Text-WideChar-Util-0.16-0/blib/lib/Text/WideChar/Util.pm line 195.
Wide character (U+884C) in pattern match (m//) at /home/cpansand/.cpan/build/2017122309/Text-WideChar-Util-0.16-0/blib/lib/Text/WideChar/Util.pm line 195.
Wide character (U+548C) in pattern match (m//) at /home/cpansand/.cpan/build/2017122309/Text-WideChar-Util-0.16-0/blib/lib/Text/WideChar/Util.pm line 195.
Wide character (U+4F01) in pattern match (m//) at /home/cpansand/.cpan/build/2017122309/Text-WideChar-Util-0.16-0/blib/lib/Text/WideChar/Util.pm line 195.
Wide character (U+4E1A) in pattern match (m//) at /home/cpansand/.cpan/build/2017122309/Text-WideChar-Util-0.16-0/blib/lib/Text/WideChar/Util.pm line 195.
Wide character (U+6863) in pattern match (m//) at /home/cpansand/.cpan/build/2017122309/Text-WideChar-Util-0.16-0/blib/lib/Text/WideChar/Util.pm line 195.
Wide character (U+6848) in pattern match (m//) at /home/cpansand/.cpan/build/2017122309/Text-WideChar-Util-0.16-0/blib/lib/Text/WideChar/Util.pm line 195.
Wide character (U+FF0C) in pattern match (m//) at /home/cpansand/.cpan/build/2017122309/Text-WideChar-Util-0.16-0/blib/lib/Text/WideChar/Util.pm line 195.
Wide character (U+56E0) in pattern match (m//) at /home/cpansand/.cpan/build/2017122309/Text-WideChar-Util-0.16-0/blib/lib/Text/WideChar/Util.pm line 195.
Wide character (U+6B64) in pattern match (m//) at /home/cpansand/.cpan/build/2017122309/Text-WideChar-Util-0.16-0/blib/lib/Text/WideChar/Util.pm line 195.
Wide character (U+635F) in pattern match (m//) at /home/cpansand/.cpan/build/2017122309/Text-WideChar-Util-0.16-0/blib/lib/Text/WideChar/Util.pm line 195.
Wide character (U+5931) in pattern match (m//) at /home/cpansand/.cpan/build/2017122309/Text-WideChar-Util-0.16-0/blib/lib/Text/WideChar/Util.pm line 195.
Wide character (U+53EF) in pattern match (m//) at /home/cpansand/.cpan/build/2017122309/Text-WideChar-Util-0.16-0/blib/lib/Text/WideChar/Util.pm line 195.
Wide character (U+80FD) in pattern match (m//) at /home/cpansand/.cpan/build/2017122309/Text-WideChar-Util-0.16-0/blib/lib/Text/WideChar/Util.pm line 195.
Wide character (U+975E) in pattern match (m//) at /home/cpansand/.cpan/build/2017122309/Text-WideChar-Util-0.16-0/blib/lib/Text/WideChar/Util.pm line 195.
Wide character (U+5E38) in pattern match (m//) at /home/cpansand/.cpan/build/2017122309/Text-WideChar-Util-0.16-0/blib/lib/Text/WideChar/Util.pm line 195.
Wide character (U+5DE8) in pattern match (m//) at /home/cpansand/.cpan/build/2017122309/Text-WideChar-Util-0.16-0/blib/lib/Text/WideChar/Util.pm line 195.
Wide character (U+5927) in pattern match (m//) at /home/cpansand/.cpan/build/2017122309/Text-WideChar-Util-0.16-0/blib/lib/Text/WideChar/Util.pm line 195.
Wide character (U+3002) in pattern match (m//) at /home/cpansand/.cpan/build/2017122309/Text-WideChar-Util-0.16-0/blib/lib/Text/WideChar/Util.pm line 195.
Wide character (U+8FD9) in pattern match (m//) at /home/cpansand/.cpan/build/2017122309/Text-WideChar-Util-0.16-0/blib/lib/Text/WideChar/Util.pm line 195.
Wide character (U+4E2A) in pattern match (m//) at /home/cpansand/.cpan/build/2017122309/Text-WideChar-Util-0.16-0/blib/lib/Text/WideChar/Util.pm line 195.
Wide character (U+6570) in pattern match (m//) at /home/cpansand/.cpan/build/2017122309/Text-WideChar-Util-0.16-0/blib/lib/Text/WideChar/Util.pm line 195.
Wide character (U+636E) in pattern match (m//) at /home/cpansand/.cpan/build/2017122309/Text-WideChar-Util-0.16-0/blib/lib/Text/WideChar/Util.pm line 195.
Wide character (U+4E2D) in pattern match (m//) at /home/cpansand/.cpan/build/2017122309/Text-WideChar-Util-0.16-0/blib/lib/Text/WideChar/Util.pm line 195.
Wide character (U+5FC3) in pattern match (m//) at /home/cpansand/.cpan/build/2017122309/Text-WideChar-Util-0.16-0/blib/lib/Text/WideChar/Util.pm line 195.
Wide character (U+914D) in pattern match (m//) at /home/cpansand/.cpan/build/2017122309/Text-WideChar-Util-0.16-0/blib/lib/Text/WideChar/Util.pm line 195.
Wide character (U+5907) in pattern match (m//) at /home/cpansand/.cpan/build/2017122309/Text-WideChar-Util-0.16-0/blib/lib/Text/WideChar/Util.pm line 195.
Wide character (U+4E86) in pattern match (m//) at /home/cpansand/.cpan/build/2017122309/Text-WideChar-Util-0.16-0/blib/lib/Text/WideChar/Util.pm line 195.
Wide character (U+79C1) in pattern match (m//) at /home/cpansand/.cpan/build/2017122309/Text-WideChar-Util-0.16-0/blib/lib/Text/WideChar/Util.pm line 195.
Wide character (U+4EBA) in pattern match (m//) at /home/cpansand/.cpan/build/2017122309/Text-WideChar-Util-0.16-0/blib/lib/Text/WideChar/Util.pm line 195.
Wide character (U+7684) in pattern match (m//) at /home/cpansand/.cpan/build/2017122309/Text-WideChar-Util-0.16-0/blib/lib/Text/WideChar/Util.pm line 195.
Wide character (U+6551) in pattern match (m//) at /home/cpansand/.cpan/build/2017122309/Text-WideChar-Util-0.16-0/blib/lib/Text/WideChar/Util.pm line 195.
Wide character (U+706B) in pattern match (m//) at /home/cpansand/.cpan/build/2017122309/Text-WideChar-Util-0.16-0/blib/lib/Text/WideChar/Util.pm line 195.
Wide character (U+961F) in pattern match (m//) at /home/cpansand/.cpan/build/2017122309/Text-WideChar-Util-0.16-0/blib/lib/Text/WideChar/Util.pm line 195.
Wide character (U+FF0C) in pattern match (m//) at /home/cpansand/.cpan/build/2017122309/Text-WideChar-Util-0.16-0/blib/lib/Text/WideChar/Util.pm line 195.
Wide character (U+81EA) in pattern match (m//) at /home/cpansand/.cpan/build/2017122309/Text-WideChar-Util-0.16-0/blib/lib/Text/WideChar/Util.pm line 195.
Wide character (U+52A8) in pattern match (m//) at /home/cpansand/.cpan/build/2017122309/Text-WideChar-Util-0.16-0/blib/lib/Text/WideChar/Util.pm line 195.
Wide character (U+55B7) in pattern match (m//) at /home/cpansand/.cpan/build/2017122309/Text-WideChar-Util-0.16-0/blib/lib/Text/WideChar/Util.pm line 195.
Wide character (U+6C34) in pattern match (m//) at /home/cpansand/.cpan/build/2017122309/Text-WideChar-Util-0.16-0/blib/lib/Text/WideChar/Util.pm line 195.
Wide character (U+706D) in pattern match (m//) at /home/cpansand/.cpan/build/2017122309/Text-WideChar-Util-0.16-0/blib/lib/Text/WideChar/Util.pm line 195.
Wide character (U+706B) in pattern match (m//) at /home/cpansand/.cpan/build/2017122309/Text-WideChar-Util-0.16-0/blib/lib/Text/WideChar/Util.pm line 195.
Wide character (U+7CFB) in pattern match (m//) at /home/cpansand/.cpan/build/2017122309/Text-WideChar-Util-0.16-0/blib/lib/Text/WideChar/Util.pm line 195.
Wide character (U+7EDF) in pattern match (m//) at /home/cpansand/.cpan/build/2017122309/Text-WideChar-Util-0.16-0/blib/lib/Text/WideChar/Util.pm line 195.
Wide character (U+FF0C) in pattern match (m//) at /home/cpansand/.cpan/build/2017122309/Text-WideChar-Util-0.16-0/blib/lib/Text/WideChar/Util.pm line 195.
Wide character (U+706B) in pattern match (m//) at /home/cpansand/.cpan/build/2017122309/Text-WideChar-Util-0.16-0/blib/lib/Text/WideChar/Util.pm line 195.
Wide character (U+707E) in pattern match (m//) at /home/cpansand/.cpan/build/2017122309/Text-WideChar-Util-0.16-0/blib/lib/Text/WideChar/Util.pm line 195.
Wide character (U+63A7) in pattern match (m//) at /home/cpansand/.cpan/build/2017122309/Text-WideChar-Util-0.16-0/blib/lib/Text/WideChar/Util.pm line 195.
Wide character (U+5236) in pattern match (m//) at /home/cpansand/.cpan/build/2017122309/Text-WideChar-Util-0.16-0/blib/lib/Text/WideChar/Util.pm line 195.
Wide character (U+7CFB) in pattern match (m//) at /home/cpansand/.cpan/build/2017122309/Text-WideChar-Util-0.16-0/blib/lib/Text/WideChar/Util.pm line 195.
Wide character (U+7EDF) in pattern match (m//) at /home/cpansand/.cpan/build/2017122309/Text-WideChar-Util-0.16-0/blib/lib/Text/WideChar/Util.pm line 195.
Wide character (U+4EE5) in pattern match (m//) at /home/cpansand/.cpan/build/2017122309/Text-WideChar-Util-0.16-0/blib/lib/Text/WideChar/Util.pm line 195.
Wide character (U+53CA) in pattern match (m//) at /home/cpansand/.cpan/build/2017122309/Text-WideChar-Util-0.16-0/blib/lib/Text/WideChar/Util.pm line 195.
Wide character (U+5176) in pattern match (m//) at /home/cpansand/.cpan/build/2017122309/Text-WideChar-Util-0.16-0/blib/lib/Text/WideChar/Util.pm line 195.
Wide character (U+5B83) in pattern match (m//) at /home/cpansand/.cpan/build/2017122309/Text-WideChar-Util-0.16-0/blib/lib/Text/WideChar/Util.pm line 195.
Wide character (U+706B) in pattern match (m//) at /home/cpansand/.cpan/build/2017122309/Text-WideChar-Util-0.16-0/blib/lib/Text/WideChar/Util.pm line 195.
Wide character (U+707E) in pattern match (m//) at /home/cpansand/.cpan/build/2017122309/Text-WideChar-Util-0.16-0/blib/lib/Text/WideChar/Util.pm line 195.
Wide character (U+9884) in pattern match (m//) at /home/cpansand/.cpan/build/2017122309/Text-WideChar-Util-0.16-0/blib/lib/Text/WideChar/Util.pm line 195.
Wide character (U+9632) in pattern match (m//) at /home/cpansand/.cpan/build/2017122309/Text-WideChar-Util-0.16-0/blib/lib/Text/WideChar/Util.pm line 195.
Wide character (U+7684) in pattern match (m//) at /home/cpansand/.cpan/build/2017122309/Text-WideChar-Util-0.16-0/blib/lib/Text/WideChar/Util.pm line 195.
Wide character (U+63AA) in pattern match (m//) at /home/cpansand/.cpan/build/2017122309/Text-WideChar-Util-0.16-0/blib/lib/Text/WideChar/Util.pm line 195.
Wide character (U+65BD) in pattern match (m//) at /home/cpansand/.cpan/build/2017122309/Text-WideChar-Util-0.16-0/blib/lib/Text/WideChar/Util.pm line 195.
Wide character (U+3002) in pattern match (m//) at /home/cpansand/.cpan/build/2017122309/Text-WideChar-Util-0.16-0/blib/lib/Text/WideChar/Util.pm line 195.
Wide character (U+4F46) in pattern match (m//) at /home/cpansand/.cpan/build/2017122309/Text-WideChar-Util-0.16-0/blib/lib/Text/WideChar/Util.pm line 195.
Wide character (U+5373) in pattern match (m//) at /home/cpansand/.cpan/build/2017122309/Text-WideChar-Util-0.16-0/blib/lib/Text/WideChar/Util.pm line 195.
Wide character (U+4FBF) in pattern match (m//) at /home/cpansand/.cpan/build/2017122309/Text-WideChar-Util-0.16-0/blib/lib/Text/WideChar/Util.pm line 195.
Wide character (U+5982) in pattern match (m//) at /home/cpansand/.cpan/build/2017122309/Text-WideChar-Util-0.16-0/blib/lib/Text/WideChar/Util.pm line 195.
Wide character (U+6B64) in pattern match (m//) at /home/cpansand/.cpan/build/2017122309/Text-WideChar-Util-0.16-0/blib/lib/Text/WideChar/Util.pm line 195.
Wide character (U+FF0C) in pattern match (m//) at /home/cpansand/.cpan/build/2017122309/Text-WideChar-Util-0.16-0/blib/lib/Text/WideChar/Util.pm line 195.
Wide character (U+4ECD) in pattern match (m//) at /home/cpansand/.cpan/build/2017122309/Text-WideChar-Util-0.16-0/blib/lib/Text/WideChar/Util.pm line 195.
Wide character (U+7136) in pattern match (m//) at /home/cpansand/.cpan/build/2017122309/Text-WideChar-Util-0.16-0/blib/lib/Text/WideChar/Util.pm line 195.
Wide character (U+6CA1) in pattern match (m//) at /home/cpansand/.cpan/build/2017122309/Text-WideChar-Util-0.16-0/blib/lib/Text/WideChar/Util.pm line 195.
Wide character (U+6709) in pattern match (m//) at /home/cpansand/.cpan/build/2017122309/Text-WideChar-Util-0.16-0/blib/lib/Text/WideChar/Util.pm line 195.
Wide character (U+9884) in pattern match (m//) at /home/cpansand/.cpan/build/2017122309/Text-WideChar-Util-0.16-0/blib/lib/Text/WideChar/Util.pm line 195.
Wide character (U+9632) in pattern match (m//) at /home/cpansand/.cpan/build/2017122309/Text-WideChar-Util-0.16-0/blib/lib/Text/WideChar/Util.pm line 195.
Wide character (U+707E) in pattern match (m//) at /home/cpansand/.cpan/build/2017122309/Text-WideChar-Util-0.16-0/blib/lib/Text/WideChar/Util.pm line 195.
Wide character (U+96BE) in pattern match (m//) at /home/cpansand/.cpan/build/2017122309/Text-WideChar-Util-0.16-0/blib/lib/Text/WideChar/Util.pm line 195.
Wide character (U+7684) in pattern match (m//) at /home/cpansand/.cpan/build/2017122309/Text-WideChar-Util-0.16-0/blib/lib/Text/WideChar/Util.pm line 195.
Wide character (U+53D1) in pattern match (m//) at /home/cpansand/.cpan/build/2017122309/Text-WideChar-Util-0.16-0/blib/lib/Text/WideChar/Util.pm line 195.
Wide character (U+751F) in pattern match (m//) at /home/cpansand/.cpan/build/2017122309/Text-WideChar-Util-0.16-0/blib/lib/Text/WideChar/Util.pm line 195.
Wide character (U+3002) in pattern match (m//) at /home/cpansand/.cpan/build/2017122309/Text-WideChar-Util-0.16-0/blib/lib/Text/WideChar/Util.pm line 195.
Wide character (U+76EE) in pattern match (m//) at /home/cpansand/.cpan/build/2017122309/Text-WideChar-Util-0.16-0/blib/lib/Text/WideChar/Util.pm line 195.
Wide character (U+524D) in pattern match (m//) at /home/cpansand/.cpan/build/2017122309/Text-WideChar-Util-0.16-0/blib/lib/Text/WideChar/Util.pm line 195.
Wide character (U+8FD8) in pattern match (m//) at /home/cpansand/.cpan/build/2017122309/Text-WideChar-Util-0.16-0/blib/lib/Text/WideChar/Util.pm line 195.
Wide character (U+4E0D) in pattern match (m//) at /home/cpansand/.cpan/build/2017122309/Text-WideChar-Util-0.16-0/blib/lib/Text/WideChar/Util.pm line 195.
Wide character (U+6E05) in pattern match (m//) at /home/cpansand/.cpan/build/2017122309/Text-WideChar-Util-0.16-0/blib/lib/Text/WideChar/Util.pm line 195.
Wide character (U+695A) in pattern match (m//) at /home/cpansand/.cpan/build/2017122309/Text-WideChar-Util-0.16-0/blib/lib/Text/WideChar/Util.pm line 195.
Wide character (U+6570) in pattern match (m//) at /home/cpansand/.cpan/build/2017122309/Text-WideChar-Util-0.16-0/blib/lib/Text/WideChar/Util.pm line 195.
Wide character (U+636E) in pattern match (m//) at /home/cpansand/.cpan/build/2017122309/Text-WideChar-Util-0.16-0/blib/lib/Text/WideChar/Util.pm line 195.
Wide character (U+4E2D) in pattern match (m//) at /home/cpansand/.cpan/build/2017122309/Text-WideChar-Util-0.16-0/blib/lib/Text/WideChar/Util.pm line 195.
Wide character (U+5FC3) in pattern match (m//) at /home/cpansand/.cpan/build/2017122309/Text-WideChar-Util-0.16-0/blib/lib/Text/WideChar/Util.pm line 195.
Wide character (U+8D77) in pattern match (m//) at /home/cpansand/.cpan/build/2017122309/Text-WideChar-Util-0.16-0/blib/lib/Text/WideChar/Util.pm line 195.
Wide character (U+706B) in pattern match (m//) at /home/cpansand/.cpan/build/2017122309/Text-WideChar-Util-0.16-0/blib/lib/Text/WideChar/Util.pm line 195.
Wide character (U+7684) in pattern match (m//) at /home/cpansand/.cpan/build/2017122309/Text-WideChar-Util-0.16-0/blib/lib/Text/WideChar/Util.pm line 195.
Wide character (U+539F) in pattern match (m//) at /home/cpansand/.cpan/build/2017122309/Text-WideChar-Util-0.16-0/blib/lib/Text/WideChar/Util.pm line 195.
Wide character (U+56E0) in pattern match (m//) at /home/cpansand/.cpan/build/2017122309/Text-WideChar-Util-0.16-0/blib/lib/Text/WideChar/Util.pm line 195.
Wide character (U+3002) in pattern match (m//) at /home/cpansand/.cpan/build/2017122309/Text-WideChar-Util-0.16-0/blib/lib/Text/WideChar/Util.pm line 195.
Wide character (U+4F4D) in pattern match (m//) at /home/cpansand/.cpan/build/2017122309/Text-WideChar-Util-0.16-0/blib/lib/Text/WideChar/Util.pm line 199.
Wide character (U+4F4D) in pattern match (m//) at /home/cpansand/.cpan/build/2017122309/Text-WideChar-Util-0.16-0/blib/lib/Text/WideChar/Util.pm line 201.
Wide character (U+4E8E) in pattern match (m//) at /home/cpansand/.cpan/build/2017122309/Text-WideChar-Util-0.16-0/blib/lib/Text/WideChar/Util.pm line 201.
Wide character (U+963F) in pattern match (m//) at /home/cpansand/.cpan/build/2017122309/Text-WideChar-Util-0.16-0/blib/lib/Text/WideChar/Util.pm line 201.
Wide character (U+6839) in pattern match (m//) at /home/cpansand/.cpan/build/2017122309/Text-WideChar-Util-0.16-0/blib/lib/Text/WideChar/Util.pm line 201.
Wide character (U+5EF7) in pattern match (m//) at /home/cpansand/.cpan/build/2017122309/Text-WideChar-Util-0.16-0/blib/lib/Text/WideChar/Util.pm line 201.
Wide character (U+9996) in pattern match (m//) at /home/cpansand/.cpan/build/2017122309/Text-WideChar-Util-0.16-0/blib/lib/Text/WideChar/Util.pm line 201.
Wide character (U+90FD) in pattern match (m//) at /home/cpansand/.cpan/build/2017122309/Text-WideChar-Util-0.16-0/blib/lib/Text/WideChar/Util.pm line 201.
Wide character (U+5E03) in pattern match (m//) at /home/cpansand/.cpan/build/2017122309/Text-WideChar-Util-0.16-0/blib/lib/Text/WideChar/Util.pm line 201.
Wide character (U+5B9C) in pattern match (m//) at /home/cpansand/.cpan/build/2017122309/Text-WideChar-Util-0.16-0/blib/lib/Text/WideChar/Util.pm line 201.
Wide character (U+8BFA) in pattern match (m//) at /home/cpansand/.cpan/build/2017122309/Text-WideChar-Util-0.16-0/blib/lib/Text/WideChar/Util.pm line 201.
Wide character (U+65AF) in pattern match (m//) at /home/cpansand/.cpan/build/2017122309/Text-WideChar-Util-0.16-0/blib/lib/Text/WideChar/Util.pm line 201.
Wide character (U+827E) in pattern match (m//) at /home/cpansand/.cpan/build/2017122309/Text-WideChar-Util-0.16-0/blib/lib/Text/WideChar/Util.pm line 201.
Wide character (U+5229) in pattern match (m//) at /home/cpansand/.cpan/build/2017122309/Text-WideChar-Util-0.16-0/blib/lib/Text/WideChar/Util.pm line 201.
Wide character (U+65AF) in pattern match (m//) at /home/cpansand/.cpan/build/2017122309/Text-WideChar-Util-0.16-0/blib/lib/Text/WideChar/Util.pm line 201.
Wide character (U+7684) in pattern match (m//) at /home/cpansand/.cpan/build/2017122309/Text-WideChar-Util-0.16-0/blib/lib/Text/WideChar/Util.pm line 201.
Wide character (U+4E00) in pattern match (m//) at /home/cpansand/.cpan/build/2017122309/Text-WideChar-Util-0.16-0/blib/lib/Text/WideChar/Util.pm line 201.
Wide character (U+4E2A) in pattern match (m//) at /home/cpansand/.cpan/build/2017122309/Text-WideChar-Util-0.16-0/blib/lib/Text/WideChar/Util.pm line 201.
Wide character (U+5927) in pattern match (m//) at /home/cpansand/.cpan/build/2017122309/Text-WideChar-Util-0.16-0/blib/lib/Text/WideChar/Util.pm line 201.
Wide character (U+6570) in pattern match (m//) at /home/cpansand/.cpan/build/2017122309/Text-WideChar-Util-0.16-0/blib/lib/Text/WideChar/Util.pm line 201.
Wide character (U+636E) in pattern match (m//) at /home/cpansand/.cpan/build/2017122309/Text-WideChar-Util-0.16-0/blib/lib/Text/WideChar/Util.pm line 201.
Wide character (U+4E2D) in pattern match (m//) at /home/cpansand/.cpan/build/2017122309/Text-WideChar-Util-0.16-0/blib/lib/Text/WideChar/Util.pm line 201.
Wide character (U+5FC3) in pattern match (m//) at /home/cpansand/.cpan/build/2017122309/Text-WideChar-Util-0.16-0/blib/lib/Text/WideChar/Util.pm line 201.
Wide character (U+5468) in pattern match (m//) at /home/cpansand/.cpan/build/2017122309/Text-WideChar-Util-0.16-0/blib/lib/Text/WideChar/Util.pm line 201.
Wide character (U+4E09) in pattern match (m//) at /home/cpansand/.cpan/build/2017122309/Text-WideChar-Util-0.16-0/blib/lib/Text/WideChar/Util.pm line 201.
Wide character (U+906D) in pattern match (m//) at /home/cpansand/.cpan/build/2017122309/Text-WideChar-Util-0.16-0/blib/lib/Text/WideChar/Util.pm line 201.
Wide character (U+5927) in pattern match (m//) at /home/cpansand/.cpan/build/2017122309/Text-WideChar-Util-0.16-0/blib/lib/Text/WideChar/Util.pm line 201.
Wide character (U+706B) in pattern match (m//) at /home/cpansand/.cpan/build/2017122309/Text-WideChar-Util-0.16-0/blib/lib/Text/WideChar/Util.pm line 201.
Wide character (U+70E7) in pattern match (m//) at /home/cpansand/.cpan/build/2017122309/Text-WideChar-Util-0.16-0/blib/lib/Text/WideChar/Util.pm line 201.
Wide character (U+6BC1) in pattern match (m//) at /home/cpansand/.cpan/build/2017122309/Text-WideChar-Util-0.16-0/blib/lib/Text/WideChar/Util.pm line 201.
Wide character (U+FF0C) in pattern match (m//) at /home/cpansand/.cpan/build/2017122309/Text-WideChar-Util-0.16-0/blib/lib/Text/WideChar/Util.pm line 201.
Wide character (U+4E5D) in pattern match (m//) at /home/cpansand/.cpan/build/2017122309/Text-WideChar-Util-0.16-0/blib/lib/Text/WideChar/Util.pm line 201.
Wide character (U+540D) in pattern match (m//) at /home/cpansand/.cpan/build/2017122309/Text-WideChar-Util-0.16-0/blib/lib/Text/WideChar/Util.pm line 201.
Wide character (U+6D88) in pattern match (m//) at /home/cpansand/.cpan/build/2017122309/Text-WideChar-Util-0.16-0/blib/lib/Text/WideChar/Util.pm line 201.
Wide character (U+9632) in pattern match (m//) at /home/cpansand/.cpan/build/2017122309/Text-WideChar-Util-0.16-0/blib/lib/Text/WideChar/Util.pm line 201.
Wide character (U+5458) in pattern match (m//) at /home/cpansand/.cpan/build/2017122309/Text-WideChar-Util-0.16-0/blib/lib/Text/WideChar/Util.pm line 201.
Wide character (U+5728) in pattern match (m//) at /home/cpansand/.cpan/build/2017122309/Text-WideChar-Util-0.16-0/blib/lib/Text/WideChar/Util.pm line 201.
Wide character (U+6551) in pattern match (m//) at /home/cpansand/.cpan/build/2017122309/Text-WideChar-Util-0.16-0/blib/lib/Text/WideChar/Util.pm line 201.
Wide character (U+706B) in pattern match (m//) at /home/cpansand/.cpan/build/2017122309/Text-WideChar-Util-0.16-0/blib/lib/Text/WideChar/Util.pm line 201.
Wide character (U+4E2D) in pattern match (m//) at /home/cpansand/.cpan/build/2017122309/Text-WideChar-Util-0.16-0/blib/lib/Text/WideChar/Util.pm line 201.
Wide character (U+4E27) in pattern match (m//) at /home/cpansand/.cpan/build/2017122309/Text-WideChar-Util-0.16-0/blib/lib/Text/WideChar/Util.pm line 201.
Wide character (U+751F) in pattern match (m//) at /home/cpansand/.cpan/build/2017122309/Text-WideChar-Util-0.16-0/blib/lib/Text/WideChar/Util.pm line 201.
Wide character (U+FF0C) in pattern match (m//) at /home/cpansand/.cpan/build/2017122309/Text-WideChar-Util-0.16-0/blib/lib/Text/WideChar/Util.pm line 201.
Wide character (U+4EBA) in pattern match (m//) at /home/cpansand/.cpan/build/2017122309/Text-WideChar-Util-0.16-0/blib/lib/Text/WideChar/Util.pm line 201.
Wide character (U+4EBA) in pattern match (m//) at /home/cpansand/.cpan/build/2017122309/Text-WideChar-Util-0.16-0/blib/lib/Text/WideChar/Util.pm line 201.
Wide character (U+5931) in pattern match (m//) at /home/cpansand/.cpan/build/2017122309/Text-WideChar-Util-0.16-0/blib/lib/Text/WideChar/Util.pm line 201.
Wide character (U+8E2A) in pattern match (m//) at /home/cpansand/.cpan/build/2017122309/Text-WideChar-Util-0.16-0/blib/lib/Text/WideChar/Util.pm line 201.
Wide character (U+FF0C) in pattern match (m//) at /home/cpansand/.cpan/build/2017122309/Text-WideChar-Util-0.16-0/blib/lib/Text/WideChar/Util.pm line 201.
Wide character (U+4EBA) in pattern match (m//) at /home/cpansand/.cpan/build/2017122309/Text-WideChar-Util-0.16-0/blib/lib/Text/WideChar/Util.pm line 201.
Wide character (U+4EBA) in pattern match (m//) at /home/cpansand/.cpan/build/2017122309/Text-WideChar-Util-0.16-0/blib/lib/Text/WideChar/Util.pm line 201.
Wide character (U+53D7) in pattern match (m//) at /home/cpansand/.cpan/build/2017122309/Text-WideChar-Util-0.16-0/blib/lib/Text/WideChar/Util.pm line 201.
Wide character (U+4F24) in pattern match (m//) at /home/cpansand/.cpan/build/2017122309/Text-WideChar-Util-0.16-0/blib/lib/Text/WideChar/Util.pm line 201.
Wide character (U+3002) in pattern match (m//) at /home/cpansand/.cpan/build/2017122309/Text-WideChar-Util-0.16-0/blib/lib/Text/WideChar/Util.pm line 201.
Wide character (U+6570) in pattern match (m//) at /home/cpansand/.cpan/build/2017122309/Text-WideChar-Util-0.16-0/blib/lib/Text/WideChar/Util.pm line 201.
Wide character (U+636E) in pattern match (m//) at /home/cpansand/.cpan/build/2017122309/Text-WideChar-Util-0.16-0/blib/lib/Text/WideChar/Util.pm line 201.
Wide character (U+4E2D) in pattern match (m//) at /home/cpansand/.cpan/build/2017122309/Text-WideChar-Util-0.16-0/blib/lib/Text/WideChar/Util.pm line 201.
Wide character (U+5FC3) in pattern match (m//) at /home/cpansand/.cpan/build/2017122309/Text-WideChar-Util-0.16-0/blib/lib/Text/WideChar/Util.pm line 201.
Wide character (U+50A8) in pattern match (m//) at /home/cpansand/.cpan/build/2017122309/Text-WideChar-Util-0.16-0/blib/lib/Text/WideChar/Util.pm line 201.
Wide character (U+5B58) in pattern match (m//) at /home/cpansand/.cpan/build/2017122309/Text-WideChar-Util-0.16-0/blib/lib/Text/WideChar/Util.pm line 201.
Wide character (U+4E86) in pattern match (m//) at /home/cpansand/.cpan/build/2017122309/Text-WideChar-Util-0.16-0/blib/lib/Text/WideChar/Util.pm line 201.
Wide character (U+963F) in pattern match (m//) at /home/cpansand/.cpan/build/2017122309/Text-WideChar-Util-0.16-0/blib/lib/Text/WideChar/Util.pm line 201.
Wide character (U+6839) in pattern match (m//) at /home/cpansand/.cpan/build/2017122309/Text-WideChar-Util-0.16-0/blib/lib/Text/WideChar/Util.pm line 201.
Wide character (U+5EF7) in pattern match (m//) at /home/cpansand/.cpan/build/2017122309/Text-WideChar-Util-0.16-0/blib/lib/Text/WideChar/Util.pm line 201.
Wide character (U+592E) in pattern match (m//) at /home/cpansand/.cpan/build/2017122309/Text-WideChar-Util-0.16-0/blib/lib/Text/WideChar/Util.pm line 201.
Wide character (U+884C) in pattern match (m//) at /home/cpansand/.cpan/build/2017122309/Text-WideChar-Util-0.16-0/blib/lib/Text/WideChar/Util.pm line 201.
Wide character (U+548C) in pattern match (m//) at /home/cpansand/.cpan/build/2017122309/Text-WideChar-Util-0.16-0/blib/lib/Text/WideChar/Util.pm line 201.
Wide character (U+4F01) in pattern match (m//) at /home/cpansand/.cpan/build/2017122309/Text-WideChar-Util-0.16-0/blib/lib/Text/WideChar/Util.pm line 201.
Wide character (U+4E1A) in pattern match (m//) at /home/cpansand/.cpan/build/2017122309/Text-WideChar-Util-0.16-0/blib/lib/Text/WideChar/Util.pm line 201.
Wide character (U+6863) in pattern match (m//) at /home/cpansand/.cpan/build/2017122309/Text-WideChar-Util-0.16-0/blib/lib/Text/WideChar/Util.pm line 201.
Wide character (U+6848) in pattern match (m//) at /home/cpansand/.cpan/build/2017122309/Text-WideChar-Util-0.16-0/blib/lib/Text/WideChar/Util.pm line 201.
Wide character (U+FF0C) in pattern match (m//) at /home/cpansand/.cpan/build/2017122309/Text-WideChar-Util-0.16-0/blib/lib/Text/WideChar/Util.pm line 201.
Wide character (U+56E0) in pattern match (m//) at /home/cpansand/.cpan/build/2017122309/Text-WideChar-Util-0.16-0/blib/lib/Text/WideChar/Util.pm line 201.
Wide character (U+6B64) in pattern match (m//) at /home/cpansand/.cpan/build/2017122309/Text-WideChar-Util-0.16-0/blib/lib/Text/WideChar/Util.pm line 201.
Wide character (U+635F) in pattern match (m//) at /home/cpansand/.cpan/build/2017122309/Text-WideChar-Util-0.16-0/blib/lib/Text/WideChar/Util.pm line 201.
Wide character (U+5931) in pattern match (m//) at /home/cpansand/.cpan/build/2017122309/Text-WideChar-Util-0.16-0/blib/lib/Text/WideChar/Util.pm line 201.
Wide character (U+53EF) in pattern match (m//) at /home/cpansand/.cpan/build/2017122309/Text-WideChar-Util-0.16-0/blib/lib/Text/WideChar/Util.pm line 201.
Wide character (U+80FD) in pattern match (m//) at /home/cpansand/.cpan/build/2017122309/Text-WideChar-Util-0.16-0/blib/lib/Text/WideChar/Util.pm line 201.
Wide character (U+975E) in pattern match (m//) at /home/cpansand/.cpan/build/2017122309/Text-WideChar-Util-0.16-0/blib/lib/Text/WideChar/Util.pm line 201.
Wide character (U+5E38) in pattern match (m//) at /home/cpansand/.cpan/build/2017122309/Text-WideChar-Util-0.16-0/blib/lib/Text/WideChar/Util.pm line 201.
Wide character (U+5DE8) in pattern match (m//) at /home/cpansand/.cpan/build/2017122309/Text-WideChar-Util-0.16-0/blib/lib/Text/WideChar/Util.pm line 201.
Wide character (U+5927) in pattern match (m//) at /home/cpansand/.cpan/build/2017122309/Text-WideChar-Util-0.16-0/blib/lib/Text/WideChar/Util.pm line 201.
Wide character (U+3002) in pattern match (m//) at /home/cpansand/.cpan/build/2017122309/Text-WideChar-Util-0.16-0/blib/lib/Text/WideChar/Util.pm line 201.
Wide character (U+8FD9) in pattern match (m//) at /home/cpansand/.cpan/build/2017122309/Text-WideChar-Util-0.16-0/blib/lib/Text/WideChar/Util.pm line 201.
Wide character (U+4E2A) in pattern match (m//) at /home/cpansand/.cpan/build/2017122309/Text-WideChar-Util-0.16-0/blib/lib/Text/WideChar/Util.pm line 201.
Wide character (U+6570) in pattern match (m//) at /home/cpansand/.cpan/build/2017122309/Text-WideChar-Util-0.16-0/blib/lib/Text/WideChar/Util.pm line 201.
Wide character (U+636E) in pattern match (m//) at /home/cpansand/.cpan/build/2017122309/Text-WideChar-Util-0.16-0/blib/lib/Text/WideChar/Util.pm line 201.
Wide character (U+4E2D) in pattern match (m//) at /home/cpansand/.cpan/build/2017122309/Text-WideChar-Util-0.16-0/blib/lib/Text/WideChar/Util.pm line 201.
Wide character (U+5FC3) in pattern match (m//) at /home/cpansand/.cpan/build/2017122309/Text-WideChar-Util-0.16-0/blib/lib/Text/WideChar/Util.pm line 201.
Wide character (U+914D) in pattern match (m//) at /home/cpansand/.cpan/build/2017122309/Text-WideChar-Util-0.16-0/blib/lib/Text/WideChar/Util.pm line 201.
Wide character (U+5907) in pattern match (m//) at /home/cpansand/.cpan/build/2017122309/Text-WideChar-Util-0.16-0/blib/lib/Text/WideChar/Util.pm line 201.
Wide character (U+4E86) in pattern match (m//) at /home/cpansand/.cpan/build/2017122309/Text-WideChar-Util-0.16-0/blib/lib/Text/WideChar/Util.pm line 201.
Wide character (U+79C1) in pattern match (m//) at /home/cpansand/.cpan/build/2017122309/Text-WideChar-Util-0.16-0/blib/lib/Text/WideChar/Util.pm line 201.
Wide character (U+4EBA) in pattern match (m//) at /home/cpansand/.cpan/build/2017122309/Text-WideChar-Util-0.16-0/blib/lib/Text/WideChar/Util.pm line 201.
Wide character (U+7684) in pattern match (m//) at /home/cpansand/.cpan/build/2017122309/Text-WideChar-Util-0.16-0/blib/lib/Text/WideChar/Util.pm line 201.
Wide character (U+6551) in pattern match (m//) at /home/cpansand/.cpan/build/2017122309/Text-WideChar-Util-0.16-0/blib/lib/Text/WideChar/Util.pm line 201.
Wide character (U+706B) in pattern match (m//) at /home/cpansand/.cpan/build/2017122309/Text-WideChar-Util-0.16-0/blib/lib/Text/WideChar/Util.pm line 201.
Wide character (U+961F) in pattern match (m//) at /home/cpansand/.cpan/build/2017122309/Text-WideChar-Util-0.16-0/blib/lib/Text/WideChar/Util.pm line 201.
Wide character (U+FF0C) in pattern match (m//) at /home/cpansand/.cpan/build/2017122309/Text-WideChar-Util-0.16-0/blib/lib/Text/WideChar/Util.pm line 201.
Wide character (U+81EA) in pattern match (m//) at /home/cpansand/.cpan/build/2017122309/Text-WideChar-Util-0.16-0/blib/lib/Text/WideChar/Util.pm line 201.
Wide character (U+52A8) in pattern match (m//) at /home/cpansand/.cpan/build/2017122309/Text-WideChar-Util-0.16-0/blib/lib/Text/WideChar/Util.pm line 201.
Wide character (U+55B7) in pattern match (m//) at /home/cpansand/.cpan/build/2017122309/Text-WideChar-Util-0.16-0/blib/lib/Text/WideChar/Util.pm line 201.
Wide character (U+6C34) in pattern match (m//) at /home/cpansand/.cpan/build/2017122309/Text-WideChar-Util-0.16-0/blib/lib/Text/WideChar/Util.pm line 201.
Wide character (U+706D) in pattern match (m//) at /home/cpansand/.cpan/build/2017122309/Text-WideChar-Util-0.16-0/blib/lib/Text/WideChar/Util.pm line 201.
Wide character (U+706B) in pattern match (m//) at /home/cpansand/.cpan/build/2017122309/Text-WideChar-Util-0.16-0/blib/lib/Text/WideChar/Util.pm line 201.
Wide character (U+7CFB) in pattern match (m//) at /home/cpansand/.cpan/build/2017122309/Text-WideChar-Util-0.16-0/blib/lib/Text/WideChar/Util.pm line 201.
Wide character (U+7EDF) in pattern match (m//) at /home/cpansand/.cpan/build/2017122309/Text-WideChar-Util-0.16-0/blib/lib/Text/WideChar/Util.pm line 201.
Wide character (U+FF0C) in pattern match (m//) at /home/cpansand/.cpan/build/2017122309/Text-WideChar-Util-0.16-0/blib/lib/Text/WideChar/Util.pm line 201.
Wide character (U+706B) in pattern match (m//) at /home/cpansand/.cpan/build/2017122309/Text-WideChar-Util-0.16-0/blib/lib/Text/WideChar/Util.pm line 201.
Wide character (U+707E) in pattern match (m//) at /home/cpansand/.cpan/build/2017122309/Text-WideChar-Util-0.16-0/blib/lib/Text/WideChar/Util.pm line 201.
Wide character (U+63A7) in pattern match (m//) at /home/cpansand/.cpan/build/2017122309/Text-WideChar-Util-0.16-0/blib/lib/Text/WideChar/Util.pm line 201.
Wide character (U+5236) in pattern match (m//) at /home/cpansand/.cpan/build/2017122309/Text-WideChar-Util-0.16-0/blib/lib/Text/WideChar/Util.pm line 201.
Wide character (U+7CFB) in pattern match (m//) at /home/cpansand/.cpan/build/2017122309/Text-WideChar-Util-0.16-0/blib/lib/Text/WideChar/Util.pm line 201.
Wide character (U+7EDF) in pattern match (m//) at /home/cpansand/.cpan/build/2017122309/Text-WideChar-Util-0.16-0/blib/lib/Text/WideChar/Util.pm line 201.
Wide character (U+4EE5) in pattern match (m//) at /home/cpansand/.cpan/build/2017122309/Text-WideChar-Util-0.16-0/blib/lib/Text/WideChar/Util.pm line 201.
Wide character (U+53CA) in pattern match (m//) at /home/cpansand/.cpan/build/2017122309/Text-WideChar-Util-0.16-0/blib/lib/Text/WideChar/Util.pm line 201.
Wide character (U+5176) in pattern match (m//) at /home/cpansand/.cpan/build/2017122309/Text-WideChar-Util-0.16-0/blib/lib/Text/WideChar/Util.pm line 201.
Wide character (U+5B83) in pattern match (m//) at /home/cpansand/.cpan/build/2017122309/Text-WideChar-Util-0.16-0/blib/lib/Text/WideChar/Util.pm line 201.
Wide character (U+706B) in pattern match (m//) at /home/cpansand/.cpan/build/2017122309/Text-WideChar-Util-0.16-0/blib/lib/Text/WideChar/Util.pm line 201.
Wide character (U+707E) in pattern match (m//) at /home/cpansand/.cpan/build/2017122309/Text-WideChar-Util-0.16-0/blib/lib/Text/WideChar/Util.pm line 201.
Wide character (U+9884) in pattern match (m//) at /home/cpansand/.cpan/build/2017122309/Text-WideChar-Util-0.16-0/blib/lib/Text/WideChar/Util.pm line 201.
Wide character (U+9632) in pattern match (m//) at /home/cpansand/.cpan/build/2017122309/Text-WideChar-Util-0.16-0/blib/lib/Text/WideChar/Util.pm line 201.
Wide character (U+7684) in pattern match (m//) at /home/cpansand/.cpan/build/2017122309/Text-WideChar-Util-0.16-0/blib/lib/Text/WideChar/Util.pm line 201.
Wide character (U+63AA) in pattern match (m//) at /home/cpansand/.cpan/build/2017122309/Text-WideChar-Util-0.16-0/blib/lib/Text/WideChar/Util.pm line 201.
Wide character (U+65BD) in pattern match (m//) at /home/cpansand/.cpan/build/2017122309/Text-WideChar-Util-0.16-0/blib/lib/Text/WideChar/Util.pm line 201.
Wide character (U+3002) in pattern match (m//) at /home/cpansand/.cpan/build/2017122309/Text-WideChar-Util-0.16-0/blib/lib/Text/WideChar/Util.pm line 201.
Wide character (U+4F46) in pattern match (m//) at /home/cpansand/.cpan/build/2017122309/Text-WideChar-Util-0.16-0/blib/lib/Text/WideChar/Util.pm line 201.
Wide character (U+5373) in pattern match (m//) at /home/cpansand/.cpan/build/2017122309/Text-WideChar-Util-0.16-0/blib/lib/Text/WideChar/Util.pm line 201.
Wide character (U+4FBF) in pattern match (m//) at /home/cpansand/.cpan/build/2017122309/Text-WideChar-Util-0.16-0/blib/lib/Text/WideChar/Util.pm line 201.
Wide character (U+5982) in pattern match (m//) at /home/cpansand/.cpan/build/2017122309/Text-WideChar-Util-0.16-0/blib/lib/Text/WideChar/Util.pm line 201.
Wide character (U+6B64) in pattern match (m//) at /home/cpansand/.cpan/build/2017122309/Text-WideChar-Util-0.16-0/blib/lib/Text/WideChar/Util.pm line 201.
Wide character (U+FF0C) in pattern match (m//) at /home/cpansand/.cpan/build/2017122309/Text-WideChar-Util-0.16-0/blib/lib/Text/WideChar/Util.pm line 201.
Wide character (U+4ECD) in pattern match (m//) at /home/cpansand/.cpan/build/2017122309/Text-WideChar-Util-0.16-0/blib/lib/Text/WideChar/Util.pm line 201.
Wide character (U+7136) in pattern match (m//) at /home/cpansand/.cpan/build/2017122309/Text-WideChar-Util-0.16-0/blib/lib/Text/WideChar/Util.pm line 201.
Wide character (U+6CA1) in pattern match (m//) at /home/cpansand/.cpan/build/2017122309/Text-WideChar-Util-0.16-0/blib/lib/Text/WideChar/Util.pm line 201.
Wide character (U+6709) in pattern match (m//) at /home/cpansand/.cpan/build/2017122309/Text-WideChar-Util-0.16-0/blib/lib/Text/WideChar/Util.pm line 201.
Wide character (U+9884) in pattern match (m//) at /home/cpansand/.cpan/build/2017122309/Text-WideChar-Util-0.16-0/blib/lib/Text/WideChar/Util.pm line 201.
Wide character (U+9632) in pattern match (m//) at /home/cpansand/.cpan/build/2017122309/Text-WideChar-Util-0.16-0/blib/lib/Text/WideChar/Util.pm line 201.
Wide character (U+707E) in pattern match (m//) at /home/cpansand/.cpan/build/2017122309/Text-WideChar-Util-0.16-0/blib/lib/Text/WideChar/Util.pm line 201.
Wide character (U+96BE) in pattern match (m//) at /home/cpansand/.cpan/build/2017122309/Text-WideChar-Util-0.16-0/blib/lib/Text/WideChar/Util.pm line 201.
Wide character (U+7684) in pattern match (m//) at /home/cpansand/.cpan/build/2017122309/Text-WideChar-Util-0.16-0/blib/lib/Text/WideChar/Util.pm line 201.
Wide character (U+53D1) in pattern match (m//) at /home/cpansand/.cpan/build/2017122309/Text-WideChar-Util-0.16-0/blib/lib/Text/WideChar/Util.pm line 201.
Wide character (U+751F) in pattern match (m//) at /home/cpansand/.cpan/build/2017122309/Text-WideChar-Util-0.16-0/blib/lib/Text/WideChar/Util.pm line 201.
Wide character (U+3002) in pattern match (m//) at /home/cpansand/.cpan/build/2017122309/Text-WideChar-Util-0.16-0/blib/lib/Text/WideChar/Util.pm line 201.
Wide character (U+76EE) in pattern match (m//) at /home/cpansand/.cpan/build/2017122309/Text-WideChar-Util-0.16-0/blib/lib/Text/WideChar/Util.pm line 201.
Wide character (U+524D) in pattern match (m//) at /home/cpansand/.cpan/build/2017122309/Text-WideChar-Util-0.16-0/blib/lib/Text/WideChar/Util.pm line 201.
Wide character (U+8FD8) in pattern match (m//) at /home/cpansand/.cpan/build/2017122309/Text-WideChar-Util-0.16-0/blib/lib/Text/WideChar/Util.pm line 201.
Wide character (U+4E0D) in pattern match (m//) at /home/cpansand/.cpan/build/2017122309/Text-WideChar-Util-0.16-0/blib/lib/Text/WideChar/Util.pm line 201.
Wide character (U+6E05) in pattern match (m//) at /home/cpansand/.cpan/build/2017122309/Text-WideChar-Util-0.16-0/blib/lib/Text/WideChar/Util.pm line 201.
Wide character (U+695A) in pattern match (m//) at /home/cpansand/.cpan/build/2017122309/Text-WideChar-Util-0.16-0/blib/lib/Text/WideChar/Util.pm line 201.
Wide character (U+6570) in pattern match (m//) at /home/cpansand/.cpan/build/2017122309/Text-WideChar-Util-0.16-0/blib/lib/Text/WideChar/Util.pm line 201.
Wide character (U+636E) in pattern match (m//) at /home/cpansand/.cpan/build/2017122309/Text-WideChar-Util-0.16-0/blib/lib/Text/WideChar/Util.pm line 201.
Wide character (U+4E2D) in pattern match (m//) at /home/cpansand/.cpan/build/2017122309/Text-WideChar-Util-0.16-0/blib/lib/Text/WideChar/Util.pm line 201.
Wide character (U+5FC3) in pattern match (m//) at /home/cpansand/.cpan/build/2017122309/Text-WideChar-Util-0.16-0/blib/lib/Text/WideChar/Util.pm line 201.
Wide character (U+8D77) in pattern match (m//) at /home/cpansand/.cpan/build/2017122309/Text-WideChar-Util-0.16-0/blib/lib/Text/WideChar/Util.pm line 201.
Wide character (U+706B) in pattern match (m//) at /home/cpansand/.cpan/build/2017122309/Text-WideChar-Util-0.16-0/blib/lib/Text/WideChar/Util.pm line 201.
Wide character (U+7684) in pattern match (m//) at /home/cpansand/.cpan/build/2017122309/Text-WideChar-Util-0.16-0/blib/lib/Text/WideChar/Util.pm line 201.
Wide character (U+539F) in pattern match (m//) at /home/cpansand/.cpan/build/2017122309/Text-WideChar-Util-0.16-0/blib/lib/Text/WideChar/Util.pm line 201.
Wide character (U+56E0) in pattern match (m//) at /home/cpansand/.cpan/build/2017122309/Text-WideChar-Util-0.16-0/blib/lib/Text/WideChar/Util.pm line 201.
Wide character (U+3002) in pattern match (m//) at /home/cpansand/.cpan/build/2017122309/Text-WideChar-Util-0.16-0/blib/lib/Text/WideChar/Util.pm line 201.
Wide character (U+5403) in pattern match (m//) at /home/cpansand/.cpan/build/2017122309/Text-WideChar-Util-0.16-0/blib/lib/Text/WideChar/Util.pm line 195.
Wide character (U+5403) in pattern match (m//) at /home/cpansand/.cpan/build/2017122309/Text-WideChar-Util-0.16-0/blib/lib/Text/WideChar/Util.pm line 195.
Wide character (U+5403) in pattern match (m//) at /home/cpansand/.cpan/build/2017122309/Text-WideChar-Util-0.16-0/blib/lib/Text/WideChar/Util.pm line 195.
Wide character (U+5403) in pattern match (m//) at /home/cpansand/.cpan/build/2017122309/Text-WideChar-Util-0.16-0/blib/lib/Text/WideChar/Util.pm line 195.
Wide character (U+5403) in pattern match (m//) at /home/cpansand/.cpan/build/2017122309/Text-WideChar-Util-0.16-0/blib/lib/Text/WideChar/Util.pm line 195.
Wide character (U+5403) in pattern match (m//) at /home/cpansand/.cpan/build/2017122309/Text-WideChar-Util-0.16-0/blib/lib/Text/WideChar/Util.pm line 195.
Wide character (U+5403) in pattern match (m//) at /home/cpansand/.cpan/build/2017122309/Text-WideChar-Util-0.16-0/blib/lib/Text/WideChar/Util.pm line 195.
Wide character (U+5403) in pattern match (m//) at /home/cpansand/.cpan/build/2017122309/Text-WideChar-Util-0.16-0/blib/lib/Text/WideChar/Util.pm line 195.
Wide character (U+5403) in pattern match (m//) at /home/cpansand/.cpan/build/2017122309/Text-WideChar-Util-0.16-0/blib/lib/Text/WideChar/Util.pm line 195.
Wide character (U+996D) in pattern match (m//) at /home/cpansand/.cpan/build/2017122309/Text-WideChar-Util-0.16-0/blib/lib/Text/WideChar/Util.pm line 195.
Wide character (U+996D) in pattern match (m//) at /home/cpansand/.cpan/build/2017122309/Text-WideChar-Util-0.16-0/blib/lib/Text/WideChar/Util.pm line 195.
Wide character (U+996D) in pattern match (m//) at /home/cpansand/.cpan/build/2017122309/Text-WideChar-Util-0.16-0/blib/lib/Text/WideChar/Util.pm line 195.
Wide character (U+996D) in pattern match (m//) at /home/cpansand/.cpan/build/2017122309/Text-WideChar-Util-0.16-0/blib/lib/Text/WideChar/Util.pm line 195.
Wide character (U+996D) in pattern match (m//) at /home/cpansand/.cpan/build/2017122309/Text-WideChar-Util-0.16-0/blib/lib/Text/WideChar/Util.pm line 195.
Wide character (U+996D) in pattern match (m//) at /home/cpansand/.cpan/build/2017122309/Text-WideChar-Util-0.16-0/blib/lib/Text/WideChar/Util.pm line 195.
Wide character (U+996D) in pattern match (m//) at /home/cpansand/.cpan/build/2017122309/Text-WideChar-Util-0.16-0/blib/lib/Text/WideChar/Util.pm line 195.
Wide character (U+996D) in pattern match (m//) at /home/cpansand/.cpan/build/2017122309/Text-WideChar-Util-0.16-0/blib/lib/Text/WideChar/Util.pm line 195.
Wide character (U+5403) in pattern match (m//) at /home/cpansand/.cpan/build/2017122309/Text-WideChar-Util-0.16-0/blib/lib/Text/WideChar/Util.pm line 195.
Wide character (U+5403) in pattern match (m//) at /home/cpansand/.cpan/build/2017122309/Text-WideChar-Util-0.16-0/blib/lib/Text/WideChar/Util.pm line 195.
Wide character (U+5403) in pattern match (m//) at /home/cpansand/.cpan/build/2017122309/Text-WideChar-Util-0.16-0/blib/lib/Text/WideChar/Util.pm line 195.
Wide character (U+5403) in pattern match (m//) at /home/cpansand/.cpan/build/2017122309/Text-WideChar-Util-0.16-0/blib/lib/Text/WideChar/Util.pm line 195.
Wide character (U+5403) in pattern match (m//) at /home/cpansand/.cpan/build/2017122309/Text-WideChar-Util-0.16-0/blib/lib/Text/WideChar/Util.pm line 195.
Wide character (U+5403) in pattern match (m//) at /home/cpansand/.cpan/build/2017122309/Text-WideChar-Util-0.16-0/blib/lib/Text/WideChar/Util.pm line 195.
Wide character (U+5403) in pattern match (m//) at /home/cpansand/.cpan/build/2017122309/Text-WideChar-Util-0.16-0/blib/lib/Text/WideChar/Util.pm line 195.
Wide character (U+5403) in pattern match (m//) at /home/cpansand/.cpan/build/2017122309/Text-WideChar-Util-0.16-0/blib/lib/Text/WideChar/Util.pm line 195.
Wide character (U+996D) in pattern match (m//) at /home/cpansand/.cpan/build/2017122309/Text-WideChar-Util-0.16-0/blib/lib/Text/WideChar/Util.pm line 195.
Wide character (U+996D) in pattern match (m//) at /home/cpansand/.cpan/build/2017122309/Text-WideChar-Util-0.16-0/blib/lib/Text/WideChar/Util.pm line 195.
Wide character (U+996D) in pattern match (m//) at /home/cpansand/.cpan/build/2017122309/Text-WideChar-Util-0.16-0/blib/lib/Text/WideChar/Util.pm line 195.
Wide character (U+996D) in pattern match (m//) at /home/cpansand/.cpan/build/2017122309/Text-WideChar-Util-0.16-0/blib/lib/Text/WideChar/Util.pm line 195.
Wide character (U+996D) in pattern match (m//) at /home/cpansand/.cpan/build/2017122309/Text-WideChar-Util-0.16-0/blib/lib/Text/WideChar/Util.pm line 195.
Wide character (U+996D) in pattern match (m//) at /home/cpansand/.cpan/build/2017122309/Text-WideChar-Util-0.16-0/blib/lib/Text/WideChar/Util.pm line 195.
Wide character (U+996D) in pattern match (m//) at /home/cpansand/.cpan/build/2017122309/Text-WideChar-Util-0.16-0/blib/lib/Text/WideChar/Util.pm line 195.
Wide character (U+996D) in pattern match (m//) at /home/cpansand/.cpan/build/2017122309/Text-WideChar-Util-0.16-0/blib/lib/Text/WideChar/Util.pm line 195.
Wide character (U+5403) in pattern match (m//) at /home/cpansand/.cpan/build/2017122309/Text-WideChar-Util-0.16-0/blib/lib/Text/WideChar/Util.pm line 195.
Wide character (U+5403) in pattern match (m//) at /home/cpansand/.cpan/build/2017122309/Text-WideChar-Util-0.16-0/blib/lib/Text/WideChar/Util.pm line 195.
Wide character (U+5403) in pattern match (m//) at /home/cpansand/.cpan/build/2017122309/Text-WideChar-Util-0.16-0/blib/lib/Text/WideChar/Util.pm line 195.
Wide character (U+5403) in pattern match (m//) at /home/cpansand/.cpan/build/2017122309/Text-WideChar-Util-0.16-0/blib/lib/Text/WideChar/Util.pm line 195.
Wide character (U+5403) in pattern match (m//) at /home/cpansand/.cpan/build/2017122309/Text-WideChar-Util-0.16-0/blib/lib/Text/WideChar/Util.pm line 195.
Wide character (U+5403) in pattern match (m//) at /home/cpansand/.cpan/build/2017122309/Text-WideChar-Util-0.16-0/blib/lib/Text/WideChar/Util.pm line 195.
Wide character (U+5403) in pattern match (m//) at /home/cpansand/.cpan/build/2017122309/Text-WideChar-Util-0.16-0/blib/lib/Text/WideChar/Util.pm line 195.
Wide character (U+5403) in pattern match (m//) at /home/cpansand/.cpan/build/2017122309/Text-WideChar-Util-0.16-0/blib/lib/Text/WideChar/Util.pm line 195.
Wide character (U+996D) in pattern match (m//) at /home/cpansand/.cpan/build/2017122309/Text-WideChar-Util-0.16-0/blib/lib/Text/WideChar/Util.pm line 195.
Wide character (U+996D) in pattern match (m//) at /home/cpansand/.cpan/build/2017122309/Text-WideChar-Util-0.16-0/blib/lib/Text/WideChar/Util.pm line 195.
Wide character (U+996D) in pattern match (m//) at /home/cpansand/.cpan/build/2017122309/Text-WideChar-Util-0.16-0/blib/lib/Text/WideChar/Util.pm line 195.
Wide character (U+996D) in pattern match (m//) at /home/cpansand/.cpan/build/2017122309/Text-WideChar-Util-0.16-0/blib/lib/Text/WideChar/Util.pm line 195.
Wide character (U+996D) in pattern match (m//) at /home/cpansand/.cpan/build/2017122309/Text-WideChar-Util-0.16-0/blib/lib/Text/WideChar/Util.pm line 195.
Wide character (U+996D) in pattern match (m//) at /home/cpansand/.cpan/build/2017122309/Text-WideChar-Util-0.16-0/blib/lib/Text/WideChar/Util.pm line 195.
Wide character (U+996D) in pattern match (m//) at /home/cpansand/.cpan/build/2017122309/Text-WideChar-Util-0.16-0/blib/lib/Text/WideChar/Util.pm line 195.
Wide character (U+996D) in pattern match (m//) at /home/cpansand/.cpan/build/2017122309/Text-WideChar-Util-0.16-0/blib/lib/Text/WideChar/Util.pm line 195.
Wide character (U+5403) in pattern match (m//) at /home/cpansand/.cpan/build/2017122309/Text-WideChar-Util-0.16-0/blib/lib/Text/WideChar/Util.pm line 195.
Wide character (U+5403) in pattern match (m//) at /home/cpansand/.cpan/build/2017122309/Text-WideChar-Util-0.16-0/blib/lib/Text/WideChar/Util.pm line 195.
Wide character (U+5403) in pattern match (m//) at /home/cpansand/.cpan/build/2017122309/Text-WideChar-Util-0.16-0/blib/lib/Text/WideChar/Util.pm line 195.
Wide character (U+5403) in pattern match (m//) at /home/cpansand/.cpan/build/2017122309/Text-WideChar-Util-0.16-0/blib/lib/Text/WideChar/Util.pm line 195.
Wide character (U+5403) in pattern match (m//) at /home/cpansand/.cpan/build/2017122309/Text-WideChar-Util-0.16-0/blib/lib/Text/WideChar/Util.pm line 195.
Wide character (U+5403) in pattern match (m//) at /home/cpansand/.cpan/build/2017122309/Text-WideChar-Util-0.16-0/blib/lib/Text/WideChar/Util.pm line 195.
Wide character (U+5403) in pattern match (m//) at /home/cpansand/.cpan/build/2017122309/Text-WideChar-Util-0.16-0/blib/lib/Text/WideChar/Util.pm line 195.
Wide character (U+5403) in pattern match (m//) at /home/cpansand/.cpan/build/2017122309/Text-WideChar-Util-0.16-0/blib/lib/Text/WideChar/Util.pm line 195.
Wide character (U+996D) in pattern match (m//) at /home/cpansand/.cpan/build/2017122309/Text-WideChar-Util-0.16-0/blib/lib/Text/WideChar/Util.pm line 195.
Wide character (U+996D) in pattern match (m//) at /home/cpansand/.cpan/build/2017122309/Text-WideChar-Util-0.16-0/blib/lib/Text/WideChar/Util.pm line 195.
Wide character (U+996D) in pattern match (m//) at /home/cpansand/.cpan/build/2017122309/Text-WideChar-Util-0.16-0/blib/lib/Text/WideChar/Util.pm line 195.
Wide character (U+996D) in pattern match (m//) at /home/cpansand/.cpan/build/2017122309/Text-WideChar-Util-0.16-0/blib/lib/Text/WideChar/Util.pm line 195.
Wide character (U+996D) in pattern match (m//) at /home/cpansand/.cpan/build/2017122309/Text-WideChar-Util-0.16-0/blib/lib/Text/WideChar/Util.pm line 195.
Wide character (U+996D) in pattern match (m//) at /home/cpansand/.cpan/build/2017122309/Text-WideChar-Util-0.16-0/blib/lib/Text/WideChar/Util.pm line 195.
Wide character (U+996D) in pattern match (m//) at /home/cpansand/.cpan/build/2017122309/Text-WideChar-Util-0.16-0/blib/lib/Text/WideChar/Util.pm line 195.
Wide character (U+996D) in pattern match (m//) at /home/cpansand/.cpan/build/2017122309/Text-WideChar-Util-0.16-0/blib/lib/Text/WideChar/Util.pm line 195.
t/wrap.t .................. ok
All tests successful.
Files=6, Tests=13,  0 wallclock secs ( 0.00 usr  0.04 sys +  0.02 cusr  0.37 csys =  0.43 CPU)
Result: PASS

------------------------------
PREREQUISITES
------------------------------

Prerequisite modules loaded:

requires:

    Module              Need     Have    
    ------------------- -------- --------
    perl                5.010001 5.027005
    Unicode::GCString   0        2013.10 

build_requires:

    Module              Need     Have    
    ------------------- -------- --------
    ExtUtils::MakeMaker 0        7.30    
    File::Spec          0        3.68    
    IO::Handle          0        1.36    
    IPC::Open3          0        1.20    
    Test::More          0.98     1.302113

configure_requires:

    Module              Need     Have    
    ------------------- -------- --------
    ExtUtils::MakeMaker 0        7.30    


------------------------------
ENVIRONMENT AND OTHER CONTEXT
------------------------------

Environment variables:

    LC_ALL = de_DE.ISO8859-1
    PATH = /usr/local/bin:/usr/bin:/bin:/usr/local/sbin:/usr/sbin:/sbin:/home/cpansand/bin/freebsd10.3:/home/cpansand/bin/sh:/home/cpansand/bin:/usr/games:/home/cpansand/devel:/home/eserte/src/srezic-misc/scripts
    PERL5LIB = 
    PERL5OPT = 
    PERL5_CPANPLUS_IS_RUNNING = 40290
    PERL5_CPAN_IS_RUNNING = 40290
    PERL5_CPAN_IS_RUNNING_IN_RECURSION = 40251,40290
    PERLDOC = -MPod::Perldoc::ToTextOverstrike
    PERL_BATCH = yes
    PERL_CANARY_STABILITY_NOPROMPT = 1
    PERL_CPAN_REPORTER_CONFIG = /var/tmp/cpansmoker-1023/2017122309/cpanreporter_000_config.ini
    PERL_EXTUTILS_AUTOINSTALL = --defaultdeps
    PERL_USE_UNSAFE_INC = 1
    SHELL = /usr/local/bin/zsh
    TERM = screen
    TMPDIR = /var/tmp/cpansmoker-1023/2017122309

Perl special variables (and OS-specific diagnostics, for MSWin32):

    $^X = /usr/perl5.27.5p/bin/perl5.27.5
    $UID/$EUID = 1023 / 1023
    $GID = 1023 1023
    $EGID = 1023 1023

Perl module toolchain versions installed:

    Module              Have    
    ------------------- --------
    CPAN                2.18    
    CPAN::Meta          2.150010
    Cwd                 3.68    
    ExtUtils::CBuilder  0.280230
    ExtUtils::Command   7.30    
    ExtUtils::Install   2.14    
    ExtUtils::MakeMaker 7.30    
    ExtUtils::Manifest  1.70    
    ExtUtils::ParseXS   3.35    
    File::Spec          3.68    
    JSON                2.94    
    JSON::PP            2.94    
    Module::Build       0.4224  
    Module::Signature   0.81    
    Parse::CPAN::Meta   2.150010
    Test::Harness       3.39    
    Test::More          1.302113
    YAML                1.24    
    YAML::Syck          1.30    
    version             0.9918  


--

Summary of my perl5 (revision 5 version 27 subversion 5) configuration:
   
  Platform:
    osname=freebsd
    osvers=10.3-release-p11
    archname=amd64-freebsd
    uname='freebsd cvrsnica-freebsd-101.herceg.de 10.3-release-p11 freebsd 10.3-release-p11 #0: mon oct 24 18:49:24 utc 2016 root@amd64-builder.daemonology.net:usrobjusrsrcsysgeneric amd64 '
    config_args='-ds -e -Dprefix=/usr/perl5.27.5p -Dusedevel -Dusemallocwrap=no -Dcf_email=srezic@cpan.org -Doptimize=-O2 -pipe'
    hint=recommended
    useposix=true
    d_sigaction=define
    useithreads=undef
    usemultiplicity=undef
    use64bitint=define
    use64bitall=define
    uselongdouble=undef
    usemymalloc=n
    default_inc_excludes_dot=define
    bincompat5005=undef
  Compiler:
    cc='cc'
    ccflags ='-DHAS_FPSETMASK -DHAS_FLOATINGPOINT_H -fno-strict-aliasing -pipe -fstack-protector -I/usr/local/include -D_FORTIFY_SOURCE=2'
    optimize='-O2 -pipe'
    cppflags='-DHAS_FPSETMASK -DHAS_FLOATINGPOINT_H -fno-strict-aliasing -pipe -fstack-protector -I/usr/local/include'
    ccversion=''
    gccversion='4.2.1 Compatible FreeBSD Clang 3.4.1 (tags/RELEASE_34/dot1-final 208032)'
    gccosandvers=''
    intsize=4
    longsize=8
    ptrsize=8
    doublesize=8
    byteorder=12345678
    doublekind=3
    d_longlong=define
    longlongsize=8
    d_longdbl=define
    longdblsize=16
    longdblkind=3
    ivtype='long'
    ivsize=8
    nvtype='double'
    nvsize=8
    Off_t='off_t'
    lseeksize=8
    alignbytes=8
    prototype=define
  Linker and Libraries:
    ld='cc'
    ldflags ='-pthread -Wl,-E  -fstack-protector -L/usr/local/lib'
    libpth=/usr/lib /usr/local/lib /usr/include/clang/3.4.1 /usr/lib
    libs=-lpthread -lgdbm -lm -lcrypt -lutil -lc -lelf
    perllibs=-lpthread -lm -lcrypt -lutil -lc -lelf
    libc=
    so=so
    useshrplib=false
    libperl=libperl.a
    gnulibc_version=''
  Dynamic Linking:
    dlsrc=dl_dlopen.xs
    dlext=so
    d_dlsymun=undef
    ccdlflags=' '
    cccdlflags='-DPIC -fPIC'
    lddlflags='-shared  -L/usr/local/lib -fstack-protector'


Characteristics of this binary (from libperl): 
  Compile-time options:
    HAS_TIMES
    PERLIO_LAYERS
    PERL_COPY_ON_WRITE
    PERL_DONT_CREATE_GVSV
    PERL_OP_PARENT
    PERL_PRESERVE_IVUV
    PERL_USE_DEVEL
    USE_64_BIT_ALL
    USE_64_BIT_INT
    USE_LARGE_FILES
    USE_LOCALE
    USE_LOCALE_COLLATE
    USE_LOCALE_CTYPE
    USE_LOCALE_NUMERIC
    USE_LOCALE_TIME
    USE_PERLIO
    USE_PERL_ATOF
  Built under freebsd
  Compiled at Oct 28 2017 10:33:30
  %ENV:
    PERL5LIB=""
    PERL5OPT=""
    PERL5_CPANPLUS_IS_RUNNING="40290"
    PERL5_CPAN_IS_RUNNING="40290"
    PERL5_CPAN_IS_RUNNING_IN_RECURSION="40251,40290"
    PERLDOC="-MPod::Perldoc::ToTextOverstrike"
    PERL_BATCH="yes"
    PERL_CANARY_STABILITY_NOPROMPT="1"
    PERL_CPAN_REPORTER_CONFIG="/var/tmp/cpansmoker-1023/2017122309/cpanreporter_000_config.ini"
    PERL_EXTUTILS_AUTOINSTALL="--defaultdeps"
    PERL_USE_UNSAFE_INC="1"
  @INC:
    /usr/perl5.27.5p/lib/site_perl/5.27.5/amd64-freebsd
    /usr/perl5.27.5p/lib/site_perl/5.27.5
    /usr/perl5.27.5p/lib/5.27.5/amd64-freebsd
    /usr/perl5.27.5p/lib/5.27.5
    .