Soar-Production v0.03 Perl 5 v5.34.1 x86_64-linux

Status
Pass
From
David Solimano
Dist
Soar-Production v0.03
Platform
Perl 5 v5.34.1 x86_64-linux
Date
2023-05-18 14:08:11
ID
6c583924-f585-11ed-8012-f871d7451a7d
This distribution has been tested as part of the CPAN Testers
project, supporting the Perl programming language.  See
http://wiki.cpantesters.org/ for more information or email
questions to cpan-testers-discuss@perl.org


--
Dear Nathan Gary Glenn,

This is a computer-generated report for Soar-Production-0.03
on perl 5.34.1, created by CPAN-Reporter-1.2019.

Thank you for uploading your work to CPAN.  Congratulations!
All tests were successful.

Sections of this report:

    * Tester comments
    * Program output
    * Prerequisites
    * Environment and other context

------------------------------
TESTER COMMENTS
------------------------------

Additional comments from tester:

this report is from an automated smoke testing program
and was not reviewed by a human for accuracy

------------------------------
PROGRAM OUTPUT
------------------------------

Output from './Build test':

t/0-use.t ........................ ok
t/00-compile.t ................... ok
# 
# 
# Generated by Dist::Zilla::Plugin::ReportVersions::Tiny v1.08
# perl: 5.034001 (wanted 5.010) on linux from /home/perluser/perl5/perlbrew/perls/perl-5.34.1/bin/perl
# 
# Carp                                          => 1.52       (want any version)
# Data::Diver                                   => 1.0101     (want any version)
# Data::Dumper                                  => 2.183      (want any version)
# Exporter::Easy                                => 0.18       (want any version)
# File::Find                                    => 1.39       (want any version)
# File::Spec                                    => 3.80       (want any version)
# File::Spec::Functions                         => 3.80       (want any version)
# File::Temp                                    => 0.2311     (want any version)
# FindBin                                       => 1.52       (want any version)
# Module::Build                                 => 0.4234     (want 0.3601) 
# Parse::RecDescent                             => 1.967015   (want any version)
# Path::Tiny                                    => 0.144      (want any version)
# Pod::Coverage::TrustPod                       => module not found. (want any version)
# Test::Base                                    => 0.89       (want any version)
# Test::Base::Filter                            => <undef>    (want any version)
# Test::CPAN::Meta                              => module not found. (want any version)
# Test::Deep                                    => 1.204      (want any version)
# Test::Exception                               => 0.43       (want any version)
# Test::LongString                              => 0.17       (want any version)
# Test::More                                    => 1.302195   (want 0.88)   
# Test::Pod                                     => 1.52       (want 1.41)   
# Test::Pod::Coverage                           => 1.10       (want 1.08)   
# Test::Warn                                    => 0.37       (want any version)
# strict                                        => 1.12       (want any version)
# utf8                                          => 1.24       (want any version)
# version                                       => 0.9929     (want 0.9901) 
# warnings                                      => 1.51       (want any version)
# 
# Thanks for using my code.  I hope it works for you.
# If not, please try and include this output in the bug report.
# That will help me reproduce the issue and solve your problem.
# 
t/000-report-versions-tiny.t ..... ok
t/1-basic.t ...................... ok
t/parser/00-use.t ................ ok
t/parser/01-bad_input.t .......... ok
t/parser/01_5-comments.t ......... ok
t/parser/02-split-productions.t .. ok
t/parser/03-production-names.t ... ok
t/parser/04-documentation.t ...... ok
t/parser/05-Flags.t .............. ok
t/parser/06-State.t .............. ok
t/parser/07-variables.t .......... ok
t/parser/08-attributes.t ......... ok
t/parser/09-int.t ................ ok
t/parser/10-float.t .............. ok
t/parser/11-string.t ............. ok
t/parser/12-quoted.t ............. ok
t/parser/13-disjunct.t ........... ok
t/parser/14-conjunct.t ........... ok
t/parser/15-predicate.t .......... ok
t/parser/16-preference.t ......... ok
t/parser/17-function.t ........... ok
t/parser/18-negative.t ........... ok
t/parser/19-conjunctiveCond.t .... ok
t/parser/20-test_data.t .......... ok
t/printer/0-use.t ................ ok
t/printer/1-test_data.t .......... ok
All tests successful.
Files=28, Tests=1816, 93 wallclock secs ( 0.37 usr  0.21 sys + 89.03 cusr  3.60 csys = 93.21 CPU)
Result: PASS

------------------------------
PREREQUISITES
------------------------------

Prerequisite modules loaded:

requires:

    Module                Need   Have    
    --------------------- ------ --------
    Carp                  0      1.52    
    Data::Dumper          0      2.183   
    Exporter::Easy        0      0.18    
    Parse::RecDescent     0      1.967015
    perl                  5.010  5.034001
    strict                0      1.12    
    warnings              0      1.51    

build_requires:

    Module                Need   Have    
    --------------------- ------ --------
    Data::Diver           0      1.0101  
    File::Find            0      1.39    
    File::Spec            0      3.80    
    File::Spec::Functions 0      3.80    
    File::Temp            0      0.2311  
    FindBin               0      1.52    
    Module::Build         0.3601 0.4234  
    Path::Tiny            0      0.144   
    Test::Base            0      0.89    
    Test::Base::Filter    0      0       
    Test::Deep            0      1.204   
    Test::Exception       0      0.43    
    Test::LongString      0      0.17    
    Test::More            0.88   1.302195
    Test::Warn            0      0.37    
    utf8                  0      1.24    

configure_requires:

    Module                Need   Have    
    --------------------- ------ --------
    Module::Build         0.3601 0.4234  


------------------------------
ENVIRONMENT AND OTHER CONTEXT
------------------------------

Environment variables:

    AUTOMATED_TESTING = 1
    LANG = en_US.UTF-8
    PATH = /home/perluser/perl5/perlbrew/bin:/home/perluser/perl5/perlbrew/perls/perl-5.34.1/bin:/usr/local/bin:/usr/bin:/bin:/usr/local/games:/usr/games
    PERL5LIB = /home/perluser/.cpan/build/Test-LongString-0.17-0/blib/arch:/home/perluser/.cpan/build/Test-LongString-0.17-0/blib/lib:/home/perluser/.cpan/build/Test-Base-0.89-3/blib/arch:/home/perluser/.cpan/build/Test-Base-0.89-3/blib/lib:/home/perluser/.cpan/build/Text-Diff-1.45-7/blib/arch:/home/perluser/.cpan/build/Text-Diff-1.45-7/blib/lib:/home/perluser/.cpan/build/Spiffy-0.46-3/blib/arch:/home/perluser/.cpan/build/Spiffy-0.46-3/blib/lib:/home/perluser/.cpan/build/Algorithm-Diff-1.201-7/blib/arch:/home/perluser/.cpan/build/Algorithm-Diff-1.201-7/blib/lib:/home/perluser/.cpan/build/Parse-RecDescent-1.967015-1/blib/arch:/home/perluser/.cpan/build/Parse-RecDescent-1.967015-1/blib/lib:/home/perluser/.cpan/build/Exporter-Easy-0.18-0/blib/arch:/home/perluser/.cpan/build/Exporter-Easy-0.18-0/blib/lib:/home/perluser/.cpan/build/Data-Diver-1.0101-0/blib/arch:/home/perluser/.cpan/build/Data-Diver-1.0101-0/blib/lib
    PERL5OPT = 
    PERL5_CPANPLUS_IS_RUNNING = 15153
    PERL5_CPAN_IS_RUNNING = 15153
    PERL5_CPAN_IS_RUNNING_IN_RECURSION = 20877,15153
    PERLBREW_HOME = /home/perluser/.perlbrew
    PERLBREW_MANPATH = /home/perluser/perl5/perlbrew/perls/perl-5.34.1/man
    PERLBREW_PATH = /home/perluser/perl5/perlbrew/bin:/home/perluser/perl5/perlbrew/perls/perl-5.34.1/bin
    PERLBREW_PERL = perl-5.34.1
    PERLBREW_ROOT = /home/perluser/perl5/perlbrew
    PERLBREW_SHELLRC_VERSION = 0.96
    PERLBREW_VERSION = 0.96
    PERL_CR_SMOKER_CURRENT = Soar-Production-0.03
    PERL_EXTUTILS_AUTOINSTALL = --defaultdeps
    PERL_MM_USE_DEFAULT = 1
    PERL_USE_UNSAFE_INC = 1
    SHELL = /bin/bash
    TERM = screen

Perl special variables (and OS-specific diagnostics, for MSWin32):

    $^X = /home/perluser/perl5/perlbrew/perls/perl-5.34.1/bin/perl
    $UID/$EUID = 1001 / 1001
    $GID = 1001 1001
    $EGID = 1001 1001

Perl module toolchain versions installed:

    Module              Have    
    ------------------- --------
    CPAN                2.35    
    CPAN::Meta          2.150010
    Cwd                 3.80    
    ExtUtils::CBuilder  0.280236
    ExtUtils::Command   7.70    
    ExtUtils::Install   2.22    
    ExtUtils::MakeMaker 7.70    
    ExtUtils::Manifest  1.73    
    ExtUtils::ParseXS   3.44    
    File::Spec          3.80    
    JSON                n/a     
    JSON::PP            4.16    
    Module::Build       0.4234  
    Module::Signature   n/a     
    Parse::CPAN::Meta   2.150010
    Test2               1.302195
    Test::Harness       3.44    
    Test::More          1.302195
    YAML                n/a     
    YAML::Syck          n/a     
    version             0.9929  


--

Summary of my perl5 (revision 5 version 34 subversion 1) configuration:
   
  Platform:
    osname=linux
    osvers=4.19.0-12-amd64
    archname=x86_64-linux
    uname='linux csi-nyp-lensrv 4.19.0-12-amd64 #1 smp debian 4.19.152-1 (2020-10-18) x86_64 gnulinux '
    config_args='-de -Dprefix=/home/perluser/perl5/perlbrew/perls/perl-5.34.1 -Aeval:scriptdir=/home/perluser/perl5/perlbrew/perls/perl-5.34.1/bin'
    hint=recommended
    useposix=true
    d_sigaction=define
    useithreads=undef
    usemultiplicity=undef
    use64bitint=define
    use64bitall=define
    uselongdouble=undef
    usemymalloc=n
    default_inc_excludes_dot=define
  Compiler:
    cc='cc'
    ccflags ='-fwrapv -fno-strict-aliasing -pipe -fstack-protector-strong -I/usr/local/include -D_LARGEFILE_SOURCE -D_FILE_OFFSET_BITS=64 -D_FORTIFY_SOURCE=2'
    optimize='-O2'
    cppflags='-fwrapv -fno-strict-aliasing -pipe -fstack-protector-strong -I/usr/local/include'
    ccversion=''
    gccversion='8.3.0'
    gccosandvers=''
    intsize=4
    longsize=8
    ptrsize=8
    doublesize=8
    byteorder=12345678
    doublekind=3
    d_longlong=define
    longlongsize=8
    d_longdbl=define
    longdblsize=16
    longdblkind=3
    ivtype='long'
    ivsize=8
    nvtype='double'
    nvsize=8
    Off_t='off_t'
    lseeksize=8
    alignbytes=8
    prototype=define
  Linker and Libraries:
    ld='cc'
    ldflags =' -fstack-protector-strong -L/usr/local/lib'
    libpth=/usr/local/lib /usr/lib/x86_64-linux-gnu /usr/lib /lib/x86_64-linux-gnu /lib
    libs=-lpthread -lnsl -ldl -lm -lcrypt -lutil -lc
    perllibs=-lpthread -lnsl -ldl -lm -lcrypt -lutil -lc
    libc=libc-2.28.so
    so=so
    useshrplib=false
    libperl=libperl.a
    gnulibc_version='2.28'
  Dynamic Linking:
    dlsrc=dl_dlopen.xs
    dlext=so
    d_dlsymun=undef
    ccdlflags='-Wl,-E'
    cccdlflags='-fPIC'
    lddlflags='-shared -O2 -L/usr/local/lib -fstack-protector-strong'


Characteristics of this binary (from libperl): 
  Compile-time options:
    HAS_TIMES
    PERLIO_LAYERS
    PERL_COPY_ON_WRITE
    PERL_DONT_CREATE_GVSV
    PERL_MALLOC_WRAP
    PERL_OP_PARENT
    PERL_PRESERVE_IVUV
    USE_64_BIT_ALL
    USE_64_BIT_INT
    USE_LARGE_FILES
    USE_LOCALE
    USE_LOCALE_COLLATE
    USE_LOCALE_CTYPE
    USE_LOCALE_NUMERIC
    USE_LOCALE_TIME
    USE_PERLIO
    USE_PERL_ATOF
  Built under linux
  Compiled at Dec 20 2022 22:02:38
  %ENV:
    PERL5LIB="/home/perluser/.cpan/build/Test-LongString-0.17-0/blib/arch:/home/perluser/.cpan/build/Test-LongString-0.17-0/blib/lib:/home/perluser/.cpan/build/Test-Base-0.89-3/blib/arch:/home/perluser/.cpan/build/Test-Base-0.89-3/blib/lib:/home/perluser/.cpan/build/Text-Diff-1.45-7/blib/arch:/home/perluser/.cpan/build/Text-Diff-1.45-7/blib/lib:/home/perluser/.cpan/build/Spiffy-0.46-3/blib/arch:/home/perluser/.cpan/build/Spiffy-0.46-3/blib/lib:/home/perluser/.cpan/build/Algorithm-Diff-1.201-7/blib/arch:/home/perluser/.cpan/build/Algorithm-Diff-1.201-7/blib/lib:/home/perluser/.cpan/build/Parse-RecDescent-1.967015-1/blib/arch:/home/perluser/.cpan/build/Parse-RecDescent-1.967015-1/blib/lib:/home/perluser/.cpan/build/Exporter-Easy-0.18-0/blib/arch:/home/perluser/.cpan/build/Exporter-Easy-0.18-0/blib/lib:/home/perluser/.cpan/build/Data-Diver-1.0101-0/blib/arch:/home/perluser/.cpan/build/Data-Diver-1.0101-0/blib/lib"
    PERL5OPT=""
    PERL5_CPANPLUS_IS_RUNNING="15153"
    PERL5_CPAN_IS_RUNNING="15153"
    PERL5_CPAN_IS_RUNNING_IN_RECURSION="20877,15153"
    PERLBREW_HOME="/home/perluser/.perlbrew"
    PERLBREW_MANPATH="/home/perluser/perl5/perlbrew/perls/perl-5.34.1/man"
    PERLBREW_PATH="/home/perluser/perl5/perlbrew/bin:/home/perluser/perl5/perlbrew/perls/perl-5.34.1/bin"
    PERLBREW_PERL="perl-5.34.1"
    PERLBREW_ROOT="/home/perluser/perl5/perlbrew"
    PERLBREW_SHELLRC_VERSION="0.96"
    PERLBREW_VERSION="0.96"
    PERL_CR_SMOKER_CURRENT="Soar-Production-0.03"
    PERL_EXTUTILS_AUTOINSTALL="--defaultdeps"
    PERL_MM_USE_DEFAULT="1"
    PERL_USE_UNSAFE_INC="1"
  @INC:
    /home/perluser/.cpan/build/Test-LongString-0.17-0/blib/arch
    /home/perluser/.cpan/build/Test-LongString-0.17-0/blib/lib
    /home/perluser/.cpan/build/Test-Base-0.89-3/blib/arch
    /home/perluser/.cpan/build/Test-Base-0.89-3/blib/lib
    /home/perluser/.cpan/build/Text-Diff-1.45-7/blib/arch
    /home/perluser/.cpan/build/Text-Diff-1.45-7/blib/lib
    /home/perluser/.cpan/build/Spiffy-0.46-3/blib/arch
    /home/perluser/.cpan/build/Spiffy-0.46-3/blib/lib
    /home/perluser/.cpan/build/Algorithm-Diff-1.201-7/blib/arch
    /home/perluser/.cpan/build/Algorithm-Diff-1.201-7/blib/lib
    /home/perluser/.cpan/build/Parse-RecDescent-1.967015-1/blib/arch
    /home/perluser/.cpan/build/Parse-RecDescent-1.967015-1/blib/lib
    /home/perluser/.cpan/build/Exporter-Easy-0.18-0/blib/arch
    /home/perluser/.cpan/build/Exporter-Easy-0.18-0/blib/lib
    /home/perluser/.cpan/build/Data-Diver-1.0101-0/blib/arch
    /home/perluser/.cpan/build/Data-Diver-1.0101-0/blib/lib
    /home/perluser/perl5/perlbrew/perls/perl-5.34.1/lib/site_perl/5.34.1/x86_64-linux
    /home/perluser/perl5/perlbrew/perls/perl-5.34.1/lib/site_perl/5.34.1
    /home/perluser/perl5/perlbrew/perls/perl-5.34.1/lib/5.34.1/x86_64-linux
    /home/perluser/perl5/perlbrew/perls/perl-5.34.1/lib/5.34.1
    .