CPP-panda-lib v1.3.1 Perl 5 v5.28.2 x86_64-linux-thread-multi
- Status
- Pass
- From
- Slaven Rezić (SREZIC)
- Dist
-
CPP-panda-lib v1.3.1
- Platform
- Perl 5 v5.28.2 x86_64-linux-thread-multi
- Date
- 2019-12-30 22:12:09
- ID
- 6c58daa2-2b51-11ea-a751-e3191f24ea8f
This distribution has been tested as part of the CPAN Testers
project, supporting the Perl programming language. See
http://wiki.cpantesters.org/ for more information or email
questions to cpan-testers-discuss@perl.org
--
Dear Oleg Pronin,
This is a computer-generated report for CPP-panda-lib-1.3.1
on perl 5.28.2, created by CPAN-Reporter-1.2018.
Thank you for uploading your work to CPAN. Congratulations!
All tests were successful.
Sections of this report:
* Tester comments
* Program output
* Prerequisites
* Environment and other context
------------------------------
TESTER COMMENTS
------------------------------
Additional comments from tester:
none provided
------------------------------
PROGRAM OUTPUT
------------------------------
Output from '/usr/bin/make test':
"/opt/perl-5.28.2t/bin/perl" -MExtUtils::Command::MM -e 'cp_nonempty' -- lib.bs blib/arch/auto/CPP/panda/lib/lib.bs 644
c++ -c -Isrc -I/home/cpansand/.cpan/build/2019123022/XS-Install-1.2.12-5/blib/lib/XS/Install.x/i -I/home/cpansand/.cpan/build/2019123022/CPP-catch-1.0.8-3/blib/lib/CPP/catch.x/i -D_REENTRANT -D_GNU_SOURCE -fwrapv -fno-strict-aliasing -pipe -fstack-protector-strong -I/usr/local/include -D_LARGEFILE_SOURCE -D_FILE_OFFSET_BITS=64 -Wall -Wextra -std=c++14 -o t/bench.o -O0 -DVERSION=\"0.0.0\" -DXS_VERSION=\"0.0.0\" -fPIC "-I/opt/perl-5.28.2t/lib/5.28.2/x86_64-linux-thread-multi/CORE" t/bench.cc
c++ -c -Isrc -I/home/cpansand/.cpan/build/2019123022/XS-Install-1.2.12-5/blib/lib/XS/Install.x/i -I/home/cpansand/.cpan/build/2019123022/CPP-catch-1.0.8-3/blib/lib/CPP/catch.x/i -D_REENTRANT -D_GNU_SOURCE -fwrapv -fno-strict-aliasing -pipe -fstack-protector-strong -I/usr/local/include -D_LARGEFILE_SOURCE -D_FILE_OFFSET_BITS=64 -Wall -Wextra -std=c++14 -o t/dispatcher.o -O0 -DVERSION=\"0.0.0\" -DXS_VERSION=\"0.0.0\" -fPIC "-I/opt/perl-5.28.2t/lib/5.28.2/x86_64-linux-thread-multi/CORE" t/dispatcher.cc
c++ -c -Isrc -I/home/cpansand/.cpan/build/2019123022/XS-Install-1.2.12-5/blib/lib/XS/Install.x/i -I/home/cpansand/.cpan/build/2019123022/CPP-catch-1.0.8-3/blib/lib/CPP/catch.x/i -D_REENTRANT -D_GNU_SOURCE -fwrapv -fno-strict-aliasing -pipe -fstack-protector-strong -I/usr/local/include -D_LARGEFILE_SOURCE -D_FILE_OFFSET_BITS=64 -Wall -Wextra -std=c++14 -o t/endian.o -O0 -DVERSION=\"0.0.0\" -DXS_VERSION=\"0.0.0\" -fPIC "-I/opt/perl-5.28.2t/lib/5.28.2/x86_64-linux-thread-multi/CORE" t/endian.cc
c++ -c -Isrc -I/home/cpansand/.cpan/build/2019123022/XS-Install-1.2.12-5/blib/lib/XS/Install.x/i -I/home/cpansand/.cpan/build/2019123022/CPP-catch-1.0.8-3/blib/lib/CPP/catch.x/i -D_REENTRANT -D_GNU_SOURCE -fwrapv -fno-strict-aliasing -pipe -fstack-protector-strong -I/usr/local/include -D_LARGEFILE_SOURCE -D_FILE_OFFSET_BITS=64 -Wall -Wextra -std=c++14 -o t/error.o -O0 -DVERSION=\"0.0.0\" -DXS_VERSION=\"0.0.0\" -fPIC "-I/opt/perl-5.28.2t/lib/5.28.2/x86_64-linux-thread-multi/CORE" t/error.cc
c++ -c -Isrc -I/home/cpansand/.cpan/build/2019123022/XS-Install-1.2.12-5/blib/lib/XS/Install.x/i -I/home/cpansand/.cpan/build/2019123022/CPP-catch-1.0.8-3/blib/lib/CPP/catch.x/i -D_REENTRANT -D_GNU_SOURCE -fwrapv -fno-strict-aliasing -pipe -fstack-protector-strong -I/usr/local/include -D_LARGEFILE_SOURCE -D_FILE_OFFSET_BITS=64 -Wall -Wextra -std=c++14 -o t/excepted.o -O0 -DVERSION=\"0.0.0\" -DXS_VERSION=\"0.0.0\" -fPIC "-I/opt/perl-5.28.2t/lib/5.28.2/x86_64-linux-thread-multi/CORE" t/excepted.cc
c++ -c -Isrc -I/home/cpansand/.cpan/build/2019123022/XS-Install-1.2.12-5/blib/lib/XS/Install.x/i -I/home/cpansand/.cpan/build/2019123022/CPP-catch-1.0.8-3/blib/lib/CPP/catch.x/i -D_REENTRANT -D_GNU_SOURCE -fwrapv -fno-strict-aliasing -pipe -fstack-protector-strong -I/usr/local/include -D_LARGEFILE_SOURCE -D_FILE_OFFSET_BITS=64 -Wall -Wextra -std=c++14 -o t/exception.o -O0 -DVERSION=\"0.0.0\" -DXS_VERSION=\"0.0.0\" -fPIC "-I/opt/perl-5.28.2t/lib/5.28.2/x86_64-linux-thread-multi/CORE" t/exception.cc
c++ -c -Isrc -I/home/cpansand/.cpan/build/2019123022/XS-Install-1.2.12-5/blib/lib/XS/Install.x/i -I/home/cpansand/.cpan/build/2019123022/CPP-catch-1.0.8-3/blib/lib/CPP/catch.x/i -D_REENTRANT -D_GNU_SOURCE -fwrapv -fno-strict-aliasing -pipe -fstack-protector-strong -I/usr/local/include -D_LARGEFILE_SOURCE -D_FILE_OFFSET_BITS=64 -Wall -Wextra -std=c++14 -o t/from_chars.o -O0 -DVERSION=\"0.0.0\" -DXS_VERSION=\"0.0.0\" -fPIC "-I/opt/perl-5.28.2t/lib/5.28.2/x86_64-linux-thread-multi/CORE" t/from_chars.cc
c++ -c -Isrc -I/home/cpansand/.cpan/build/2019123022/XS-Install-1.2.12-5/blib/lib/XS/Install.x/i -I/home/cpansand/.cpan/build/2019123022/CPP-catch-1.0.8-3/blib/lib/CPP/catch.x/i -D_REENTRANT -D_GNU_SOURCE -fwrapv -fno-strict-aliasing -pipe -fstack-protector-strong -I/usr/local/include -D_LARGEFILE_SOURCE -D_FILE_OFFSET_BITS=64 -Wall -Wextra -std=c++14 -o t/function.o -O0 -DVERSION=\"0.0.0\" -DXS_VERSION=\"0.0.0\" -fPIC "-I/opt/perl-5.28.2t/lib/5.28.2/x86_64-linux-thread-multi/CORE" t/function.cc
c++ -c -Isrc -I/home/cpansand/.cpan/build/2019123022/XS-Install-1.2.12-5/blib/lib/XS/Install.x/i -I/home/cpansand/.cpan/build/2019123022/CPP-catch-1.0.8-3/blib/lib/CPP/catch.x/i -D_REENTRANT -D_GNU_SOURCE -fwrapv -fno-strict-aliasing -pipe -fstack-protector-strong -I/usr/local/include -D_LARGEFILE_SOURCE -D_FILE_OFFSET_BITS=64 -Wall -Wextra -std=c++14 -o t/intrusive_chain.o -O0 -DVERSION=\"0.0.0\" -DXS_VERSION=\"0.0.0\" -fPIC "-I/opt/perl-5.28.2t/lib/5.28.2/x86_64-linux-thread-multi/CORE" t/intrusive_chain.cc
t/intrusive_chain.cc: In instantiation of âÂÂstatic void Test<T>::check_content(Test<T>::CIt, Test<T>::CIt, const T&, Args&& ...) [with Args = {}; T = MyPtr*; Test<T>::CIt = panda::IntrusiveChainIterator<MyPtr*>]âÂÂ:
t/intrusive_chain.cc:49:22: required from âÂÂstatic void Test<T>::check_content(const IC&, Args&& ...) [with Args = {MyPtr*&}; T = MyPtr*; Test<T>::IC = panda::IntrusiveChain<MyPtr*>]âÂÂ
t/intrusive_chain.cc:71:26: required from âÂÂstatic void Test<T>::test(panda::function<T()>) [with T = MyPtr*]âÂÂ
t/intrusive_chain.cc:265:19: required from here
t/intrusive_chain.cc:43:22: warning: implicitly-declared âÂÂconstexpr panda::IntrusiveChainIterator<MyPtr*>::IntrusiveChainIterator(const panda::IntrusiveChainIterator<MyPtr*>&)â is deprecated [-Wdeprecated-copy]
43 | check_content(begin, end, rest...);
| ~~~~~~~~~~~~~^~~~~~~~~~~~~~~~~~~~~
In file included from t/intrusive_chain.cc:4:
src/panda/intrusive_chain.h:76:29: note: because âÂÂpanda::IntrusiveChainIterator<MyPtr*>â has user-provided âÂÂpanda::IntrusiveChainIterator<T>& panda::IntrusiveChainIterator<T>::operator=(const panda::IntrusiveChainIterator<T>&) [with T = MyPtr*]âÂÂ
76 | IntrusiveChainIterator& operator= (const IntrusiveChainIterator& oth) {
| ^~~~~~~~
t/intrusive_chain.cc:34:36: note: initializing argument 1 of âÂÂstatic void Test<T>::check_content(Test<T>::CIt, Test<T>::CIt) [with T = MyPtr*; Test<T>::CIt = panda::IntrusiveChainIterator<MyPtr*>]âÂÂ
34 | static void check_content (CIt begin, CIt end) {
| ~~~~^~~~~
t/intrusive_chain.cc:43:22: warning: implicitly-declared âÂÂconstexpr panda::IntrusiveChainIterator<MyPtr*>::IntrusiveChainIterator(const panda::IntrusiveChainIterator<MyPtr*>&)â is deprecated [-Wdeprecated-copy]
43 | check_content(begin, end, rest...);
| ~~~~~~~~~~~~~^~~~~~~~~~~~~~~~~~~~~
In file included from t/intrusive_chain.cc:4:
src/panda/intrusive_chain.h:76:29: note: because âÂÂpanda::IntrusiveChainIterator<MyPtr*>â has user-provided âÂÂpanda::IntrusiveChainIterator<T>& panda::IntrusiveChainIterator<T>::operator=(const panda::IntrusiveChainIterator<T>&) [with T = MyPtr*]âÂÂ
76 | IntrusiveChainIterator& operator= (const IntrusiveChainIterator& oth) {
| ^~~~~~~~
t/intrusive_chain.cc:34:47: note: initializing argument 2 of âÂÂstatic void Test<T>::check_content(Test<T>::CIt, Test<T>::CIt) [with T = MyPtr*; Test<T>::CIt = panda::IntrusiveChainIterator<MyPtr*>]âÂÂ
34 | static void check_content (CIt begin, CIt end) {
| ~~~~^~~
t/intrusive_chain.cc: In instantiation of âÂÂstatic void Test<T>::check_content(Test<T>::CIt, Test<T>::CIt, const T&, Args&& ...) [with Args = {MyPtr*&}; T = MyPtr*; Test<T>::CIt = panda::IntrusiveChainIterator<MyPtr*>]âÂÂ:
t/intrusive_chain.cc:49:22: required from âÂÂstatic void Test<T>::check_content(const IC&, Args&& ...) [with Args = {MyPtr*&, MyPtr*&}; T = MyPtr*; Test<T>::IC = panda::IntrusiveChain<MyPtr*>]âÂÂ
t/intrusive_chain.cc:73:26: required from âÂÂstatic void Test<T>::test(panda::function<T()>) [with T = MyPtr*]âÂÂ
t/intrusive_chain.cc:265:19: required from here
t/intrusive_chain.cc:43:22: warning: implicitly-declared âÂÂconstexpr panda::IntrusiveChainIterator<MyPtr*>::IntrusiveChainIterator(const panda::IntrusiveChainIterator<MyPtr*>&)â is deprecated [-Wdeprecated-copy]
43 | check_content(begin, end, rest...);
| ~~~~~~~~~~~~~^~~~~~~~~~~~~~~~~~~~~
In file included from t/intrusive_chain.cc:4:
src/panda/intrusive_chain.h:76:29: note: because âÂÂpanda::IntrusiveChainIterator<MyPtr*>â has user-provided âÂÂpanda::IntrusiveChainIterator<T>& panda::IntrusiveChainIterator<T>::operator=(const panda::IntrusiveChainIterator<T>&) [with T = MyPtr*]âÂÂ
76 | IntrusiveChainIterator& operator= (const IntrusiveChainIterator& oth) {
| ^~~~~~~~
t/intrusive_chain.cc:39:36: note: initializing argument 1 of âÂÂstatic void Test<T>::check_content(Test<T>::CIt, Test<T>::CIt, const T&, Args&& ...) [with Args = {}; T = MyPtr*; Test<T>::CIt = panda::IntrusiveChainIterator<MyPtr*>]âÂÂ
39 | static void check_content (CIt begin, CIt end, const T& v, Args&&... rest) {
| ~~~~^~~~~
t/intrusive_chain.cc:43:22: warning: implicitly-declared âÂÂconstexpr panda::IntrusiveChainIterator<MyPtr*>::IntrusiveChainIterator(const panda::IntrusiveChainIterator<MyPtr*>&)â is deprecated [-Wdeprecated-copy]
43 | check_content(begin, end, rest...);
| ~~~~~~~~~~~~~^~~~~~~~~~~~~~~~~~~~~
In file included from t/intrusive_chain.cc:4:
src/panda/intrusive_chain.h:76:29: note: because âÂÂpanda::IntrusiveChainIterator<MyPtr*>â has user-provided âÂÂpanda::IntrusiveChainIterator<T>& panda::IntrusiveChainIterator<T>::operator=(const panda::IntrusiveChainIterator<T>&) [with T = MyPtr*]âÂÂ
76 | IntrusiveChainIterator& operator= (const IntrusiveChainIterator& oth) {
| ^~~~~~~~
t/intrusive_chain.cc:39:47: note: initializing argument 2 of âÂÂstatic void Test<T>::check_content(Test<T>::CIt, Test<T>::CIt, const T&, Args&& ...) [with Args = {}; T = MyPtr*; Test<T>::CIt = panda::IntrusiveChainIterator<MyPtr*>]âÂÂ
39 | static void check_content (CIt begin, CIt end, const T& v, Args&&... rest) {
| ~~~~^~~
t/intrusive_chain.cc: In instantiation of âÂÂstatic void Test<T>::check_content(Test<T>::CIt, Test<T>::CIt, const T&, Args&& ...) [with Args = {MyPtr*&, MyPtr*&}; T = MyPtr*; Test<T>::CIt = panda::IntrusiveChainIterator<MyPtr*>]âÂÂ:
t/intrusive_chain.cc:49:22: required from âÂÂstatic void Test<T>::check_content(const IC&, Args&& ...) [with Args = {MyPtr*&, MyPtr*&, MyPtr*&}; T = MyPtr*; Test<T>::IC = panda::IntrusiveChain<MyPtr*>]âÂÂ
t/intrusive_chain.cc:86:26: required from âÂÂstatic void Test<T>::test(panda::function<T()>) [with T = MyPtr*]âÂÂ
t/intrusive_chain.cc:265:19: required from here
t/intrusive_chain.cc:43:22: warning: implicitly-declared âÂÂconstexpr panda::IntrusiveChainIterator<MyPtr*>::IntrusiveChainIterator(const panda::IntrusiveChainIterator<MyPtr*>&)â is deprecated [-Wdeprecated-copy]
43 | check_content(begin, end, rest...);
| ~~~~~~~~~~~~~^~~~~~~~~~~~~~~~~~~~~
In file included from t/intrusive_chain.cc:4:
src/panda/intrusive_chain.h:76:29: note: because âÂÂpanda::IntrusiveChainIterator<MyPtr*>â has user-provided âÂÂpanda::IntrusiveChainIterator<T>& panda::IntrusiveChainIterator<T>::operator=(const panda::IntrusiveChainIterator<T>&) [with T = MyPtr*]âÂÂ
76 | IntrusiveChainIterator& operator= (const IntrusiveChainIterator& oth) {
| ^~~~~~~~
t/intrusive_chain.cc:39:36: note: initializing argument 1 of âÂÂstatic void Test<T>::check_content(Test<T>::CIt, Test<T>::CIt, const T&, Args&& ...) [with Args = {MyPtr*&}; T = MyPtr*; Test<T>::CIt = panda::IntrusiveChainIterator<MyPtr*>]âÂÂ
39 | static void check_content (CIt begin, CIt end, const T& v, Args&&... rest) {
| ~~~~^~~~~
t/intrusive_chain.cc:43:22: warning: implicitly-declared âÂÂconstexpr panda::IntrusiveChainIterator<MyPtr*>::IntrusiveChainIterator(const panda::IntrusiveChainIterator<MyPtr*>&)â is deprecated [-Wdeprecated-copy]
43 | check_content(begin, end, rest...);
| ~~~~~~~~~~~~~^~~~~~~~~~~~~~~~~~~~~
In file included from t/intrusive_chain.cc:4:
src/panda/intrusive_chain.h:76:29: note: because âÂÂpanda::IntrusiveChainIterator<MyPtr*>â has user-provided âÂÂpanda::IntrusiveChainIterator<T>& panda::IntrusiveChainIterator<T>::operator=(const panda::IntrusiveChainIterator<T>&) [with T = MyPtr*]âÂÂ
76 | IntrusiveChainIterator& operator= (const IntrusiveChainIterator& oth) {
| ^~~~~~~~
t/intrusive_chain.cc:39:47: note: initializing argument 2 of âÂÂstatic void Test<T>::check_content(Test<T>::CIt, Test<T>::CIt, const T&, Args&& ...) [with Args = {MyPtr*&}; T = MyPtr*; Test<T>::CIt = panda::IntrusiveChainIterator<MyPtr*>]âÂÂ
39 | static void check_content (CIt begin, CIt end, const T& v, Args&&... rest) {
| ~~~~^~~
t/intrusive_chain.cc: In instantiation of âÂÂstatic void Test<T>::check_content(Test<T>::CIt, Test<T>::CIt, const T&, Args&& ...) [with Args = {MyPtr*&, MyPtr*&, MyPtr*&}; T = MyPtr*; Test<T>::CIt = panda::IntrusiveChainIterator<MyPtr*>]âÂÂ:
t/intrusive_chain.cc:49:22: required from âÂÂstatic void Test<T>::check_content(const IC&, Args&& ...) [with Args = {MyPtr*&, MyPtr*&, MyPtr*&, MyPtr*&}; T = MyPtr*; Test<T>::IC = panda::IntrusiveChain<MyPtr*>]âÂÂ
t/intrusive_chain.cc:131:26: required from âÂÂstatic void Test<T>::test(panda::function<T()>) [with T = MyPtr*]âÂÂ
t/intrusive_chain.cc:265:19: required from here
t/intrusive_chain.cc:43:22: warning: implicitly-declared âÂÂconstexpr panda::IntrusiveChainIterator<MyPtr*>::IntrusiveChainIterator(const panda::IntrusiveChainIterator<MyPtr*>&)â is deprecated [-Wdeprecated-copy]
43 | check_content(begin, end, rest...);
| ~~~~~~~~~~~~~^~~~~~~~~~~~~~~~~~~~~
In file included from t/intrusive_chain.cc:4:
src/panda/intrusive_chain.h:76:29: note: because âÂÂpanda::IntrusiveChainIterator<MyPtr*>â has user-provided âÂÂpanda::IntrusiveChainIterator<T>& panda::IntrusiveChainIterator<T>::operator=(const panda::IntrusiveChainIterator<T>&) [with T = MyPtr*]âÂÂ
76 | IntrusiveChainIterator& operator= (const IntrusiveChainIterator& oth) {
| ^~~~~~~~
t/intrusive_chain.cc:39:36: note: initializing argument 1 of âÂÂstatic void Test<T>::check_content(Test<T>::CIt, Test<T>::CIt, const T&, Args&& ...) [with Args = {MyPtr*&, MyPtr*&}; T = MyPtr*; Test<T>::CIt = panda::IntrusiveChainIterator<MyPtr*>]âÂÂ
39 | static void check_content (CIt begin, CIt end, const T& v, Args&&... rest) {
| ~~~~^~~~~
t/intrusive_chain.cc:43:22: warning: implicitly-declared âÂÂconstexpr panda::IntrusiveChainIterator<MyPtr*>::IntrusiveChainIterator(const panda::IntrusiveChainIterator<MyPtr*>&)â is deprecated [-Wdeprecated-copy]
43 | check_content(begin, end, rest...);
| ~~~~~~~~~~~~~^~~~~~~~~~~~~~~~~~~~~
In file included from t/intrusive_chain.cc:4:
src/panda/intrusive_chain.h:76:29: note: because âÂÂpanda::IntrusiveChainIterator<MyPtr*>â has user-provided âÂÂpanda::IntrusiveChainIterator<T>& panda::IntrusiveChainIterator<T>::operator=(const panda::IntrusiveChainIterator<T>&) [with T = MyPtr*]âÂÂ
76 | IntrusiveChainIterator& operator= (const IntrusiveChainIterator& oth) {
| ^~~~~~~~
t/intrusive_chain.cc:39:47: note: initializing argument 2 of âÂÂstatic void Test<T>::check_content(Test<T>::CIt, Test<T>::CIt, const T&, Args&& ...) [with Args = {MyPtr*&, MyPtr*&}; T = MyPtr*; Test<T>::CIt = panda::IntrusiveChainIterator<MyPtr*>]âÂÂ
39 | static void check_content (CIt begin, CIt end, const T& v, Args&&... rest) {
| ~~~~^~~
t/intrusive_chain.cc: In instantiation of âÂÂstatic void Test<T>::check_content(Test<T>::CIt, Test<T>::CIt, const T&, Args&& ...) [with Args = {MyPtr*&, MyPtr*&, MyPtr*&, MyPtr*&}; T = MyPtr*; Test<T>::CIt = panda::IntrusiveChainIterator<MyPtr*>]âÂÂ:
t/intrusive_chain.cc:49:22: required from âÂÂstatic void Test<T>::check_content(const IC&, Args&& ...) [with Args = {MyPtr*&, MyPtr*&, MyPtr*&, MyPtr*&, MyPtr*&}; T = MyPtr*; Test<T>::IC = panda::IntrusiveChain<MyPtr*>]âÂÂ
t/intrusive_chain.cc:135:26: required from âÂÂstatic void Test<T>::test(panda::function<T()>) [with T = MyPtr*]âÂÂ
t/intrusive_chain.cc:265:19: required from here
t/intrusive_chain.cc:43:22: warning: implicitly-declared âÂÂconstexpr panda::IntrusiveChainIterator<MyPtr*>::IntrusiveChainIterator(const panda::IntrusiveChainIterator<MyPtr*>&)â is deprecated [-Wdeprecated-copy]
43 | check_content(begin, end, rest...);
| ~~~~~~~~~~~~~^~~~~~~~~~~~~~~~~~~~~
In file included from t/intrusive_chain.cc:4:
src/panda/intrusive_chain.h:76:29: note: because âÂÂpanda::IntrusiveChainIterator<MyPtr*>â has user-provided âÂÂpanda::IntrusiveChainIterator<T>& panda::IntrusiveChainIterator<T>::operator=(const panda::IntrusiveChainIterator<T>&) [with T = MyPtr*]âÂÂ
76 | IntrusiveChainIterator& operator= (const IntrusiveChainIterator& oth) {
| ^~~~~~~~
t/intrusive_chain.cc:39:36: note: initializing argument 1 of âÂÂstatic void Test<T>::check_content(Test<T>::CIt, Test<T>::CIt, const T&, Args&& ...) [with Args = {MyPtr*&, MyPtr*&, MyPtr*&}; T = MyPtr*; Test<T>::CIt = panda::IntrusiveChainIterator<MyPtr*>]âÂÂ
39 | static void check_content (CIt begin, CIt end, const T& v, Args&&... rest) {
| ~~~~^~~~~
t/intrusive_chain.cc:43:22: warning: implicitly-declared âÂÂconstexpr panda::IntrusiveChainIterator<MyPtr*>::IntrusiveChainIterator(const panda::IntrusiveChainIterator<MyPtr*>&)â is deprecated [-Wdeprecated-copy]
43 | check_content(begin, end, rest...);
| ~~~~~~~~~~~~~^~~~~~~~~~~~~~~~~~~~~
In file included from t/intrusive_chain.cc:4:
src/panda/intrusive_chain.h:76:29: note: because âÂÂpanda::IntrusiveChainIterator<MyPtr*>â has user-provided âÂÂpanda::IntrusiveChainIterator<T>& panda::IntrusiveChainIterator<T>::operator=(const panda::IntrusiveChainIterator<T>&) [with T = MyPtr*]âÂÂ
76 | IntrusiveChainIterator& operator= (const IntrusiveChainIterator& oth) {
| ^~~~~~~~
t/intrusive_chain.cc:39:47: note: initializing argument 2 of âÂÂstatic void Test<T>::check_content(Test<T>::CIt, Test<T>::CIt, const T&, Args&& ...) [with Args = {MyPtr*&, MyPtr*&, MyPtr*&}; T = MyPtr*; Test<T>::CIt = panda::IntrusiveChainIterator<MyPtr*>]âÂÂ
39 | static void check_content (CIt begin, CIt end, const T& v, Args&&... rest) {
| ~~~~^~~
t/intrusive_chain.cc: In instantiation of âÂÂstatic void Test<T>::check_content(Test<T>::CIt, Test<T>::CIt, const T&, Args&& ...) [with Args = {MyPtr*&, MyPtr*&, MyPtr*&, MyPtr*&, MyPtr*&}; T = MyPtr*; Test<T>::CIt = panda::IntrusiveChainIterator<MyPtr*>]âÂÂ:
t/intrusive_chain.cc:49:22: required from âÂÂstatic void Test<T>::check_content(const IC&, Args&& ...) [with Args = {MyPtr*&, MyPtr*&, MyPtr*&, MyPtr*&, MyPtr*&, MyPtr*&}; T = MyPtr*; Test<T>::IC = panda::IntrusiveChain<MyPtr*>]âÂÂ
t/intrusive_chain.cc:138:26: required from âÂÂstatic void Test<T>::test(panda::function<T()>) [with T = MyPtr*]âÂÂ
t/intrusive_chain.cc:265:19: required from here
t/intrusive_chain.cc:43:22: warning: implicitly-declared âÂÂconstexpr panda::IntrusiveChainIterator<MyPtr*>::IntrusiveChainIterator(const panda::IntrusiveChainIterator<MyPtr*>&)â is deprecated [-Wdeprecated-copy]
43 | check_content(begin, end, rest...);
| ~~~~~~~~~~~~~^~~~~~~~~~~~~~~~~~~~~
In file included from t/intrusive_chain.cc:4:
src/panda/intrusive_chain.h:76:29: note: because âÂÂpanda::IntrusiveChainIterator<MyPtr*>â has user-provided âÂÂpanda::IntrusiveChainIterator<T>& panda::IntrusiveChainIterator<T>::operator=(const panda::IntrusiveChainIterator<T>&) [with T = MyPtr*]âÂÂ
76 | IntrusiveChainIterator& operator= (const IntrusiveChainIterator& oth) {
| ^~~~~~~~
t/intrusive_chain.cc:39:36: note: initializing argument 1 of âÂÂstatic void Test<T>::check_content(Test<T>::CIt, Test<T>::CIt, const T&, Args&& ...) [with Args = {MyPtr*&, MyPtr*&, MyPtr*&, MyPtr*&}; T = MyPtr*; Test<T>::CIt = panda::IntrusiveChainIterator<MyPtr*>]âÂÂ
39 | static void check_content (CIt begin, CIt end, const T& v, Args&&... rest) {
| ~~~~^~~~~
t/intrusive_chain.cc:43:22: warning: implicitly-declared âÂÂconstexpr panda::IntrusiveChainIterator<MyPtr*>::IntrusiveChainIterator(const panda::IntrusiveChainIterator<MyPtr*>&)â is deprecated [-Wdeprecated-copy]
43 | check_content(begin, end, rest...);
| ~~~~~~~~~~~~~^~~~~~~~~~~~~~~~~~~~~
In file included from t/intrusive_chain.cc:4:
src/panda/intrusive_chain.h:76:29: note: because âÂÂpanda::IntrusiveChainIterator<MyPtr*>â has user-provided âÂÂpanda::IntrusiveChainIterator<T>& panda::IntrusiveChainIterator<T>::operator=(const panda::IntrusiveChainIterator<T>&) [with T = MyPtr*]âÂÂ
76 | IntrusiveChainIterator& operator= (const IntrusiveChainIterator& oth) {
| ^~~~~~~~
t/intrusive_chain.cc:39:47: note: initializing argument 2 of âÂÂstatic void Test<T>::check_content(Test<T>::CIt, Test<T>::CIt, const T&, Args&& ...) [with Args = {MyPtr*&, MyPtr*&, MyPtr*&, MyPtr*&}; T = MyPtr*; Test<T>::CIt = panda::IntrusiveChainIterator<MyPtr*>]âÂÂ
39 | static void check_content (CIt begin, CIt end, const T& v, Args&&... rest) {
| ~~~~^~~
t/intrusive_chain.cc: In instantiation of âÂÂstatic void Test<T>::check_content(Test<T>::CIt, Test<T>::CIt, const T&, Args&& ...) [with Args = {MyPtr*&, MyPtr*&, MyPtr*&, MyPtr*&, MyPtr*&, MyPtr*&}; T = MyPtr*; Test<T>::CIt = panda::IntrusiveChainIterator<MyPtr*>]âÂÂ:
t/intrusive_chain.cc:49:22: required from âÂÂstatic void Test<T>::check_content(const IC&, Args&& ...) [with Args = {MyPtr*&, MyPtr*&, MyPtr*&, MyPtr*&, MyPtr*&, MyPtr*&, MyPtr*&}; T = MyPtr*; Test<T>::IC = panda::IntrusiveChain<MyPtr*>]âÂÂ
t/intrusive_chain.cc:141:26: required from âÂÂstatic void Test<T>::test(panda::function<T()>) [with T = MyPtr*]âÂÂ
t/intrusive_chain.cc:265:19: required from here
t/intrusive_chain.cc:43:22: warning: implicitly-declared âÂÂconstexpr panda::IntrusiveChainIterator<MyPtr*>::IntrusiveChainIterator(const panda::IntrusiveChainIterator<MyPtr*>&)â is deprecated [-Wdeprecated-copy]
43 | check_content(begin, end, rest...);
| ~~~~~~~~~~~~~^~~~~~~~~~~~~~~~~~~~~
In file included from t/intrusive_chain.cc:4:
src/panda/intrusive_chain.h:76:29: note: because âÂÂpanda::IntrusiveChainIterator<MyPtr*>â has user-provided âÂÂpanda::IntrusiveChainIterator<T>& panda::IntrusiveChainIterator<T>::operator=(const panda::IntrusiveChainIterator<T>&) [with T = MyPtr*]âÂÂ
76 | IntrusiveChainIterator& operator= (const IntrusiveChainIterator& oth) {
| ^~~~~~~~
t/intrusive_chain.cc:39:36: note: initializing argument 1 of âÂÂstatic void Test<T>::check_content(Test<T>::CIt, Test<T>::CIt, const T&, Args&& ...) [with Args = {MyPtr*&, MyPtr*&, MyPtr*&, MyPtr*&, MyPtr*&}; T = MyPtr*; Test<T>::CIt = panda::IntrusiveChainIterator<MyPtr*>]âÂÂ
39 | static void check_content (CIt begin, CIt end, const T& v, Args&&... rest) {
| ~~~~^~~~~
t/intrusive_chain.cc:43:22: warning: implicitly-declared âÂÂconstexpr panda::IntrusiveChainIterator<MyPtr*>::IntrusiveChainIterator(const panda::IntrusiveChainIterator<MyPtr*>&)â is deprecated [-Wdeprecated-copy]
43 | check_content(begin, end, rest...);
| ~~~~~~~~~~~~~^~~~~~~~~~~~~~~~~~~~~
In file included from t/intrusive_chain.cc:4:
src/panda/intrusive_chain.h:76:29: note: because âÂÂpanda::IntrusiveChainIterator<MyPtr*>â has user-provided âÂÂpanda::IntrusiveChainIterator<T>& panda::IntrusiveChainIterator<T>::operator=(const panda::IntrusiveChainIterator<T>&) [with T = MyPtr*]âÂÂ
76 | IntrusiveChainIterator& operator= (const IntrusiveChainIterator& oth) {
| ^~~~~~~~
t/intrusive_chain.cc:39:47: note: initializing argument 2 of âÂÂstatic void Test<T>::check_content(Test<T>::CIt, Test<T>::CIt, const T&, Args&& ...) [with Args = {MyPtr*&, MyPtr*&, MyPtr*&, MyPtr*&, MyPtr*&}; T = MyPtr*; Test<T>::CIt = panda::IntrusiveChainIterator<MyPtr*>]âÂÂ
39 | static void check_content (CIt begin, CIt end, const T& v, Args&&... rest) {
| ~~~~^~~
t/intrusive_chain.cc: In instantiation of âÂÂstatic void Test<T>::check_content(Test<T>::CIt, Test<T>::CIt, const T&, Args&& ...) [with Args = {}; T = panda::iptr<MyIPtr>; Test<T>::CIt = panda::IntrusiveChainIterator<panda::iptr<MyIPtr> >]âÂÂ:
t/intrusive_chain.cc:49:22: required from âÂÂstatic void Test<T>::check_content(const IC&, Args&& ...) [with Args = {panda::iptr<MyIPtr>&}; T = panda::iptr<MyIPtr>; Test<T>::IC = panda::IntrusiveChain<panda::iptr<MyIPtr> >]âÂÂ
t/intrusive_chain.cc:71:26: required from âÂÂstatic void Test<T>::test(panda::function<T()>) [with T = panda::iptr<MyIPtr>]âÂÂ
t/intrusive_chain.cc:276:25: required from here
t/intrusive_chain.cc:43:22: warning: implicitly-declared âÂÂpanda::IntrusiveChainIterator<panda::iptr<MyIPtr> >::IntrusiveChainIterator(const panda::IntrusiveChainIterator<panda::iptr<MyIPtr> >&)â is deprecated [-Wdeprecated-copy]
43 | check_content(begin, end, rest...);
| ~~~~~~~~~~~~~^~~~~~~~~~~~~~~~~~~~~
In file included from t/intrusive_chain.cc:4:
src/panda/intrusive_chain.h:76:29: note: because âÂÂpanda::IntrusiveChainIterator<panda::iptr<MyIPtr> >â has user-provided âÂÂpanda::IntrusiveChainIterator<T>& panda::IntrusiveChainIterator<T>::operator=(const panda::IntrusiveChainIterator<T>&) [with T = panda::iptr<MyIPtr>]âÂÂ
76 | IntrusiveChainIterator& operator= (const IntrusiveChainIterator& oth) {
| ^~~~~~~~
t/intrusive_chain.cc:34:36: note: initializing argument 1 of âÂÂstatic void Test<T>::check_content(Test<T>::CIt, Test<T>::CIt) [with T = panda::iptr<MyIPtr>; Test<T>::CIt = panda::IntrusiveChainIterator<panda::iptr<MyIPtr> >]âÂÂ
34 | static void check_content (CIt begin, CIt end) {
| ~~~~^~~~~
t/intrusive_chain.cc:43:22: warning: implicitly-declared âÂÂpanda::IntrusiveChainIterator<panda::iptr<MyIPtr> >::IntrusiveChainIterator(const panda::IntrusiveChainIterator<panda::iptr<MyIPtr> >&)â is deprecated [-Wdeprecated-copy]
43 | check_content(begin, end, rest...);
| ~~~~~~~~~~~~~^~~~~~~~~~~~~~~~~~~~~
In file included from t/intrusive_chain.cc:4:
src/panda/intrusive_chain.h:76:29: note: because âÂÂpanda::IntrusiveChainIterator<panda::iptr<MyIPtr> >â has user-provided âÂÂpanda::IntrusiveChainIterator<T>& panda::IntrusiveChainIterator<T>::operator=(const panda::IntrusiveChainIterator<T>&) [with T = panda::iptr<MyIPtr>]âÂÂ
76 | IntrusiveChainIterator& operator= (const IntrusiveChainIterator& oth) {
| ^~~~~~~~
t/intrusive_chain.cc:34:47: note: initializing argument 2 of âÂÂstatic void Test<T>::check_content(Test<T>::CIt, Test<T>::CIt) [with T = panda::iptr<MyIPtr>; Test<T>::CIt = panda::IntrusiveChainIterator<panda::iptr<MyIPtr> >]âÂÂ
34 | static void check_content (CIt begin, CIt end) {
| ~~~~^~~
t/intrusive_chain.cc: In instantiation of âÂÂstatic void Test<T>::check_content(Test<T>::CIt, Test<T>::CIt, const T&, Args&& ...) [with Args = {panda::iptr<MyIPtr>&}; T = panda::iptr<MyIPtr>; Test<T>::CIt = panda::IntrusiveChainIterator<panda::iptr<MyIPtr> >]âÂÂ:
t/intrusive_chain.cc:49:22: required from âÂÂstatic void Test<T>::check_content(const IC&, Args&& ...) [with Args = {panda::iptr<MyIPtr>&, panda::iptr<MyIPtr>&}; T = panda::iptr<MyIPtr>; Test<T>::IC = panda::IntrusiveChain<panda::iptr<MyIPtr> >]âÂÂ
t/intrusive_chain.cc:73:26: required from âÂÂstatic void Test<T>::test(panda::function<T()>) [with T = panda::iptr<MyIPtr>]âÂÂ
t/intrusive_chain.cc:276:25: required from here
t/intrusive_chain.cc:43:22: warning: implicitly-declared âÂÂpanda::IntrusiveChainIterator<panda::iptr<MyIPtr> >::IntrusiveChainIterator(const panda::IntrusiveChainIterator<panda::iptr<MyIPtr> >&)â is deprecated [-Wdeprecated-copy]
43 | check_content(begin, end, rest...);
| ~~~~~~~~~~~~~^~~~~~~~~~~~~~~~~~~~~
In file included from t/intrusive_chain.cc:4:
src/panda/intrusive_chain.h:76:29: note: because âÂÂpanda::IntrusiveChainIterator<panda::iptr<MyIPtr> >â has user-provided âÂÂpanda::IntrusiveChainIterator<T>& panda::IntrusiveChainIterator<T>::operator=(const panda::IntrusiveChainIterator<T>&) [with T = panda::iptr<MyIPtr>]âÂÂ
76 | IntrusiveChainIterator& operator= (const IntrusiveChainIterator& oth) {
| ^~~~~~~~
t/intrusive_chain.cc:39:36: note: initializing argument 1 of âÂÂstatic void Test<T>::check_content(Test<T>::CIt, Test<T>::CIt, const T&, Args&& ...) [with Args = {}; T = panda::iptr<MyIPtr>; Test<T>::CIt = panda::IntrusiveChainIterator<panda::iptr<MyIPtr> >]âÂÂ
39 | static void check_content (CIt begin, CIt end, const T& v, Args&&... rest) {
| ~~~~^~~~~
t/intrusive_chain.cc:43:22: warning: implicitly-declared âÂÂpanda::IntrusiveChainIterator<panda::iptr<MyIPtr> >::IntrusiveChainIterator(const panda::IntrusiveChainIterator<panda::iptr<MyIPtr> >&)â is deprecated [-Wdeprecated-copy]
43 | check_content(begin, end, rest...);
| ~~~~~~~~~~~~~^~~~~~~~~~~~~~~~~~~~~
In file included from t/intrusive_chain.cc:4:
src/panda/intrusive_chain.h:76:29: note: because âÂÂpanda::IntrusiveChainIterator<panda::iptr<MyIPtr> >â has user-provided âÂÂpanda::IntrusiveChainIterator<T>& panda::IntrusiveChainIterator<T>::operator=(const panda::IntrusiveChainIterator<T>&) [with T = panda::iptr<MyIPtr>]âÂÂ
76 | IntrusiveChainIterator& operator= (const IntrusiveChainIterator& oth) {
| ^~~~~~~~
t/intrusive_chain.cc:39:47: note: initializing argument 2 of âÂÂstatic void Test<T>::check_content(Test<T>::CIt, Test<T>::CIt, const T&, Args&& ...) [with Args = {}; T = panda::iptr<MyIPtr>; Test<T>::CIt = panda::IntrusiveChainIterator<panda::iptr<MyIPtr> >]âÂÂ
39 | static void check_content (CIt begin, CIt end, const T& v, Args&&... rest) {
| ~~~~^~~
t/intrusive_chain.cc: In instantiation of âÂÂstatic void Test<T>::check_content(Test<T>::CIt, Test<T>::CIt, const T&, Args&& ...) [with Args = {panda::iptr<MyIPtr>&, panda::iptr<MyIPtr>&}; T = panda::iptr<MyIPtr>; Test<T>::CIt = panda::IntrusiveChainIterator<panda::iptr<MyIPtr> >]âÂÂ:
t/intrusive_chain.cc:49:22: required from âÂÂstatic void Test<T>::check_content(const IC&, Args&& ...) [with Args = {panda::iptr<MyIPtr>&, panda::iptr<MyIPtr>&, panda::iptr<MyIPtr>&}; T = panda::iptr<MyIPtr>; Test<T>::IC = panda::IntrusiveChain<panda::iptr<MyIPtr> >]âÂÂ
t/intrusive_chain.cc:86:26: required from âÂÂstatic void Test<T>::test(panda::function<T()>) [with T = panda::iptr<MyIPtr>]âÂÂ
t/intrusive_chain.cc:276:25: required from here
t/intrusive_chain.cc:43:22: warning: implicitly-declared âÂÂpanda::IntrusiveChainIterator<panda::iptr<MyIPtr> >::IntrusiveChainIterator(const panda::IntrusiveChainIterator<panda::iptr<MyIPtr> >&)â is deprecated [-Wdeprecated-copy]
43 | check_content(begin, end, rest...);
| ~~~~~~~~~~~~~^~~~~~~~~~~~~~~~~~~~~
In file included from t/intrusive_chain.cc:4:
src/panda/intrusive_chain.h:76:29: note: because âÂÂpanda::IntrusiveChainIterator<panda::iptr<MyIPtr> >â has user-provided âÂÂpanda::IntrusiveChainIterator<T>& panda::IntrusiveChainIterator<T>::operator=(const panda::IntrusiveChainIterator<T>&) [with T = panda::iptr<MyIPtr>]âÂÂ
76 | IntrusiveChainIterator& operator= (const IntrusiveChainIterator& oth) {
| ^~~~~~~~
t/intrusive_chain.cc:39:36: note: initializing argument 1 of âÂÂstatic void Test<T>::check_content(Test<T>::CIt, Test<T>::CIt, const T&, Args&& ...) [with Args = {panda::iptr<MyIPtr>&}; T = panda::iptr<MyIPtr>; Test<T>::CIt = panda::IntrusiveChainIterator<panda::iptr<MyIPtr> >]âÂÂ
39 | static void check_content (CIt begin, CIt end, const T& v, Args&&... rest) {
| ~~~~^~~~~
t/intrusive_chain.cc:43:22: warning: implicitly-declared âÂÂpanda::IntrusiveChainIterator<panda::iptr<MyIPtr> >::IntrusiveChainIterator(const panda::IntrusiveChainIterator<panda::iptr<MyIPtr> >&)â is deprecated [-Wdeprecated-copy]
43 | check_content(begin, end, rest...);
| ~~~~~~~~~~~~~^~~~~~~~~~~~~~~~~~~~~
In file included from t/intrusive_chain.cc:4:
src/panda/intrusive_chain.h:76:29: note: because âÂÂpanda::IntrusiveChainIterator<panda::iptr<MyIPtr> >â has user-provided âÂÂpanda::IntrusiveChainIterator<T>& panda::IntrusiveChainIterator<T>::operator=(const panda::IntrusiveChainIterator<T>&) [with T = panda::iptr<MyIPtr>]âÂÂ
76 | IntrusiveChainIterator& operator= (const IntrusiveChainIterator& oth) {
| ^~~~~~~~
t/intrusive_chain.cc:39:47: note: initializing argument 2 of âÂÂstatic void Test<T>::check_content(Test<T>::CIt, Test<T>::CIt, const T&, Args&& ...) [with Args = {panda::iptr<MyIPtr>&}; T = panda::iptr<MyIPtr>; Test<T>::CIt = panda::IntrusiveChainIterator<panda::iptr<MyIPtr> >]âÂÂ
39 | static void check_content (CIt begin, CIt end, const T& v, Args&&... rest) {
| ~~~~^~~
t/intrusive_chain.cc: In instantiation of âÂÂstatic void Test<T>::check_content(Test<T>::CIt, Test<T>::CIt, const T&, Args&& ...) [with Args = {panda::iptr<MyIPtr>&, panda::iptr<MyIPtr>&, panda::iptr<MyIPtr>&}; T = panda::iptr<MyIPtr>; Test<T>::CIt = panda::IntrusiveChainIterator<panda::iptr<MyIPtr> >]âÂÂ:
t/intrusive_chain.cc:49:22: required from âÂÂstatic void Test<T>::check_content(const IC&, Args&& ...) [with Args = {panda::iptr<MyIPtr>&, panda::iptr<MyIPtr>&, panda::iptr<MyIPtr>&, panda::iptr<MyIPtr>&}; T = panda::iptr<MyIPtr>; Test<T>::IC = panda::IntrusiveChain<panda::iptr<MyIPtr> >]âÂÂ
t/intrusive_chain.cc:131:26: required from âÂÂstatic void Test<T>::test(panda::function<T()>) [with T = panda::iptr<MyIPtr>]âÂÂ
t/intrusive_chain.cc:276:25: required from here
t/intrusive_chain.cc:43:22: warning: implicitly-declared âÂÂpanda::IntrusiveChainIterator<panda::iptr<MyIPtr> >::IntrusiveChainIterator(const panda::IntrusiveChainIterator<panda::iptr<MyIPtr> >&)â is deprecated [-Wdeprecated-copy]
43 | check_content(begin, end, rest...);
| ~~~~~~~~~~~~~^~~~~~~~~~~~~~~~~~~~~
In file included from t/intrusive_chain.cc:4:
src/panda/intrusive_chain.h:76:29: note: because âÂÂpanda::IntrusiveChainIterator<panda::iptr<MyIPtr> >â has user-provided âÂÂpanda::IntrusiveChainIterator<T>& panda::IntrusiveChainIterator<T>::operator=(const panda::IntrusiveChainIterator<T>&) [with T = panda::iptr<MyIPtr>]âÂÂ
76 | IntrusiveChainIterator& operator= (const IntrusiveChainIterator& oth) {
| ^~~~~~~~
t/intrusive_chain.cc:39:36: note: initializing argument 1 of âÂÂstatic void Test<T>::check_content(Test<T>::CIt, Test<T>::CIt, const T&, Args&& ...) [with Args = {panda::iptr<MyIPtr>&, panda::iptr<MyIPtr>&}; T = panda::iptr<MyIPtr>; Test<T>::CIt = panda::IntrusiveChainIterator<panda::iptr<MyIPtr> >]âÂÂ
39 | static void check_content (CIt begin, CIt end, const T& v, Args&&... rest) {
| ~~~~^~~~~
t/intrusive_chain.cc:43:22: warning: implicitly-declared âÂÂpanda::IntrusiveChainIterator<panda::iptr<MyIPtr> >::IntrusiveChainIterator(const panda::IntrusiveChainIterator<panda::iptr<MyIPtr> >&)â is deprecated [-Wdeprecated-copy]
43 | check_content(begin, end, rest...);
| ~~~~~~~~~~~~~^~~~~~~~~~~~~~~~~~~~~
In file included from t/intrusive_chain.cc:4:
src/panda/intrusive_chain.h:76:29: note: because âÂÂpanda::IntrusiveChainIterator<panda::iptr<MyIPtr> >â has user-provided âÂÂpanda::IntrusiveChainIterator<T>& panda::IntrusiveChainIterator<T>::operator=(const panda::IntrusiveChainIterator<T>&) [with T = panda::iptr<MyIPtr>]âÂÂ
76 | IntrusiveChainIterator& operator= (const IntrusiveChainIterator& oth) {
| ^~~~~~~~
t/intrusive_chain.cc:39:47: note: initializing argument 2 of âÂÂstatic void Test<T>::check_content(Test<T>::CIt, Test<T>::CIt, const T&, Args&& ...) [with Args = {panda::iptr<MyIPtr>&, panda::iptr<MyIPtr>&}; T = panda::iptr<MyIPtr>; Test<T>::CIt = panda::IntrusiveChainIterator<panda::iptr<MyIPtr> >]âÂÂ
39 | static void check_content (CIt begin, CIt end, const T& v, Args&&... rest) {
| ~~~~^~~
t/intrusive_chain.cc: In instantiation of âÂÂstatic void Test<T>::check_content(Test<T>::CIt, Test<T>::CIt, const T&, Args&& ...) [with Args = {panda::iptr<MyIPtr>&, panda::iptr<MyIPtr>&, panda::iptr<MyIPtr>&, panda::iptr<MyIPtr>&}; T = panda::iptr<MyIPtr>; Test<T>::CIt = panda::IntrusiveChainIterator<panda::iptr<MyIPtr> >]âÂÂ:
t/intrusive_chain.cc:49:22: required from âÂÂstatic void Test<T>::check_content(const IC&, Args&& ...) [with Args = {panda::iptr<MyIPtr>&, panda::iptr<MyIPtr>&, panda::iptr<MyIPtr>&, panda::iptr<MyIPtr>&, panda::iptr<MyIPtr>&}; T = panda::iptr<MyIPtr>; Test<T>::IC = panda::IntrusiveChain<panda::iptr<MyIPtr> >]âÂÂ
t/intrusive_chain.cc:135:26: required from âÂÂstatic void Test<T>::test(panda::function<T()>) [with T = panda::iptr<MyIPtr>]âÂÂ
t/intrusive_chain.cc:276:25: required from here
t/intrusive_chain.cc:43:22: warning: implicitly-declared âÂÂpanda::IntrusiveChainIterator<panda::iptr<MyIPtr> >::IntrusiveChainIterator(const panda::IntrusiveChainIterator<panda::iptr<MyIPtr> >&)â is deprecated [-Wdeprecated-copy]
43 | check_content(begin, end, rest...);
| ~~~~~~~~~~~~~^~~~~~~~~~~~~~~~~~~~~
In file included from t/intrusive_chain.cc:4:
src/panda/intrusive_chain.h:76:29: note: because âÂÂpanda::IntrusiveChainIterator<panda::iptr<MyIPtr> >â has user-provided âÂÂpanda::IntrusiveChainIterator<T>& panda::IntrusiveChainIterator<T>::operator=(const panda::IntrusiveChainIterator<T>&) [with T = panda::iptr<MyIPtr>]âÂÂ
76 | IntrusiveChainIterator& operator= (const IntrusiveChainIterator& oth) {
| ^~~~~~~~
t/intrusive_chain.cc:39:36: note: initializing argument 1 of âÂÂstatic void Test<T>::check_content(Test<T>::CIt, Test<T>::CIt, const T&, Args&& ...) [with Args = {panda::iptr<MyIPtr>&, panda::iptr<MyIPtr>&, panda::iptr<MyIPtr>&}; T = panda::iptr<MyIPtr>; Test<T>::CIt = panda::IntrusiveChainIterator<panda::iptr<MyIPtr> >]âÂÂ
39 | static void check_content (CIt begin, CIt end, const T& v, Args&&... rest) {
| ~~~~^~~~~
t/intrusive_chain.cc:43:22: warning: implicitly-declared âÂÂpanda::IntrusiveChainIterator<panda::iptr<MyIPtr> >::IntrusiveChainIterator(const panda::IntrusiveChainIterator<panda::iptr<MyIPtr> >&)â is deprecated [-Wdeprecated-copy]
43 | check_content(begin, end, rest...);
| ~~~~~~~~~~~~~^~~~~~~~~~~~~~~~~~~~~
In file included from t/intrusive_chain.cc:4:
src/panda/intrusive_chain.h:76:29: note: because âÂÂpanda::IntrusiveChainIterator<panda::iptr<MyIPtr> >â has user-provided âÂÂpanda::IntrusiveChainIterator<T>& panda::IntrusiveChainIterator<T>::operator=(const panda::IntrusiveChainIterator<T>&) [with T = panda::iptr<MyIPtr>]âÂÂ
76 | IntrusiveChainIterator& operator= (const IntrusiveChainIterator& oth) {
| ^~~~~~~~
t/intrusive_chain.cc:39:47: note: initializing argument 2 of âÂÂstatic void Test<T>::check_content(Test<T>::CIt, Test<T>::CIt, const T&, Args&& ...) [with Args = {panda::iptr<MyIPtr>&, panda::iptr<MyIPtr>&, panda::iptr<MyIPtr>&}; T = panda::iptr<MyIPtr>; Test<T>::CIt = panda::IntrusiveChainIterator<panda::iptr<MyIPtr> >]âÂÂ
39 | static void check_content (CIt begin, CIt end, const T& v, Args&&... rest) {
| ~~~~^~~
t/intrusive_chain.cc: In instantiation of âÂÂstatic void Test<T>::check_content(Test<T>::CIt, Test<T>::CIt, const T&, Args&& ...) [with Args = {panda::iptr<MyIPtr>&, panda::iptr<MyIPtr>&, panda::iptr<MyIPtr>&, panda::iptr<MyIPtr>&, panda::iptr<MyIPtr>&}; T = panda::iptr<MyIPtr>; Test<T>::CIt = panda::IntrusiveChainIterator<panda::iptr<MyIPtr> >]âÂÂ:
t/intrusive_chain.cc:49:22: required from âÂÂstatic void Test<T>::check_content(const IC&, Args&& ...) [with Args = {panda::iptr<MyIPtr>&, panda::iptr<MyIPtr>&, panda::iptr<MyIPtr>&, panda::iptr<MyIPtr>&, panda::iptr<MyIPtr>&, panda::iptr<MyIPtr>&}; T = panda::iptr<MyIPtr>; Test<T>::IC = panda::IntrusiveChain<panda::iptr<MyIPtr> >]âÂÂ
t/intrusive_chain.cc:138:26: required from âÂÂstatic void Test<T>::test(panda::function<T()>) [with T = panda::iptr<MyIPtr>]âÂÂ
t/intrusive_chain.cc:276:25: required from here
t/intrusive_chain.cc:43:22: warning: implicitly-declared âÂÂpanda::IntrusiveChainIterator<panda::iptr<MyIPtr> >::IntrusiveChainIterator(const panda::IntrusiveChainIterator<panda::iptr<MyIPtr> >&)â is deprecated [-Wdeprecated-copy]
43 | check_content(begin, end, rest...);
| ~~~~~~~~~~~~~^~~~~~~~~~~~~~~~~~~~~
In file included from t/intrusive_chain.cc:4:
src/panda/intrusive_chain.h:76:29: note: because âÂÂpanda::IntrusiveChainIterator<panda::iptr<MyIPtr> >â has user-provided âÂÂpanda::IntrusiveChainIterator<T>& panda::IntrusiveChainIterator<T>::operator=(const panda::IntrusiveChainIterator<T>&) [with T = panda::iptr<MyIPtr>]âÂÂ
76 | IntrusiveChainIterator& operator= (const IntrusiveChainIterator& oth) {
| ^~~~~~~~
t/intrusive_chain.cc:39:36: note: initializing argument 1 of âÂÂstatic void Test<T>::check_content(Test<T>::CIt, Test<T>::CIt, const T&, Args&& ...) [with Args = {panda::iptr<MyIPtr>&, panda::iptr<MyIPtr>&, panda::iptr<MyIPtr>&, panda::iptr<MyIPtr>&}; T = panda::iptr<MyIPtr>; Test<T>::CIt = panda::IntrusiveChainIterator<panda::iptr<MyIPtr> >]âÂÂ
39 | static void check_content (CIt begin, CIt end, const T& v, Args&&... rest) {
| ~~~~^~~~~
t/intrusive_chain.cc:43:22: warning: implicitly-declared âÂÂpanda::IntrusiveChainIterator<panda::iptr<MyIPtr> >::IntrusiveChainIterator(const panda::IntrusiveChainIterator<panda::iptr<MyIPtr> >&)â is deprecated [-Wdeprecated-copy]
43 | check_content(begin, end, rest...);
| ~~~~~~~~~~~~~^~~~~~~~~~~~~~~~~~~~~
In file included from t/intrusive_chain.cc:4:
src/panda/intrusive_chain.h:76:29: note: because âÂÂpanda::IntrusiveChainIterator<panda::iptr<MyIPtr> >â has user-provided âÂÂpanda::IntrusiveChainIterator<T>& panda::IntrusiveChainIterator<T>::operator=(const panda::IntrusiveChainIterator<T>&) [with T = panda::iptr<MyIPtr>]âÂÂ
76 | IntrusiveChainIterator& operator= (const IntrusiveChainIterator& oth) {
| ^~~~~~~~
t/intrusive_chain.cc:39:47: note: initializing argument 2 of âÂÂstatic void Test<T>::check_content(Test<T>::CIt, Test<T>::CIt, const T&, Args&& ...) [with Args = {panda::iptr<MyIPtr>&, panda::iptr<MyIPtr>&, panda::iptr<MyIPtr>&, panda::iptr<MyIPtr>&}; T = panda::iptr<MyIPtr>; Test<T>::CIt = panda::IntrusiveChainIterator<panda::iptr<MyIPtr> >]âÂÂ
39 | static void check_content (CIt begin, CIt end, const T& v, Args&&... rest) {
| ~~~~^~~
t/intrusive_chain.cc: In instantiation of âÂÂstatic void Test<T>::check_content(Test<T>::CIt, Test<T>::CIt, const T&, Args&& ...) [with Args = {panda::iptr<MyIPtr>&, panda::iptr<MyIPtr>&, panda::iptr<MyIPtr>&, panda::iptr<MyIPtr>&, panda::iptr<MyIPtr>&, panda::iptr<MyIPtr>&}; T = panda::iptr<MyIPtr>; Test<T>::CIt = panda::IntrusiveChainIterator<panda::iptr<MyIPtr> >]âÂÂ:
t/intrusive_chain.cc:49:22: required from âÂÂstatic void Test<T>::check_content(const IC&, Args&& ...) [with Args = {panda::iptr<MyIPtr>&, panda::iptr<MyIPtr>&, panda::iptr<MyIPtr>&, panda::iptr<MyIPtr>&, panda::iptr<MyIPtr>&, panda::iptr<MyIPtr>&, panda::iptr<MyIPtr>&}; T = panda::iptr<MyIPtr>; Test<T>::IC = panda::IntrusiveChain<panda::iptr<MyIPtr> >]âÂÂ
t/intrusive_chain.cc:141:26: required from âÂÂstatic void Test<T>::test(panda::function<T()>) [with T = panda::iptr<MyIPtr>]âÂÂ
t/intrusive_chain.cc:276:25: required from here
t/intrusive_chain.cc:43:22: warning: implicitly-declared âÂÂpanda::IntrusiveChainIterator<panda::iptr<MyIPtr> >::IntrusiveChainIterator(const panda::IntrusiveChainIterator<panda::iptr<MyIPtr> >&)â is deprecated [-Wdeprecated-copy]
43 | check_content(begin, end, rest...);
| ~~~~~~~~~~~~~^~~~~~~~~~~~~~~~~~~~~
In file included from t/intrusive_chain.cc:4:
src/panda/intrusive_chain.h:76:29: note: because âÂÂpanda::IntrusiveChainIterator<panda::iptr<MyIPtr> >â has user-provided âÂÂpanda::IntrusiveChainIterator<T>& panda::IntrusiveChainIterator<T>::operator=(const panda::IntrusiveChainIterator<T>&) [with T = panda::iptr<MyIPtr>]âÂÂ
76 | IntrusiveChainIterator& operator= (const IntrusiveChainIterator& oth) {
| ^~~~~~~~
t/intrusive_chain.cc:39:36: note: initializing argument 1 of âÂÂstatic void Test<T>::check_content(Test<T>::CIt, Test<T>::CIt, const T&, Args&& ...) [with Args = {panda::iptr<MyIPtr>&, panda::iptr<MyIPtr>&, panda::iptr<MyIPtr>&, panda::iptr<MyIPtr>&, panda::iptr<MyIPtr>&}; T = panda::iptr<MyIPtr>; Test<T>::CIt = panda::IntrusiveChainIterator<panda::iptr<MyIPtr> >]âÂÂ
39 | static void check_content (CIt begin, CIt end, const T& v, Args&&... rest) {
| ~~~~^~~~~
t/intrusive_chain.cc:43:22: warning: implicitly-declared âÂÂpanda::IntrusiveChainIterator<panda::iptr<MyIPtr> >::IntrusiveChainIterator(const panda::IntrusiveChainIterator<panda::iptr<MyIPtr> >&)â is deprecated [-Wdeprecated-copy]
43 | check_content(begin, end, rest...);
| ~~~~~~~~~~~~~^~~~~~~~~~~~~~~~~~~~~
In file included from t/intrusive_chain.cc:4:
src/panda/intrusive_chain.h:76:29: note: because âÂÂpanda::IntrusiveChainIterator<panda::iptr<MyIPtr> >â has user-provided âÂÂpanda::IntrusiveChainIterator<T>& panda::IntrusiveChainIterator<T>::operator=(const panda::IntrusiveChainIterator<T>&) [with T = panda::iptr<MyIPtr>]âÂÂ
76 | IntrusiveChainIterator& operator= (const IntrusiveChainIterator& oth) {
| ^~~~~~~~
t/intrusive_chain.cc:39:47: note: initializing argument 2 of âÂÂstatic void Test<T>::check_content(Test<T>::CIt, Test<T>::CIt, const T&, Args&& ...) [with Args = {panda::iptr<MyIPtr>&, panda::iptr<MyIPtr>&, panda::iptr<MyIPtr>&, panda::iptr<MyIPtr>&, panda::iptr<MyIPtr>&}; T = panda::iptr<MyIPtr>; Test<T>::CIt = panda::IntrusiveChainIterator<panda::iptr<MyIPtr> >]âÂÂ
39 | static void check_content (CIt begin, CIt end, const T& v, Args&&... rest) {
| ~~~~^~~
t/intrusive_chain.cc: In instantiation of âÂÂstatic void Test<T>::check_content(Test<T>::CIt, Test<T>::CIt, const T&, Args&& ...) [with Args = {}; T = std::shared_ptr<MySPtr>; Test<T>::CIt = panda::IntrusiveChainIterator<std::shared_ptr<MySPtr> >]âÂÂ:
t/intrusive_chain.cc:49:22: required from âÂÂstatic void Test<T>::check_content(const IC&, Args&& ...) [with Args = {std::shared_ptr<MySPtr>&}; T = std::shared_ptr<MySPtr>; Test<T>::IC = panda::IntrusiveChain<std::shared_ptr<MySPtr> >]âÂÂ
t/intrusive_chain.cc:71:26: required from âÂÂstatic void Test<T>::test(panda::function<T()>) [with T = std::shared_ptr<MySPtr>]âÂÂ
t/intrusive_chain.cc:282:31: required from here
t/intrusive_chain.cc:43:22: warning: implicitly-declared âÂÂpanda::IntrusiveChainIterator<std::shared_ptr<MySPtr> >::IntrusiveChainIterator(const panda::IntrusiveChainIterator<std::shared_ptr<MySPtr> >&)â is deprecated [-Wdeprecated-copy]
43 | check_content(begin, end, rest...);
| ~~~~~~~~~~~~~^~~~~~~~~~~~~~~~~~~~~
In file included from t/intrusive_chain.cc:4:
src/panda/intrusive_chain.h:76:29: note: because âÂÂpanda::IntrusiveChainIterator<std::shared_ptr<MySPtr> >â has user-provided âÂÂpanda::IntrusiveChainIterator<T>& panda::IntrusiveChainIterator<T>::operator=(const panda::IntrusiveChainIterator<T>&) [with T = std::shared_ptr<MySPtr>]âÂÂ
76 | IntrusiveChainIterator& operator= (const IntrusiveChainIterator& oth) {
| ^~~~~~~~
t/intrusive_chain.cc:34:36: note: initializing argument 1 of âÂÂstatic void Test<T>::check_content(Test<T>::CIt, Test<T>::CIt) [with T = std::shared_ptr<MySPtr>; Test<T>::CIt = panda::IntrusiveChainIterator<std::shared_ptr<MySPtr> >]âÂÂ
34 | static void check_content (CIt begin, CIt end) {
| ~~~~^~~~~
t/intrusive_chain.cc:43:22: warning: implicitly-declared âÂÂpanda::IntrusiveChainIterator<std::shared_ptr<MySPtr> >::IntrusiveChainIterator(const panda::IntrusiveChainIterator<std::shared_ptr<MySPtr> >&)â is deprecated [-Wdeprecated-copy]
43 | check_content(begin, end, rest...);
| ~~~~~~~~~~~~~^~~~~~~~~~~~~~~~~~~~~
In file included from t/intrusive_chain.cc:4:
src/panda/intrusive_chain.h:76:29: note: because âÂÂpanda::IntrusiveChainIterator<std::shared_ptr<MySPtr> >â has user-provided âÂÂpanda::IntrusiveChainIterator<T>& panda::IntrusiveChainIterator<T>::operator=(const panda::IntrusiveChainIterator<T>&) [with T = std::shared_ptr<MySPtr>]âÂÂ
76 | IntrusiveChainIterator& operator= (const IntrusiveChainIterator& oth) {
| ^~~~~~~~
t/intrusive_chain.cc:34:47: note: initializing argument 2 of âÂÂstatic void Test<T>::check_content(Test<T>::CIt, Test<T>::CIt) [with T = std::shared_ptr<MySPtr>; Test<T>::CIt = panda::IntrusiveChainIterator<std::shared_ptr<MySPtr> >]âÂÂ
34 | static void check_content (CIt begin, CIt end) {
| ~~~~^~~
t/intrusive_chain.cc: In instantiation of âÂÂstatic void Test<T>::check_content(Test<T>::CIt, Test<T>::CIt, const T&, Args&& ...) [with Args = {std::shared_ptr<MySPtr>&}; T = std::shared_ptr<MySPtr>; Test<T>::CIt = panda::IntrusiveChainIterator<std::shared_ptr<MySPtr> >]âÂÂ:
t/intrusive_chain.cc:49:22: required from âÂÂstatic void Test<T>::check_content(const IC&, Args&& ...) [with Args = {std::shared_ptr<MySPtr>&, std::shared_ptr<MySPtr>&}; T = std::shared_ptr<MySPtr>; Test<T>::IC = panda::IntrusiveChain<std::shared_ptr<MySPtr> >]âÂÂ
t/intrusive_chain.cc:73:26: required from âÂÂstatic void Test<T>::test(panda::function<T()>) [with T = std::shared_ptr<MySPtr>]âÂÂ
t/intrusive_chain.cc:282:31: required from here
t/intrusive_chain.cc:43:22: warning: implicitly-declared âÂÂpanda::IntrusiveChainIterator<std::shared_ptr<MySPtr> >::IntrusiveChainIterator(const panda::IntrusiveChainIterator<std::shared_ptr<MySPtr> >&)â is deprecated [-Wdeprecated-copy]
43 | check_content(begin, end, rest...);
| ~~~~~~~~~~~~~^~~~~~~~~~~~~~~~~~~~~
In file included from t/intrusive_chain.cc:4:
src/panda/intrusive_chain.h:76:29: note: because âÂÂpanda::IntrusiveChainIterator<std::shared_ptr<MySPtr> >â has user-provided âÂÂpanda::IntrusiveChainIterator<T>& panda::IntrusiveChainIterator<T>::operator=(const panda::IntrusiveChainIterator<T>&) [with T = std::shared_ptr<MySPtr>]âÂÂ
76 | IntrusiveChainIterator& operator= (const IntrusiveChainIterator& oth) {
| ^~~~~~~~
t/intrusive_chain.cc:39:36: note: initializing argument 1 of âÂÂstatic void Test<T>::check_content(Test<T>::CIt, Test<T>::CIt, const T&, Args&& ...) [with Args = {}; T = std::shared_ptr<MySPtr>; Test<T>::CIt = panda::IntrusiveChainIterator<std::shared_ptr<MySPtr> >]âÂÂ
39 | static void check_content (CIt begin, CIt end, const T& v, Args&&... rest) {
| ~~~~^~~~~
t/intrusive_chain.cc:43:22: warning: implicitly-declared âÂÂpanda::IntrusiveChainIterator<std::shared_ptr<MySPtr> >::IntrusiveChainIterator(const panda::IntrusiveChainIterator<std::shared_ptr<MySPtr> >&)â is deprecated [-Wdeprecated-copy]
43 | check_content(begin, end, rest...);
| ~~~~~~~~~~~~~^~~~~~~~~~~~~~~~~~~~~
In file included from t/intrusive_chain.cc:4:
src/panda/intrusive_chain.h:76:29: note: because âÂÂpanda::IntrusiveChainIterator<std::shared_ptr<MySPtr> >â has user-provided âÂÂpanda::IntrusiveChainIterator<T>& panda::IntrusiveChainIterator<T>::operator=(const panda::IntrusiveChainIterator<T>&) [with T = std::shared_ptr<MySPtr>]âÂÂ
76 | IntrusiveChainIterator& operator= (const IntrusiveChainIterator& oth) {
| ^~~~~~~~
t/intrusive_chain.cc:39:47: note: initializing argument 2 of âÂÂstatic void Test<T>::check_content(Test<T>::CIt, Test<T>::CIt, const T&, Args&& ...) [with Args = {}; T = std::shared_ptr<MySPtr>; Test<T>::CIt = panda::IntrusiveChainIterator<std::shared_ptr<MySPtr> >]âÂÂ
39 | static void check_content (CIt begin, CIt end, const T& v, Args&&... rest) {
| ~~~~^~~
t/intrusive_chain.cc: In instantiation of âÂÂstatic void Test<T>::check_content(Test<T>::CIt, Test<T>::CIt, const T&, Args&& ...) [with Args = {std::shared_ptr<MySPtr>&, std::shared_ptr<MySPtr>&}; T = std::shared_ptr<MySPtr>; Test<T>::CIt = panda::IntrusiveChainIterator<std::shared_ptr<MySPtr> >]âÂÂ:
t/intrusive_chain.cc:49:22: required from âÂÂstatic void Test<T>::check_content(const IC&, Args&& ...) [with Args = {std::shared_ptr<MySPtr>&, std::shared_ptr<MySPtr>&, std::shared_ptr<MySPtr>&}; T = std::shared_ptr<MySPtr>; Test<T>::IC = panda::IntrusiveChain<std::shared_ptr<MySPtr> >]âÂÂ
t/intrusive_chain.cc:86:26: required from âÂÂstatic void Test<T>::test(panda::function<T()>) [with T = std::shared_ptr<MySPtr>]âÂÂ
t/intrusive_chain.cc:282:31: required from here
t/intrusive_chain.cc:43:22: warning: implicitly-declared âÂÂpanda::IntrusiveChainIterator<std::shared_ptr<MySPtr> >::IntrusiveChainIterator(const panda::IntrusiveChainIterator<std::shared_ptr<MySPtr> >&)â is deprecated [-Wdeprecated-copy]
43 | check_content(begin, end, rest...);
| ~~~~~~~~~~~~~^~~~~~~~~~~~~~~~~~~~~
In file included from t/intrusive_chain.cc:4:
src/panda/intrusive_chain.h:76:29: note: because âÂÂpanda::IntrusiveChainIterator<std::shared_ptr<MySPtr> >â has user-provided âÂÂpanda::IntrusiveChainIterator<T>& panda::IntrusiveChainIterator<T>::operator=(const panda::IntrusiveChainIterator<T>&) [with T = std::shared_ptr<MySPtr>]âÂÂ
76 | IntrusiveChainIterator& operator= (const IntrusiveChainIterator& oth) {
| ^~~~~~~~
t/intrusive_chain.cc:39:36: note: initializing argument 1 of âÂÂstatic void Test<T>::check_content(Test<T>::CIt, Test<T>::CIt, const T&, Args&& ...) [with Args = {std::shared_ptr<MySPtr>&}; T = std::shared_ptr<MySPtr>; Test<T>::CIt = panda::IntrusiveChainIterator<std::shared_ptr<MySPtr> >]âÂÂ
39 | static void check_content (CIt begin, CIt end, const T& v, Args&&... rest) {
| ~~~~^~~~~
t/intrusive_chain.cc:43:22: warning: implicitly-declared âÂÂpanda::IntrusiveChainIterator<std::shared_ptr<MySPtr> >::IntrusiveChainIterator(const panda::IntrusiveChainIterator<std::shared_ptr<MySPtr> >&)â is deprecated [-Wdeprecated-copy]
43 | check_content(begin, end, rest...);
| ~~~~~~~~~~~~~^~~~~~~~~~~~~~~~~~~~~
In file included from t/intrusive_chain.cc:4:
src/panda/intrusive_chain.h:76:29: note: because âÂÂpanda::IntrusiveChainIterator<std::shared_ptr<MySPtr> >â has user-provided âÂÂpanda::IntrusiveChainIterator<T>& panda::IntrusiveChainIterator<T>::operator=(const panda::IntrusiveChainIterator<T>&) [with T = std::shared_ptr<MySPtr>]âÂÂ
76 | IntrusiveChainIterator& operator= (const IntrusiveChainIterator& oth) {
| ^~~~~~~~
t/intrusive_chain.cc:39:47: note: initializing argument 2 of âÂÂstatic void Test<T>::check_content(Test<T>::CIt, Test<T>::CIt, const T&, Args&& ...) [with Args = {std::shared_ptr<MySPtr>&}; T = std::shared_ptr<MySPtr>; Test<T>::CIt = panda::IntrusiveChainIterator<std::shared_ptr<MySPtr> >]âÂÂ
39 | static void check_content (CIt begin, CIt end, const T& v, Args&&... rest) {
| ~~~~^~~
t/intrusive_chain.cc: In instantiation of âÂÂstatic void Test<T>::check_content(Test<T>::CIt, Test<T>::CIt, const T&, Args&& ...) [with Args = {std::shared_ptr<MySPtr>&, std::shared_ptr<MySPtr>&, std::shared_ptr<MySPtr>&}; T = std::shared_ptr<MySPtr>; Test<T>::CIt = panda::IntrusiveChainIterator<std::shared_ptr<MySPtr> >]âÂÂ:
t/intrusive_chain.cc:49:22: required from âÂÂstatic void Test<T>::check_content(const IC&, Args&& ...) [with Args = {std::shared_ptr<MySPtr>&, std::shared_ptr<MySPtr>&, std::shared_ptr<MySPtr>&, std::shared_ptr<MySPtr>&}; T = std::shared_ptr<MySPtr>; Test<T>::IC = panda::IntrusiveChain<std::shared_ptr<MySPtr> >]âÂÂ
t/intrusive_chain.cc:131:26: required from âÂÂstatic void Test<T>::test(panda::function<T()>) [with T = std::shared_ptr<MySPtr>]âÂÂ
t/intrusive_chain.cc:282:31: required from here
t/intrusive_chain.cc:43:22: warning: implicitly-declared âÂÂpanda::IntrusiveChainIterator<std::shared_ptr<MySPtr> >::IntrusiveChainIterator(const panda::IntrusiveChainIterator<std::shared_ptr<MySPtr> >&)â is deprecated [-Wdeprecated-copy]
43 | check_content(begin, end, rest...);
| ~~~~~~~~~~~~~^~~~~~~~~~~~~~~~~~~~~
In file included from t/intrusive_chain.cc:4:
src/panda/intrusive_chain.h:76:29: note: because âÂÂpanda::IntrusiveChainIterator<std::shared_ptr<MySPtr> >â has user-provided âÂÂpanda::IntrusiveChainIterator<T>& panda::IntrusiveChainIterator<T>::operator=(const panda::IntrusiveChainIterator<T>&) [with T = std::shared_ptr<MySPtr>]âÂÂ
76 | IntrusiveChainIterator& operator= (const IntrusiveChainIterator& oth) {
| ^~~~~~~~
t/intrusive_chain.cc:39:36: note: initializing argument 1 of âÂÂstatic void Test<T>::check_content(Test<T>::CIt, Test<T>::CIt, const T&, Args&& ...) [with Args = {std::shared_ptr<MySPtr>&, std::shared_ptr<MySPtr>&}; T = std::shared_ptr<MySPtr>; Test<T>::CIt = panda::IntrusiveChainIterator<std::shared_ptr<MySPtr> >]âÂÂ
39 | static void check_content (CIt begin, CIt end, const T& v, Args&&... rest) {
| ~~~~^~~~~
t/intrusive_chain.cc:43:22: warning: implicitly-declared âÂÂpanda::IntrusiveChainIterator<std::shared_ptr<MySPtr> >::IntrusiveChainIterator(const panda::IntrusiveChainIterator<std::shared_ptr<MySPtr> >&)â is deprecated [-Wdeprecated-copy]
43 | check_content(begin, end, rest...);
| ~~~~~~~~~~~~~^~~~~~~~~~~~~~~~~~~~~
In file included from t/intrusive_chain.cc:4:
src/panda/intrusive_chain.h:76:29: note: because âÂÂpanda::IntrusiveChainIterator<std::shared_ptr<MySPtr> >â has user-provided âÂÂpanda::IntrusiveChainIterator<T>& panda::IntrusiveChainIterator<T>::operator=(const panda::IntrusiveChainIterator<T>&) [with T = std::shared_ptr<MySPtr>]âÂÂ
76 | IntrusiveChainIterator& operator= (const IntrusiveChainIterator& oth) {
| ^~~~~~~~
t/intrusive_chain.cc:39:47: note: initializing argument 2 of âÂÂstatic void Test<T>::check_content(Test<T>::CIt, Test<T>::CIt, const T&, Args&& ...) [with Args = {std::shared_ptr<MySPtr>&, std::shared_ptr<MySPtr>&}; T = std::shared_ptr<MySPtr>; Test<T>::CIt = panda::IntrusiveChainIterator<std::shared_ptr<MySPtr> >]âÂÂ
39 | static void check_content (CIt begin, CIt end, const T& v, Args&&... rest) {
| ~~~~^~~
t/intrusive_chain.cc: In instantiation of âÂÂstatic void Test<T>::check_content(Test<T>::CIt, Test<T>::CIt, const T&, Args&& ...) [with Args = {std::shared_ptr<MySPtr>&, std::shared_ptr<MySPtr>&, std::shared_ptr<MySPtr>&, std::shared_ptr<MySPtr>&}; T = std::shared_ptr<MySPtr>; Test<T>::CIt = panda::IntrusiveChainIterator<std::shared_ptr<MySPtr> >]âÂÂ:
t/intrusive_chain.cc:49:22: required from âÂÂstatic void Test<T>::check_content(const IC&, Args&& ...) [with Args = {std::shared_ptr<MySPtr>&, std::shared_ptr<MySPtr>&, std::shared_ptr<MySPtr>&, std::shared_ptr<MySPtr>&, std::shared_ptr<MySPtr>&}; T = std::shared_ptr<MySPtr>; Test<T>::IC = panda::IntrusiveChain<std::shared_ptr<MySPtr> >]âÂÂ
t/intrusive_chain.cc:135:26: required from âÂÂstatic void Test<T>::test(panda::function<T()>) [with T = std::shared_ptr<MySPtr>]âÂÂ
t/intrusive_chain.cc:282:31: required from here
t/intrusive_chain.cc:43:22: warning: implicitly-declared âÂÂpanda::IntrusiveChainIterator<std::shared_ptr<MySPtr> >::IntrusiveChainIterator(const panda::IntrusiveChainIterator<std::shared_ptr<MySPtr> >&)â is deprecated [-Wdeprecated-copy]
43 | check_content(begin, end, rest...);
| ~~~~~~~~~~~~~^~~~~~~~~~~~~~~~~~~~~
In file included from t/intrusive_chain.cc:4:
src/panda/intrusive_chain.h:76:29: note: because âÂÂpanda::IntrusiveChainIterator<std::shared_ptr<MySPtr> >â has user-provided âÂÂpanda::IntrusiveChainIterator<T>& panda::IntrusiveChainIterator<T>::operator=(const panda::IntrusiveChainIterator<T>&) [with T = std::shared_ptr<MySPtr>]âÂÂ
76 | IntrusiveChainIterator& operator= (const IntrusiveChainIterator& oth) {
| ^~~~~~~~
t/intrusive_chain.cc:39:36: note: initializing argument 1 of âÂÂstatic void Test<T>::check_content(Test<T>::CIt, Test<T>::CIt, const T&, Args&& ...) [with Args = {std::shared_ptr<MySPtr>&, std::shared_ptr<MySPtr>&, std::shared_ptr<MySPtr>&}; T = std::shared_ptr<MySPtr>; Test<T>::CIt = panda::IntrusiveChainIterator<std::shared_ptr<MySPtr> >]âÂÂ
39 | static void check_content (CIt begin, CIt end, const T& v, Args&&... rest) {
| ~~~~^~~~~
t/intrusive_chain.cc:43:22: warning: implicitly-declared âÂÂpanda::IntrusiveChainIterator<std::shared_ptr<MySPtr> >::IntrusiveChainIterator(const panda::IntrusiveChainIterator<std::shared_ptr<MySPtr> >&)â is deprecated [-Wdeprecated-copy]
43 | check_content(begin, end, rest...);
| ~~~~~~~~~~~~~^~~~~~~~~~~~~~~~~~~~~
In file included from t/intrusive_chain.cc:4:
src/panda/intrusive_chain.h:76:29: note: because âÂÂpanda::IntrusiveChainIterator<std::shared_ptr<MySPtr> >â has user-provided âÂÂpanda::IntrusiveChainIterator<T>& panda::IntrusiveChainIterator<T>::operator=(const panda::IntrusiveChainIterator<T>&) [with T = std::shared_ptr<MySPtr>]âÂÂ
76 | IntrusiveChainIterator& operator= (const IntrusiveChainIterator& oth) {
| ^~~~~~~~
t/intrusive_chain.cc:39:47: note: initializing argument 2 of âÂÂstatic void Test<T>::check_content(Test<T>::CIt, Test<T>::CIt, const T&, Args&& ...) [with Args = {std::shared_ptr<MySPtr>&, std::shared_ptr<MySPtr>&, std::shared_ptr<MySPtr>&}; T = std::shared_ptr<MySPtr>; Test<T>::CIt = panda::IntrusiveChainIterator<std::shared_ptr<MySPtr> >]âÂÂ
39 | static void check_content (CIt begin, CIt end, const T& v, Args&&... rest) {
| ~~~~^~~
t/intrusive_chain.cc: In instantiation of âÂÂstatic void Test<T>::check_content(Test<T>::CIt, Test<T>::CIt, const T&, Args&& ...) [with Args = {std::shared_ptr<MySPtr>&, std::shared_ptr<MySPtr>&, std::shared_ptr<MySPtr>&, std::shared_ptr<MySPtr>&, std::shared_ptr<MySPtr>&}; T = std::shared_ptr<MySPtr>; Test<T>::CIt = panda::IntrusiveChainIterator<std::shared_ptr<MySPtr> >]âÂÂ:
t/intrusive_chain.cc:49:22: required from âÂÂstatic void Test<T>::check_content(const IC&, Args&& ...) [with Args = {std::shared_ptr<MySPtr>&, std::shared_ptr<MySPtr>&, std::shared_ptr<MySPtr>&, std::shared_ptr<MySPtr>&, std::shared_ptr<MySPtr>&, std::shared_ptr<MySPtr>&}; T = std::shared_ptr<MySPtr>; Test<T>::IC = panda::IntrusiveChain<std::shared_ptr<MySPtr> >]âÂÂ
t/intrusive_chain.cc:138:26: required from âÂÂstatic void Test<T>::test(panda::function<T()>) [with T = std::shared_ptr<MySPtr>]âÂÂ
t/intrusive_chain.cc:282:31: required from here
t/intrusive_chain.cc:43:22: warning: implicitly-declared âÂÂpanda::IntrusiveChainIterator<std::shared_ptr<MySPtr> >::IntrusiveChainIterator(const panda::IntrusiveChainIterator<std::shared_ptr<MySPtr> >&)â is deprecated [-Wdeprecated-copy]
43 | check_content(begin, end, rest...);
| ~~~~~~~~~~~~~^~~~~~~~~~~~~~~~~~~~~
In file included from t/intrusive_chain.cc:4:
src/panda/intrusive_chain.h:76:29: note: because âÂÂpanda::IntrusiveChainIterator<std::shared_ptr<MySPtr> >â has user-provided âÂÂpanda::IntrusiveChainIterator<T>& panda::IntrusiveChainIterator<T>::operator=(const panda::IntrusiveChainIterator<T>&) [with T = std::shared_ptr<MySPtr>]âÂÂ
76 | IntrusiveChainIterator& operator= (const IntrusiveChainIterator& oth) {
| ^~~~~~~~
t/intrusive_chain.cc:39:36: note: initializing argument 1 of âÂÂstatic void Test<T>::check_content(Test<T>::CIt, Test<T>::CIt, const T&, Args&& ...) [with Args = {std::shared_ptr<MySPtr>&, std::shared_ptr<MySPtr>&, std::shared_ptr<MySPtr>&, std::shared_ptr<MySPtr>&}; T = std::shared_ptr<MySPtr>; Test<T>::CIt = panda::IntrusiveChainIterator<std::shared_ptr<MySPtr> >]âÂÂ
39 | static void check_content (CIt begin, CIt end, const T& v, Args&&... rest) {
| ~~~~^~~~~
t/intrusive_chain.cc:43:22: warning: implicitly-declared âÂÂpanda::IntrusiveChainIterator<std::shared_ptr<MySPtr> >::IntrusiveChainIterator(const panda::IntrusiveChainIterator<std::shared_ptr<MySPtr> >&)â is deprecated [-Wdeprecated-copy]
43 | check_content(begin, end, rest...);
| ~~~~~~~~~~~~~^~~~~~~~~~~~~~~~~~~~~
In file included from t/intrusive_chain.cc:4:
src/panda/intrusive_chain.h:76:29: note: because âÂÂpanda::IntrusiveChainIterator<std::shared_ptr<MySPtr> >â has user-provided âÂÂpanda::IntrusiveChainIterator<T>& panda::IntrusiveChainIterator<T>::operator=(const panda::IntrusiveChainIterator<T>&) [with T = std::shared_ptr<MySPtr>]âÂÂ
76 | IntrusiveChainIterator& operator= (const IntrusiveChainIterator& oth) {
| ^~~~~~~~
t/intrusive_chain.cc:39:47: note: initializing argument 2 of âÂÂstatic void Test<T>::check_content(Test<T>::CIt, Test<T>::CIt, const T&, Args&& ...) [with Args = {std::shared_ptr<MySPtr>&, std::shared_ptr<MySPtr>&, std::shared_ptr<MySPtr>&, std::shared_ptr<MySPtr>&}; T = std::shared_ptr<MySPtr>; Test<T>::CIt = panda::IntrusiveChainIterator<std::shared_ptr<MySPtr> >]âÂÂ
39 | static void check_content (CIt begin, CIt end, const T& v, Args&&... rest) {
| ~~~~^~~
t/intrusive_chain.cc: In instantiation of âÂÂstatic void Test<T>::check_content(Test<T>::CIt, Test<T>::CIt, const T&, Args&& ...) [with Args = {std::shared_ptr<MySPtr>&, std::shared_ptr<MySPtr>&, std::shared_ptr<MySPtr>&, std::shared_ptr<MySPtr>&, std::shared_ptr<MySPtr>&, std::shared_ptr<MySPtr>&}; T = std::shared_ptr<MySPtr>; Test<T>::CIt = panda::IntrusiveChainIterator<std::shared_ptr<MySPtr> >]âÂÂ:
t/intrusive_chain.cc:49:22: required from âÂÂstatic void Test<T>::check_content(const IC&, Args&& ...) [with Args = {std::shared_ptr<MySPtr>&, std::shared_ptr<MySPtr>&, std::shared_ptr<MySPtr>&, std::shared_ptr<MySPtr>&, std::shared_ptr<MySPtr>&, std::shared_ptr<MySPtr>&, std::shared_ptr<MySPtr>&}; T = std::shared_ptr<MySPtr>; Test<T>::IC = panda::IntrusiveChain<std::shared_ptr<MySPtr> >]âÂÂ
t/intrusive_chain.cc:141:26: required from âÂÂstatic void Test<T>::test(panda::function<T()>) [with T = std::shared_ptr<MySPtr>]âÂÂ
t/intrusive_chain.cc:282:31: required from here
t/intrusive_chain.cc:43:22: warning: implicitly-declared âÂÂpanda::IntrusiveChainIterator<std::shared_ptr<MySPtr> >::IntrusiveChainIterator(const panda::IntrusiveChainIterator<std::shared_ptr<MySPtr> >&)â is deprecated [-Wdeprecated-copy]
43 | check_content(begin, end, rest...);
| ~~~~~~~~~~~~~^~~~~~~~~~~~~~~~~~~~~
In file included from t/intrusive_chain.cc:4:
src/panda/intrusive_chain.h:76:29: note: because âÂÂpanda::IntrusiveChainIterator<std::shared_ptr<MySPtr> >â has user-provided âÂÂpanda::IntrusiveChainIterator<T>& panda::IntrusiveChainIterator<T>::operator=(const panda::IntrusiveChainIterator<T>&) [with T = std::shared_ptr<MySPtr>]âÂÂ
76 | IntrusiveChainIterator& operator= (const IntrusiveChainIterator& oth) {
| ^~~~~~~~
t/intrusive_chain.cc:39:36: note: initializing argument 1 of âÂÂstatic void Test<T>::check_content(Test<T>::CIt, Test<T>::CIt, const T&, Args&& ...) [with Args = {std::shared_ptr<MySPtr>&, std::shared_ptr<MySPtr>&, std::shared_ptr<MySPtr>&, std::shared_ptr<MySPtr>&, std::shared_ptr<MySPtr>&}; T = std::shared_ptr<MySPtr>; Test<T>::CIt = panda::IntrusiveChainIterator<std::shared_ptr<MySPtr> >]âÂÂ
39 | static void check_content (CIt begin, CIt end, const T& v, Args&&... rest) {
| ~~~~^~~~~
t/intrusive_chain.cc:43:22: warning: implicitly-declared âÂÂpanda::IntrusiveChainIterator<std::shared_ptr<MySPtr> >::IntrusiveChainIterator(const panda::IntrusiveChainIterator<std::shared_ptr<MySPtr> >&)â is deprecated [-Wdeprecated-copy]
43 | check_content(begin, end, rest...);
| ~~~~~~~~~~~~~^~~~~~~~~~~~~~~~~~~~~
In file included from t/intrusive_chain.cc:4:
src/panda/intrusive_chain.h:76:29: note: because âÂÂpanda::IntrusiveChainIterator<std::shared_ptr<MySPtr> >â has user-provided âÂÂpanda::IntrusiveChainIterator<T>& panda::IntrusiveChainIterator<T>::operator=(const panda::IntrusiveChainIterator<T>&) [with T = std::shared_ptr<MySPtr>]âÂÂ
76 | IntrusiveChainIterator& operator= (const IntrusiveChainIterator& oth) {
| ^~~~~~~~
t/intrusive_chain.cc:39:47: note: initializing argument 2 of âÂÂstatic void Test<T>::check_content(Test<T>::CIt, Test<T>::CIt, const T&, Args&& ...) [with Args = {std::shared_ptr<MySPtr>&, std::shared_ptr<MySPtr>&, std::shared_ptr<MySPtr>&, std::shared_ptr<MySPtr>&, std::shared_ptr<MySPtr>&}; T = std::shared_ptr<MySPtr>; Test<T>::CIt = panda::IntrusiveChainIterator<std::shared_ptr<MySPtr> >]âÂÂ
39 | static void check_content (CIt begin, CIt end, const T& v, Args&&... rest) {
| ~~~~^~~
t/intrusive_chain.cc: In instantiation of âÂÂstatic void Test<T>::check_content(Test<T>::CIt, Test<T>::CIt, const T&, Args&& ...) [with Args = {}; T = MyCustom*; Test<T>::CIt = panda::IntrusiveChainIterator<MyCustom*>]âÂÂ:
t/intrusive_chain.cc:49:22: required from âÂÂstatic void Test<T>::check_content(const IC&, Args&& ...) [with Args = {MyCustom*&}; T = MyCustom*; Test<T>::IC = panda::IntrusiveChain<MyCustom*>]âÂÂ
t/intrusive_chain.cc:71:26: required from âÂÂstatic void Test<T>::test(panda::function<T()>) [with T = MyCustom*]âÂÂ
t/intrusive_chain.cc:289:22: required from here
t/intrusive_chain.cc:43:22: warning: implicitly-declared âÂÂconstexpr panda::IntrusiveChainIterator<MyCustom*>::IntrusiveChainIterator(const panda::IntrusiveChainIterator<MyCustom*>&)â is deprecated [-Wdeprecated-copy]
43 | check_content(begin, end, rest...);
| ~~~~~~~~~~~~~^~~~~~~~~~~~~~~~~~~~~
In file included from t/intrusive_chain.cc:4:
src/panda/intrusive_chain.h:76:29: note: because âÂÂpanda::IntrusiveChainIterator<MyCustom*>â has user-provided âÂÂpanda::IntrusiveChainIterator<T>& panda::IntrusiveChainIterator<T>::operator=(const panda::IntrusiveChainIterator<T>&) [with T = MyCustom*]âÂÂ
76 | IntrusiveChainIterator& operator= (const IntrusiveChainIterator& oth) {
| ^~~~~~~~
t/intrusive_chain.cc:34:36: note: initializing argument 1 of âÂÂstatic void Test<T>::check_content(Test<T>::CIt, Test<T>::CIt) [with T = MyCustom*; Test<T>::CIt = panda::IntrusiveChainIterator<MyCustom*>]âÂÂ
34 | static void check_content (CIt begin, CIt end) {
| ~~~~^~~~~
t/intrusive_chain.cc:43:22: warning: implicitly-declared âÂÂconstexpr panda::IntrusiveChainIterator<MyCustom*>::IntrusiveChainIterator(const panda::IntrusiveChainIterator<MyCustom*>&)â is deprecated [-Wdeprecated-copy]
43 | check_content(begin, end, rest...);
| ~~~~~~~~~~~~~^~~~~~~~~~~~~~~~~~~~~
In file included from t/intrusive_chain.cc:4:
src/panda/intrusive_chain.h:76:29: note: because âÂÂpanda::IntrusiveChainIterator<MyCustom*>â has user-provided âÂÂpanda::IntrusiveChainIterator<T>& panda::IntrusiveChainIterator<T>::operator=(const panda::IntrusiveChainIterator<T>&) [with T = MyCustom*]âÂÂ
76 | IntrusiveChainIterator& operator= (const IntrusiveChainIterator& oth) {
| ^~~~~~~~
t/intrusive_chain.cc:34:47: note: initializing argument 2 of âÂÂstatic void Test<T>::check_content(Test<T>::CIt, Test<T>::CIt) [with T = MyCustom*; Test<T>::CIt = panda::IntrusiveChainIterator<MyCustom*>]âÂÂ
34 | static void check_content (CIt begin, CIt end) {
| ~~~~^~~
t/intrusive_chain.cc: In instantiation of âÂÂstatic void Test<T>::check_content(Test<T>::CIt, Test<T>::CIt, const T&, Args&& ...) [with Args = {MyCustom*&}; T = MyCustom*; Test<T>::CIt = panda::IntrusiveChainIterator<MyCustom*>]âÂÂ:
t/intrusive_chain.cc:49:22: required from âÂÂstatic void Test<T>::check_content(const IC&, Args&& ...) [with Args = {MyCustom*&, MyCustom*&}; T = MyCustom*; Test<T>::IC = panda::IntrusiveChain<MyCustom*>]âÂÂ
t/intrusive_chain.cc:73:26: required from âÂÂstatic void Test<T>::test(panda::function<T()>) [with T = MyCustom*]âÂÂ
t/intrusive_chain.cc:289:22: required from here
t/intrusive_chain.cc:43:22: warning: implicitly-declared âÂÂconstexpr panda::IntrusiveChainIterator<MyCustom*>::IntrusiveChainIterator(const panda::IntrusiveChainIterator<MyCustom*>&)â is deprecated [-Wdeprecated-copy]
43 | check_content(begin, end, rest...);
| ~~~~~~~~~~~~~^~~~~~~~~~~~~~~~~~~~~
In file included from t/intrusive_chain.cc:4:
src/panda/intrusive_chain.h:76:29: note: because âÂÂpanda::IntrusiveChainIterator<MyCustom*>â has user-provided âÂÂpanda::IntrusiveChainIterator<T>& panda::IntrusiveChainIterator<T>::operator=(const panda::IntrusiveChainIterator<T>&) [with T = MyCustom*]âÂÂ
76 | IntrusiveChainIterator& operator= (const IntrusiveChainIterator& oth) {
| ^~~~~~~~
t/intrusive_chain.cc:39:36: note: initializing argument 1 of âÂÂstatic void Test<T>::check_content(Test<T>::CIt, Test<T>::CIt, const T&, Args&& ...) [with Args = {}; T = MyCustom*; Test<T>::CIt = panda::IntrusiveChainIterator<MyCustom*>]âÂÂ
39 | static void check_content (CIt begin, CIt end, const T& v, Args&&... rest) {
| ~~~~^~~~~
t/intrusive_chain.cc:43:22: warning: implicitly-declared âÂÂconstexpr panda::IntrusiveChainIterator<MyCustom*>::IntrusiveChainIterator(const panda::IntrusiveChainIterator<MyCustom*>&)â is deprecated [-Wdeprecated-copy]
43 | check_content(begin, end, rest...);
| ~~~~~~~~~~~~~^~~~~~~~~~~~~~~~~~~~~
In file included from t/intrusive_chain.cc:4:
src/panda/intrusive_chain.h:76:29: note: because âÂÂpanda::IntrusiveChainIterator<MyCustom*>â has user-provided âÂÂpanda::IntrusiveChainIterator<T>& panda::IntrusiveChainIterator<T>::operator=(const panda::IntrusiveChainIterator<T>&) [with T = MyCustom*]âÂÂ
76 | IntrusiveChainIterator& operator= (const IntrusiveChainIterator& oth) {
| ^~~~~~~~
t/intrusive_chain.cc:39:47: note: initializing argument 2 of âÂÂstatic void Test<T>::check_content(Test<T>::CIt, Test<T>::CIt, const T&, Args&& ...) [with Args = {}; T = MyCustom*; Test<T>::CIt = panda::IntrusiveChainIterator<MyCustom*>]âÂÂ
39 | static void check_content (CIt begin, CIt end, const T& v, Args&&... rest) {
| ~~~~^~~
t/intrusive_chain.cc: In instantiation of âÂÂstatic void Test<T>::check_content(Test<T>::CIt, Test<T>::CIt, const T&, Args&& ...) [with Args = {MyCustom*&, MyCustom*&}; T = MyCustom*; Test<T>::CIt = panda::IntrusiveChainIterator<MyCustom*>]âÂÂ:
t/intrusive_chain.cc:49:22: required from âÂÂstatic void Test<T>::check_content(const IC&, Args&& ...) [with Args = {MyCustom*&, MyCustom*&, MyCustom*&}; T = MyCustom*; Test<T>::IC = panda::IntrusiveChain<MyCustom*>]âÂÂ
t/intrusive_chain.cc:86:26: required from âÂÂstatic void Test<T>::test(panda::function<T()>) [with T = MyCustom*]âÂÂ
t/intrusive_chain.cc:289:22: required from here
t/intrusive_chain.cc:43:22: warning: implicitly-declared âÂÂconstexpr panda::IntrusiveChainIterator<MyCustom*>::IntrusiveChainIterator(const panda::IntrusiveChainIterator<MyCustom*>&)â is deprecated [-Wdeprecated-copy]
43 | check_content(begin, end, rest...);
| ~~~~~~~~~~~~~^~~~~~~~~~~~~~~~~~~~~
In file included from t/intrusive_chain.cc:4:
src/panda/intrusive_chain.h:76:29: note: because âÂÂpanda::IntrusiveChainIterator<MyCustom*>â has user-provided âÂÂpanda::IntrusiveChainIterator<T>& panda::IntrusiveChainIterator<T>::operator=(const panda::IntrusiveChainIterator<T>&) [with T = MyCustom*]âÂÂ
76 | IntrusiveChainIterator& operator= (const IntrusiveChainIterator& oth) {
| ^~~~~~~~
t/intrusive_chain.cc:39:36: note: initializing argument 1 of âÂÂstatic void Test<T>::check_content(Test<T>::CIt, Test<T>::CIt, const T&, Args&& ...) [with Args = {MyCustom*&}; T = MyCustom*; Test<T>::CIt = panda::IntrusiveChainIterator<MyCustom*>]âÂÂ
39 | static void check_content (CIt begin, CIt end, const T& v, Args&&... rest) {
| ~~~~^~~~~
t/intrusive_chain.cc:43:22: warning: implicitly-declared âÂÂconstexpr panda::IntrusiveChainIterator<MyCustom*>::IntrusiveChainIterator(const panda::IntrusiveChainIterator<MyCustom*>&)â is deprecated [-Wdeprecated-copy]
43 | check_content(begin, end, rest...);
| ~~~~~~~~~~~~~^~~~~~~~~~~~~~~~~~~~~
In file included from t/intrusive_chain.cc:4:
src/panda/intrusive_chain.h:76:29: note: because âÂÂpanda::IntrusiveChainIterator<MyCustom*>â has user-provided âÂÂpanda::IntrusiveChainIterator<T>& panda::IntrusiveChainIterator<T>::operator=(const panda::IntrusiveChainIterator<T>&) [with T = MyCustom*]âÂÂ
76 | IntrusiveChainIterator& operator= (const IntrusiveChainIterator& oth) {
| ^~~~~~~~
t/intrusive_chain.cc:39:47: note: initializing argument 2 of âÂÂstatic void Test<T>::check_content(Test<T>::CIt, Test<T>::CIt, const T&, Args&& ...) [with Args = {MyCustom*&}; T = MyCustom*; Test<T>::CIt = panda::IntrusiveChainIterator<MyCustom*>]âÂÂ
39 | static void check_content (CIt begin, CIt end, const T& v, Args&&... rest) {
| ~~~~^~~
t/intrusive_chain.cc: In instantiation of âÂÂstatic void Test<T>::check_content(Test<T>::CIt, Test<T>::CIt, const T&, Args&& ...) [with Args = {MyCustom*&, MyCustom*&, MyCustom*&}; T = MyCustom*; Test<T>::CIt = panda::IntrusiveChainIterator<MyCustom*>]âÂÂ:
t/intrusive_chain.cc:49:22: required from âÂÂstatic void Test<T>::check_content(const IC&, Args&& ...) [with Args = {MyCustom*&, MyCustom*&, MyCustom*&, MyCustom*&}; T = MyCustom*; Test<T>::IC = panda::IntrusiveChain<MyCustom*>]âÂÂ
t/intrusive_chain.cc:131:26: required from âÂÂstatic void Test<T>::test(panda::function<T()>) [with T = MyCustom*]âÂÂ
t/intrusive_chain.cc:289:22: required from here
t/intrusive_chain.cc:43:22: warning: implicitly-declared âÂÂconstexpr panda::IntrusiveChainIterator<MyCustom*>::IntrusiveChainIterator(const panda::IntrusiveChainIterator<MyCustom*>&)â is deprecated [-Wdeprecated-copy]
43 | check_content(begin, end, rest...);
| ~~~~~~~~~~~~~^~~~~~~~~~~~~~~~~~~~~
In file included from t/intrusive_chain.cc:4:
src/panda/intrusive_chain.h:76:29: note: because âÂÂpanda::IntrusiveChainIterator<MyCustom*>â has user-provided âÂÂpanda::IntrusiveChainIterator<T>& panda::IntrusiveChainIterator<T>::operator=(const panda::IntrusiveChainIterator<T>&) [with T = MyCustom*]âÂÂ
76 | IntrusiveChainIterator& operator= (const IntrusiveChainIterator& oth) {
| ^~~~~~~~
t/intrusive_chain.cc:39:36: note: initializing argument 1 of âÂÂstatic void Test<T>::check_content(Test<T>::CIt, Test<T>::CIt, const T&, Args&& ...) [with Args = {MyCustom*&, MyCustom*&}; T = MyCustom*; Test<T>::CIt = panda::IntrusiveChainIterator<MyCustom*>]âÂÂ
39 | static void check_content (CIt begin, CIt end, const T& v, Args&&... rest) {
| ~~~~^~~~~
t/intrusive_chain.cc:43:22: warning: implicitly-declared âÂÂconstexpr panda::IntrusiveChainIterator<MyCustom*>::IntrusiveChainIterator(const panda::IntrusiveChainIterator<MyCustom*>&)â is deprecated [-Wdeprecated-copy]
43 | check_content(begin, end, rest...);
| ~~~~~~~~~~~~~^~~~~~~~~~~~~~~~~~~~~
In file included from t/intrusive_chain.cc:4:
src/panda/intrusive_chain.h:76:29: note: because âÂÂpanda::IntrusiveChainIterator<MyCustom*>â has user-provided âÂÂpanda::IntrusiveChainIterator<T>& panda::IntrusiveChainIterator<T>::operator=(const panda::IntrusiveChainIterator<T>&) [with T = MyCustom*]âÂÂ
76 | IntrusiveChainIterator& operator= (const IntrusiveChainIterator& oth) {
| ^~~~~~~~
t/intrusive_chain.cc:39:47: note: initializing argument 2 of âÂÂstatic void Test<T>::check_content(Test<T>::CIt, Test<T>::CIt, const T&, Args&& ...) [with Args = {MyCustom*&, MyCustom*&}; T = MyCustom*; Test<T>::CIt = panda::IntrusiveChainIterator<MyCustom*>]âÂÂ
39 | static void check_content (CIt begin, CIt end, const T& v, Args&&... rest) {
| ~~~~^~~
t/intrusive_chain.cc: In instantiation of âÂÂstatic void Test<T>::check_content(Test<T>::CIt, Test<T>::CIt, const T&, Args&& ...) [with Args = {MyCustom*&, MyCustom*&, MyCustom*&, MyCustom*&}; T = MyCustom*; Test<T>::CIt = panda::IntrusiveChainIterator<MyCustom*>]âÂÂ:
t/intrusive_chain.cc:49:22: required from âÂÂstatic void Test<T>::check_content(const IC&, Args&& ...) [with Args = {MyCustom*&, MyCustom*&, MyCustom*&, MyCustom*&, MyCustom*&}; T = MyCustom*; Test<T>::IC = panda::IntrusiveChain<MyCustom*>]âÂÂ
t/intrusive_chain.cc:135:26: required from âÂÂstatic void Test<T>::test(panda::function<T()>) [with T = MyCustom*]âÂÂ
t/intrusive_chain.cc:289:22: required from here
t/intrusive_chain.cc:43:22: warning: implicitly-declared âÂÂconstexpr panda::IntrusiveChainIterator<MyCustom*>::IntrusiveChainIterator(const panda::IntrusiveChainIterator<MyCustom*>&)â is deprecated [-Wdeprecated-copy]
43 | check_content(begin, end, rest...);
| ~~~~~~~~~~~~~^~~~~~~~~~~~~~~~~~~~~
In file included from t/intrusive_chain.cc:4:
src/panda/intrusive_chain.h:76:29: note: because âÂÂpanda::IntrusiveChainIterator<MyCustom*>â has user-provided âÂÂpanda::IntrusiveChainIterator<T>& panda::IntrusiveChainIterator<T>::operator=(const panda::IntrusiveChainIterator<T>&) [with T = MyCustom*]âÂÂ
76 | IntrusiveChainIterator& operator= (const IntrusiveChainIterator& oth) {
| ^~~~~~~~
t/intrusive_chain.cc:39:36: note: initializing argument 1 of âÂÂstatic void Test<T>::check_content(Test<T>::CIt, Test<T>::CIt, const T&, Args&& ...) [with Args = {MyCustom*&, MyCustom*&, MyCustom*&}; T = MyCustom*; Test<T>::CIt = panda::IntrusiveChainIterator<MyCustom*>]âÂÂ
39 | static void check_content (CIt begin, CIt end, const T& v, Args&&... rest) {
| ~~~~^~~~~
t/intrusive_chain.cc:43:22: warning: implicitly-declared âÂÂconstexpr panda::IntrusiveChainIterator<MyCustom*>::IntrusiveChainIterator(const panda::IntrusiveChainIterator<MyCustom*>&)â is deprecated [-Wdeprecated-copy]
43 | check_content(begin, end, rest...);
| ~~~~~~~~~~~~~^~~~~~~~~~~~~~~~~~~~~
In file included from t/intrusive_chain.cc:4:
src/panda/intrusive_chain.h:76:29: note: because âÂÂpanda::IntrusiveChainIterator<MyCustom*>â has user-provided âÂÂpanda::IntrusiveChainIterator<T>& panda::IntrusiveChainIterator<T>::operator=(const panda::IntrusiveChainIterator<T>&) [with T = MyCustom*]âÂÂ
76 | IntrusiveChainIterator& operator= (const IntrusiveChainIterator& oth) {
| ^~~~~~~~
t/intrusive_chain.cc:39:47: note: initializing argument 2 of âÂÂstatic void Test<T>::check_content(Test<T>::CIt, Test<T>::CIt, const T&, Args&& ...) [with Args = {MyCustom*&, MyCustom*&, MyCustom*&}; T = MyCustom*; Test<T>::CIt = panda::IntrusiveChainIterator<MyCustom*>]âÂÂ
39 | static void check_content (CIt begin, CIt end, const T& v, Args&&... rest) {
| ~~~~^~~
t/intrusive_chain.cc: In instantiation of âÂÂstatic void Test<T>::check_content(Test<T>::CIt, Test<T>::CIt, const T&, Args&& ...) [with Args = {MyCustom*&, MyCustom*&, MyCustom*&, MyCustom*&, MyCustom*&}; T = MyCustom*; Test<T>::CIt = panda::IntrusiveChainIterator<MyCustom*>]âÂÂ:
t/intrusive_chain.cc:49:22: required from âÂÂstatic void Test<T>::check_content(const IC&, Args&& ...) [with Args = {MyCustom*&, MyCustom*&, MyCustom*&, MyCustom*&, MyCustom*&, MyCustom*&}; T = MyCustom*; Test<T>::IC = panda::IntrusiveChain<MyCustom*>]âÂÂ
t/intrusive_chain.cc:138:26: required from âÂÂstatic void Test<T>::test(panda::function<T()>) [with T = MyCustom*]âÂÂ
t/intrusive_chain.cc:289:22: required from here
t/intrusive_chain.cc:43:22: warning: implicitly-declared âÂÂconstexpr panda::IntrusiveChainIterator<MyCustom*>::IntrusiveChainIterator(const panda::IntrusiveChainIterator<MyCustom*>&)â is deprecated [-Wdeprecated-copy]
43 | check_content(begin, end, rest...);
| ~~~~~~~~~~~~~^~~~~~~~~~~~~~~~~~~~~
In file included from t/intrusive_chain.cc:4:
src/panda/intrusive_chain.h:76:29: note: because âÂÂpanda::IntrusiveChainIterator<MyCustom*>â has user-provided âÂÂpanda::IntrusiveChainIterator<T>& panda::IntrusiveChainIterator<T>::operator=(const panda::IntrusiveChainIterator<T>&) [with T = MyCustom*]âÂÂ
76 | IntrusiveChainIterator& operator= (const IntrusiveChainIterator& oth) {
| ^~~~~~~~
t/intrusive_chain.cc:39:36: note: initializing argument 1 of âÂÂstatic void Test<T>::check_content(Test<T>::CIt, Test<T>::CIt, const T&, Args&& ...) [with Args = {MyCustom*&, MyCustom*&, MyCustom*&, MyCustom*&}; T = MyCustom*; Test<T>::CIt = panda::IntrusiveChainIterator<MyCustom*>]âÂÂ
39 | static void check_content (CIt begin, CIt end, const T& v, Args&&... rest) {
| ~~~~^~~~~
t/intrusive_chain.cc:43:22: warning: implicitly-declared âÂÂconstexpr panda::IntrusiveChainIterator<MyCustom*>::IntrusiveChainIterator(const panda::IntrusiveChainIterator<MyCustom*>&)â is deprecated [-Wdeprecated-copy]
43 | check_content(begin, end, rest...);
| ~~~~~~~~~~~~~^~~~~~~~~~~~~~~~~~~~~
In file included from t/intrusive_chain.cc:4:
src/panda/intrusive_chain.h:76:29: note: because âÂÂpanda::IntrusiveChainIterator<MyCustom*>â has user-provided âÂÂpanda::IntrusiveChainIterator<T>& panda::IntrusiveChainIterator<T>::operator=(const panda::IntrusiveChainIterator<T>&) [with T = MyCustom*]âÂÂ
76 | IntrusiveChainIterator& operator= (const IntrusiveChainIterator& oth) {
| ^~~~~~~~
t/intrusive_chain.cc:39:47: note: initializing argument 2 of âÂÂstatic void Test<T>::check_content(Test<T>::CIt, Test<T>::CIt, const T&, Args&& ...) [with Args = {MyCustom*&, MyCustom*&, MyCustom*&, MyCustom*&}; T = MyCustom*; Test<T>::CIt = panda::IntrusiveChainIterator<MyCustom*>]âÂÂ
39 | static void check_content (CIt begin, CIt end, const T& v, Args&&... rest) {
| ~~~~^~~
t/intrusive_chain.cc: In instantiation of âÂÂstatic void Test<T>::check_content(Test<T>::CIt, Test<T>::CIt, const T&, Args&& ...) [with Args = {MyCustom*&, MyCustom*&, MyCustom*&, MyCustom*&, MyCustom*&, MyCustom*&}; T = MyCustom*; Test<T>::CIt = panda::IntrusiveChainIterator<MyCustom*>]âÂÂ:
t/intrusive_chain.cc:49:22: required from âÂÂstatic void Test<T>::check_content(const IC&, Args&& ...) [with Args = {MyCustom*&, MyCustom*&, MyCustom*&, MyCustom*&, MyCustom*&, MyCustom*&, MyCustom*&}; T = MyCustom*; Test<T>::IC = panda::IntrusiveChain<MyCustom*>]âÂÂ
t/intrusive_chain.cc:141:26: required from âÂÂstatic void Test<T>::test(panda::function<T()>) [with T = MyCustom*]âÂÂ
t/intrusive_chain.cc:289:22: required from here
t/intrusive_chain.cc:43:22: warning: implicitly-declared âÂÂconstexpr panda::IntrusiveChainIterator<MyCustom*>::IntrusiveChainIterator(const panda::IntrusiveChainIterator<MyCustom*>&)â is deprecated [-Wdeprecated-copy]
43 | check_content(begin, end, rest...);
| ~~~~~~~~~~~~~^~~~~~~~~~~~~~~~~~~~~
In file included from t/intrusive_chain.cc:4:
src/panda/intrusive_chain.h:76:29: note: because âÂÂpanda::IntrusiveChainIterator<MyCustom*>â has user-provided âÂÂpanda::IntrusiveChainIterator<T>& panda::IntrusiveChainIterator<T>::operator=(const panda::IntrusiveChainIterator<T>&) [with T = MyCustom*]âÂÂ
76 | IntrusiveChainIterator& operator= (const IntrusiveChainIterator& oth) {
| ^~~~~~~~
t/intrusive_chain.cc:39:36: note: initializing argument 1 of âÂÂstatic void Test<T>::check_content(Test<T>::CIt, Test<T>::CIt, const T&, Args&& ...) [with Args = {MyCustom*&, MyCustom*&, MyCustom*&, MyCustom*&, MyCustom*&}; T = MyCustom*; Test<T>::CIt = panda::IntrusiveChainIterator<MyCustom*>]âÂÂ
39 | static void check_content (CIt begin, CIt end, const T& v, Args&&... rest) {
| ~~~~^~~~~
t/intrusive_chain.cc:43:22: warning: implicitly-declared âÂÂconstexpr panda::IntrusiveChainIterator<MyCustom*>::IntrusiveChainIterator(const panda::IntrusiveChainIterator<MyCustom*>&)â is deprecated [-Wdeprecated-copy]
43 | check_content(begin, end, rest...);
| ~~~~~~~~~~~~~^~~~~~~~~~~~~~~~~~~~~
In file included from t/intrusive_chain.cc:4:
src/panda/intrusive_chain.h:76:29: note: because âÂÂpanda::IntrusiveChainIterator<MyCustom*>â has user-provided âÂÂpanda::IntrusiveChainIterator<T>& panda::IntrusiveChainIterator<T>::operator=(const panda::IntrusiveChainIterator<T>&) [with T = MyCustom*]âÂÂ
76 | IntrusiveChainIterator& operator= (const IntrusiveChainIterator& oth) {
| ^~~~~~~~
t/intrusive_chain.cc:39:47: note: initializing argument 2 of âÂÂstatic void Test<T>::check_content(Test<T>::CIt, Test<T>::CIt, const T&, Args&& ...) [with Args = {MyCustom*&, MyCustom*&, MyCustom*&, MyCustom*&, MyCustom*&}; T = MyCustom*; Test<T>::CIt = panda::IntrusiveChainIterator<MyCustom*>]âÂÂ
39 | static void check_content (CIt begin, CIt end, const T& v, Args&&... rest) {
| ~~~~^~~
c++ -c -Isrc -I/home/cpansand/.cpan/build/2019123022/XS-Install-1.2.12-5/blib/lib/XS/Install.x/i -I/home/cpansand/.cpan/build/2019123022/CPP-catch-1.0.8-3/blib/lib/CPP/catch.x/i -D_REENTRANT -D_GNU_SOURCE -fwrapv -fno-strict-aliasing -pipe -fstack-protector-strong -I/usr/local/include -D_LARGEFILE_SOURCE -D_FILE_OFFSET_BITS=64 -Wall -Wextra -std=c++14 -o t/iptr.o -O0 -DVERSION=\"0.0.0\" -DXS_VERSION=\"0.0.0\" -fPIC "-I/opt/perl-5.28.2t/lib/5.28.2/x86_64-linux-thread-multi/CORE" t/iptr.cc
c++ -c -Isrc -I/home/cpansand/.cpan/build/2019123022/XS-Install-1.2.12-5/blib/lib/XS/Install.x/i -I/home/cpansand/.cpan/build/2019123022/CPP-catch-1.0.8-3/blib/lib/CPP/catch.x/i -D_REENTRANT -D_GNU_SOURCE -fwrapv -fno-strict-aliasing -pipe -fstack-protector-strong -I/usr/local/include -D_LARGEFILE_SOURCE -D_FILE_OFFSET_BITS=64 -Wall -Wextra -std=c++14 -o t/owning_list.o -O0 -DVERSION=\"0.0.0\" -DXS_VERSION=\"0.0.0\" -fPIC "-I/opt/perl-5.28.2t/lib/5.28.2/x86_64-linux-thread-multi/CORE" t/owning_list.cc
c++ -c -Isrc -I/home/cpansand/.cpan/build/2019123022/XS-Install-1.2.12-5/blib/lib/XS/Install.x/i -I/home/cpansand/.cpan/build/2019123022/CPP-catch-1.0.8-3/blib/lib/CPP/catch.x/i -D_REENTRANT -D_GNU_SOURCE -fwrapv -fno-strict-aliasing -pipe -fstack-protector-strong -I/usr/local/include -D_LARGEFILE_SOURCE -D_FILE_OFFSET_BITS=64 -Wall -Wextra -std=c++14 -o t/string_char.o -O0 -DVERSION=\"0.0.0\" -DXS_VERSION=\"0.0.0\" -fPIC "-I/opt/perl-5.28.2t/lib/5.28.2/x86_64-linux-thread-multi/CORE" t/string_char.cc
c++ -c -Isrc -I/home/cpansand/.cpan/build/2019123022/XS-Install-1.2.12-5/blib/lib/XS/Install.x/i -I/home/cpansand/.cpan/build/2019123022/CPP-catch-1.0.8-3/blib/lib/CPP/catch.x/i -D_REENTRANT -D_GNU_SOURCE -fwrapv -fno-strict-aliasing -pipe -fstack-protector-strong -I/usr/local/include -D_LARGEFILE_SOURCE -D_FILE_OFFSET_BITS=64 -Wall -Wextra -std=c++14 -o t/string_char16.o -O0 -DVERSION=\"0.0.0\" -DXS_VERSION=\"0.0.0\" -fPIC "-I/opt/perl-5.28.2t/lib/5.28.2/x86_64-linux-thread-multi/CORE" t/string_char16.cc
c++ -c -Isrc -I/home/cpansand/.cpan/build/2019123022/XS-Install-1.2.12-5/blib/lib/XS/Install.x/i -I/home/cpansand/.cpan/build/2019123022/CPP-catch-1.0.8-3/blib/lib/CPP/catch.x/i -D_REENTRANT -D_GNU_SOURCE -fwrapv -fno-strict-aliasing -pipe -fstack-protector-strong -I/usr/local/include -D_LARGEFILE_SOURCE -D_FILE_OFFSET_BITS=64 -Wall -Wextra -std=c++14 -o t/string_char32.o -O0 -DVERSION=\"0.0.0\" -DXS_VERSION=\"0.0.0\" -fPIC "-I/opt/perl-5.28.2t/lib/5.28.2/x86_64-linux-thread-multi/CORE" t/string_char32.cc
c++ -c -Isrc -I/home/cpansand/.cpan/build/2019123022/XS-Install-1.2.12-5/blib/lib/XS/Install.x/i -I/home/cpansand/.cpan/build/2019123022/CPP-catch-1.0.8-3/blib/lib/CPP/catch.x/i -D_REENTRANT -D_GNU_SOURCE -fwrapv -fno-strict-aliasing -pipe -fstack-protector-strong -I/usr/local/include -D_LARGEFILE_SOURCE -D_FILE_OFFSET_BITS=64 -Wall -Wextra -std=c++14 -o t/string_containers.o -O0 -DVERSION=\"0.0.0\" -DXS_VERSION=\"0.0.0\" -fPIC "-I/opt/perl-5.28.2t/lib/5.28.2/x86_64-linux-thread-multi/CORE" t/string_containers.cc
c++ -c -Isrc -I/home/cpansand/.cpan/build/2019123022/XS-Install-1.2.12-5/blib/lib/XS/Install.x/i -I/home/cpansand/.cpan/build/2019123022/CPP-catch-1.0.8-3/blib/lib/CPP/catch.x/i -D_REENTRANT -D_GNU_SOURCE -fwrapv -fno-strict-aliasing -pipe -fstack-protector-strong -I/usr/local/include -D_LARGEFILE_SOURCE -D_FILE_OFFSET_BITS=64 -Wall -Wextra -std=c++14 -o t/string_wchar.o -O0 -DVERSION=\"0.0.0\" -DXS_VERSION=\"0.0.0\" -fPIC "-I/opt/perl-5.28.2t/lib/5.28.2/x86_64-linux-thread-multi/CORE" t/string_wchar.cc
c++ -c -Isrc -I/home/cpansand/.cpan/build/2019123022/XS-Install-1.2.12-5/blib/lib/XS/Install.x/i -I/home/cpansand/.cpan/build/2019123022/CPP-catch-1.0.8-3/blib/lib/CPP/catch.x/i -D_REENTRANT -D_GNU_SOURCE -fwrapv -fno-strict-aliasing -pipe -fstack-protector-strong -I/usr/local/include -D_LARGEFILE_SOURCE -D_FILE_OFFSET_BITS=64 -Wall -Wextra -std=c++14 -o t/test.o -O0 -DVERSION=\"0.0.0\" -DXS_VERSION=\"0.0.0\" -fPIC "-I/opt/perl-5.28.2t/lib/5.28.2/x86_64-linux-thread-multi/CORE" t/test.cc
c++ -c -Isrc -I/home/cpansand/.cpan/build/2019123022/XS-Install-1.2.12-5/blib/lib/XS/Install.x/i -I/home/cpansand/.cpan/build/2019123022/CPP-catch-1.0.8-3/blib/lib/CPP/catch.x/i -D_REENTRANT -D_GNU_SOURCE -fwrapv -fno-strict-aliasing -pipe -fstack-protector-strong -I/usr/local/include -D_LARGEFILE_SOURCE -D_FILE_OFFSET_BITS=64 -Wall -Wextra -std=c++14 -o t/to_chars.o -O0 -DVERSION=\"0.0.0\" -DXS_VERSION=\"0.0.0\" -fPIC "-I/opt/perl-5.28.2t/lib/5.28.2/x86_64-linux-thread-multi/CORE" t/to_chars.cc
c++ -c -Isrc -I/home/cpansand/.cpan/build/2019123022/XS-Install-1.2.12-5/blib/lib/XS/Install.x/i -I/home/cpansand/.cpan/build/2019123022/CPP-catch-1.0.8-3/blib/lib/CPP/catch.x/i -D_REENTRANT -D_GNU_SOURCE -fwrapv -fno-strict-aliasing -pipe -fstack-protector-strong -I/usr/local/include -D_LARGEFILE_SOURCE -D_FILE_OFFSET_BITS=64 -Wall -Wextra -std=c++14 -o t/traits.o -O0 -DVERSION=\"0.0.0\" -DXS_VERSION=\"0.0.0\" -fPIC "-I/opt/perl-5.28.2t/lib/5.28.2/x86_64-linux-thread-multi/CORE" t/traits.cc
c++ -c -Isrc -I/home/cpansand/.cpan/build/2019123022/XS-Install-1.2.12-5/blib/lib/XS/Install.x/i -I/home/cpansand/.cpan/build/2019123022/CPP-catch-1.0.8-3/blib/lib/CPP/catch.x/i -D_REENTRANT -D_GNU_SOURCE -fwrapv -fno-strict-aliasing -pipe -fstack-protector-strong -I/usr/local/include -D_LARGEFILE_SOURCE -D_FILE_OFFSET_BITS=64 -Wall -Wextra -std=c++14 -o t/varint.o -O0 -DVERSION=\"0.0.0\" -DXS_VERSION=\"0.0.0\" -fPIC "-I/opt/perl-5.28.2t/lib/5.28.2/x86_64-linux-thread-multi/CORE" t/varint.cc
Running Mkbootstrap for MyTest ()
chmod 644 "MyTest.bs"
"/opt/perl-5.28.2t/bin/perl" -MExtUtils::Command::MM -e 'cp_nonempty' -- MyTest.bs blib/arch/auto/MyTest/MyTest.bs 644
rm -f blib/arch/auto/MyTest/MyTest.so
c++ -shared -O2 -L/usr/local/lib -fstack-protector-strong t/bench.o t/dispatcher.o t/endian.o t/error.o t/excepted.o t/exception.o t/from_chars.o t/function.o t/intrusive_chain.o t/iptr.o t/owning_list.o t/string_char.o t/string_char16.o t/string_char32.o t/string_containers.o t/string_wchar.o t/test.o t/to_chars.o t/traits.o t/varint.o blib/arch/auto/CPP/panda/lib/lib.so -o blib/arch/auto/MyTest/MyTest.so \
\
chmod 755 blib/arch/auto/MyTest/MyTest.so
Manifying 1 pod document
PERL_DL_NONLAZY=1 "/opt/perl-5.28.2t/bin/perl" "-MExtUtils::Command::MM" "-MTest::Harness" "-e" "undef *Test::Harness::Switches; test_harness(0, 'blib/lib', 'blib/arch')" t/*.t
t/dispatcher.t ......... ok
t/endian.t ............. ok
t/error.t .............. ok
t/excepted.t ........... ok
t/exception.t .......... skipped: set TEST_FULL=1 to enable this test
t/from_chars.t ......... ok
t/function.t ........... ok
t/intrusive_chain.t .... ok
t/iptr.t ............... ok
t/owning_list.t ........ ok
t/string_char.t ........ ok
t/string_char16.t ...... ok
t/string_char32.t ...... ok
t/string_containers.t .. ok
t/string_wchar.t ....... ok
t/to_chars.t ........... ok
t/traits.t ............. ok
t/varint.t ............. ok
All tests successful.
Files=18, Tests=103, 2 wallclock secs ( 0.97 usr 0.04 sys + 1.90 cusr 0.29 csys = 3.20 CPU)
Result: PASS
------------------------------
PREREQUISITES
------------------------------
Prerequisite modules loaded:
requires:
Module Need Have
------------ -------- --------
perl 5.012000 5.028002
XS::Install v1.2.12 1.2.12
build_requires:
Module Need Have
------------ -------- --------
CPP::catch v1.0.8 1.0.8
Test::Catch v1.0.10 1.0.10
Test::Deep 0 1.128
Test::More 0 1.302133
Test::Simple 0.96 1.302133
configure_requires:
Module Need Have
------------ -------- --------
CPP::catch v1.0.8 1.0.8
Test::Catch v1.0.10 1.0.10
XS::Install v1.2.12 1.2.12
------------------------------
ENVIRONMENT AND OTHER CONTEXT
------------------------------
Environment variables:
LANG = en_US.UTF-8
PATH = /usr/local/bin:/usr/bin:/bin:/usr/local/sbin:/usr/sbin:/sbin:/home/cpansand/bin/linux-gnu:/home/cpansand/bin/sh:/home/cpansand/bin:/usr/games:/home/cpansand/devel:/home/eserte/src/srezic-misc/scripts
PERL5LIB = /home/cpansand/.cpan/build/2019123022/Test-Catch-1.0.10-3/blib/arch:/home/cpansand/.cpan/build/2019123022/Test-Catch-1.0.10-3/blib/lib:/home/cpansand/.cpan/build/2019123022/CPP-catch-1.0.8-3/blib/arch:/home/cpansand/.cpan/build/2019123022/CPP-catch-1.0.8-3/blib/lib:/home/cpansand/.cpan/build/2019123022/XS-Install-1.2.12-5/blib/arch:/home/cpansand/.cpan/build/2019123022/XS-Install-1.2.12-5/blib/lib
PERL5OPT =
PERL5_CPANPLUS_IS_RUNNING = 1740917
PERL5_CPAN_IS_RUNNING = 1740917
PERL5_CPAN_IS_RUNNING_IN_RECURSION = 1680397,1740917
PERLDOC = -MPod::Perldoc::ToTextOverstrike
PERL_BATCH = yes
PERL_CANARY_STABILITY_NOPROMPT = 1
PERL_CPAN_REPORTER_CONFIG = /var/tmp/cpansmoker-1023/2019123021/cpanreporter_000_config.ini
PERL_EXTUTILS_AUTOINSTALL = --defaultdeps
PERL_USE_UNSAFE_INC = 1
SHELL = /usr/bin/zsh
TERM = screen
TMPDIR = /var/tmp/cpansmoker-1023/2019123021
Perl special variables (and OS-specific diagnostics, for MSWin32):
$^X = /opt/perl-5.28.2t/bin/perl
$UID/$EUID = 1023 / 1023
$GID = 1023 1023
$EGID = 1023 1023
Perl module toolchain versions installed:
Module Have
------------------- --------
CPAN 2.20
CPAN::Meta 2.150010
Cwd 3.74
ExtUtils::CBuilder 0.280230
ExtUtils::Command 7.34
ExtUtils::Install 2.14
ExtUtils::MakeMaker 7.34
ExtUtils::Manifest 1.70
ExtUtils::ParseXS 3.39
File::Spec 3.74
JSON n/a
JSON::PP 2.97001
Module::Build 0.4229
Module::Signature n/a
Parse::CPAN::Meta 2.150010
Test::Harness 3.42
Test::More 1.302133
YAML 1.27
YAML::Syck 1.31
version 0.9923
--
Summary of my perl5 (revision 5 version 28 subversion 2) configuration:
Platform:
osname=linux
osvers=5.0.7-100.fc28.x86_64
archname=x86_64-linux-thread-multi
uname='linux fedora-4gb-hel1-1 5.0.7-100.fc28.x86_64 #1 smp mon apr 8 16:46:50 utc 2019 x86_64 x86_64 x86_64 gnulinux '
config_args='-ds -e -Dprefix=/opt/perl-5.28.2t -Dusethreads -Dcf_email=srezic@cpan.org'
hint=recommended
useposix=true
d_sigaction=define
useithreads=define
usemultiplicity=define
use64bitint=define
use64bitall=define
uselongdouble=undef
usemymalloc=n
default_inc_excludes_dot=define
bincompat5005=undef
Compiler:
cc='cc'
ccflags ='-D_REENTRANT -D_GNU_SOURCE -fwrapv -fno-strict-aliasing -pipe -fstack-protector-strong -I/usr/local/include -D_LARGEFILE_SOURCE -D_FILE_OFFSET_BITS=64'
optimize='-O2'
cppflags='-D_REENTRANT -D_GNU_SOURCE -fwrapv -fno-strict-aliasing -pipe -fstack-protector-strong -I/usr/local/include'
ccversion=''
gccversion='8.3.1 20190223 (Red Hat 8.3.1-2)'
gccosandvers=''
intsize=4
longsize=8
ptrsize=8
doublesize=8
byteorder=12345678
doublekind=3
d_longlong=define
longlongsize=8
d_longdbl=define
longdblsize=16
longdblkind=3
ivtype='long'
ivsize=8
nvtype='double'
nvsize=8
Off_t='off_t'
lseeksize=8
alignbytes=8
prototype=define
Linker and Libraries:
ld='cc'
ldflags =' -fstack-protector-strong -L/usr/local/lib'
libpth=/usr/local/lib /usr/lib /lib/../lib64 /usr/lib/../lib64 /lib /lib64 /usr/lib64 /usr/local/lib64
libs=-lpthread -ldb -ldl -lm -lcrypt -lutil -lc
perllibs=-lpthread -ldl -lm -lcrypt -lutil -lc
libc=libc-2.27.so
so=so
useshrplib=false
libperl=libperl.a
gnulibc_version='2.27'
Dynamic Linking:
dlsrc=dl_dlopen.xs
dlext=so
d_dlsymun=undef
ccdlflags='-Wl,-E'
cccdlflags='-fPIC'
lddlflags='-shared -O2 -L/usr/local/lib -fstack-protector-strong'
Characteristics of this binary (from libperl):
Compile-time options:
HAS_TIMES
MULTIPLICITY
PERLIO_LAYERS
PERL_COPY_ON_WRITE
PERL_DONT_CREATE_GVSV
PERL_IMPLICIT_CONTEXT
PERL_MALLOC_WRAP
PERL_OP_PARENT
PERL_PRESERVE_IVUV
USE_64_BIT_ALL
USE_64_BIT_INT
USE_ITHREADS
USE_LARGE_FILES
USE_LOCALE
USE_LOCALE_COLLATE
USE_LOCALE_CTYPE
USE_LOCALE_NUMERIC
USE_LOCALE_TIME
USE_PERLIO
USE_PERL_ATOF
USE_REENTRANT_API
Built under linux
Compiled at Apr 20 2019 07:45:19
%ENV:
PERL5LIB="/home/cpansand/.cpan/build/2019123022/Test-Catch-1.0.10-3/blib/arch:/home/cpansand/.cpan/build/2019123022/Test-Catch-1.0.10-3/blib/lib:/home/cpansand/.cpan/build/2019123022/CPP-catch-1.0.8-3/blib/arch:/home/cpansand/.cpan/build/2019123022/CPP-catch-1.0.8-3/blib/lib:/home/cpansand/.cpan/build/2019123022/XS-Install-1.2.12-5/blib/arch:/home/cpansand/.cpan/build/2019123022/XS-Install-1.2.12-5/blib/lib"
PERL5OPT=""
PERL5_CPANPLUS_IS_RUNNING="1740917"
PERL5_CPAN_IS_RUNNING="1740917"
PERL5_CPAN_IS_RUNNING_IN_RECURSION="1680397,1740917"
PERLDOC="-MPod::Perldoc::ToTextOverstrike"
PERL_BATCH="yes"
PERL_CANARY_STABILITY_NOPROMPT="1"
PERL_CPAN_REPORTER_CONFIG="/var/tmp/cpansmoker-1023/2019123021/cpanreporter_000_config.ini"
PERL_EXTUTILS_AUTOINSTALL="--defaultdeps"
PERL_USE_UNSAFE_INC="1"
@INC:
/home/cpansand/.cpan/build/2019123022/Test-Catch-1.0.10-3/blib/arch
/home/cpansand/.cpan/build/2019123022/Test-Catch-1.0.10-3/blib/lib
/home/cpansand/.cpan/build/2019123022/CPP-catch-1.0.8-3/blib/arch
/home/cpansand/.cpan/build/2019123022/CPP-catch-1.0.8-3/blib/lib
/home/cpansand/.cpan/build/2019123022/XS-Install-1.2.12-5/blib/arch
/home/cpansand/.cpan/build/2019123022/XS-Install-1.2.12-5/blib/lib
/opt/perl-5.28.2t/lib/site_perl/5.28.2/x86_64-linux-thread-multi
/opt/perl-5.28.2t/lib/site_perl/5.28.2
/opt/perl-5.28.2t/lib/5.28.2/x86_64-linux-thread-multi
/opt/perl-5.28.2t/lib/5.28.2
.