Time-Zone-Olson v0.46 Perl 5 v5.39.4 OpenBSD.amd64-openbsd-thread-multi

Status
Pass
From
Carlos Guevara
Dist
Time-Zone-Olson v0.46
Platform
Perl 5 v5.39.4 OpenBSD.amd64-openbsd-thread-multi
Date
2023-10-04 18:18:31
ID
6c6036a4-62e2-11ee-8b32-8eba9f1f60b6
This distribution has been tested as part of the CPAN Testers
project, supporting the Perl programming language.  See
http://wiki.cpantesters.org/ for more information or email
questions to cpan-testers-discuss@perl.org


--
Dear David Dick,

This is a computer-generated report for Time-Zone-Olson-0.46
on perl 5.39.4, created by CPAN-Reporter-1.2019.

Thank you for uploading your work to CPAN.  Congratulations!
All tests were successful.

Sections of this report:

    * Tester comments
    * Program output
    * Prerequisites
    * Environment and other context

------------------------------
TESTER COMMENTS
------------------------------

Additional comments from tester:

this report is from an automated smoke testing program
and was not reviewed by a human for accuracy

------------------------------
PROGRAM OUTPUT
------------------------------

Output from '/usr/bin/make test':

PERL_DL_NONLAZY=1 "/home/cpan/bin/perl/bin/perl5.39.4" "-MExtUtils::Command::MM" "-MTest::Harness" "-e" "undef *Test::Harness::Switches; test_harness(0, 'blib/lib', 'blib/arch')" t/*.t
# Testing Time::Zone::Olson 0.46, Perl 5.039004, /home/cpan/bin/perl/bin/perl5.39.4
t/00-load.t ........... ok
t/boilerplate.t ....... ok
t/manifest.t .......... skipped: Author tests not required for installation
t/pod-coverage.t ...... skipped: Test::Pod::Coverage 1.08 required for testing POD coverage
t/pod.t ............... skipped: Test::Pod 1.22 required for testing POD
# Checking https://raw.githubusercontent.com/unicode-org/cldr/master/common/supplemental/windowsZones.xml
# Failed to download https://raw.githubusercontent.com/unicode-org/cldr/master/common/supplemental/windowsZones.xml:501 Protocol scheme 'https' is not supported (LWP::Protocol::https not installed)
t/windows_zones.t ..... ok
# Olson tz directory is /usr/share/zoneinfo for openbsd
# Local timezone has been determined to be America/New_York
# Local timezone was determined using /etc/localtime
# lrwxr-xr-x  1 root  wheel  36 Sep  6 21:51 /etc/localtime -> /usr/share/zoneinfo/America/New_York
# Comment for 'Australia/Melbourne' is 'Victoria'
# /usr/share/zoneinfo/America/New_York  Sun Mar 12 06:59:59 2023 UTC = Sun Mar 12 01:59:59 2023 EST isdst=0
# /usr/share/zoneinfo/America/New_York  Sun Mar 12 07:00:00 2023 UTC = Sun Mar 12 03:00:00 2023 EDT isdst=1
# /usr/share/zoneinfo/America/New_York  Sun Nov  5 05:59:59 2023 UTC = Sun Nov  5 01:59:59 2023 EDT isdst=1
# /usr/share/zoneinfo/America/New_York  Sun Nov  5 06:00:00 2023 UTC = Sun Nov  5 01:00:00 2023 EST isdst=0
# /usr/share/zoneinfo/America/New_York  Sun Mar 10 06:59:59 2024 UTC = Sun Mar 10 01:59:59 2024 EST isdst=0
# /usr/share/zoneinfo/America/New_York  Sun Mar 10 07:00:00 2024 UTC = Sun Mar 10 03:00:00 2024 EDT isdst=1
# /usr/share/zoneinfo/America/New_York  Sun Nov  3 05:59:59 2024 UTC = Sun Nov  3 01:59:59 2024 EDT isdst=1
# /usr/share/zoneinfo/America/New_York  Sun Nov  3 06:00:00 2024 UTC = Sun Nov  3 01:00:00 2024 EST isdst=0
# /usr/share/zoneinfo/America/New_York  9223372036854689407 = NULL
# /usr/share/zoneinfo/America/New_York  9223372036854775807 = NULL
# bsd test of early date:1901/03/01 09:59:59 AEST
t/zoneinfo_all.t ...... ok
# Determined timezone is America/New_York
# TZDIR has not been set
# Output of gnu date command:date: unknown option -- d
# usage: date [-aju] [-f pformat] [-r seconds]
# 	[-z output_zone] [+format] [[[[[[cc]yy]mm]dd]HH]MM[.SS]]
# Output of bsd date command:2015/02/28 11:00:00
# Results of unpack:
# Local timezone has been determined to be America/New_York
t/zoneinfo_current.t .. ok
t/zoneinfo_taint.t .... ok
t/zoneinfo_tz_env.t ... ok
All tests successful.
Files=10, Tests=3708, 16 wallclock secs ( 0.59 usr  0.07 sys +  5.96 cusr  8.63 csys = 15.25 CPU)
Result: PASS

------------------------------
PREREQUISITES
------------------------------

Prerequisite modules loaded:

requires:

    Module               Need  Have    
    -------------------- ----- --------
    Carp                 0     1.54    
    Config               0     5.039004
    Digest::SHA          0     6.04    
    DirHandle            0     1.05    
    Encode               0     3.19    
    English              0     1.11    
    File::Find           0     1.43    
    File::Spec           0     3.90    
    FileHandle           0     2.05    
    perl                 5.006 5.039004
    POSIX                0     2.15    
    strict               0     1.13    
    warnings             0     1.67    

build_requires:

    Module               Need  Have    
    -------------------- ----- --------
    ExtUtils::MakeMaker  0     7.70    
    Fcntl                0     1.15    
    File::Temp           0     0.2311  
    HTTP::Request        0     6.45    
  ! LWP::Protocol::https 6.06  n/a     
    LWP::UserAgent       0     6.72    
    Test::More           0     1.302195
    Time::Local          0     1.35    
    XML::LibXML          0     2.0209  

configure_requires:

    Module               Need  Have    
    -------------------- ----- --------
    ExtUtils::MakeMaker  0     7.70    


------------------------------
ENVIRONMENT AND OTHER CONTEXT
------------------------------

Environment variables:

    AUTOMATED_TESTING = 1
    DATE_MANIP_TEST_DM5 = 1
    LC_ALL = C
    NONINTERACTIVE_TESTING = 1
    NO_NETWORK_TESTING = 1
    PATH = /home/cpan/bin/perl/bin:/home/cpan/bin:/home/cpan/bin:/bin:/sbin:/usr/bin:/usr/sbin:/usr/X11R6/bin:/usr/local/bin:/usr/local/sbin
    PERL5LIB = 
    PERL5OPT = 
    PERL5_CPANPLUS_IS_RUNNING = 88806
    PERL5_CPAN_IS_RUNNING = 88806
    PERL_MM_USE_DEFAULT = 1
    PERL_USE_UNSAFE_INC = 1
    SHELL = /usr/local/bin/bash
    TERM = screen
    TMPDIR = /home/cpan/tmp

Perl special variables (and OS-specific diagnostics, for MSWin32):

    $^X = /home/cpan/bin/perl/bin/perl5.39.4
    $UID/$EUID = 1001 / 1001
    $GID = 1001 1001
    $EGID = 1001 1001

Perl module toolchain versions installed:

    Module              Have    
    ------------------- --------
    CPAN                2.36    
    CPAN::Meta          2.150010
    Cwd                 3.90    
    ExtUtils::CBuilder  0.280240
    ExtUtils::Command   7.70    
    ExtUtils::Install   2.22    
    ExtUtils::MakeMaker 7.70    
    ExtUtils::Manifest  1.75    
    ExtUtils::ParseXS   3.51    
    File::Spec          3.90    
    JSON                4.10    
    JSON::PP            4.16    
    Module::Build       0.4234  
    Module::Signature   n/a     
    Parse::CPAN::Meta   2.150010
    Test2               1.302195
    Test::Harness       3.48    
    Test::More          1.302195
    YAML                n/a     
    YAML::Syck          n/a     
    version             0.9930  


--

Summary of my perl5 (revision 5 version 39 subversion 4) configuration:
  Commit id: 922e8c46512ec446e49a3b89d167175d29385408
  Platform:
    osname=openbsd
    osvers=7.3
    archname=OpenBSD.amd64-openbsd-thread-multi
    uname='openbsd cjg-openbsd7 7.3 generic#3 amd64 '
    config_args='-des -Dprefix=/home/cpan/bin/perl -Dscriptdir=/home/cpan/bin/perl/bin -Dusedevel -Duse64bitall -Duseithreads'
    hint=recommended
    useposix=true
    d_sigaction=define
    useithreads=define
    usemultiplicity=define
    use64bitint=define
    use64bitall=define
    uselongdouble=undef
    usemymalloc=n
    default_inc_excludes_dot=define
  Compiler:
    cc='cc'
    ccflags ='-pthread -fno-strict-aliasing -pipe -fstack-protector-strong -I/usr/local/include'
    optimize='-O2'
    cppflags='-pthread -fno-strict-aliasing -pipe -fstack-protector-strong -I/usr/local/include'
    ccversion=''
    gccversion='OpenBSD Clang 13.0.0'
    gccosandvers=''
    intsize=4
    longsize=8
    ptrsize=8
    doublesize=8
    byteorder=12345678
    doublekind=3
    d_longlong=define
    longlongsize=8
    d_longdbl=define
    longdblsize=16
    longdblkind=3
    ivtype='long'
    ivsize=8
    nvtype='double'
    nvsize=8
    Off_t='off_t'
    lseeksize=8
    alignbytes=8
    prototype=define
  Linker and Libraries:
    ld='cc'
    ldflags ='-pthread -Wl,-E  -fstack-protector-strong -L/usr/local/lib'
    libpth=/usr/lib/clang/13.0.0/lib /usr/lib /usr/local/lib
    libs=-lpthread -lm -lutil -lc
    perllibs=-lpthread -lm -lutil -lc
    libc=/usr/lib/libc.so.97.0
    so=so
    useshrplib=false
    libperl=libperl.a
    gnulibc_version=''
  Dynamic Linking:
    dlsrc=dl_dlopen.xs
    dlext=so
    d_dlsymun=undef
    ccdlflags=' '
    cccdlflags='-DPIC -fPIC '
    lddlflags='-shared -fPIC  -L/usr/local/lib -fstack-protector-strong'


Characteristics of this binary (from libperl): 
  Compile-time options:
    HAS_LONG_DOUBLE
    HAS_STRTOLD
    HAS_TIMES
    MULTIPLICITY
    PERLIO_LAYERS
    PERL_COPY_ON_WRITE
    PERL_DONT_CREATE_GVSV
    PERL_HASH_FUNC_SIPHASH13
    PERL_HASH_USE_SBOX32
    PERL_MALLOC_WRAP
    PERL_OP_PARENT
    PERL_PRESERVE_IVUV
    PERL_USE_DEVEL
    PERL_USE_SAFE_PUTENV
    USE_64_BIT_ALL
    USE_64_BIT_INT
    USE_ITHREADS
    USE_LARGE_FILES
    USE_LOCALE
    USE_LOCALE_COLLATE
    USE_LOCALE_CTYPE
    USE_LOCALE_NUMERIC
    USE_LOCALE_TIME
    USE_PERLIO
    USE_PERL_ATOF
    USE_REENTRANT_API
    USE_THREAD_SAFE_LOCALE
  Built under openbsd
  Compiled at Oct  4 2023 11:03:39
  %ENV:
    PERL5LIB=""
    PERL5OPT=""
    PERL5_CPANPLUS_IS_RUNNING="88806"
    PERL5_CPAN_IS_RUNNING="88806"
    PERL_MM_USE_DEFAULT="1"
    PERL_USE_UNSAFE_INC="1"
  @INC:
    /home/cpan/bin/perl/lib/site_perl/5.39.4/OpenBSD.amd64-openbsd-thread-multi
    /home/cpan/bin/perl/lib/site_perl/5.39.4
    /home/cpan/bin/perl/lib/5.39.4/OpenBSD.amd64-openbsd-thread-multi
    /home/cpan/bin/perl/lib/5.39.4
    .