Dist-Zilla-Plugin-CheckVersionIncrement v0.121750 Perl 5 v5.18.4 amd64-freebsd

Status
Pass
From
Slaven Rezić (SREZIC)
Dist
Dist-Zilla-Plugin-CheckVersionIncrement v0.121750
Platform
Perl 5 v5.18.4 amd64-freebsd
Date
2017-11-13 06:39:39
ID
6c654ed2-c83d-11e7-9eb3-cf4fc58aeb3d
This distribution has been tested as part of the CPAN Testers
project, supporting the Perl programming language.  See
http://wiki.cpantesters.org/ for more information or email
questions to cpan-testers-discuss@perl.org


--
Dear Ryan C. Thompson,

This is a computer-generated report for Dist-Zilla-Plugin-CheckVersionIncrement-0.121750
on perl 5.18.4, created by CPAN-Reporter-1.2018.

Thank you for uploading your work to CPAN.  Congratulations!
All tests were successful.

Sections of this report:

    * Tester comments
    * Program output
    * Prerequisites
    * Environment and other context

------------------------------
TESTER COMMENTS
------------------------------

Additional comments from tester:

none provided

------------------------------
PROGRAM OUTPUT
------------------------------

Output from '/usr/bin/make test':

PERL_DL_NONLAZY=1 "/usr/perl5.18.4p/bin/perl5.18.4" "-MExtUtils::Command::MM" "-MTest::Harness" "-e" "undef *Test::Harness::Switches; test_harness(0, 'blib/lib', 'blib/arch')" t/*.t
t/00-compile.t ............ ok
# Testing with Perl 5.018004, /usr/perl5.18.4p/bin/perl5.18.4
#     Carp version is 1.38
#     Dist::Zilla::Role::BeforeRelease version is 6.010
#     Encode version is 2.93
#     English version is 1.06_01
#     ExtUtils::MakeMaker version is 7.3
#     File::Find version is 1.23
#     File::Temp version is 0.2304
#     JSON::PP version is 2.94
#     LWP::UserAgent version is 6.29
#     Moose version is 2.2006
#     Scalar::Util version is 1.49
#     Test::DZil version is 6.010
#     Test::More version is 1.302106
#     Test::Most version is 0.35
#     autodie version is 2.29
#     strict version is 1.07
#     version version is 0.9918
#     warnings version is 1.18
t/000-report-versions.t ... ok
t/author-critic.t ......... skipped: these tests are for testing by the author
t/main.t .................. skipped: CPAN index did not return a version number
t/release-has-version.t ... skipped: these tests are for release candidate testing
t/release-kwalitee.t ...... skipped: these tests are for release candidate testing
t/release-pod-coverage.t .. skipped: these tests are for release candidate testing
t/release-pod-syntax.t .... skipped: these tests are for release candidate testing
t/release-portability.t ... skipped: these tests are for release candidate testing
t/release-unused-vars.t ... skipped: these tests are for release candidate testing
All tests successful.
Files=10, Tests=19,  3 wallclock secs ( 0.12 usr  0.11 sys +  2.65 cusr  0.35 csys =  3.23 CPU)
Result: PASS

------------------------------
PREREQUISITES
------------------------------

Prerequisite modules loaded:

requires:

    Module                           Need Have    
    -------------------------------- ---- --------
    Dist::Zilla::Role::BeforeRelease 0    6.010   
    Encode                           0    2.93    
    JSON::PP                         0    2.94    
    LWP::UserAgent                   0    6.29    
    Moose                            0    2.2006  
    version                          0    0.9918  

build_requires:

    Module                           Need Have    
    -------------------------------- ---- --------
    autodie                          0    2.29    
    Carp                             0    1.38    
    English                          0    1.06_01 
    File::Find                       0    1.23    
    File::Temp                       0    0.2304  
    Scalar::Util                     0    1.49    
    strict                           0    1.07    
    Test::DZil                       0    6.010   
    Test::More                       0.94 1.302106
    Test::Most                       0    0.35    
    warnings                         0    1.18    

configure_requires:

    Module                           Need Have    
    -------------------------------- ---- --------
    ExtUtils::MakeMaker              6.30 7.30    


------------------------------
ENVIRONMENT AND OTHER CONTEXT
------------------------------

Environment variables:

    PATH = /usr/local/bin:/usr/bin:/bin:/usr/local/sbin:/usr/sbin:/sbin:/home/cpansand/bin/freebsd12.0:/home/cpansand/bin/sh:/home/cpansand/bin:/usr/games:/home/cpansand/devel:/usr/home/eserte/src/srezic-misc/scripts
    PERL5LIB = 
    PERL5OPT = 
    PERL5_CPANPLUS_IS_RUNNING = 53191
    PERL5_CPAN_IS_RUNNING = 53191
    PERL5_CPAN_IS_RUNNING_IN_RECURSION = 53155,53191
    PERL_BATCH = yes
    PERL_CANARY_STABILITY_NOPROMPT = 1
    PERL_CPAN_REPORTER_CONFIG = /var/tmp/cpansmoker-1023/2017111303/cpanreporter_000_config.ini
    PERL_EXTUTILS_AUTOINSTALL = --defaultdeps
    SHELL = /bin/sh
    TMPDIR = /var/tmp/cpansmoker-1023/2017111303

Perl special variables (and OS-specific diagnostics, for MSWin32):

    $^X = /usr/perl5.18.4p/bin/perl5.18.4
    $UID/$EUID = 1023 / 1023
    $GID = 1023 1023
    $EGID = 1023 1023

Perl module toolchain versions installed:

    Module              Have    
    ------------------- --------
    CPAN                2.16    
    CPAN::Meta          2.150010
    Cwd                 3.62    
    ExtUtils::CBuilder  0.280226
    ExtUtils::Command   7.30    
    ExtUtils::Install   2.06    
    ExtUtils::MakeMaker 7.30    
    ExtUtils::Manifest  1.70    
    ExtUtils::ParseXS   3.35    
    File::Spec          3.62    
    JSON                2.94    
    JSON::PP            2.94    
    Module::Build       0.4224  
    Module::Signature   0.81    
    Parse::CPAN::Meta   2.150010
    Test::Harness       3.39    
    Test::More          1.302106
    YAML                1.23    
    YAML::Syck          1.30    
    version             0.9918  


--

Summary of my perl5 (revision 5 version 18 subversion 4) configuration:
   
  Platform:
    osname=freebsd, osvers=12.0-current, archname=amd64-freebsd
    uname='freebsd freebsd 12.0-current freebsd 12.0-current #1 ff104cc9da3(master)-dirty: thu oct 19 23:44:51 cest 2017 root@freebsd:usrobjusrsrcsysgeneric amd64 '
    config_args='-ds -e -Dprefix=/usr/perl5.18.4p -Dcf_email=srezic@cpan.org -Doptimize=-O2 -pipe'
    hint=recommended, useposix=true, d_sigaction=define
    useithreads=undef, usemultiplicity=undef
    useperlio=define, d_sfio=undef, uselargefiles=define, usesocks=undef
    use64bitint=define, use64bitall=define, uselongdouble=undef
    usemymalloc=n, bincompat5005=undef
  Compiler:
    cc='cc', ccflags ='-DHAS_FPSETMASK -DHAS_FLOATINGPOINT_H -fno-strict-aliasing -pipe -fstack-protector -I/usr/local/include',
    optimize='-O2 -pipe',
    cppflags='-DHAS_FPSETMASK -DHAS_FLOATINGPOINT_H -fno-strict-aliasing -pipe -fstack-protector -I/usr/local/include'
    ccversion='', gccversion='4.2.1 Compatible FreeBSD Clang 5.0.0 (tags/RELEASE_500/final 312559)', gccosandvers=''
    intsize=4, longsize=8, ptrsize=8, doublesize=8, byteorder=12345678
    d_longlong=define, longlongsize=8, d_longdbl=define, longdblsize=16
    ivtype='long', ivsize=8, nvtype='double', nvsize=8, Off_t='off_t', lseeksize=8
    alignbytes=8, prototype=define
  Linker and Libraries:
    ld='cc', ldflags ='-pthread -Wl,-E  -fstack-protector -L/usr/local/lib'
    libpth=/usr/lib /usr/local/lib
    libs=-lgdbm -lm -lcrypt -lutil -lc
    perllibs=-lm -lcrypt -lutil -lc
    libc=, so=so, useshrplib=false, libperl=libperl.a
    gnulibc_version=''
  Dynamic Linking:
    dlsrc=dl_dlopen.xs, dlext=so, d_dlsymun=undef, ccdlflags=' '
    cccdlflags='-DPIC -fPIC', lddlflags='-shared  -L/usr/local/lib -fstack-protector'


Characteristics of this binary (from libperl): 
  Compile-time options: HAS_TIMES PERLIO_LAYERS PERL_DONT_CREATE_GVSV
                        PERL_HASH_FUNC_ONE_AT_A_TIME_HARD PERL_MALLOC_WRAP
                        PERL_PRESERVE_IVUV PERL_SAWAMPERSAND USE_64_BIT_ALL
                        USE_64_BIT_INT USE_LARGE_FILES USE_LOCALE
                        USE_LOCALE_COLLATE USE_LOCALE_CTYPE
                        USE_LOCALE_NUMERIC USE_PERLIO USE_PERL_ATOF
  Built under freebsd
  Compiled at Oct 22 2017 18:26:44
  %ENV:
    PERL5LIB=""
    PERL5OPT=""
    PERL5_CPANPLUS_IS_RUNNING="53191"
    PERL5_CPAN_IS_RUNNING="53191"
    PERL5_CPAN_IS_RUNNING_IN_RECURSION="53155,53191"
    PERL_BATCH="yes"
    PERL_CANARY_STABILITY_NOPROMPT="1"
    PERL_CPAN_REPORTER_CONFIG="/var/tmp/cpansmoker-1023/2017111303/cpanreporter_000_config.ini"
    PERL_EXTUTILS_AUTOINSTALL="--defaultdeps"
  @INC:
    /usr/perl5.18.4p/lib/site_perl/5.18.4/amd64-freebsd
    /usr/perl5.18.4p/lib/site_perl/5.18.4
    /usr/perl5.18.4p/lib/5.18.4/amd64-freebsd
    /usr/perl5.18.4p/lib/5.18.4
    .