Time-Zone-Olson v0.46 Perl 5 v5.24.4 amd64-freebsd
        
            - Status
 
            - Pass
 
            - From
 
            - Slaven Rezić
 
            - Dist
 
            - 
                Time-Zone-Olson v0.46
            
 
            - Platform
 
            - Perl 5 v5.24.4 amd64-freebsd
 
            - Date
 
            - 2023-03-06 20:13:56
 
            - ID
 
            - 6c788a7a-bc5b-11ed-8456-a5446e8775ea
 
        
        This distribution has been tested as part of the CPAN Testers
project, supporting the Perl programming language.  See
http://wiki.cpantesters.org/ for more information or email
questions to cpan-testers-discuss@perl.org
--
Dear David Dick,
This is a computer-generated report for Time-Zone-Olson-0.46
on perl 5.24.4, created by CPAN-Reporter-1.2018.
Thank you for uploading your work to CPAN.  Congratulations!
All tests were successful.
Sections of this report:
    * Tester comments
    * Program output
    * Prerequisites
    * Environment and other context
------------------------------
TESTER COMMENTS
------------------------------
Additional comments from tester:
none provided
------------------------------
PROGRAM OUTPUT
------------------------------
Output from '/usr/bin/make test':
PERL_DL_NONLAZY=1 "/usr/perl5.24.4p/bin/perl" "-MExtUtils::Command::MM" "-MTest::Harness" "-e" "undef *Test::Harness::Switches; test_harness(0, 'blib/lib', 'blib/arch')" t/*.t
# Testing Time::Zone::Olson 0.46, Perl 5.024004, /usr/perl5.24.4p/bin/perl
t/00-load.t ........... ok
t/boilerplate.t ....... ok
t/manifest.t .......... skipped: Author tests not required for installation
t/pod-coverage.t ...... ok
t/pod.t ............... ok
# Checking https://raw.githubusercontent.com/unicode-org/cldr/master/common/supplemental/windowsZones.xml
t/windows_zones.t ..... ok
# Olson tz directory is /usr/share/zoneinfo for freebsd
# Local timezone has been determined to be Europe/Berlin
# Local timezone was determined using /var/db/zoneinfo
# -rw-r--r--  1 root  wheel  14 27 Jan  2015 /var/db/zoneinfo
# Comment for 'Australia/Melbourne' is 'Victoria'
# /usr/share/zoneinfo/Europe/Berlin  Sun Mar 26 00:59:59 2023 UTC = Sun Mar 26 01:59:59 2023 CET isdst=0 gmtoff=3600
# /usr/share/zoneinfo/Europe/Berlin  Sun Mar 26 01:00:00 2023 UTC = Sun Mar 26 03:00:00 2023 CEST isdst=1 gmtoff=7200
# /usr/share/zoneinfo/Europe/Berlin  Sun Oct 29 00:59:59 2023 UTC = Sun Oct 29 02:59:59 2023 CEST isdst=1 gmtoff=7200
# /usr/share/zoneinfo/Europe/Berlin  Sun Oct 29 01:00:00 2023 UTC = Sun Oct 29 02:00:00 2023 CET isdst=0 gmtoff=3600
# /usr/share/zoneinfo/Europe/Berlin  Sun Mar 31 00:59:59 2024 UTC = Sun Mar 31 01:59:59 2024 CET isdst=0 gmtoff=3600
# /usr/share/zoneinfo/Europe/Berlin  Sun Mar 31 01:00:00 2024 UTC = Sun Mar 31 03:00:00 2024 CEST isdst=1 gmtoff=7200
# /usr/share/zoneinfo/Europe/Berlin  Sun Oct 27 00:59:59 2024 UTC = Sun Oct 27 02:59:59 2024 CEST isdst=1 gmtoff=7200
# /usr/share/zoneinfo/Europe/Berlin  Sun Oct 27 01:00:00 2024 UTC = Sun Oct 27 02:00:00 2024 CET isdst=0 gmtoff=3600
# /usr/share/zoneinfo/Europe/Berlin  Tue Dec 31 14:00:00 2024 UTC = Sat Dec  3 16:30:07 219250468 CET isdst=0 gmtoff=3600
# /usr/share/zoneinfo/Europe/Berlin  Sat Dec  3 16:30:07 219250468 UTC = Sun Dec  4 16:30:07 219250468 CET isdst=0 gmtoff=3600
# bsd test of early date:1901/03/01 09:59:59 AEST
t/zoneinfo_all.t ...... ok
# Determined timezone is Europe/Berlin
# TZDIR has not been set
# Output of gnu date command:usage: date [-jnRu] [-d dst] [-r seconds] [-t west] [-v[+|-]val[ymwdHMS]] ... 
#             [-f fmt date | [[[[[cc]yy]mm]dd]HH]MM[.ss]] [+format]
# Output of bsd date command:2015/02/28 11:00:00
# Results of unpack:
# Local timezone has been determined to be Europe/Berlin
t/zoneinfo_current.t .. ok
t/zoneinfo_taint.t .... ok
t/zoneinfo_tz_env.t ... ok
All tests successful.
Files=10, Tests=3230,  7 wallclock secs ( 0.27 usr  0.05 sys +  2.48 cusr  3.38 csys =  6.18 CPU)
Result: PASS
------------------------------
PREREQUISITES
------------------------------
Prerequisite modules loaded:
requires:
    Module               Need  Have    
    -------------------- ----- --------
    Carp                 0     1.50    
    Config               0     5.024004
    Digest::SHA          0     6.02    
    DirHandle            0     1.04    
    Encode               0     3.19    
    English              0     1.10    
    File::Find           0     1.34    
    File::Spec           0     3.75    
    FileHandle           0     2.02    
    perl                 5.006 5.024004
    POSIX                0     1.65_01 
    strict               0     1.11    
    warnings             0     1.36    
build_requires:
    Module               Need  Have    
    -------------------- ----- --------
    ExtUtils::MakeMaker  0     7.66    
    Fcntl                0     1.13    
    File::Temp           0     0.2311  
    HTTP::Request        0     6.43    
    LWP::Protocol::https 6.06  6.10    
    LWP::UserAgent       0     6.67    
    Test::More           0     1.302191
    Time::Local          0     1.30    
    XML::LibXML          0     2.0207  
configure_requires:
    Module               Need  Have    
    -------------------- ----- --------
    ExtUtils::MakeMaker  0     7.66    
------------------------------
ENVIRONMENT AND OTHER CONTEXT
------------------------------
Environment variables:
    LC_ALL = de_DE.ISO8859-1
    PATH = /usr/local/bin:/usr/bin:/bin:/usr/local/sbin:/usr/sbin:/sbin:/home/cpansand/bin/freebsd10.3:/home/cpansand/bin/sh:/home/cpansand/bin:/usr/games:/home/cpansand/devel:/home/eserte/src/srezic-misc/scripts
    PERL5LIB = 
    PERL5OPT = 
    PERL5_CPANPLUS_IS_RUNNING = 49928
    PERL5_CPAN_IS_RUNNING = 49928
    PERL5_CPAN_IS_RUNNING_IN_RECURSION = 47188,49928
    PERLDOC = -MPod::Perldoc::ToTextOverstrike
    PERL_BATCH = yes
    PERL_CANARY_STABILITY_NOPROMPT = 1
    PERL_CPAN_REPORTER_CONFIG = /var/tmp/cpansmoker-1023/2023030620/cpanreporter_000_config.ini
    PERL_EXTUTILS_AUTOINSTALL = --defaultdeps
    PERL_USE_UNSAFE_INC = 1
    SHELL = /usr/local/bin/zsh
    TERM = screen
    TMPDIR = /var/tmp/cpansmoker-1023/2023030620
Perl special variables (and OS-specific diagnostics, for MSWin32):
    $^X = /usr/perl5.24.4p/bin/perl
    $UID/$EUID = 1023 / 1023
    $GID = 1023 1023
    $EGID = 1023 1023
Perl module toolchain versions installed:
    Module              Have    
    ------------------- --------
    CPAN                2.34    
    CPAN::Meta          2.150010
    Cwd                 3.75    
    ExtUtils::CBuilder  0.280236
    ExtUtils::Command   7.66    
    ExtUtils::Install   2.22    
    ExtUtils::MakeMaker 7.66    
    ExtUtils::Manifest  1.70    
    ExtUtils::ParseXS   3.35    
    File::Spec          3.75    
    JSON                4.10    
    JSON::PP            4.16    
    Module::Build       0.4232  
    Module::Signature   0.87    
    Parse::CPAN::Meta   2.150010
    Test::Harness       3.44    
    Test::More          1.302191
    YAML                1.30    
    YAML::Syck          1.34    
    version             0.9929  
--
Summary of my perl5 (revision 5 version 24 subversion 4) configuration:
   
  Platform:
    osname=freebsd, osvers=10.3-release-p24, archname=amd64-freebsd
    uname='freebsd cvrsnica-freebsd-101.herceg.de 10.3-release-p24 freebsd 10.3-release-p24 #0: wed nov 15 04:57:40 utc 2017 root@amd64-builder.daemonology.net:usrobjusrsrcsysgeneric amd64 '
    config_args='-ds -e -Dprefix=/usr/perl5.24.4p -Dcf_email=srezic@cpan.org -Doptimize=-O2 -pipe'
    hint=recommended, useposix=true, d_sigaction=define
    useithreads=undef, usemultiplicity=undef
    use64bitint=define, use64bitall=define, uselongdouble=undef
    usemymalloc=n, bincompat5005=undef
  Compiler:
    cc='cc', ccflags ='-DHAS_FPSETMASK -DHAS_FLOATINGPOINT_H -fno-strict-aliasing -pipe -fstack-protector -I/usr/local/include -D_FORTIFY_SOURCE=2',
    optimize='-O2 -pipe',
    cppflags='-DHAS_FPSETMASK -DHAS_FLOATINGPOINT_H -fno-strict-aliasing -pipe -fstack-protector -I/usr/local/include'
    ccversion='', gccversion='4.2.1 Compatible FreeBSD Clang 3.4.1 (tags/RELEASE_34/dot1-final 208032)', gccosandvers=''
    intsize=4, longsize=8, ptrsize=8, doublesize=8, byteorder=12345678, doublekind=3
    d_longlong=define, longlongsize=8, d_longdbl=define, longdblsize=16, longdblkind=3
    ivtype='long', ivsize=8, nvtype='double', nvsize=8, Off_t='off_t', lseeksize=8
    alignbytes=8, prototype=define
  Linker and Libraries:
    ld='cc', ldflags ='-pthread -Wl,-E  -fstack-protector -L/usr/local/lib'
    libpth=/usr/lib /usr/local/lib /usr/include/clang/3.4.1 /usr/lib
    libs=-lpthread -lgdbm -lm -lcrypt -lutil -lc
    perllibs=-lpthread -lm -lcrypt -lutil -lc
    libc=, so=so, useshrplib=false, libperl=libperl.a
    gnulibc_version=''
  Dynamic Linking:
    dlsrc=dl_dlopen.xs, dlext=so, d_dlsymun=undef, ccdlflags=' '
    cccdlflags='-DPIC -fPIC', lddlflags='-shared  -L/usr/local/lib -fstack-protector'
Characteristics of this binary (from libperl): 
  Compile-time options: HAS_TIMES PERLIO_LAYERS PERL_COPY_ON_WRITE
                        PERL_DONT_CREATE_GVSV
                        PERL_HASH_FUNC_ONE_AT_A_TIME_HARD PERL_MALLOC_WRAP
                        PERL_PRESERVE_IVUV USE_64_BIT_ALL USE_64_BIT_INT
                        USE_LARGE_FILES USE_LOCALE USE_LOCALE_COLLATE
                        USE_LOCALE_CTYPE USE_LOCALE_NUMERIC USE_LOCALE_TIME
                        USE_PERLIO USE_PERL_ATOF
  Built under freebsd
  Compiled at Dec 11 2018 23:48:33
  %ENV:
    PERL5LIB=""
    PERL5OPT=""
    PERL5_CPANPLUS_IS_RUNNING="49928"
    PERL5_CPAN_IS_RUNNING="49928"
    PERL5_CPAN_IS_RUNNING_IN_RECURSION="47188,49928"
    PERLDOC="-MPod::Perldoc::ToTextOverstrike"
    PERL_BATCH="yes"
    PERL_CANARY_STABILITY_NOPROMPT="1"
    PERL_CPAN_REPORTER_CONFIG="/var/tmp/cpansmoker-1023/2023030620/cpanreporter_000_config.ini"
    PERL_EXTUTILS_AUTOINSTALL="--defaultdeps"
    PERL_USE_UNSAFE_INC="1"
  @INC:
    /usr/perl5.24.4p/lib/site_perl/5.24.4/amd64-freebsd
    /usr/perl5.24.4p/lib/site_perl/5.24.4
    /usr/perl5.24.4p/lib/5.24.4/amd64-freebsd
    /usr/perl5.24.4p/lib/5.24.4
    .