Report for HTTP-Session2-1.07

Back
From: metabase:user:322078bc-2aae-11df-837a-5e0a49663a4f
Subject: PASS HTTP-Session2-1.07 v5.16.3 NetBSD
Date: 2014-08-02T08:31:39Z

This distribution has been tested as part of the CPAN Testers
project, supporting the Perl programming language.  See
http://wiki.cpantesters.org/ for more information or email
questions to cpan-testers-discuss@perl.org


--

Dear Tokuhiro Matsuno,

This is a computer-generated error report created automatically by
CPANPLUS, version 0.9152. Testers personal comments may appear
at the end of this report.


Thank you for uploading your work to CPAN.  Congratulations!
All tests were successful.

TEST RESULTS:

Below is the error stack from stage 'make test':

t/00_compile.t ............ ok
Secret string too short at /home/cpan/pit/bare/conf/perl-5.16.3/.cpanplus/5.16.3/build/HTTP-Session2-1.07/blib/lib/HTTP/Session2/Base.pm line 79.
	HTTP::Session2::Base::__ANON__('HTTP::Session2::ServerStore=HASH(0x7f7ff6714f30)', 's3cret') called at t/01_server_side.t line 23
	main::__ANON__('client -> server: request without cookie', 'CODE(0x7f7ff6714ac8)') called at t/01_server_side.t line 25
	main::__ANON__() called at /home/cpan/pit/bare/perl-5.16.3/lib/5.16.3/Test/Builder.pm line 258
	Test::Builder::__ANON__() called at /home/cpan/pit/bare/perl-5.16.3/lib/5.16.3/Test/Builder.pm line 263
	eval {...} called at /home/cpan/pit/bare/perl-5.16.3/lib/5.16.3/Test/Builder.pm line 263
	Test::Builder::subtest('Test::Builder=HASH(0x7f7ff7b951f8)', 'First request', 'CODE(0x7f7ff73b9f48)') called at /home/cpan/pit/bare/perl-5.16.3/lib/5.16.3/Test/More.pm line 770
	Test::More::subtest('First request', 'CODE(0x7f7ff73b9f48)') called at t/01_server_side.t line 11
	main::scenario('First request', 'CODE(0x7f7ff73b9f48)') called at t/01_server_side.t line 31
Secret string too short at /home/cpan/pit/bare/conf/perl-5.16.3/.cpanplus/5.16.3/build/HTTP-Session2-1.07/blib/lib/HTTP/Session2/Base.pm line 79.
	HTTP::Session2::Base::__ANON__('HTTP::Session2::ServerStore=HASH(0x7f7ff6714ed0)', 's3cret') called at t/01_server_side.t line 40
	main::__ANON__('client -> server: request without cookie', 'CODE(0x7f7ff6714df8)') called at t/01_server_side.t line 42
	main::__ANON__() called at /home/cpan/pit/bare/perl-5.16.3/lib/5.16.3/Test/Builder.pm line 258
	Test::Builder::__ANON__() called at /home/cpan/pit/bare/perl-5.16.3/lib/5.16.3/Test/Builder.pm line 263
	eval {...} called at /home/cpan/pit/bare/perl-5.16.3/lib/5.16.3/Test/Builder.pm line 263
	Test::Builder::subtest('Test::Builder=HASH(0x7f7ff7b951f8)', 'Store something without login', 'CODE(0x7f7ff73c7918)') called at /home/cpan/pit/bare/perl-5.16.3/lib/5.16.3/Test/More.pm line 770
	Test::More::subtest('Store something without login', 'CODE(0x7f7ff73c7918)') called at t/01_server_side.t line 11
	main::scenario('Store something without login', 'CODE(0x7f7ff73c7918)') called at t/01_server_side.t line 58
Secret string too short at /home/cpan/pit/bare/conf/perl-5.16.3/.cpanplus/5.16.3/build/HTTP-Session2-1.07/blib/lib/HTTP/Session2/Base.pm line 79.
	HTTP::Session2::Base::__ANON__('HTTP::Session2::ServerStore=HASH(0x7f7ff6714c00)', 's3cret') called at t/01_server_side.t line 70
	main::__ANON__('client -> server: request without cookie', 'CODE(0x7f7ff67197b0)') called at t/01_server_side.t line 72
	main::__ANON__() called at /home/cpan/pit/bare/perl-5.16.3/lib/5.16.3/Test/Builder.pm line 258
	Test::Builder::__ANON__() called at /home/cpan/pit/bare/perl-5.16.3/lib/5.16.3/Test/Builder.pm line 263
	eval {...} called at /home/cpan/pit/bare/perl-5.16.3/lib/5.16.3/Test/Builder.pm line 263
	Test::Builder::subtest('Test::Builder=HASH(0x7f7ff7b951f8)', 'Login', 'CODE(0x7f7ff73c7e70)') called at /home/cpan/pit/bare/perl-5.16.3/lib/5.16.3/Test/More.pm line 770
	Test::More::subtest('Login', 'CODE(0x7f7ff73c7e70)') called at t/01_server_side.t line 11
	main::scenario('Login', 'CODE(0x7f7ff73c7e70)') called at t/01_server_side.t line 96
Secret string too short at /home/cpan/pit/bare/conf/perl-5.16.3/.cpanplus/5.16.3/build/HTTP-Session2-1.07/blib/lib/HTTP/Session2/Base.pm line 79.
	HTTP::Session2::Base::__ANON__('HTTP::Session2::ServerStore=HASH(0x7f7ff67197e0)', 's3cret') called at t/01_server_side.t line 108
	main::__ANON__('client -> server: request without cookie', 'CODE(0x7f7ff6719de0)') called at t/01_server_side.t line 110
	main::__ANON__() called at /home/cpan/pit/bare/perl-5.16.3/lib/5.16.3/Test/Builder.pm line 258
	Test::Builder::__ANON__() called at /home/cpan/pit/bare/perl-5.16.3/lib/5.16.3/Test/Builder.pm line 263
	eval {...} called at /home/cpan/pit/bare/perl-5.16.3/lib/5.16.3/Test/Builder.pm line 263
	Test::Builder::subtest('Test::Builder=HASH(0x7f7ff7b951f8)', 'In a login session', 'CODE(0x7f7ff670a780)') called at /home/cpan/pit/bare/perl-5.16.3/lib/5.16.3/Test/More.pm line 770
	Test::More::subtest('In a login session', 'CODE(0x7f7ff670a780)') called at t/01_server_side.t line 11
	main::scenario('In a login session', 'CODE(0x7f7ff670a780)') called at t/01_server_side.t line 124
Secret string too short at /home/cpan/pit/bare/conf/perl-5.16.3/.cpanplus/5.16.3/build/HTTP-Session2-1.07/blib/lib/HTTP/Session2/Base.pm line 79.
	HTTP::Session2::Base::__ANON__('HTTP::Session2::ServerStore=HASH(0x7f7ff6719450)', 's3cret') called at t/01_server_side.t line 131
	main::__ANON__('client -> server: request without cookie', 'CODE(0x7f7ff6719db0)') called at t/01_server_side.t line 138
	main::__ANON__() called at /home/cpan/pit/bare/perl-5.16.3/lib/5.16.3/Test/Builder.pm line 258
	Test::Builder::__ANON__() called at /home/cpan/pit/bare/perl-5.16.3/lib/5.16.3/Test/Builder.pm line 263
	eval {...} called at /home/cpan/pit/bare/perl-5.16.3/lib/5.16.3/Test/Builder.pm line 263
	Test::Builder::subtest('Test::Builder=HASH(0x7f7ff7b951f8)', 'Logout', 'CODE(0x7f7ff6714018)') called at /home/cpan/pit/bare/perl-5.16.3/lib/5.16.3/Test/More.pm line 770
	Test::More::subtest('Logout', 'CODE(0x7f7ff6714018)') called at t/01_server_side.t line 11
	main::scenario('Logout', 'CODE(0x7f7ff6714018)') called at t/01_server_side.t line 153
t/01_server_side.t ........ ok
Secret string too short at /home/cpan/pit/bare/conf/perl-5.16.3/.cpanplus/5.16.3/build/HTTP-Session2-1.07/blib/lib/HTTP/Session2/Base.pm line 79.
	HTTP::Session2::Base::__ANON__('HTTP::Session2::ClientStore=HASH(0x7f7ff67552e8)', 's3cret') called at t/02_client_side.t line 17
	main::__ANON__('client -> server: request without cookie', 'CODE(0x7f7ff674fe40)') called at t/02_client_side.t line 22
	main::__ANON__() called at /home/cpan/pit/bare/perl-5.16.3/lib/5.16.3/Test/Builder.pm line 258
	Test::Builder::__ANON__() called at /home/cpan/pit/bare/perl-5.16.3/lib/5.16.3/Test/Builder.pm line 263
	eval {...} called at /home/cpan/pit/bare/perl-5.16.3/lib/5.16.3/Test/Builder.pm line 263
	Test::Builder::subtest('Test::Builder=HASH(0x7f7ff7b951f8)', 'First request', 'CODE(0x7f7ff6736678)') called at /home/cpan/pit/bare/perl-5.16.3/lib/5.16.3/Test/More.pm line 770
	Test::More::subtest('First request', 'CODE(0x7f7ff6736678)') called at t/02_client_side.t line 9
	main::scenario('First request', 'CODE(0x7f7ff6736678)') called at t/02_client_side.t line 28
Secret string too short at /home/cpan/pit/bare/conf/perl-5.16.3/.cpanplus/5.16.3/build/HTTP-Session2-1.07/blib/lib/HTTP/Session2/Base.pm line 79.
	HTTP::Session2::Base::__ANON__('HTTP::Session2::ClientStore=HASH(0x7f7ff6755078)', 's3cret') called at t/02_client_side.t line 33
	main::__ANON__('client -> server: request without cookie', 'CODE(0x7f7ff6755198)') called at t/02_client_side.t line 38
	main::__ANON__() called at /home/cpan/pit/bare/perl-5.16.3/lib/5.16.3/Test/Builder.pm line 258
	Test::Builder::__ANON__() called at /home/cpan/pit/bare/perl-5.16.3/lib/5.16.3/Test/Builder.pm line 263
	eval {...} called at /home/cpan/pit/bare/perl-5.16.3/lib/5.16.3/Test/Builder.pm line 263
	Test::Builder::subtest('Test::Builder=HASH(0x7f7ff7b951f8)', 'Store something without login', 'CODE(0x7f7ff6748360)') called at /home/cpan/pit/bare/perl-5.16.3/lib/5.16.3/Test/More.pm line 770
	Test::More::subtest('Store something without login', 'CODE(0x7f7ff6748360)') called at t/02_client_side.t line 9
	main::scenario('Store something without login', 'CODE(0x7f7ff6748360)') called at t/02_client_side.t line 54
Do not use HTTP::Session2::ClientStore. Use HTTP::Session2::ServerStore or HTTP::Session2::ClientStore2 instead. at /home/cpan/pit/bare/conf/perl-5.16.3/.cpanplus/5.16.3/build/HTTP-Session2-1.07/blib/lib/HTTP/Session2/ClientStore.pm line 25.
Secret string too short at /home/cpan/pit/bare/conf/perl-5.16.3/.cpanplus/5.16.3/build/HTTP-Session2-1.07/blib/lib/HTTP/Session2/Base.pm line 79.
	HTTP::Session2::Base::__ANON__('HTTP::Session2::ClientStore=HASH(0x7f7ff674ffc0)', 's3cret') called at t/02_client_side.t line 60
	main::__ANON__('client -> server: request without cookie', 'CODE(0x7f7ff674f960)') called at t/02_client_side.t line 66
	main::__ANON__() called at /home/cpan/pit/bare/perl-5.16.3/lib/5.16.3/Test/Builder.pm line 258
	Test::Builder::__ANON__() called at /home/cpan/pit/bare/perl-5.16.3/lib/5.16.3/Test/Builder.pm line 263
	eval {...} called at /home/cpan/pit/bare/perl-5.16.3/lib/5.16.3/Test/Builder.pm line 263
	Test::Builder::subtest('Test::Builder=HASH(0x7f7ff7b951f8)', 'Login', 'CODE(0x7f7ff67487b0)') called at /home/cpan/pit/bare/perl-5.16.3/lib/5.16.3/Test/More.pm line 770
	Test::More::subtest('Login', 'CODE(0x7f7ff67487b0)') called at t/02_client_side.t line 9
	main::scenario('Login', 'CODE(0x7f7ff67487b0)') called at t/02_client_side.t line 86
Do not use HTTP::Session2::ClientStore. Use HTTP::Session2::ServerStore or HTTP::Session2::ClientStore2 instead. at /home/cpan/pit/bare/conf/perl-5.16.3/.cpanplus/5.16.3/build/HTTP-Session2-1.07/blib/lib/HTTP/Session2/ClientStore.pm line 35.
Do not use HTTP::Session2::ClientStore. Use HTTP::Session2::ServerStore or HTTP::Session2::ClientStore2 instead. at /home/cpan/pit/bare/conf/perl-5.16.3/.cpanplus/5.16.3/build/HTTP-Session2-1.07/blib/lib/HTTP/Session2/ClientStore.pm line 25.
Secret string too short at /home/cpan/pit/bare/conf/perl-5.16.3/.cpanplus/5.16.3/build/HTTP-Session2-1.07/blib/lib/HTTP/Session2/Base.pm line 79.
	HTTP::Session2::Base::__ANON__('HTTP::Session2::ClientStore=HASH(0x7f7ff674fd20)', 's3cret') called at t/02_client_side.t line 92
	main::__ANON__('client -> server: request without cookie', 'CODE(0x7f7ff6755540)') called at t/02_client_side.t line 98
	main::__ANON__() called at /home/cpan/pit/bare/perl-5.16.3/lib/5.16.3/Test/Builder.pm line 258
	Test::Builder::__ANON__() called at /home/cpan/pit/bare/perl-5.16.3/lib/5.16.3/Test/Builder.pm line 263
	eval {...} called at /home/cpan/pit/bare/perl-5.16.3/lib/5.16.3/Test/Builder.pm line 263
	Test::Builder::subtest('Test::Builder=HASH(0x7f7ff7b951f8)', 'In a login session', 'CODE(0x7f7ff6748eb8)') called at /home/cpan/pit/bare/perl-5.16.3/lib/5.16.3/Test/More.pm line 770
	Test::More::subtest('In a login session', 'CODE(0x7f7ff6748eb8)') called at t/02_client_side.t line 9
	main::scenario('In a login session', 'CODE(0x7f7ff6748eb8)') called at t/02_client_side.t line 107
Do not use HTTP::Session2::ClientStore. Use HTTP::Session2::ServerStore or HTTP::Session2::ClientStore2 instead. at /home/cpan/pit/bare/conf/perl-5.16.3/.cpanplus/5.16.3/build/HTTP-Session2-1.07/blib/lib/HTTP/Session2/ClientStore.pm line 35.
Do not use HTTP::Session2::ClientStore. Use HTTP::Session2::ServerStore or HTTP::Session2::ClientStore2 instead. at /home/cpan/pit/bare/conf/perl-5.16.3/.cpanplus/5.16.3/build/HTTP-Session2-1.07/blib/lib/HTTP/Session2/ClientStore.pm line 25.
Secret string too short at /home/cpan/pit/bare/conf/perl-5.16.3/.cpanplus/5.16.3/build/HTTP-Session2-1.07/blib/lib/HTTP/Session2/Base.pm line 79.
	HTTP::Session2::Base::__ANON__('HTTP::Session2::ClientStore=HASH(0x7f7ff6755288)', 's3cret') called at t/02_client_side.t line 112
	main::__ANON__('client -> server: request without cookie', 'CODE(0x7f7ff674fe28)') called at t/02_client_side.t line 118
	main::__ANON__() called at /home/cpan/pit/bare/perl-5.16.3/lib/5.16.3/Test/Builder.pm line 258
	Test::Builder::__ANON__() called at /home/cpan/pit/bare/perl-5.16.3/lib/5.16.3/Test/Builder.pm line 263
	eval {...} called at /home/cpan/pit/bare/perl-5.16.3/lib/5.16.3/Test/Builder.pm line 263
	Test::Builder::subtest('Test::Builder=HASH(0x7f7ff7b951f8)', 'Logout', 'CODE(0x7f7ff674f528)') called at /home/cpan/pit/bare/perl-5.16.3/lib/5.16.3/Test/More.pm line 770
	Test::More::subtest('Logout', 'CODE(0x7f7ff674f528)') called at t/02_client_side.t line 9
	main::scenario('Logout', 'CODE(0x7f7ff674f528)') called at t/02_client_side.t line 131
t/02_client_side.t ........ ok
Secret string too short at /home/cpan/pit/bare/conf/perl-5.16.3/.cpanplus/5.16.3/build/HTTP-Session2-1.07/blib/lib/HTTP/Session2/Base.pm line 79.
	HTTP::Session2::Base::__ANON__('HTTP::Session2::ServerStore=HASH(0x7f7ff4344d50)', 's3cret') called at t/03_mech.t line 121
	main::server_session('HASH(0x7f7ff4344798)') called at t/03_mech.t line 17
	main::__ANON__('HASH(0x7f7ff4344798)') called at /home/cpan/pit/bare/conf/perl-5.16.3/.cpanplus/5.16.3/build/Test-WWW-Mechanize-PSGI-0.35/blib/lib/Test/WWW/Mechanize/PSGI.pm line 39
	Test::WWW::Mechanize::PSGI::__ANON__() called at /home/cpan/pit/bare/conf/perl-5.16.3/.cpanplus/5.16.3/build/Try-Tiny-0.22/blib/lib/Try/Tiny.pm line 81
	eval {...} called at /home/cpan/pit/bare/conf/perl-5.16.3/.cpanplus/5.16.3/build/Try-Tiny-0.22/blib/lib/Try/Tiny.pm line 72
	Try::Tiny::try('CODE(0x7f7ff4344540)', 'Try::Tiny::Catch=REF(0x7f7ff6bed930)') called at /home/cpan/pit/bare/conf/perl-5.16.3/.cpanplus/5.16.3/build/Test-WWW-Mechanize-PSGI-0.35/blib/lib/Test/WWW/Mechanize/PSGI.pm line 46
	Test::WWW::Mechanize::PSGI::simple_request('Test::WWW::Mechanize::PSGI=HASH(0x7f7ff4734eb8)', 'HTTP::Request=HASH(0x7f7ff4bed648)', undef, undef) called at /home/cpan/pit/bare/conf/perl-5.16.3/.cpanplus/5.16.3/build/libwww-perl-6.08/blib/lib/LWP/UserAgent.pm line 282
	LWP::UserAgent::request('Test::WWW::Mechanize::PSGI=HASH(0x7f7ff4734eb8)', 'HTTP::Request=HASH(0x7f7ff4bed648)') called at /home/cpan/pit/bare/conf/perl-5.16.3/.cpanplus/5.16.3/build/WWW-Mechanize-1.73/blib/lib/WWW/Mechanize.pm line 2598
	WWW::Mechanize::_make_request('Test::WWW::Mechanize::PSGI=HASH(0x7f7ff4734eb8)', 'HTTP::Request=HASH(0x7f7ff4bed648)') called at /home/cpan/pit/bare/conf/perl-5.16.3/.cpanplus/5.16.3/build/WWW-Mechanize-1.73/blib/lib/WWW/Mechanize.pm line 2312
	WWW::Mechanize::request('Test::WWW::Mechanize::PSGI=HASH(0x7f7ff4734eb8)', 'HTTP::Request=HASH(0x7f7ff4bed648)') called at /home/cpan/pit/bare/conf/perl-5.16.3/.cpanplus/5.16.3/build/libwww-perl-6.08/blib/lib/LWP/UserAgent.pm line 411
	LWP::UserAgent::get('Test::WWW::Mechanize::PSGI=HASH(0x7f7ff4734eb8)', '/') called at /home/cpan/pit/bare/conf/perl-5.16.3/.cpanplus/5.16.3/build/WWW-Mechanize-1.73/blib/lib/WWW/Mechanize.pm line 407
	WWW::Mechanize::get('Test::WWW::Mechanize::PSGI=HASH(0x7f7ff4734eb8)', '/') called at /home/cpan/pit/bare/conf/perl-5.16.3/.cpanplus/5.16.3/build/Test-WWW-Mechanize-1.44/blib/lib/Test/WWW/Mechanize.pm line 159
	Test::WWW::Mechanize::get_ok('Test::WWW::Mechanize::PSGI=HASH(0x7f7ff4734eb8)', '/') called at t/03_mech.t line 74
Secret string too short at /home/cpan/pit/bare/conf/perl-5.16.3/.cpanplus/5.16.3/build/HTTP-Session2-1.07/blib/lib/HTTP/Session2/Base.pm line 79.
	HTTP::Session2::Base::__ANON__('HTTP::Session2::ServerStore=HASH(0x7f7ff4310c18)', 's3cret') called at t/03_mech.t line 121
	main::server_session('HASH(0x7f7ff43445e8)') called at t/03_mech.t line 17
	main::__ANON__('HASH(0x7f7ff43445e8)') called at /home/cpan/pit/bare/conf/perl-5.16.3/.cpanplus/5.16.3/build/Test-WWW-Mechanize-PSGI-0.35/blib/lib/Test/WWW/Mechanize/PSGI.pm line 39
	Test::WWW::Mechanize::PSGI::__ANON__() called at /home/cpan/pit/bare/conf/perl-5.16.3/.cpanplus/5.16.3/build/Try-Tiny-0.22/blib/lib/Try/Tiny.pm line 81
	eval {...} called at /home/cpan/pit/bare/conf/perl-5.16.3/.cpanplus/5.16.3/build/Try-Tiny-0.22/blib/lib/Try/Tiny.pm line 72
	Try::Tiny::try('CODE(0x7f7ff4344600)', 'Try::Tiny::Catch=REF(0x7f7ff4344bb8)') called at /home/cpan/pit/bare/conf/perl-5.16.3/.cpanplus/5.16.3/build/Test-WWW-Mechanize-PSGI-0.35/blib/lib/Test/WWW/Mechanize/PSGI.pm line 46
	Test::WWW::Mechanize::PSGI::simple_request('Test::WWW::Mechanize::PSGI=HASH(0x7f7ff4734eb8)', 'HTTP::Request=HASH(0x7f7ff4310330)', undef, undef) called at /home/cpan/pit/bare/conf/perl-5.16.3/.cpanplus/5.16.3/build/libwww-perl-6.08/blib/lib/LWP/UserAgent.pm line 282
	LWP::UserAgent::request('Test::WWW::Mechanize::PSGI=HASH(0x7f7ff4734eb8)', 'HTTP::Request=HASH(0x7f7ff4310330)') called at /home/cpan/pit/bare/conf/perl-5.16.3/.cpanplus/5.16.3/build/WWW-Mechanize-1.73/blib/lib/WWW/Mechanize.pm line 2598
	WWW::Mechanize::_make_request('Test::WWW::Mechanize::PSGI=HASH(0x7f7ff4734eb8)', 'HTTP::Request=HASH(0x7f7ff4310330)') called at /home/cpan/pit/bare/conf/perl-5.16.3/.cpanplus/5.16.3/build/WWW-Mechanize-1.73/blib/lib/WWW/Mechanize.pm line 2312
	WWW::Mechanize::request('Test::WWW::Mechanize::PSGI=HASH(0x7f7ff4734eb8)', 'HTTP::Request=HASH(0x7f7ff4310330)') called at /home/cpan/pit/bare/conf/perl-5.16.3/.cpanplus/5.16.3/build/libwww-perl-6.08/blib/lib/LWP/UserAgent.pm line 419
	LWP::UserAgent::post('Test::WWW::Mechanize::PSGI=HASH(0x7f7ff4734eb8)', '/wishlist?foo', 'HASH(0x7f7ff4f46e58)') called at /home/cpan/pit/bare/conf/perl-5.16.3/.cpanplus/5.16.3/build/Test-WWW-Mechanize-1.44/blib/lib/Test/WWW/Mechanize.pm line 236
	Test::WWW::Mechanize::post_ok('Test::WWW::Mechanize::PSGI=HASH(0x7f7ff4734eb8)', '/wishlist?foo') called at t/03_mech.t line 75
Secret string too short at /home/cpan/pit/bare/conf/perl-5.16.3/.cpanplus/5.16.3/build/HTTP-Session2-1.07/blib/lib/HTTP/Session2/Base.pm line 79.
	HTTP::Session2::Base::__ANON__('HTTP::Session2::ServerStore=HASH(0x7f7ff43594b0)', 's3cret') called at t/03_mech.t line 121
	main::server_session('HASH(0x7f7ff43590f0)') called at t/03_mech.t line 17
	main::__ANON__('HASH(0x7f7ff43590f0)') called at /home/cpan/pit/bare/conf/perl-5.16.3/.cpanplus/5.16.3/build/Test-WWW-Mechanize-PSGI-0.35/blib/lib/Test/WWW/Mechanize/PSGI.pm line 39
	Test::WWW::Mechanize::PSGI::__ANON__() called at /home/cpan/pit/bare/conf/perl-5.16.3/.cpanplus/5.16.3/build/Try-Tiny-0.22/blib/lib/Try/Tiny.pm line 81
	eval {...} called at /home/cpan/pit/bare/conf/perl-5.16.3/.cpanplus/5.16.3/build/Try-Tiny-0.22/blib/lib/Try/Tiny.pm line 72
	Try::Tiny::try('CODE(0x7f7ff43591f8)', 'Try::Tiny::Catch=REF(0x7f7ff4310b40)') called at /home/cpan/pit/bare/conf/perl-5.16.3/.cpanplus/5.16.3/build/Test-WWW-Mechanize-PSGI-0.35/blib/lib/Test/WWW/Mechanize/PSGI.pm line 46
	Test::WWW::Mechanize::PSGI::simple_request('Test::WWW::Mechanize::PSGI=HASH(0x7f7ff4734eb8)', 'HTTP::Request=HASH(0x7f7ff4310918)', undef, undef) called at /home/cpan/pit/bare/conf/perl-5.16.3/.cpanplus/5.16.3/build/libwww-perl-6.08/blib/lib/LWP/UserAgent.pm line 282
	LWP::UserAgent::request('Test::WWW::Mechanize::PSGI=HASH(0x7f7ff4734eb8)', 'HTTP::Request=HASH(0x7f7ff4310918)') called at /home/cpan/pit/bare/conf/perl-5.16.3/.cpanplus/5.16.3/build/WWW-Mechanize-1.73/blib/lib/WWW/Mechanize.pm line 2598
	WWW::Mechanize::_make_request('Test::WWW::Mechanize::PSGI=HASH(0x7f7ff4734eb8)', 'HTTP::Request=HASH(0x7f7ff4310918)') called at /home/cpan/pit/bare/conf/perl-5.16.3/.cpanplus/5.16.3/build/WWW-Mechanize-1.73/blib/lib/WWW/Mechanize.pm line 2312
	WWW::Mechanize::request('Test::WWW::Mechanize::PSGI=HASH(0x7f7ff4734eb8)', 'HTTP::Request=HASH(0x7f7ff4310918)') called at /home/cpan/pit/bare/conf/perl-5.16.3/.cpanplus/5.16.3/build/libwww-perl-6.08/blib/lib/LWP/UserAgent.pm line 411
	LWP::UserAgent::get('Test::WWW::Mechanize::PSGI=HASH(0x7f7ff4734eb8)', 'http://localhost/wishlist') called at /home/cpan/pit/bare/conf/perl-5.16.3/.cpanplus/5.16.3/build/WWW-Mechanize-1.73/blib/lib/WWW/Mechanize.pm line 407
	WWW::Mechanize::get('Test::WWW::Mechanize::PSGI=HASH(0x7f7ff4734eb8)', '/wishlist') called at /home/cpan/pit/bare/conf/perl-5.16.3/.cpanplus/5.16.3/build/Test-WWW-Mechanize-1.44/blib/lib/Test/WWW/Mechanize.pm line 159
	Test::WWW::Mechanize::get_ok('Test::WWW::Mechanize::PSGI=HASH(0x7f7ff4734eb8)', '/wishlist') called at t/03_mech.t line 76
Secret string too short at /home/cpan/pit/bare/conf/perl-5.16.3/.cpanplus/5.16.3/build/HTTP-Session2-1.07/blib/lib/HTTP/Session2/Base.pm line 79.
	HTTP::Session2::Base::__ANON__('HTTP::Session2::ServerStore=HASH(0x7f7ff4359720)', 's3cret') called at t/03_mech.t line 121
	main::server_session('HASH(0x7f7ff4310d20)') called at t/03_mech.t line 17
	main::__ANON__('HASH(0x7f7ff4310d20)') called at /home/cpan/pit/bare/conf/perl-5.16.3/.cpanplus/5.16.3/build/Test-WWW-Mechanize-PSGI-0.35/blib/lib/Test/WWW/Mechanize/PSGI.pm line 39
	Test::WWW::Mechanize::PSGI::__ANON__() called at /home/cpan/pit/bare/conf/perl-5.16.3/.cpanplus/5.16.3/build/Try-Tiny-0.22/blib/lib/Try/Tiny.pm line 81
	eval {...} called at /home/cpan/pit/bare/conf/perl-5.16.3/.cpanplus/5.16.3/build/Try-Tiny-0.22/blib/lib/Try/Tiny.pm line 72
	Try::Tiny::try('CODE(0x7f7ff4359318)', 'Try::Tiny::Catch=REF(0x7f7ff4359348)') called at /home/cpan/pit/bare/conf/perl-5.16.3/.cpanplus/5.16.3/build/Test-WWW-Mechanize-PSGI-0.35/blib/lib/Test/WWW/Mechanize/PSGI.pm line 46
	Test::WWW::Mechanize::PSGI::simple_request('Test::WWW::Mechanize::PSGI=HASH(0x7f7ff4734eb8)', 'HTTP::Request=HASH(0x7f7ff4359048)', undef, undef) called at /home/cpan/pit/bare/conf/perl-5.16.3/.cpanplus/5.16.3/build/libwww-perl-6.08/blib/lib/LWP/UserAgent.pm line 282
	LWP::UserAgent::request('Test::WWW::Mechanize::PSGI=HASH(0x7f7ff4734eb8)', 'HTTP::Request=HASH(0x7f7ff4359048)') called at /home/cpan/pit/bare/conf/perl-5.16.3/.cpanplus/5.16.3/build/WWW-Mechanize-1.73/blib/lib/WWW/Mechanize.pm line 2598
	WWW::Mechanize::_make_request('Test::WWW::Mechanize::PSGI=HASH(0x7f7ff4734eb8)', 'HTTP::Request=HASH(0x7f7ff4359048)') called at /home/cpan/pit/bare/conf/perl-5.16.3/.cpanplus/5.16.3/build/WWW-Mechanize-1.73/blib/lib/WWW/Mechanize.pm line 2312
	WWW::Mechanize::request('Test::WWW::Mechanize::PSGI=HASH(0x7f7ff4734eb8)', 'HTTP::Request=HASH(0x7f7ff4359048)') called at /home/cpan/pit/bare/conf/perl-5.16.3/.cpanplus/5.16.3/build/libwww-perl-6.08/blib/lib/LWP/UserAgent.pm line 419
	LWP::UserAgent::post('Test::WWW::Mechanize::PSGI=HASH(0x7f7ff4734eb8)', '/wishlist?bar') called at t/03_mech.t line 78
Secret string too short at /home/cpan/pit/bare/conf/perl-5.16.3/.cpanplus/5.16.3/build/HTTP-Session2-1.07/blib/lib/HTTP/Session2/Base.pm line 79.
	HTTP::Session2::Base::__ANON__('HTTP::Session2::ServerStore=HASH(0x7f7ff4359ee8)', 's3cret') called at t/03_mech.t line 121
	main::server_session('HASH(0x7f7ff4359588)') called at t/03_mech.t line 17
	main::__ANON__('HASH(0x7f7ff4359588)') called at /home/cpan/pit/bare/conf/perl-5.16.3/.cpanplus/5.16.3/build/Test-WWW-Mechanize-PSGI-0.35/blib/lib/Test/WWW/Mechanize/PSGI.pm line 39
	Test::WWW::Mechanize::PSGI::__ANON__() called at /home/cpan/pit/bare/conf/perl-5.16.3/.cpanplus/5.16.3/build/Try-Tiny-0.22/blib/lib/Try/Tiny.pm line 81
	eval {...} called at /home/cpan/pit/bare/conf/perl-5.16.3/.cpanplus/5.16.3/build/Try-Tiny-0.22/blib/lib/Try/Tiny.pm line 72
	Try::Tiny::try('CODE(0x7f7ff4359480)', 'Try::Tiny::Catch=REF(0x7f7ff4359450)') called at /home/cpan/pit/bare/conf/perl-5.16.3/.cpanplus/5.16.3/build/Test-WWW-Mechanize-PSGI-0.35/blib/lib/Test/WWW/Mechanize/PSGI.pm line 46
	Test::WWW::Mechanize::PSGI::simple_request('Test::WWW::Mechanize::PSGI=HASH(0x7f7ff4734eb8)', 'HTTP::Request=HASH(0x7f7ff4359930)', undef, undef) called at /home/cpan/pit/bare/conf/perl-5.16.3/.cpanplus/5.16.3/build/libwww-perl-6.08/blib/lib/LWP/UserAgent.pm line 282
	LWP::UserAgent::request('Test::WWW::Mechanize::PSGI=HASH(0x7f7ff4734eb8)', 'HTTP::Request=HASH(0x7f7ff4359930)') called at /home/cpan/pit/bare/conf/perl-5.16.3/.cpanplus/5.16.3/build/WWW-Mechanize-1.73/blib/lib/WWW/Mechanize.pm line 2598
	WWW::Mechanize::_make_request('Test::WWW::Mechanize::PSGI=HASH(0x7f7ff4734eb8)', 'HTTP::Request=HASH(0x7f7ff4359930)') called at /home/cpan/pit/bare/conf/perl-5.16.3/.cpanplus/5.16.3/build/WWW-Mechanize-1.73/blib/lib/WWW/Mechanize.pm line 2312
	WWW::Mechanize::request('Test::WWW::Mechanize::PSGI=HASH(0x7f7ff4734eb8)', 'HTTP::Request=HASH(0x7f7ff4359930)') called at /home/cpan/pit/bare/conf/perl-5.16.3/.cpanplus/5.16.3/build/libwww-perl-6.08/blib/lib/LWP/UserAgent.pm line 419
	LWP::UserAgent::post('Test::WWW::Mechanize::PSGI=HASH(0x7f7ff4734eb8)', '/wishlist?bar', 'HASH(0x7f7ff4f46e58)') called at /home/cpan/pit/bare/conf/perl-5.16.3/.cpanplus/5.16.3/build/Test-WWW-Mechanize-1.44/blib/lib/Test/WWW/Mechanize.pm line 236
	Test::WWW::Mechanize::post_ok('Test::WWW::Mechanize::PSGI=HASH(0x7f7ff4734eb8)', '/wishlist?bar') called at t/03_mech.t line 81
Secret string too short at /home/cpan/pit/bare/conf/perl-5.16.3/.cpanplus/5.16.3/build/HTTP-Session2-1.07/blib/lib/HTTP/Session2/Base.pm line 79.
	HTTP::Session2::Base::__ANON__('HTTP::Session2::ServerStore=HASH(0x7f7ff435e270)', 's3cret') called at t/03_mech.t line 121
	main::server_session('HASH(0x7f7ff4359a20)') called at t/03_mech.t line 17
	main::__ANON__('HASH(0x7f7ff4359a20)') called at /home/cpan/pit/bare/conf/perl-5.16.3/.cpanplus/5.16.3/build/Test-WWW-Mechanize-PSGI-0.35/blib/lib/Test/WWW/Mechanize/PSGI.pm line 39
	Test::WWW::Mechanize::PSGI::__ANON__() called at /home/cpan/pit/bare/conf/perl-5.16.3/.cpanplus/5.16.3/build/Try-Tiny-0.22/blib/lib/Try/Tiny.pm line 81
	eval {...} called at /home/cpan/pit/bare/conf/perl-5.16.3/.cpanplus/5.16.3/build/Try-Tiny-0.22/blib/lib/Try/Tiny.pm line 72
	Try::Tiny::try('CODE(0x7f7ff4359780)', 'Try::Tiny::Catch=REF(0x7f7ff4359d38)') called at /home/cpan/pit/bare/conf/perl-5.16.3/.cpanplus/5.16.3/build/Test-WWW-Mechanize-PSGI-0.35/blib/lib/Test/WWW/Mechanize/PSGI.pm line 46
	Test::WWW::Mechanize::PSGI::simple_request('Test::WWW::Mechanize::PSGI=HASH(0x7f7ff4734eb8)', 'HTTP::Request=HASH(0x7f7ff4359c30)', undef, undef) called at /home/cpan/pit/bare/conf/perl-5.16.3/.cpanplus/5.16.3/build/libwww-perl-6.08/blib/lib/LWP/UserAgent.pm line 282
	LWP::UserAgent::request('Test::WWW::Mechanize::PSGI=HASH(0x7f7ff4734eb8)', 'HTTP::Request=HASH(0x7f7ff4359c30)') called at /home/cpan/pit/bare/conf/perl-5.16.3/.cpanplus/5.16.3/build/WWW-Mechanize-1.73/blib/lib/WWW/Mechanize.pm line 2598
	WWW::Mechanize::_make_request('Test::WWW::Mechanize::PSGI=HASH(0x7f7ff4734eb8)', 'HTTP::Request=HASH(0x7f7ff4359c30)') called at /home/cpan/pit/bare/conf/perl-5.16.3/.cpanplus/5.16.3/build/WWW-Mechanize-1.73/blib/lib/WWW/Mechanize.pm line 2312
	WWW::Mechanize::request('Test::WWW::Mechanize::PSGI=HASH(0x7f7ff4734eb8)', 'HTTP::Request=HASH(0x7f7ff4359c30)') called at /home/cpan/pit/bare/conf/perl-5.16.3/.cpanplus/5.16.3/build/libwww-perl-6.08/blib/lib/LWP/UserAgent.pm line 411
	LWP::UserAgent::get('Test::WWW::Mechanize::PSGI=HASH(0x7f7ff4734eb8)', 'http://localhost/wishlist') called at /home/cpan/pit/bare/conf/perl-5.16.3/.cpanplus/5.16.3/build/WWW-Mechanize-1.73/blib/lib/WWW/Mechanize.pm line 407
	WWW::Mechanize::get('Test::WWW::Mechanize::PSGI=HASH(0x7f7ff4734eb8)', '/wishlist') called at /home/cpan/pit/bare/conf/perl-5.16.3/.cpanplus/5.16.3/build/Test-WWW-Mechanize-1.44/blib/lib/Test/WWW/Mechanize.pm line 159
	Test::WWW::Mechanize::get_ok('Test::WWW::Mechanize::PSGI=HASH(0x7f7ff4734eb8)', '/wishlist') called at t/03_mech.t line 82
Secret string too short at /home/cpan/pit/bare/conf/perl-5.16.3/.cpanplus/5.16.3/build/HTTP-Session2-1.07/blib/lib/HTTP/Session2/Base.pm line 79.
	HTTP::Session2::Base::__ANON__('HTTP::Session2::ServerStore=HASH(0x7f7ff435e588)', 's3cret') called at t/03_mech.t line 121
	main::server_session('HASH(0x7f7ff4359d98)') called at t/03_mech.t line 17
	main::__ANON__('HASH(0x7f7ff4359d98)') called at /home/cpan/pit/bare/conf/perl-5.16.3/.cpanplus/5.16.3/build/Test-WWW-Mechanize-PSGI-0.35/blib/lib/Test/WWW/Mechanize/PSGI.pm line 39
	Test::WWW::Mechanize::PSGI::__ANON__() called at /home/cpan/pit/bare/conf/perl-5.16.3/.cpanplus/5.16.3/build/Try-Tiny-0.22/blib/lib/Try/Tiny.pm line 81
	eval {...} called at /home/cpan/pit/bare/conf/perl-5.16.3/.cpanplus/5.16.3/build/Try-Tiny-0.22/blib/lib/Try/Tiny.pm line 72
	Try::Tiny::try('CODE(0x7f7ff435e120)', 'Try::Tiny::Catch=REF(0x7f7ff435e1e0)') called at /home/cpan/pit/bare/conf/perl-5.16.3/.cpanplus/5.16.3/build/Test-WWW-Mechanize-PSGI-0.35/blib/lib/Test/WWW/Mechanize/PSGI.pm line 46
	Test::WWW::Mechanize::PSGI::simple_request('Test::WWW::Mechanize::PSGI=HASH(0x7f7ff4734eb8)', 'HTTP::Request=HASH(0x7f7ff4359b40)', undef, undef) called at /home/cpan/pit/bare/conf/perl-5.16.3/.cpanplus/5.16.3/build/libwww-perl-6.08/blib/lib/LWP/UserAgent.pm line 282
	LWP::UserAgent::request('Test::WWW::Mechanize::PSGI=HASH(0x7f7ff4734eb8)', 'HTTP::Request=HASH(0x7f7ff4359b40)') called at /home/cpan/pit/bare/conf/perl-5.16.3/.cpanplus/5.16.3/build/WWW-Mechanize-1.73/blib/lib/WWW/Mechanize.pm line 2598
	WWW::Mechanize::_make_request('Test::WWW::Mechanize::PSGI=HASH(0x7f7ff4734eb8)', 'HTTP::Request=HASH(0x7f7ff4359b40)') called at /home/cpan/pit/bare/conf/perl-5.16.3/.cpanplus/5.16.3/build/WWW-Mechanize-1.73/blib/lib/WWW/Mechanize.pm line 2312
	WWW::Mechanize::request('Test::WWW::Mechanize::PSGI=HASH(0x7f7ff4734eb8)', 'HTTP::Request=HASH(0x7f7ff4359b40)') called at /home/cpan/pit/bare/conf/perl-5.16.3/.cpanplus/5.16.3/build/libwww-perl-6.08/blib/lib/LWP/UserAgent.pm line 419
	LWP::UserAgent::post('Test::WWW::Mechanize::PSGI=HASH(0x7f7ff4734eb8)', '/account/login?john', 'HASH(0x7f7ff4f46e58)') called at /home/cpan/pit/bare/conf/perl-5.16.3/.cpanplus/5.16.3/build/Test-WWW-Mechanize-1.44/blib/lib/Test/WWW/Mechanize.pm line 236
	Test::WWW::Mechanize::post_ok('Test::WWW::Mechanize::PSGI=HASH(0x7f7ff4734eb8)', '/account/login?john') called at t/03_mech.t line 84
Secret string too short at /home/cpan/pit/bare/conf/perl-5.16.3/.cpanplus/5.16.3/build/HTTP-Session2-1.07/blib/lib/HTTP/Session2/Base.pm line 79.
	HTTP::Session2::Base::__ANON__('HTTP::Session2::ServerStore=HASH(0x7f7ff435ea98)', 's3cret') called at t/03_mech.t line 121
	main::server_session('HASH(0x7f7ff4359a98)') called at t/03_mech.t line 17
	main::__ANON__('HASH(0x7f7ff4359a98)') called at /home/cpan/pit/bare/conf/perl-5.16.3/.cpanplus/5.16.3/build/Test-WWW-Mechanize-PSGI-0.35/blib/lib/Test/WWW/Mechanize/PSGI.pm line 39
	Test::WWW::Mechanize::PSGI::__ANON__() called at /home/cpan/pit/bare/conf/perl-5.16.3/.cpanplus/5.16.3/build/Try-Tiny-0.22/blib/lib/Try/Tiny.pm line 81
	eval {...} called at /home/cpan/pit/bare/conf/perl-5.16.3/.cpanplus/5.16.3/build/Try-Tiny-0.22/blib/lib/Try/Tiny.pm line 72
	Try::Tiny::try('CODE(0x7f7ff435e240)', 'Try::Tiny::Catch=REF(0x7f7ff435e3f0)') called at /home/cpan/pit/bare/conf/perl-5.16.3/.cpanplus/5.16.3/build/Test-WWW-Mechanize-PSGI-0.35/blib/lib/Test/WWW/Mechanize/PSGI.pm line 46
	Test::WWW::Mechanize::PSGI::simple_request('Test::WWW::Mechanize::PSGI=HASH(0x7f7ff4734eb8)', 'HTTP::Request=HASH(0x7f7ff435e7b0)', undef, undef) called at /home/cpan/pit/bare/conf/perl-5.16.3/.cpanplus/5.16.3/build/libwww-perl-6.08/blib/lib/LWP/UserAgent.pm line 282
	LWP::UserAgent::request('Test::WWW::Mechanize::PSGI=HASH(0x7f7ff4734eb8)', 'HTTP::Request=HASH(0x7f7ff435e7b0)') called at /home/cpan/pit/bare/conf/perl-5.16.3/.cpanplus/5.16.3/build/WWW-Mechanize-1.73/blib/lib/WWW/Mechanize.pm line 2598
	WWW::Mechanize::_make_request('Test::WWW::Mechanize::PSGI=HASH(0x7f7ff4734eb8)', 'HTTP::Request=HASH(0x7f7ff435e7b0)') called at /home/cpan/pit/bare/conf/perl-5.16.3/.cpanplus/5.16.3/build/WWW-Mechanize-1.73/blib/lib/WWW/Mechanize.pm line 2312
	WWW::Mechanize::request('Test::WWW::Mechanize::PSGI=HASH(0x7f7ff4734eb8)', 'HTTP::Request=HASH(0x7f7ff435e7b0)') called at /home/cpan/pit/bare/conf/perl-5.16.3/.cpanplus/5.16.3/build/libwww-perl-6.08/blib/lib/LWP/UserAgent.pm line 411
	LWP::UserAgent::get('Test::WWW::Mechanize::PSGI=HASH(0x7f7ff4734eb8)', 'http://localhost/wishlist') called at /home/cpan/pit/bare/conf/perl-5.16.3/.cpanplus/5.16.3/build/WWW-Mechanize-1.73/blib/lib/WWW/Mechanize.pm line 407
	WWW::Mechanize::get('Test::WWW::Mechanize::PSGI=HASH(0x7f7ff4734eb8)', '/wishlist') called at /home/cpan/pit/bare/conf/perl-5.16.3/.cpanplus/5.16.3/build/Test-WWW-Mechanize-1.44/blib/lib/Test/WWW/Mechanize.pm line 159
	Test::WWW::Mechanize::get_ok('Test::WWW::Mechanize::PSGI=HASH(0x7f7ff4734eb8)', '/wishlist', 'Wishlist is still available') called at t/03_mech.t line 85
Secret string too short at /home/cpan/pit/bare/conf/perl-5.16.3/.cpanplus/5.16.3/build/HTTP-Session2-1.07/blib/lib/HTTP/Session2/Base.pm line 79.
	HTTP::Session2::Base::__ANON__('HTTP::Session2::ServerStore=HASH(0x7f7ff435efa8)', 's3cret') called at t/03_mech.t line 121
	main::server_session('HASH(0x7f7ff435e9d8)') called at t/03_mech.t line 17
	main::__ANON__('HASH(0x7f7ff435e9d8)') called at /home/cpan/pit/bare/conf/perl-5.16.3/.cpanplus/5.16.3/build/Test-WWW-Mechanize-PSGI-0.35/blib/lib/Test/WWW/Mechanize/PSGI.pm line 39
	Test::WWW::Mechanize::PSGI::__ANON__() called at /home/cpan/pit/bare/conf/perl-5.16.3/.cpanplus/5.16.3/build/Try-Tiny-0.22/blib/lib/Try/Tiny.pm line 81
	eval {...} called at /home/cpan/pit/bare/conf/perl-5.16.3/.cpanplus/5.16.3/build/Try-Tiny-0.22/blib/lib/Try/Tiny.pm line 72
	Try::Tiny::try('CODE(0x7f7ff4359198)', 'Try::Tiny::Catch=REF(0x7f7ff435ec90)') called at /home/cpan/pit/bare/conf/perl-5.16.3/.cpanplus/5.16.3/build/Test-WWW-Mechanize-PSGI-0.35/blib/lib/Test/WWW/Mechanize/PSGI.pm line 46
	Test::WWW::Mechanize::PSGI::simple_request('Test::WWW::Mechanize::PSGI=HASH(0x7f7ff4734eb8)', 'HTTP::Request=HASH(0x7f7ff4310b10)', undef, undef) called at /home/cpan/pit/bare/conf/perl-5.16.3/.cpanplus/5.16.3/build/libwww-perl-6.08/blib/lib/LWP/UserAgent.pm line 282
	LWP::UserAgent::request('Test::WWW::Mechanize::PSGI=HASH(0x7f7ff4734eb8)', 'HTTP::Request=HASH(0x7f7ff4310b10)') called at /home/cpan/pit/bare/conf/perl-5.16.3/.cpanplus/5.16.3/build/WWW-Mechanize-1.73/blib/lib/WWW/Mechanize.pm line 2598
	WWW::Mechanize::_make_request('Test::WWW::Mechanize::PSGI=HASH(0x7f7ff4734eb8)', 'HTTP::Request=HASH(0x7f7ff4310b10)') called at /home/cpan/pit/bare/conf/perl-5.16.3/.cpanplus/5.16.3/build/WWW-Mechanize-1.73/blib/lib/WWW/Mechanize.pm line 2312
	WWW::Mechanize::request('Test::WWW::Mechanize::PSGI=HASH(0x7f7ff4734eb8)', 'HTTP::Request=HASH(0x7f7ff4310b10)') called at /home/cpan/pit/bare/conf/perl-5.16.3/.cpanplus/5.16.3/build/libwww-perl-6.08/blib/lib/LWP/UserAgent.pm line 419
	LWP::UserAgent::post('Test::WWW::Mechanize::PSGI=HASH(0x7f7ff4734eb8)', '/wishlist?baz') called at t/03_mech.t line 87
Secret string too short at /home/cpan/pit/bare/conf/perl-5.16.3/.cpanplus/5.16.3/build/HTTP-Session2-1.07/blib/lib/HTTP/Session2/Base.pm line 79.
	HTTP::Session2::Base::__ANON__('HTTP::Session2::ServerStore=HASH(0x7f7ff43636c0)', 's3cret') called at t/03_mech.t line 121
	main::server_session('HASH(0x7f7ff435ef90)') called at t/03_mech.t line 17
	main::__ANON__('HASH(0x7f7ff435ef90)') called at /home/cpan/pit/bare/conf/perl-5.16.3/.cpanplus/5.16.3/build/Test-WWW-Mechanize-PSGI-0.35/blib/lib/Test/WWW/Mechanize/PSGI.pm line 39
	Test::WWW::Mechanize::PSGI::__ANON__() called at /home/cpan/pit/bare/conf/perl-5.16.3/.cpanplus/5.16.3/build/Try-Tiny-0.22/blib/lib/Try/Tiny.pm line 81
	eval {...} called at /home/cpan/pit/bare/conf/perl-5.16.3/.cpanplus/5.16.3/build/Try-Tiny-0.22/blib/lib/Try/Tiny.pm line 72
	Try::Tiny::try('CODE(0x7f7ff435e960)', 'Try::Tiny::Catch=REF(0x7f7ff435ed68)') called at /home/cpan/pit/bare/conf/perl-5.16.3/.cpanplus/5.16.3/build/Test-WWW-Mechanize-PSGI-0.35/blib/lib/Test/WWW/Mechanize/PSGI.pm line 46
	Test::WWW::Mechanize::PSGI::simple_request('Test::WWW::Mechanize::PSGI=HASH(0x7f7ff4734eb8)', 'HTTP::Request=HASH(0x7f7ff4363210)', undef, undef) called at /home/cpan/pit/bare/conf/perl-5.16.3/.cpanplus/5.16.3/build/libwww-perl-6.08/blib/lib/LWP/UserAgent.pm line 282
	LWP::UserAgent::request('Test::WWW::Mechanize::PSGI=HASH(0x7f7ff4734eb8)', 'HTTP::Request=HASH(0x7f7ff4363210)') called at /home/cpan/pit/bare/conf/perl-5.16.3/.cpanplus/5.16.3/build/WWW-Mechanize-1.73/blib/lib/WWW/Mechanize.pm line 2598
	WWW::Mechanize::_make_request('Test::WWW::Mechanize::PSGI=HASH(0x7f7ff4734eb8)', 'HTTP::Request=HASH(0x7f7ff4363210)') called at /home/cpan/pit/bare/conf/perl-5.16.3/.cpanplus/5.16.3/build/WWW-Mechanize-1.73/blib/lib/WWW/Mechanize.pm line 2312
	WWW::Mechanize::request('Test::WWW::Mechanize::PSGI=HASH(0x7f7ff4734eb8)', 'HTTP::Request=HASH(0x7f7ff4363210)') called at /home/cpan/pit/bare/conf/perl-5.16.3/.cpanplus/5.16.3/build/libwww-perl-6.08/blib/lib/LWP/UserAgent.pm line 419
	LWP::UserAgent::post('Test::WWW::Mechanize::PSGI=HASH(0x7f7ff4734eb8)', '/wishlist?baz', 'HASH(0x7f7ff4f46e58)') called at /home/cpan/pit/bare/conf/perl-5.16.3/.cpanplus/5.16.3/build/Test-WWW-Mechanize-1.44/blib/lib/Test/WWW/Mechanize.pm line 236
	Test::WWW::Mechanize::post_ok('Test::WWW::Mechanize::PSGI=HASH(0x7f7ff4734eb8)', '/wishlist?baz') called at t/03_mech.t line 90
Secret string too short at /home/cpan/pit/bare/conf/perl-5.16.3/.cpanplus/5.16.3/build/HTTP-Session2-1.07/blib/lib/HTTP/Session2/Base.pm line 79.
	HTTP::Session2::Base::__ANON__('HTTP::Session2::ServerStore=HASH(0x7f7ff4363a38)', 's3cret') called at t/03_mech.t line 121
	main::server_session('HASH(0x7f7ff4363300)') called at t/03_mech.t line 17
	main::__ANON__('HASH(0x7f7ff4363300)') called at /home/cpan/pit/bare/conf/perl-5.16.3/.cpanplus/5.16.3/build/Test-WWW-Mechanize-PSGI-0.35/blib/lib/Test/WWW/Mechanize/PSGI.pm line 39
	Test::WWW::Mechanize::PSGI::__ANON__() called at /home/cpan/pit/bare/conf/perl-5.16.3/.cpanplus/5.16.3/build/Try-Tiny-0.22/blib/lib/Try/Tiny.pm line 81
	eval {...} called at /home/cpan/pit/bare/conf/perl-5.16.3/.cpanplus/5.16.3/build/Try-Tiny-0.22/blib/lib/Try/Tiny.pm line 72
	Try::Tiny::try('CODE(0x7f7ff4363018)', 'Try::Tiny::Catch=REF(0x7f7ff43633f0)') called at /home/cpan/pit/bare/conf/perl-5.16.3/.cpanplus/5.16.3/build/Test-WWW-Mechanize-PSGI-0.35/blib/lib/Test/WWW/Mechanize/PSGI.pm line 46
	Test::WWW::Mechanize::PSGI::simple_request('Test::WWW::Mechanize::PSGI=HASH(0x7f7ff4734eb8)', 'HTTP::Request=HASH(0x7f7ff435ef00)', undef, undef) called at /home/cpan/pit/bare/conf/perl-5.16.3/.cpanplus/5.16.3/build/libwww-perl-6.08/blib/lib/LWP/UserAgent.pm line 282
	LWP::UserAgent::request('Test::WWW::Mechanize::PSGI=HASH(0x7f7ff4734eb8)', 'HTTP::Request=HASH(0x7f7ff435ef00)') called at /home/cpan/pit/bare/conf/perl-5.16.3/.cpanplus/5.16.3/build/WWW-Mechanize-1.73/blib/lib/WWW/Mechanize.pm line 2598
	WWW::Mechanize::_make_request('Test::WWW::Mechanize::PSGI=HASH(0x7f7ff4734eb8)', 'HTTP::Request=HASH(0x7f7ff435ef00)') called at /home/cpan/pit/bare/conf/perl-5.16.3/.cpanplus/5.16.3/build/WWW-Mechanize-1.73/blib/lib/WWW/Mechanize.pm line 2312
	WWW::Mechanize::request('Test::WWW::Mechanize::PSGI=HASH(0x7f7ff4734eb8)', 'HTTP::Request=HASH(0x7f7ff435ef00)') called at /home/cpan/pit/bare/conf/perl-5.16.3/.cpanplus/5.16.3/build/libwww-perl-6.08/blib/lib/LWP/UserAgent.pm line 411
	LWP::UserAgent::get('Test::WWW::Mechanize::PSGI=HASH(0x7f7ff4734eb8)', 'http://localhost/wishlist') called at /home/cpan/pit/bare/conf/perl-5.16.3/.cpanplus/5.16.3/build/WWW-Mechanize-1.73/blib/lib/WWW/Mechanize.pm line 407
	WWW::Mechanize::get('Test::WWW::Mechanize::PSGI=HASH(0x7f7ff4734eb8)', '/wishlist') called at /home/cpan/pit/bare/conf/perl-5.16.3/.cpanplus/5.16.3/build/Test-WWW-Mechanize-1.44/blib/lib/Test/WWW/Mechanize.pm line 159
	Test::WWW::Mechanize::get_ok('Test::WWW::Mechanize::PSGI=HASH(0x7f7ff4734eb8)', '/wishlist', 'Wishlist is still available') called at t/03_mech.t line 91
Secret string too short at /home/cpan/pit/bare/conf/perl-5.16.3/.cpanplus/5.16.3/build/HTTP-Session2-1.07/blib/lib/HTTP/Session2/Base.pm line 79.
	HTTP::Session2::Base::__ANON__('HTTP::Session2::ServerStore=HASH(0x7f7ff4363d08)', 's3cret') called at t/03_mech.t line 121
	main::server_session('HASH(0x7f7ff4363930)') called at t/03_mech.t line 17
	main::__ANON__('HASH(0x7f7ff4363930)') called at /home/cpan/pit/bare/conf/perl-5.16.3/.cpanplus/5.16.3/build/Test-WWW-Mechanize-PSGI-0.35/blib/lib/Test/WWW/Mechanize/PSGI.pm line 39
	Test::WWW::Mechanize::PSGI::__ANON__() called at /home/cpan/pit/bare/conf/perl-5.16.3/.cpanplus/5.16.3/build/Try-Tiny-0.22/blib/lib/Try/Tiny.pm line 81
	eval {...} called at /home/cpan/pit/bare/conf/perl-5.16.3/.cpanplus/5.16.3/build/Try-Tiny-0.22/blib/lib/Try/Tiny.pm line 72
	Try::Tiny::try('CODE(0x7f7ff4363b10)', 'Try::Tiny::Catch=REF(0x7f7ff43639a8)') called at /home/cpan/pit/bare/conf/perl-5.16.3/.cpanplus/5.16.3/build/Test-WWW-Mechanize-PSGI-0.35/blib/lib/Test/WWW/Mechanize/PSGI.pm line 46
	Test::WWW::Mechanize::PSGI::simple_request('Test::WWW::Mechanize::PSGI=HASH(0x7f7ff4734eb8)', 'HTTP::Request=HASH(0x7f7ff43636d8)', undef, undef) called at /home/cpan/pit/bare/conf/perl-5.16.3/.cpanplus/5.16.3/build/libwww-perl-6.08/blib/lib/LWP/UserAgent.pm line 282
	LWP::UserAgent::request('Test::WWW::Mechanize::PSGI=HASH(0x7f7ff4734eb8)', 'HTTP::Request=HASH(0x7f7ff43636d8)') called at /home/cpan/pit/bare/conf/perl-5.16.3/.cpanplus/5.16.3/build/WWW-Mechanize-1.73/blib/lib/WWW/Mechanize.pm line 2598
	WWW::Mechanize::_make_request('Test::WWW::Mechanize::PSGI=HASH(0x7f7ff4734eb8)', 'HTTP::Request=HASH(0x7f7ff43636d8)') called at /home/cpan/pit/bare/conf/perl-5.16.3/.cpanplus/5.16.3/build/WWW-Mechanize-1.73/blib/lib/WWW/Mechanize.pm line 2312
	WWW::Mechanize::request('Test::WWW::Mechanize::PSGI=HASH(0x7f7ff4734eb8)', 'HTTP::Request=HASH(0x7f7ff43636d8)') called at /home/cpan/pit/bare/conf/perl-5.16.3/.cpanplus/5.16.3/build/libwww-perl-6.08/blib/lib/LWP/UserAgent.pm line 411
	LWP::UserAgent::get('Test::WWW::Mechanize::PSGI=HASH(0x7f7ff4734eb8)', 'http://localhost/my/name') called at /home/cpan/pit/bare/conf/perl-5.16.3/.cpanplus/5.16.3/build/WWW-Mechanize-1.73/blib/lib/WWW/Mechanize.pm line 407
	WWW::Mechanize::get('Test::WWW::Mechanize::PSGI=HASH(0x7f7ff4734eb8)', '/my/name') called at /home/cpan/pit/bare/conf/perl-5.16.3/.cpanplus/5.16.3/build/Test-WWW-Mechanize-1.44/blib/lib/Test/WWW/Mechanize.pm line 159
	Test::WWW::Mechanize::get_ok('Test::WWW::Mechanize::PSGI=HASH(0x7f7ff4734eb8)', '/my/name') called at t/03_mech.t line 93
Secret string too short at /home/cpan/pit/bare/conf/perl-5.16.3/.cpanplus/5.16.3/build/HTTP-Session2-1.07/blib/lib/HTTP/Session2/Base.pm line 79.
	HTTP::Session2::Base::__ANON__('HTTP::Session2::ServerStore=HASH(0x7f7ff43655e8)', 's3cret') called at t/03_mech.t line 121
	main::server_session('HASH(0x7f7ff43639a8)') called at t/03_mech.t line 17
	main::__ANON__('HASH(0x7f7ff43639a8)') called at /home/cpan/pit/bare/conf/perl-5.16.3/.cpanplus/5.16.3/build/Test-WWW-Mechanize-PSGI-0.35/blib/lib/Test/WWW/Mechanize/PSGI.pm line 39
	Test::WWW::Mechanize::PSGI::__ANON__() called at /home/cpan/pit/bare/conf/perl-5.16.3/.cpanplus/5.16.3/build/Try-Tiny-0.22/blib/lib/Try/Tiny.pm line 81
	eval {...} called at /home/cpan/pit/bare/conf/perl-5.16.3/.cpanplus/5.16.3/build/Try-Tiny-0.22/blib/lib/Try/Tiny.pm line 72
	Try::Tiny::try('CODE(0x7f7ff43638d0)', 'Try::Tiny::Catch=REF(0x7f7ff4363bb8)') called at /home/cpan/pit/bare/conf/perl-5.16.3/.cpanplus/5.16.3/build/Test-WWW-Mechanize-PSGI-0.35/blib/lib/Test/WWW/Mechanize/PSGI.pm line 46
	Test::WWW::Mechanize::PSGI::simple_request('Test::WWW::Mechanize::PSGI=HASH(0x7f7ff4734eb8)', 'HTTP::Request=HASH(0x7f7ff4363c78)', undef, undef) called at /home/cpan/pit/bare/conf/perl-5.16.3/.cpanplus/5.16.3/build/libwww-perl-6.08/blib/lib/LWP/UserAgent.pm line 282
	LWP::UserAgent::request('Test::WWW::Mechanize::PSGI=HASH(0x7f7ff4734eb8)', 'HTTP::Request=HASH(0x7f7ff4363c78)') called at /home/cpan/pit/bare/conf/perl-5.16.3/.cpanplus/5.16.3/build/WWW-Mechanize-1.73/blib/lib/WWW/Mechanize.pm line 2598
	WWW::Mechanize::_make_request('Test::WWW::Mechanize::PSGI=HASH(0x7f7ff4734eb8)', 'HTTP::Request=HASH(0x7f7ff4363c78)') called at /home/cpan/pit/bare/conf/perl-5.16.3/.cpanplus/5.16.3/build/WWW-Mechanize-1.73/blib/lib/WWW/Mechanize.pm line 2312
	WWW::Mechanize::request('Test::WWW::Mechanize::PSGI=HASH(0x7f7ff4734eb8)', 'HTTP::Request=HASH(0x7f7ff4363c78)') called at /home/cpan/pit/bare/conf/perl-5.16.3/.cpanplus/5.16.3/build/libwww-perl-6.08/blib/lib/LWP/UserAgent.pm line 419
	LWP::UserAgent::post('Test::WWW::Mechanize::PSGI=HASH(0x7f7ff4734eb8)', '/account/logout?john') called at t/03_mech.t line 97
Secret string too short at /home/cpan/pit/bare/conf/perl-5.16.3/.cpanplus/5.16.3/build/HTTP-Session2-1.07/blib/lib/HTTP/Session2/Base.pm line 79.
	HTTP::Session2::Base::__ANON__('HTTP::Session2::ClientStore=HASH(0x7f7ff4310e28)', 's3cret') called at t/03_mech.t line 127
	main::client_session('HASH(0x7f7ff432e468)') called at t/03_mech.t line 17
	main::__ANON__('HASH(0x7f7ff432e468)') called at /home/cpan/pit/bare/conf/perl-5.16.3/.cpanplus/5.16.3/build/Test-WWW-Mechanize-PSGI-0.35/blib/lib/Test/WWW/Mechanize/PSGI.pm line 39
	Test::WWW::Mechanize::PSGI::__ANON__() called at /home/cpan/pit/bare/conf/perl-5.16.3/.cpanplus/5.16.3/build/Try-Tiny-0.22/blib/lib/Try/Tiny.pm line 81
	eval {...} called at /home/cpan/pit/bare/conf/perl-5.16.3/.cpanplus/5.16.3/build/Try-Tiny-0.22/blib/lib/Try/Tiny.pm line 72
	Try::Tiny::try('CODE(0x7f7ff4734b88)', 'Try::Tiny::Catch=REF(0x7f7ff4365300)') called at /home/cpan/pit/bare/conf/perl-5.16.3/.cpanplus/5.16.3/build/Test-WWW-Mechanize-PSGI-0.35/blib/lib/Test/WWW/Mechanize/PSGI.pm line 46
	Test::WWW::Mechanize::PSGI::simple_request('Test::WWW::Mechanize::PSGI=HASH(0x7f7ff47e7cd8)', 'HTTP::Request=HASH(0x7f7ff47dda38)', undef, undef) called at /home/cpan/pit/bare/conf/perl-5.16.3/.cpanplus/5.16.3/build/libwww-perl-6.08/blib/lib/LWP/UserAgent.pm line 282
	LWP::UserAgent::request('Test::WWW::Mechanize::PSGI=HASH(0x7f7ff47e7cd8)', 'HTTP::Request=HASH(0x7f7ff47dda38)') called at /home/cpan/pit/bare/conf/perl-5.16.3/.cpanplus/5.16.3/build/WWW-Mechanize-1.73/blib/lib/WWW/Mechanize.pm line 2598
	WWW::Mechanize::_make_request('Test::WWW::Mechanize::PSGI=HASH(0x7f7ff47e7cd8)', 'HTTP::Request=HASH(0x7f7ff47dda38)') called at /home/cpan/pit/bare/conf/perl-5.16.3/.cpanplus/5.16.3/build/WWW-Mechanize-1.73/blib/lib/WWW/Mechanize.pm line 2312
	WWW::Mechanize::request('Test::WWW::Mechanize::PSGI=HASH(0x7f7ff47e7cd8)', 'HTTP::Request=HASH(0x7f7ff47dda38)') called at /home/cpan/pit/bare/conf/perl-5.16.3/.cpanplus/5.16.3/build/libwww-perl-6.08/blib/lib/LWP/UserAgent.pm line 411
	LWP::UserAgent::get('Test::WWW::Mechanize::PSGI=HASH(0x7f7ff47e7cd8)', '/') called at /home/cpan/pit/bare/conf/perl-5.16.3/.cpanplus/5.16.3/build/WWW-Mechanize-1.73/blib/lib/WWW/Mechanize.pm line 407
	WWW::Mechanize::get('Test::WWW::Mechanize::PSGI=HASH(0x7f7ff47e7cd8)', '/') called at /home/cpan/pit/bare/conf/perl-5.16.3/.cpanplus/5.16.3/build/Test-WWW-Mechanize-1.44/blib/lib/Test/WWW/Mechanize.pm line 159
	Test::WWW::Mechanize::get_ok('Test::WWW::Mechanize::PSGI=HASH(0x7f7ff47e7cd8)', '/') called at t/03_mech.t line 74
Secret string too short at /home/cpan/pit/bare/conf/perl-5.16.3/.cpanplus/5.16.3/build/HTTP-Session2-1.07/blib/lib/HTTP/Session2/Base.pm line 79.
	HTTP::Session2::Base::__ANON__('HTTP::Session2::ClientStore=HASH(0x7f7ff43591f8)', 's3cret') called at t/03_mech.t line 127
	main::client_session('HASH(0x7f7ff4310618)') called at t/03_mech.t line 17
	main::__ANON__('HASH(0x7f7ff4310618)') called at /home/cpan/pit/bare/conf/perl-5.16.3/.cpanplus/5.16.3/build/Test-WWW-Mechanize-PSGI-0.35/blib/lib/Test/WWW/Mechanize/PSGI.pm line 39
	Test::WWW::Mechanize::PSGI::__ANON__() called at /home/cpan/pit/bare/conf/perl-5.16.3/.cpanplus/5.16.3/build/Try-Tiny-0.22/blib/lib/Try/Tiny.pm line 81
	eval {...} called at /home/cpan/pit/bare/conf/perl-5.16.3/.cpanplus/5.16.3/build/Try-Tiny-0.22/blib/lib/Try/Tiny.pm line 72
	Try::Tiny::try('CODE(0x7f7ff4310c78)', 'Try::Tiny::Catch=REF(0x7f7ff4310660)') called at /home/cpan/pit/bare/conf/perl-5.16.3/.cpanplus/5.16.3/build/Test-WWW-Mechanize-PSGI-0.35/blib/lib/Test/WWW/Mechanize/PSGI.pm line 46
	Test::WWW::Mechanize::PSGI::simple_request('Test::WWW::Mechanize::PSGI=HASH(0x7f7ff47e7cd8)', 'HTTP::Request=HASH(0x7f7ff478c7c8)', undef, undef) called at /home/cpan/pit/bare/conf/perl-5.16.3/.cpanplus/5.16.3/build/libwww-perl-6.08/blib/lib/LWP/UserAgent.pm line 282
	LWP::UserAgent::request('Test::WWW::Mechanize::PSGI=HASH(0x7f7ff47e7cd8)', 'HTTP::Request=HASH(0x7f7ff478c7c8)') called at /home/cpan/pit/bare/conf/perl-5.16.3/.cpanplus/5.16.3/build/WWW-Mechanize-1.73/blib/lib/WWW/Mechanize.pm line 2598
	WWW::Mechanize::_make_request('Test::WWW::Mechanize::PSGI=HASH(0x7f7ff47e7cd8)', 'HTTP::Request=HASH(0x7f7ff478c7c8)') called at /home/cpan/pit/bare/conf/perl-5.16.3/.cpanplus/5.16.3/build/WWW-Mechanize-1.73/blib/lib/WWW/Mechanize.pm line 2312
	WWW::Mechanize::request('Test::WWW::Mechanize::PSGI=HASH(0x7f7ff47e7cd8)', 'HTTP::Request=HASH(0x7f7ff478c7c8)') called at /home/cpan/pit/bare/conf/perl-5.16.3/.cpanplus/5.16.3/build/libwww-perl-6.08/blib/lib/LWP/UserAgent.pm line 419
	LWP::UserAgent::post('Test::WWW::Mechanize::PSGI=HASH(0x7f7ff47e7cd8)', '/wishlist?foo', 'HASH(0x7f7ff4f46e58)') called at /home/cpan/pit/bare/conf/perl-5.16.3/.cpanplus/5.16.3/build/Test-WWW-Mechanize-1.44/blib/lib/Test/WWW/Mechanize.pm line 236
	Test::WWW::Mechanize::post_ok('Test::WWW::Mechanize::PSGI=HASH(0x7f7ff47e7cd8)', '/wishlist?foo') called at t/03_mech.t line 75
Do not use HTTP::Session2::ClientStore. Use HTTP::Session2::ServerStore or HTTP::Session2::ClientStore2 instead. at /home/cpan/pit/bare/conf/perl-5.16.3/.cpanplus/5.16.3/build/HTTP-Session2-1.07/blib/lib/HTTP/Session2/ClientStore.pm line 25.
Secret string too short at /home/cpan/pit/bare/conf/perl-5.16.3/.cpanplus/5.16.3/build/HTTP-Session2-1.07/blib/lib/HTTP/Session2/Base.pm line 79.
	HTTP::Session2::Base::__ANON__('HTTP::Session2::ClientStore=HASH(0x7f7ff4359cc0)', 's3cret') called at t/03_mech.t line 127
	main::client_session('HASH(0x7f7ff43653c0)') called at t/03_mech.t line 17
	main::__ANON__('HASH(0x7f7ff43653c0)') called at /home/cpan/pit/bare/conf/perl-5.16.3/.cpanplus/5.16.3/build/Test-WWW-Mechanize-PSGI-0.35/blib/lib/Test/WWW/Mechanize/PSGI.pm line 39
	Test::WWW::Mechanize::PSGI::__ANON__() called at /home/cpan/pit/bare/conf/perl-5.16.3/.cpanplus/5.16.3/build/Try-Tiny-0.22/blib/lib/Try/Tiny.pm line 81
	eval {...} called at /home/cpan/pit/bare/conf/perl-5.16.3/.cpanplus/5.16.3/build/Try-Tiny-0.22/blib/lib/Try/Tiny.pm line 72
	Try::Tiny::try('CODE(0x7f7ff435e2d0)', 'Try::Tiny::Catch=REF(0x7f7ff4365750)') called at /home/cpan/pit/bare/conf/perl-5.16.3/.cpanplus/5.16.3/build/Test-WWW-Mechanize-PSGI-0.35/blib/lib/Test/WWW/Mechanize/PSGI.pm line 46
	Test::WWW::Mechanize::PSGI::simple_request('Test::WWW::Mechanize::PSGI=HASH(0x7f7ff47e7cd8)', 'HTTP::Request=HASH(0x7f7ff4359228)', undef, undef) called at /home/cpan/pit/bare/conf/perl-5.16.3/.cpanplus/5.16.3/build/libwww-perl-6.08/blib/lib/LWP/UserAgent.pm line 282
	LWP::UserAgent::request('Test::WWW::Mechanize::PSGI=HASH(0x7f7ff47e7cd8)', 'HTTP::Request=HASH(0x7f7ff4359228)') called at /home/cpan/pit/bare/conf/perl-5.16.3/.cpanplus/5.16.3/build/WWW-Mechanize-1.73/blib/lib/WWW/Mechanize.pm line 2598
	WWW::Mechanize::_make_request('Test::WWW::Mechanize::PSGI=HASH(0x7f7ff47e7cd8)', 'HTTP::Request=HASH(0x7f7ff4359228)') called at /home/cpan/pit/bare/conf/perl-5.16.3/.cpanplus/5.16.3/build/WWW-Mechanize-1.73/blib/lib/WWW/Mechanize.pm line 2312
	WWW::Mechanize::request('Test::WWW::Mechanize::PSGI=HASH(0x7f7ff47e7cd8)', 'HTTP::Request=HASH(0x7f7ff4359228)') called at /home/cpan/pit/bare/conf/perl-5.16.3/.cpanplus/5.16.3/build/libwww-perl-6.08/blib/lib/LWP/UserAgent.pm line 411
	LWP::UserAgent::get('Test::WWW::Mechanize::PSGI=HASH(0x7f7ff47e7cd8)', 'http://localhost/wishlist') called at /home/cpan/pit/bare/conf/perl-5.16.3/.cpanplus/5.16.3/build/WWW-Mechanize-1.73/blib/lib/WWW/Mechanize.pm line 407
	WWW::Mechanize::get('Test::WWW::Mechanize::PSGI=HASH(0x7f7ff47e7cd8)', '/wishlist') called at /home/cpan/pit/bare/conf/perl-5.16.3/.cpanplus/5.16.3/build/Test-WWW-Mechanize-1.44/blib/lib/Test/WWW/Mechanize.pm line 159
	Test::WWW::Mechanize::get_ok('Test::WWW::Mechanize::PSGI=HASH(0x7f7ff47e7cd8)', '/wishlist') called at t/03_mech.t line 76
Do not use HTTP::Session2::ClientStore. Use HTTP::Session2::ServerStore or HTTP::Session2::ClientStore2 instead. at /home/cpan/pit/bare/conf/perl-5.16.3/.cpanplus/5.16.3/build/HTTP-Session2-1.07/blib/lib/HTTP/Session2/ClientStore.pm line 35.
Secret string too short at /home/cpan/pit/bare/conf/perl-5.16.3/.cpanplus/5.16.3/build/HTTP-Session2-1.07/blib/lib/HTTP/Session2/Base.pm line 79.
	HTTP::Session2::Base::__ANON__('HTTP::Session2::ClientStore=HASH(0x7f7ff435ec00)', 's3cret') called at t/03_mech.t line 127
	main::client_session('HASH(0x7f7ff43108b8)') called at t/03_mech.t line 17
	main::__ANON__('HASH(0x7f7ff43108b8)') called at /home/cpan/pit/bare/conf/perl-5.16.3/.cpanplus/5.16.3/build/Test-WWW-Mechanize-PSGI-0.35/blib/lib/Test/WWW/Mechanize/PSGI.pm line 39
	Test::WWW::Mechanize::PSGI::__ANON__() called at /home/cpan/pit/bare/conf/perl-5.16.3/.cpanplus/5.16.3/build/Try-Tiny-0.22/blib/lib/Try/Tiny.pm line 81
	eval {...} called at /home/cpan/pit/bare/conf/perl-5.16.3/.cpanplus/5.16.3/build/Try-Tiny-0.22/blib/lib/Try/Tiny.pm line 72
	Try::Tiny::try('CODE(0x7f7ff4359c90)', 'Try::Tiny::Catch=REF(0x7f7ff4359588)') called at /home/cpan/pit/bare/conf/perl-5.16.3/.cpanplus/5.16.3/build/Test-WWW-Mechanize-PSGI-0.35/blib/lib/Test/WWW/Mechanize/PSGI.pm line 46
	Test::WWW::Mechanize::PSGI::simple_request('Test::WWW::Mechanize::PSGI=HASH(0x7f7ff47e7cd8)', 'HTTP::Request=HASH(0x7f7ff4310b28)', undef, undef) called at /home/cpan/pit/bare/conf/perl-5.16.3/.cpanplus/5.16.3/build/libwww-perl-6.08/blib/lib/LWP/UserAgent.pm line 282
	LWP::UserAgent::request('Test::WWW::Mechanize::PSGI=HASH(0x7f7ff47e7cd8)', 'HTTP::Request=HASH(0x7f7ff4310b28)') called at /home/cpan/pit/bare/conf/perl-5.16.3/.cpanplus/5.16.3/build/WWW-Mechanize-1.73/blib/lib/WWW/Mechanize.pm line 2598
	WWW::Mechanize::_make_request('Test::WWW::Mechanize::PSGI=HASH(0x7f7ff47e7cd8)', 'HTTP::Request=HASH(0x7f7ff4310b28)') called at /home/cpan/pit/bare/conf/perl-5.16.3/.cpanplus/5.16.3/build/WWW-Mechanize-1.73/blib/lib/WWW/Mechanize.pm line 2312
	WWW::Mechanize::request('Test::WWW::Mechanize::PSGI=HASH(0x7f7ff47e7cd8)', 'HTTP::Request=HASH(0x7f7ff4310b28)') called at /home/cpan/pit/bare/conf/perl-5.16.3/.cpanplus/5.16.3/build/libwww-perl-6.08/blib/lib/LWP/UserAgent.pm line 419
	LWP::UserAgent::post('Test::WWW::Mechanize::PSGI=HASH(0x7f7ff47e7cd8)', '/wishlist?bar') called at t/03_mech.t line 78
Do not use HTTP::Session2::ClientStore. Use HTTP::Session2::ServerStore or HTTP::Session2::ClientStore2 instead. at /home/cpan/pit/bare/conf/perl-5.16.3/.cpanplus/5.16.3/build/HTTP-Session2-1.07/blib/lib/HTTP/Session2/ClientStore.pm line 35.
Secret string too short at /home/cpan/pit/bare/conf/perl-5.16.3/.cpanplus/5.16.3/build/HTTP-Session2-1.07/blib/lib/HTTP/Session2/Base.pm line 79.
	HTTP::Session2::Base::__ANON__('HTTP::Session2::ClientStore=HASH(0x7f7ff43630f0)', 's3cret') called at t/03_mech.t line 127
	main::client_session('HASH(0x7f7ff4359300)') called at t/03_mech.t line 17
	main::__ANON__('HASH(0x7f7ff4359300)') called at /home/cpan/pit/bare/conf/perl-5.16.3/.cpanplus/5.16.3/build/Test-WWW-Mechanize-PSGI-0.35/blib/lib/Test/WWW/Mechanize/PSGI.pm line 39
	Test::WWW::Mechanize::PSGI::__ANON__() called at /home/cpan/pit/bare/conf/perl-5.16.3/.cpanplus/5.16.3/build/Try-Tiny-0.22/blib/lib/Try/Tiny.pm line 81
	eval {...} called at /home/cpan/pit/bare/conf/perl-5.16.3/.cpanplus/5.16.3/build/Try-Tiny-0.22/blib/lib/Try/Tiny.pm line 72
	Try::Tiny::try('CODE(0x7f7ff435e150)', 'Try::Tiny::Catch=REF(0x7f7ff4359a80)') called at /home/cpan/pit/bare/conf/perl-5.16.3/.cpanplus/5.16.3/build/Test-WWW-Mechanize-PSGI-0.35/blib/lib/Test/WWW/Mechanize/PSGI.pm line 46
	Test::WWW::Mechanize::PSGI::simple_request('Test::WWW::Mechanize::PSGI=HASH(0x7f7ff47e7cd8)', 'HTTP::Request=HASH(0x7f7ff4359e28)', undef, undef) called at /home/cpan/pit/bare/conf/perl-5.16.3/.cpanplus/5.16.3/build/libwww-perl-6.08/blib/lib/LWP/UserAgent.pm line 282
	LWP::UserAgent::request('Test::WWW::Mechanize::PSGI=HASH(0x7f7ff47e7cd8)', 'HTTP::Request=HASH(0x7f7ff4359e28)') called at /home/cpan/pit/bare/conf/perl-5.16.3/.cpanplus/5.16.3/build/WWW-Mechanize-1.73/blib/lib/WWW/Mechanize.pm line 2598
	WWW::Mechanize::_make_request('Test::WWW::Mechanize::PSGI=HASH(0x7f7ff47e7cd8)', 'HTTP::Request=HASH(0x7f7ff4359e28)') called at /home/cpan/pit/bare/conf/perl-5.16.3/.cpanplus/5.16.3/build/WWW-Mechanize-1.73/blib/lib/WWW/Mechanize.pm line 2312
	WWW::Mechanize::request('Test::WWW::Mechanize::PSGI=HASH(0x7f7ff47e7cd8)', 'HTTP::Request=HASH(0x7f7ff4359e28)') called at /home/cpan/pit/bare/conf/perl-5.16.3/.cpanplus/5.16.3/build/libwww-perl-6.08/blib/lib/LWP/UserAgent.pm line 419
	LWP::UserAgent::post('Test::WWW::Mechanize::PSGI=HASH(0x7f7ff47e7cd8)', '/wishlist?bar', 'HASH(0x7f7ff4f46e58)') called at /home/cpan/pit/bare/conf/perl-5.16.3/.cpanplus/5.16.3/build/Test-WWW-Mechanize-1.44/blib/lib/Test/WWW/Mechanize.pm line 236
	Test::WWW::Mechanize::post_ok('Test::WWW::Mechanize::PSGI=HASH(0x7f7ff47e7cd8)', '/wishlist?bar') called at t/03_mech.t line 81
Do not use HTTP::Session2::ClientStore. Use HTTP::Session2::ServerStore or HTTP::Session2::ClientStore2 instead. at /home/cpan/pit/bare/conf/perl-5.16.3/.cpanplus/5.16.3/build/HTTP-Session2-1.07/blib/lib/HTTP/Session2/ClientStore.pm line 35.
Do not use HTTP::Session2::ClientStore. Use HTTP::Session2::ServerStore or HTTP::Session2::ClientStore2 instead. at /home/cpan/pit/bare/conf/perl-5.16.3/.cpanplus/5.16.3/build/HTTP-Session2-1.07/blib/lib/HTTP/Session2/ClientStore.pm line 25.
Secret string too short at /home/cpan/pit/bare/conf/perl-5.16.3/.cpanplus/5.16.3/build/HTTP-Session2-1.07/blib/lib/HTTP/Session2/Base.pm line 79.
	HTTP::Session2::Base::__ANON__('HTTP::Session2::ClientStore=HASH(0x7f7ff435ef78)', 's3cret') called at t/03_mech.t line 127
	main::client_session('HASH(0x7f7ff435ef18)') called at t/03_mech.t line 17
	main::__ANON__('HASH(0x7f7ff435ef18)') called at /home/cpan/pit/bare/conf/perl-5.16.3/.cpanplus/5.16.3/build/Test-WWW-Mechanize-PSGI-0.35/blib/lib/Test/WWW/Mechanize/PSGI.pm line 39
	Test::WWW::Mechanize::PSGI::__ANON__() called at /home/cpan/pit/bare/conf/perl-5.16.3/.cpanplus/5.16.3/build/Try-Tiny-0.22/blib/lib/Try/Tiny.pm line 81
	eval {...} called at /home/cpan/pit/bare/conf/perl-5.16.3/.cpanplus/5.16.3/build/Try-Tiny-0.22/blib/lib/Try/Tiny.pm line 72
	Try::Tiny::try('CODE(0x7f7ff435e840)', 'Try::Tiny::Catch=REF(0x7f7ff4359618)') called at /home/cpan/pit/bare/conf/perl-5.16.3/.cpanplus/5.16.3/build/Test-WWW-Mechanize-PSGI-0.35/blib/lib/Test/WWW/Mechanize/PSGI.pm line 46
	Test::WWW::Mechanize::PSGI::simple_request('Test::WWW::Mechanize::PSGI=HASH(0x7f7ff47e7cd8)', 'HTTP::Request=HASH(0x7f7ff435e6c0)', undef, undef) called at /home/cpan/pit/bare/conf/perl-5.16.3/.cpanplus/5.16.3/build/libwww-perl-6.08/blib/lib/LWP/UserAgent.pm line 282
	LWP::UserAgent::request('Test::WWW::Mechanize::PSGI=HASH(0x7f7ff47e7cd8)', 'HTTP::Request=HASH(0x7f7ff435e6c0)') called at /home/cpan/pit/bare/conf/perl-5.16.3/.cpanplus/5.16.3/build/WWW-Mechanize-1.73/blib/lib/WWW/Mechanize.pm line 2598
	WWW::Mechanize::_make_request('Test::WWW::Mechanize::PSGI=HASH(0x7f7ff47e7cd8)', 'HTTP::Request=HASH(0x7f7ff435e6c0)') called at /home/cpan/pit/bare/conf/perl-5.16.3/.cpanplus/5.16.3/build/WWW-Mechanize-1.73/blib/lib/WWW/Mechanize.pm line 2312
	WWW::Mechanize::request('Test::WWW::Mechanize::PSGI=HASH(0x7f7ff47e7cd8)', 'HTTP::Request=HASH(0x7f7ff435e6c0)') called at /home/cpan/pit/bare/conf/perl-5.16.3/.cpanplus/5.16.3/build/libwww-perl-6.08/blib/lib/LWP/UserAgent.pm line 411
	LWP::UserAgent::get('Test::WWW::Mechanize::PSGI=HASH(0x7f7ff47e7cd8)', 'http://localhost/wishlist') called at /home/cpan/pit/bare/conf/perl-5.16.3/.cpanplus/5.16.3/build/WWW-Mechanize-1.73/blib/lib/WWW/Mechanize.pm line 407
	WWW::Mechanize::get('Test::WWW::Mechanize::PSGI=HASH(0x7f7ff47e7cd8)', '/wishlist') called at /home/cpan/pit/bare/conf/perl-5.16.3/.cpanplus/5.16.3/build/Test-WWW-Mechanize-1.44/blib/lib/Test/WWW/Mechanize.pm line 159
	Test::WWW::Mechanize::get_ok('Test::WWW::Mechanize::PSGI=HASH(0x7f7ff47e7cd8)', '/wishlist') called at t/03_mech.t line 82
Do not use HTTP::Session2::ClientStore. Use HTTP::Session2::ServerStore or HTTP::Session2::ClientStore2 instead. at /home/cpan/pit/bare/conf/perl-5.16.3/.cpanplus/5.16.3/build/HTTP-Session2-1.07/blib/lib/HTTP/Session2/ClientStore.pm line 35.
Secret string too short at /home/cpan/pit/bare/conf/perl-5.16.3/.cpanplus/5.16.3/build/HTTP-Session2-1.07/blib/lib/HTTP/Session2/Base.pm line 79.
	HTTP::Session2::Base::__ANON__('HTTP::Session2::ClientStore=HASH(0x7f7ff435ef30)', 's3cret') called at t/03_mech.t line 127
	main::client_session('HASH(0x7f7ff43108e8)') called at t/03_mech.t line 17
	main::__ANON__('HASH(0x7f7ff43108e8)') called at /home/cpan/pit/bare/conf/perl-5.16.3/.cpanplus/5.16.3/build/Test-WWW-Mechanize-PSGI-0.35/blib/lib/Test/WWW/Mechanize/PSGI.pm line 39
	Test::WWW::Mechanize::PSGI::__ANON__() called at /home/cpan/pit/bare/conf/perl-5.16.3/.cpanplus/5.16.3/build/Try-Tiny-0.22/blib/lib/Try/Tiny.pm line 81
	eval {...} called at /home/cpan/pit/bare/conf/perl-5.16.3/.cpanplus/5.16.3/build/Try-Tiny-0.22/blib/lib/Try/Tiny.pm line 72
	Try::Tiny::try('CODE(0x7f7ff435e810)', 'Try::Tiny::Catch=REF(0x7f7ff4310b10)') called at /home/cpan/pit/bare/conf/perl-5.16.3/.cpanplus/5.16.3/build/Test-WWW-Mechanize-PSGI-0.35/blib/lib/Test/WWW/Mechanize/PSGI.pm line 46
	Test::WWW::Mechanize::PSGI::simple_request('Test::WWW::Mechanize::PSGI=HASH(0x7f7ff47e7cd8)', 'HTTP::Request=HASH(0x7f7ff4310bb8)', undef, undef) called at /home/cpan/pit/bare/conf/perl-5.16.3/.cpanplus/5.16.3/build/libwww-perl-6.08/blib/lib/LWP/UserAgent.pm line 282
	LWP::UserAgent::request('Test::WWW::Mechanize::PSGI=HASH(0x7f7ff47e7cd8)', 'HTTP::Request=HASH(0x7f7ff4310bb8)') called at /home/cpan/pit/bare/conf/perl-5.16.3/.cpanplus/5.16.3/build/WWW-Mechanize-1.73/blib/lib/WWW/Mechanize.pm line 2598
	WWW::Mechanize::_make_request('Test::WWW::Mechanize::PSGI=HASH(0x7f7ff47e7cd8)', 'HTTP::Request=HASH(0x7f7ff4310bb8)') called at /home/cpan/pit/bare/conf/perl-5.16.3/.cpanplus/5.16.3/build/WWW-Mechanize-1.73/blib/lib/WWW/Mechanize.pm line 2312
	WWW::Mechanize::request('Test::WWW::Mechanize::PSGI=HASH(0x7f7ff47e7cd8)', 'HTTP::Request=HASH(0x7f7ff4310bb8)') called at /home/cpan/pit/bare/conf/perl-5.16.3/.cpanplus/5.16.3/build/libwww-perl-6.08/blib/lib/LWP/UserAgent.pm line 419
	LWP::UserAgent::post('Test::WWW::Mechanize::PSGI=HASH(0x7f7ff47e7cd8)', '/account/login?john', 'HASH(0x7f7ff4f46e58)') called at /home/cpan/pit/bare/conf/perl-5.16.3/.cpanplus/5.16.3/build/Test-WWW-Mechanize-1.44/blib/lib/Test/WWW/Mechanize.pm line 236
	Test::WWW::Mechanize::post_ok('Test::WWW::Mechanize::PSGI=HASH(0x7f7ff47e7cd8)', '/account/login?john') called at t/03_mech.t line 84
Do not use HTTP::Session2::ClientStore. Use HTTP::Session2::ServerStore or HTTP::Session2::ClientStore2 instead. at /home/cpan/pit/bare/conf/perl-5.16.3/.cpanplus/5.16.3/build/HTTP-Session2-1.07/blib/lib/HTTP/Session2/ClientStore.pm line 35.
Do not use HTTP::Session2::ClientStore. Use HTTP::Session2::ServerStore or HTTP::Session2::ClientStore2 instead. at /home/cpan/pit/bare/conf/perl-5.16.3/.cpanplus/5.16.3/build/HTTP-Session2-1.07/blib/lib/HTTP/Session2/ClientStore.pm line 35.
Do not use HTTP::Session2::ClientStore. Use HTTP::Session2::ServerStore or HTTP::Session2::ClientStore2 instead. at /home/cpan/pit/bare/conf/perl-5.16.3/.cpanplus/5.16.3/build/HTTP-Session2-1.07/blib/lib/HTTP/Session2/ClientStore.pm line 25.
Secret string too short at /home/cpan/pit/bare/conf/perl-5.16.3/.cpanplus/5.16.3/build/HTTP-Session2-1.07/blib/lib/HTTP/Session2/Base.pm line 79.
	HTTP::Session2::Base::__ANON__('HTTP::Session2::ClientStore=HASH(0x7f7ff4363318)', 's3cret') called at t/03_mech.t line 127
	main::client_session('HASH(0x7f7ff4363768)') called at t/03_mech.t line 17
	main::__ANON__('HASH(0x7f7ff4363768)') called at /home/cpan/pit/bare/conf/perl-5.16.3/.cpanplus/5.16.3/build/Test-WWW-Mechanize-PSGI-0.35/blib/lib/Test/WWW/Mechanize/PSGI.pm line 39
	Test::WWW::Mechanize::PSGI::__ANON__() called at /home/cpan/pit/bare/conf/perl-5.16.3/.cpanplus/5.16.3/build/Try-Tiny-0.22/blib/lib/Try/Tiny.pm line 81
	eval {...} called at /home/cpan/pit/bare/conf/perl-5.16.3/.cpanplus/5.16.3/build/Try-Tiny-0.22/blib/lib/Try/Tiny.pm line 72
	Try::Tiny::try('CODE(0x7f7ff435ee28)', 'Try::Tiny::Catch=REF(0x7f7ff4363450)') called at /home/cpan/pit/bare/conf/perl-5.16.3/.cpanplus/5.16.3/build/Test-WWW-Mechanize-PSGI-0.35/blib/lib/Test/WWW/Mechanize/PSGI.pm line 46
	Test::WWW::Mechanize::PSGI::simple_request('Test::WWW::Mechanize::PSGI=HASH(0x7f7ff47e7cd8)', 'HTTP::Request=HASH(0x7f7ff435eee8)', undef, undef) called at /home/cpan/pit/bare/conf/perl-5.16.3/.cpanplus/5.16.3/build/libwww-perl-6.08/blib/lib/LWP/UserAgent.pm line 282
	LWP::UserAgent::request('Test::WWW::Mechanize::PSGI=HASH(0x7f7ff47e7cd8)', 'HTTP::Request=HASH(0x7f7ff435eee8)') called at /home/cpan/pit/bare/conf/perl-5.16.3/.cpanplus/5.16.3/build/WWW-Mechanize-1.73/blib/lib/WWW/Mechanize.pm line 2598
	WWW::Mechanize::_make_request('Test::WWW::Mechanize::PSGI=HASH(0x7f7ff47e7cd8)', 'HTTP::Request=HASH(0x7f7ff435eee8)') called at /home/cpan/pit/bare/conf/perl-5.16.3/.cpanplus/5.16.3/build/WWW-Mechanize-1.73/blib/lib/WWW/Mechanize.pm line 2312
	WWW::Mechanize::request('Test::WWW::Mechanize::PSGI=HASH(0x7f7ff47e7cd8)', 'HTTP::Request=HASH(0x7f7ff435eee8)') called at /home/cpan/pit/bare/conf/perl-5.16.3/.cpanplus/5.16.3/build/libwww-perl-6.08/blib/lib/LWP/UserAgent.pm line 411
	LWP::UserAgent::get('Test::WWW::Mechanize::PSGI=HASH(0x7f7ff47e7cd8)', 'http://localhost/wishlist') called at /home/cpan/pit/bare/conf/perl-5.16.3/.cpanplus/5.16.3/build/WWW-Mechanize-1.73/blib/lib/WWW/Mechanize.pm line 407
	WWW::Mechanize::get('Test::WWW::Mechanize::PSGI=HASH(0x7f7ff47e7cd8)', '/wishlist') called at /home/cpan/pit/bare/conf/perl-5.16.3/.cpanplus/5.16.3/build/Test-WWW-Mechanize-1.44/blib/lib/Test/WWW/Mechanize.pm line 159
	Test::WWW::Mechanize::get_ok('Test::WWW::Mechanize::PSGI=HASH(0x7f7ff47e7cd8)', '/wishlist', 'Wishlist is still available') called at t/03_mech.t line 85
Do not use HTTP::Session2::ClientStore. Use HTTP::Session2::ServerStore or HTTP::Session2::ClientStore2 instead. at /home/cpan/pit/bare/conf/perl-5.16.3/.cpanplus/5.16.3/build/HTTP-Session2-1.07/blib/lib/HTTP/Session2/ClientStore.pm line 35.
Secret string too short at /home/cpan/pit/bare/conf/perl-5.16.3/.cpanplus/5.16.3/build/HTTP-Session2-1.07/blib/lib/HTTP/Session2/Base.pm line 79.
	HTTP::Session2::Base::__ANON__('HTTP::Session2::ClientStore=HASH(0x7f7ff4365978)', 's3cret') called at t/03_mech.t line 127
	main::client_session('HASH(0x7f7ff435e5e8)') called at t/03_mech.t line 17
	main::__ANON__('HASH(0x7f7ff435e5e8)') called at /home/cpan/pit/bare/conf/perl-5.16.3/.cpanplus/5.16.3/build/Test-WWW-Mechanize-PSGI-0.35/blib/lib/Test/WWW/Mechanize/PSGI.pm line 39
	Test::WWW::Mechanize::PSGI::__ANON__() called at /home/cpan/pit/bare/conf/perl-5.16.3/.cpanplus/5.16.3/build/Try-Tiny-0.22/blib/lib/Try/Tiny.pm line 81
	eval {...} called at /home/cpan/pit/bare/conf/perl-5.16.3/.cpanplus/5.16.3/build/Try-Tiny-0.22/blib/lib/Try/Tiny.pm line 72
	Try::Tiny::try('CODE(0x7f7ff435eaf8)', 'Try::Tiny::Catch=REF(0x7f7ff435ef00)') called at /home/cpan/pit/bare/conf/perl-5.16.3/.cpanplus/5.16.3/build/Test-WWW-Mechanize-PSGI-0.35/blib/lib/Test/WWW/Mechanize/PSGI.pm line 46
	Test::WWW::Mechanize::PSGI::simple_request('Test::WWW::Mechanize::PSGI=HASH(0x7f7ff47e7cd8)', 'HTTP::Request=HASH(0x7f7ff4359c18)', undef, undef) called at /home/cpan/pit/bare/conf/perl-5.16.3/.cpanplus/5.16.3/build/libwww-perl-6.08/blib/lib/LWP/UserAgent.pm line 282
	LWP::UserAgent::request('Test::WWW::Mechanize::PSGI=HASH(0x7f7ff47e7cd8)', 'HTTP::Request=HASH(0x7f7ff4359c18)') called at /home/cpan/pit/bare/conf/perl-5.16.3/.cpanplus/5.16.3/build/WWW-Mechanize-1.73/blib/lib/WWW/Mechanize.pm line 2598
	WWW::Mechanize::_make_request('Test::WWW::Mechanize::PSGI=HASH(0x7f7ff47e7cd8)', 'HTTP::Request=HASH(0x7f7ff4359c18)') called at /home/cpan/pit/bare/conf/perl-5.16.3/.cpanplus/5.16.3/build/WWW-Mechanize-1.73/blib/lib/WWW/Mechanize.pm line 2312
	WWW::Mechanize::request('Test::WWW::Mechanize::PSGI=HASH(0x7f7ff47e7cd8)', 'HTTP::Request=HASH(0x7f7ff4359c18)') called at /home/cpan/pit/bare/conf/perl-5.16.3/.cpanplus/5.16.3/build/libwww-perl-6.08/blib/lib/LWP/UserAgent.pm line 419
	LWP::UserAgent::post('Test::WWW::Mechanize::PSGI=HASH(0x7f7ff47e7cd8)', '/wishlist?baz') called at t/03_mech.t line 87
Do not use HTTP::Session2::ClientStore. Use HTTP::Session2::ServerStore or HTTP::Session2::ClientStore2 instead. at /home/cpan/pit/bare/conf/perl-5.16.3/.cpanplus/5.16.3/build/HTTP-Session2-1.07/blib/lib/HTTP/Session2/ClientStore.pm line 35.
Secret string too short at /home/cpan/pit/bare/conf/perl-5.16.3/.cpanplus/5.16.3/build/HTTP-Session2-1.07/blib/lib/HTTP/Session2/Base.pm line 79.
	HTTP::Session2::Base::__ANON__('HTTP::Session2::ClientStore=HASH(0x7f7ff435e7c8)', 's3cret') called at t/03_mech.t line 127
	main::client_session('HASH(0x7f7ff4365b28)') called at t/03_mech.t line 17
	main::__ANON__('HASH(0x7f7ff4365b28)') called at /home/cpan/pit/bare/conf/perl-5.16.3/.cpanplus/5.16.3/build/Test-WWW-Mechanize-PSGI-0.35/blib/lib/Test/WWW/Mechanize/PSGI.pm line 39
	Test::WWW::Mechanize::PSGI::__ANON__() called at /home/cpan/pit/bare/conf/perl-5.16.3/.cpanplus/5.16.3/build/Try-Tiny-0.22/blib/lib/Try/Tiny.pm line 81
	eval {...} called at /home/cpan/pit/bare/conf/perl-5.16.3/.cpanplus/5.16.3/build/Try-Tiny-0.22/blib/lib/Try/Tiny.pm line 72
	Try::Tiny::try('CODE(0x7f7ff4365420)', 'Try::Tiny::Catch=REF(0x7f7ff43636c0)') called at /home/cpan/pit/bare/conf/perl-5.16.3/.cpanplus/5.16.3/build/Test-WWW-Mechanize-PSGI-0.35/blib/lib/Test/WWW/Mechanize/PSGI.pm line 46
	Test::WWW::Mechanize::PSGI::simple_request('Test::WWW::Mechanize::PSGI=HASH(0x7f7ff47e7cd8)', 'HTTP::Request=HASH(0x7f7ff4365198)', undef, undef) called at /home/cpan/pit/bare/conf/perl-5.16.3/.cpanplus/5.16.3/build/libwww-perl-6.08/blib/lib/LWP/UserAgent.pm line 282
	LWP::UserAgent::request('Test::WWW::Mechanize::PSGI=HASH(0x7f7ff47e7cd8)', 'HTTP::Request=HASH(0x7f7ff4365198)') called at /home/cpan/pit/bare/conf/perl-5.16.3/.cpanplus/5.16.3/build/WWW-Mechanize-1.73/blib/lib/WWW/Mechanize.pm line 2598
	WWW::Mechanize::_make_request('Test::WWW::Mechanize::PSGI=HASH(0x7f7ff47e7cd8)', 'HTTP::Request=HASH(0x7f7ff4365198)') called at /home/cpan/pit/bare/conf/perl-5.16.3/.cpanplus/5.16.3/build/WWW-Mechanize-1.73/blib/lib/WWW/Mechanize.pm line 2312
	WWW::Mechanize::request('Test::WWW::Mechanize::PSGI=HASH(0x7f7ff47e7cd8)', 'HTTP::Request=HASH(0x7f7ff4365198)') called at /home/cpan/pit/bare/conf/perl-5.16.3/.cpanplus/5.16.3/build/libwww-perl-6.08/blib/lib/LWP/UserAgent.pm line 419
	LWP::UserAgent::post('Test::WWW::Mechanize::PSGI=HASH(0x7f7ff47e7cd8)', '/wishlist?baz', 'HASH(0x7f7ff4f46e58)') called at /home/cpan/pit/bare/conf/perl-5.16.3/.cpanplus/5.16.3/build/Test-WWW-Mechanize-1.44/blib/lib/Test/WWW/Mechanize.pm line 236
	Test::WWW::Mechanize::post_ok('Test::WWW::Mechanize::PSGI=HASH(0x7f7ff47e7cd8)', '/wishlist?baz') called at t/03_mech.t line 90
Do not use HTTP::Session2::ClientStore. Use HTTP::Session2::ServerStore or HTTP::Session2::ClientStore2 instead. at /home/cpan/pit/bare/conf/perl-5.16.3/.cpanplus/5.16.3/build/HTTP-Session2-1.07/blib/lib/HTTP/Session2/ClientStore.pm line 35.
Do not use HTTP::Session2::ClientStore. Use HTTP::Session2::ServerStore or HTTP::Session2::ClientStore2 instead. at /home/cpan/pit/bare/conf/perl-5.16.3/.cpanplus/5.16.3/build/HTTP-Session2-1.07/blib/lib/HTTP/Session2/ClientStore.pm line 25.
Secret string too short at /home/cpan/pit/bare/conf/perl-5.16.3/.cpanplus/5.16.3/build/HTTP-Session2-1.07/blib/lib/HTTP/Session2/Base.pm line 79.
	HTTP::Session2::Base::__ANON__('HTTP::Session2::ClientStore=HASH(0x7f7ff4365960)', 's3cret') called at t/03_mech.t line 127
	main::client_session('HASH(0x7f7ff4365cd8)') called at t/03_mech.t line 17
	main::__ANON__('HASH(0x7f7ff4365cd8)') called at /home/cpan/pit/bare/conf/perl-5.16.3/.cpanplus/5.16.3/build/Test-WWW-Mechanize-PSGI-0.35/blib/lib/Test/WWW/Mechanize/PSGI.pm line 39
	Test::WWW::Mechanize::PSGI::__ANON__() called at /home/cpan/pit/bare/conf/perl-5.16.3/.cpanplus/5.16.3/build/Try-Tiny-0.22/blib/lib/Try/Tiny.pm line 81
	eval {...} called at /home/cpan/pit/bare/conf/perl-5.16.3/.cpanplus/5.16.3/build/Try-Tiny-0.22/blib/lib/Try/Tiny.pm line 72
	Try::Tiny::try('CODE(0x7f7ff4365ab0)', 'Try::Tiny::Catch=REF(0x7f7ff4363ee8)') called at /home/cpan/pit/bare/conf/perl-5.16.3/.cpanplus/5.16.3/build/Test-WWW-Mechanize-PSGI-0.35/blib/lib/Test/WWW/Mechanize/PSGI.pm line 46
	Test::WWW::Mechanize::PSGI::simple_request('Test::WWW::Mechanize::PSGI=HASH(0x7f7ff47e7cd8)', 'HTTP::Request=HASH(0x7f7ff43658e8)', undef, undef) called at /home/cpan/pit/bare/conf/perl-5.16.3/.cpanplus/5.16.3/build/libwww-perl-6.08/blib/lib/LWP/UserAgent.pm line 282
	LWP::UserAgent::request('Test::WWW::Mechanize::PSGI=HASH(0x7f7ff47e7cd8)', 'HTTP::Request=HASH(0x7f7ff43658e8)') called at /home/cpan/pit/bare/conf/perl-5.16.3/.cpanplus/5.16.3/build/WWW-Mechanize-1.73/blib/lib/WWW/Mechanize.pm line 2598
	WWW::Mechanize::_make_request('Test::WWW::Mechanize::PSGI=HASH(0x7f7ff47e7cd8)', 'HTTP::Request=HASH(0x7f7ff43658e8)') called at /home/cpan/pit/bare/conf/perl-5.16.3/.cpanplus/5.16.3/build/WWW-Mechanize-1.73/blib/lib/WWW/Mechanize.pm line 2312
	WWW::Mechanize::request('Test::WWW::Mechanize::PSGI=HASH(0x7f7ff47e7cd8)', 'HTTP::Request=HASH(0x7f7ff43658e8)') called at /home/cpan/pit/bare/conf/perl-5.16.3/.cpanplus/5.16.3/build/libwww-perl-6.08/blib/lib/LWP/UserAgent.pm line 411
	LWP::UserAgent::get('Test::WWW::Mechanize::PSGI=HASH(0x7f7ff47e7cd8)', 'http://localhost/wishlist') called at /home/cpan/pit/bare/conf/perl-5.16.3/.cpanplus/5.16.3/build/WWW-Mechanize-1.73/blib/lib/WWW/Mechanize.pm line 407
	WWW::Mechanize::get('Test::WWW::Mechanize::PSGI=HASH(0x7f7ff47e7cd8)', '/wishlist') called at /home/cpan/pit/bare/conf/perl-5.16.3/.cpanplus/5.16.3/build/Test-WWW-Mechanize-1.44/blib/lib/Test/WWW/Mechanize.pm line 159
	Test::WWW::Mechanize::get_ok('Test::WWW::Mechanize::PSGI=HASH(0x7f7ff47e7cd8)', '/wishlist', 'Wishlist is still available') called at t/03_mech.t line 91
Do not use HTTP::Session2::ClientStore. Use HTTP::Session2::ServerStore or HTTP::Session2::ClientStore2 instead. at /home/cpan/pit/bare/conf/perl-5.16.3/.cpanplus/5.16.3/build/HTTP-Session2-1.07/blib/lib/HTTP/Session2/ClientStore.pm line 35.
Secret string too short at /home/cpan/pit/bare/conf/perl-5.16.3/.cpanplus/5.16.3/build/HTTP-Session2-1.07/blib/lib/HTTP/Session2/Base.pm line 79.
	HTTP::Session2::Base::__ANON__('HTTP::Session2::ClientStore=HASH(0x7f7ff4365828)', 's3cret') called at t/03_mech.t line 127
	main::client_session('HASH(0x7f7ff4365798)') called at t/03_mech.t line 17
	main::__ANON__('HASH(0x7f7ff4365798)') called at /home/cpan/pit/bare/conf/perl-5.16.3/.cpanplus/5.16.3/build/Test-WWW-Mechanize-PSGI-0.35/blib/lib/Test/WWW/Mechanize/PSGI.pm line 39
	Test::WWW::Mechanize::PSGI::__ANON__() called at /home/cpan/pit/bare/conf/perl-5.16.3/.cpanplus/5.16.3/build/Try-Tiny-0.22/blib/lib/Try/Tiny.pm line 81
	eval {...} called at /home/cpan/pit/bare/conf/perl-5.16.3/.cpanplus/5.16.3/build/Try-Tiny-0.22/blib/lib/Try/Tiny.pm line 72
	Try::Tiny::try('CODE(0x7f7ff4363048)', 'Try::Tiny::Catch=REF(0x7f7ff435ed38)') called at /home/cpan/pit/bare/conf/perl-5.16.3/.cpanplus/5.16.3/build/Test-WWW-Mechanize-PSGI-0.35/blib/lib/Test/WWW/Mechanize/PSGI.pm line 46
	Test::WWW::Mechanize::PSGI::simple_request('Test::WWW::Mechanize::PSGI=HASH(0x7f7ff47e7cd8)', 'HTTP::Request=HASH(0x7f7ff435e618)', undef, undef) called at /home/cpan/pit/bare/conf/perl-5.16.3/.cpanplus/5.16.3/build/libwww-perl-6.08/blib/lib/LWP/UserAgent.pm line 282
	LWP::UserAgent::request('Test::WWW::Mechanize::PSGI=HASH(0x7f7ff47e7cd8)', 'HTTP::Request=HASH(0x7f7ff435e618)') called at /home/cpan/pit/bare/conf/perl-5.16.3/.cpanplus/5.16.3/build/WWW-Mechanize-1.73/blib/lib/WWW/Mechanize.pm line 2598
	WWW::Mechanize::_make_request('Test::WWW::Mechanize::PSGI=HASH(0x7f7ff47e7cd8)', 'HTTP::Request=HASH(0x7f7ff435e618)') called at /home/cpan/pit/bare/conf/perl-5.16.3/.cpanplus/5.16.3/build/WWW-Mechanize-1.73/blib/lib/WWW/Mechanize.pm line 2312
	WWW::Mechanize::request('Test::WWW::Mechanize::PSGI=HASH(0x7f7ff47e7cd8)', 'HTTP::Request=HASH(0x7f7ff435e618)') called at /home/cpan/pit/bare/conf/perl-5.16.3/.cpanplus/5.16.3/build/libwww-perl-6.08/blib/lib/LWP/UserAgent.pm line 411
	LWP::UserAgent::get('Test::WWW::Mechanize::PSGI=HASH(0x7f7ff47e7cd8)', 'http://localhost/my/name') called at /home/cpan/pit/bare/conf/perl-5.16.3/.cpanplus/5.16.3/build/WWW-Mechanize-1.73/blib/lib/WWW/Mechanize.pm line 407
	WWW::Mechanize::get('Test::WWW::Mechanize::PSGI=HASH(0x7f7ff47e7cd8)', '/my/name') called at /home/cpan/pit/bare/conf/perl-5.16.3/.cpanplus/5.16.3/build/Test-WWW-Mechanize-1.44/blib/lib/Test/WWW/Mechanize.pm line 159
	Test::WWW::Mechanize::get_ok('Test::WWW::Mechanize::PSGI=HASH(0x7f7ff47e7cd8)', '/my/name') called at t/03_mech.t line 93
Do not use HTTP::Session2::ClientStore. Use HTTP::Session2::ServerStore or HTTP::Session2::ClientStore2 instead. at /home/cpan/pit/bare/conf/perl-5.16.3/.cpanplus/5.16.3/build/HTTP-Session2-1.07/blib/lib/HTTP/Session2/ClientStore.pm line 35.
Secret string too short at /home/cpan/pit/bare/conf/perl-5.16.3/.cpanplus/5.16.3/build/HTTP-Session2-1.07/blib/lib/HTTP/Session2/Base.pm line 79.
	HTTP::Session2::Base::__ANON__('HTTP::Session2::ClientStore=HASH(0x7f7ff4371438)', 's3cret') called at t/03_mech.t line 127
	main::client_session('HASH(0x7f7ff4363090)') called at t/03_mech.t line 17
	main::__ANON__('HASH(0x7f7ff4363090)') called at /home/cpan/pit/bare/conf/perl-5.16.3/.cpanplus/5.16.3/build/Test-WWW-Mechanize-PSGI-0.35/blib/lib/Test/WWW/Mechanize/PSGI.pm line 39
	Test::WWW::Mechanize::PSGI::__ANON__() called at /home/cpan/pit/bare/conf/perl-5.16.3/.cpanplus/5.16.3/build/Try-Tiny-0.22/blib/lib/Try/Tiny.pm line 81
	eval {...} called at /home/cpan/pit/bare/conf/perl-5.16.3/.cpanplus/5.16.3/build/Try-Tiny-0.22/blib/lib/Try/Tiny.pm line 72
	Try::Tiny::try('CODE(0x7f7ff43658d0)', 'Try::Tiny::Catch=REF(0x7f7ff4371078)') called at /home/cpan/pit/bare/conf/perl-5.16.3/.cpanplus/5.16.3/build/Test-WWW-Mechanize-PSGI-0.35/blib/lib/Test/WWW/Mechanize/PSGI.pm line 46
	Test::WWW::Mechanize::PSGI::simple_request('Test::WWW::Mechanize::PSGI=HASH(0x7f7ff47e7cd8)', 'HTTP::Request=HASH(0x7f7ff4365be8)', undef, undef) called at /home/cpan/pit/bare/conf/perl-5.16.3/.cpanplus/5.16.3/build/libwww-perl-6.08/blib/lib/LWP/UserAgent.pm line 282
	LWP::UserAgent::request('Test::WWW::Mechanize::PSGI=HASH(0x7f7ff47e7cd8)', 'HTTP::Request=HASH(0x7f7ff4365be8)') called at /home/cpan/pit/bare/conf/perl-5.16.3/.cpanplus/5.16.3/build/WWW-Mechanize-1.73/blib/lib/WWW/Mechanize.pm line 2598
	WWW::Mechanize::_make_request('Test::WWW::Mechanize::PSGI=HASH(0x7f7ff47e7cd8)', 'HTTP::Request=HASH(0x7f7ff4365be8)') called at /home/cpan/pit/bare/conf/perl-5.16.3/.cpanplus/5.16.3/build/WWW-Mechanize-1.73/blib/lib/WWW/Mechanize.pm line 2312
	WWW::Mechanize::request('Test::WWW::Mechanize::PSGI=HASH(0x7f7ff47e7cd8)', 'HTTP::Request=HASH(0x7f7ff4365be8)') called at /home/cpan/pit/bare/conf/perl-5.16.3/.cpanplus/5.16.3/build/libwww-perl-6.08/blib/lib/LWP/UserAgent.pm line 419
	LWP::UserAgent::post('Test::WWW::Mechanize::PSGI=HASH(0x7f7ff47e7cd8)', '/account/logout?john') called at t/03_mech.t line 97
t/03_mech.t ............... ok
Do not use HTTP::Session2::ClientStore. Use HTTP::Session2::ServerStore or HTTP::Session2::ClientStore2 instead. at /home/cpan/pit/bare/conf/perl-5.16.3/.cpanplus/5.16.3/build/HTTP-Session2-1.07/blib/lib/HTTP/Session2/ClientStore.pm line 35.
Do not use HTTP::Session2::ClientStore. Use HTTP::Session2::ServerStore or HTTP::Session2::ClientStore2 instead. at /home/cpan/pit/bare/conf/perl-5.16.3/.cpanplus/5.16.3/build/HTTP-Session2-1.07/blib/lib/HTTP/Session2/ClientStore.pm line 35.
Do not use HTTP::Session2::ClientStore. Use HTTP::Session2::ServerStore or HTTP::Session2::ClientStore2 instead. at /home/cpan/pit/bare/conf/perl-5.16.3/.cpanplus/5.16.3/build/HTTP-Session2-1.07/blib/lib/HTTP/Session2/ClientStore.pm line 25.
t/04_plack_response.t ..... ok
Secret string too short at /home/cpan/pit/bare/conf/perl-5.16.3/.cpanplus/5.16.3/build/HTTP-Session2-1.07/blib/lib/HTTP/Session2/Base.pm line 79.
	HTTP::Session2::Base::__ANON__('HTTP::Session2::ClientStore=HASH(0x7f7ff6738540)', 's3cret') called at t/05_keep_me_signed_in.t line 15
Do not use HTTP::Session2::ClientStore. Use HTTP::Session2::ServerStore or HTTP::Session2::ClientStore2 instead. at /home/cpan/pit/bare/conf/perl-5.16.3/.cpanplus/5.16.3/build/HTTP-Session2-1.07/blib/lib/HTTP/Session2/ClientStore.pm line 25.
t/05_keep_me_signed_in.t .. ok
Secret string too short at /home/cpan/pit/bare/conf/perl-5.16.3/.cpanplus/5.16.3/build/HTTP-Session2-1.07/blib/lib/HTTP/Session2/Base.pm line 79.
	HTTP::Session2::Base::__ANON__('HTTP::Session2::Base=HASH(0x7f7ff7b4c390)', 'i am secret') called at t/06_base_abstract.t line 7
t/06_base_abstract.t ...... ok
Secret string too short at /home/cpan/pit/bare/conf/perl-5.16.3/.cpanplus/5.16.3/build/HTTP-Session2-1.07/blib/lib/HTTP/Session2/Base.pm line 79.
	HTTP::Session2::Base::__ANON__('HTTP::Session2::ClientStore=HASH(0x7f7ff673f2a0)', 'secret') called at t/07_client_store.t line 23
	main::__ANON__() called at /home/cpan/pit/bare/perl-5.16.3/lib/5.16.3/Test/Builder.pm line 258
	Test::Builder::__ANON__() called at /home/cpan/pit/bare/perl-5.16.3/lib/5.16.3/Test/Builder.pm line 263
	eval {...} called at /home/cpan/pit/bare/perl-5.16.3/lib/5.16.3/Test/Builder.pm line 263
	Test::Builder::subtest('Test::Builder=HASH(0x7f7ff7b94258)', 'get/set/remove', 'CODE(0x7f7ff6738450)') called at /home/cpan/pit/bare/perl-5.16.3/lib/5.16.3/Test/More.pm line 770
	Test::More::subtest('get/set/remove', 'CODE(0x7f7ff6738450)') called at t/07_client_store.t line 31
Secret string too short at /home/cpan/pit/bare/conf/perl-5.16.3/.cpanplus/5.16.3/build/HTTP-Session2-1.07/blib/lib/HTTP/Session2/Base.pm line 79.
	HTTP::Session2::Base::__ANON__('HTTP::Session2::ClientStore=HASH(0x7f7ff7b4c498)', 'secret') called at t/07_client_store.t line 35
	main::__ANON__() called at /home/cpan/pit/bare/perl-5.16.3/lib/5.16.3/Test/Builder.pm line 258
	Test::Builder::__ANON__() called at /home/cpan/pit/bare/perl-5.16.3/lib/5.16.3/Test/Builder.pm line 263
	eval {...} called at /home/cpan/pit/bare/perl-5.16.3/lib/5.16.3/Test/Builder.pm line 263
	Test::Builder::subtest('Test::Builder=HASH(0x7f7ff7b94258)', 'validate_token', 'CODE(0x7f7ff6738780)') called at /home/cpan/pit/bare/perl-5.16.3/lib/5.16.3/Test/More.pm line 770
	Test::More::subtest('validate_token', 'CODE(0x7f7ff6738780)') called at t/07_client_store.t line 71
Do not use HTTP::Session2::ClientStore. Use HTTP::Session2::ServerStore or HTTP::Session2::ClientStore2 instead. at /home/cpan/pit/bare/conf/perl-5.16.3/.cpanplus/5.16.3/build/HTTP-Session2-1.07/blib/lib/HTTP/Session2/ClientStore.pm line 25.
Secret string too short at /home/cpan/pit/bare/conf/perl-5.16.3/.cpanplus/5.16.3/build/HTTP-Session2-1.07/blib/lib/HTTP/Session2/Base.pm line 79.
	HTTP::Session2::Base::__ANON__('HTTP::Session2::ClientStore=HASH(0x7f7ff673ffc0)', 'secret') called at t/07_client_store.t line 51
	main::__ANON__() called at /home/cpan/pit/bare/perl-5.16.3/lib/5.16.3/Test/Builder.pm line 258
	Test::Builder::__ANON__() called at /home/cpan/pit/bare/perl-5.16.3/lib/5.16.3/Test/Builder.pm line 263
	eval {...} called at /home/cpan/pit/bare/perl-5.16.3/lib/5.16.3/Test/Builder.pm line 263
	Test::Builder::subtest('Test::Builder=HASH(0x7f7ff7b94258)', 'bad', 'CODE(0x7f7ff5fd3d38)') called at /home/cpan/pit/bare/perl-5.16.3/lib/5.16.3/Test/More.pm line 770
	Test::More::subtest('bad', 'CODE(0x7f7ff5fd3d38)') called at t/07_client_store.t line 57
	main::__ANON__() called at /home/cpan/pit/bare/perl-5.16.3/lib/5.16.3/Test/Builder.pm line 258
	Test::Builder::__ANON__() called at /home/cpan/pit/bare/perl-5.16.3/lib/5.16.3/Test/Builder.pm line 263
	eval {...} called at /home/cpan/pit/bare/perl-5.16.3/lib/5.16.3/Test/Builder.pm line 263
	Test::Builder::subtest('Test::Builder=HASH(0x7f7ff7b94258)', 'validate_token', 'CODE(0x7f7ff6738780)') called at /home/cpan/pit/bare/perl-5.16.3/lib/5.16.3/Test/More.pm line 770
	Test::More::subtest('validate_token', 'CODE(0x7f7ff6738780)') called at t/07_client_store.t line 71
Do not use HTTP::Session2::ClientStore. Use HTTP::Session2::ServerStore or HTTP::Session2::ClientStore2 instead. at /home/cpan/pit/bare/conf/perl-5.16.3/.cpanplus/5.16.3/build/HTTP-Session2-1.07/blib/lib/HTTP/Session2/ClientStore.pm line 35.
Secret string too short at /home/cpan/pit/bare/conf/perl-5.16.3/.cpanplus/5.16.3/build/HTTP-Session2-1.07/blib/lib/HTTP/Session2/Base.pm line 79.
	HTTP::Session2::Base::__ANON__('HTTP::Session2::ClientStore=HASH(0x7f7ff6b19168)', 'secret') called at t/07_client_store.t line 65
	main::__ANON__() called at /home/cpan/pit/bare/perl-5.16.3/lib/5.16.3/Test/Builder.pm line 258
	Test::Builder::__ANON__() called at /home/cpan/pit/bare/perl-5.16.3/lib/5.16.3/Test/Builder.pm line 263
	eval {...} called at /home/cpan/pit/bare/perl-5.16.3/lib/5.16.3/Test/Builder.pm line 263
	Test::Builder::subtest('Test::Builder=HASH(0x7f7ff7b94258)', 'good', 'CODE(0x7f7ff5fd3d38)') called at /home/cpan/pit/bare/perl-5.16.3/lib/5.16.3/Test/More.pm line 770
	Test::More::subtest('good', 'CODE(0x7f7ff5fd3d38)') called at t/07_client_store.t line 70
	main::__ANON__() called at /home/cpan/pit/bare/perl-5.16.3/lib/5.16.3/Test/Builder.pm line 258
	Test::Builder::__ANON__() called at /home/cpan/pit/bare/perl-5.16.3/lib/5.16.3/Test/Builder.pm line 263
	eval {...} called at /home/cpan/pit/bare/perl-5.16.3/lib/5.16.3/Test/Builder.pm line 263
	Test::Builder::subtest('Test::Builder=HASH(0x7f7ff7b94258)', 'validate_token', 'CODE(0x7f7ff6738780)') called at /home/cpan/pit/bare/perl-5.16.3/lib/5.16.3/Test/More.pm line 770
	Test::More::subtest('validate_token', 'CODE(0x7f7ff6738780)') called at t/07_client_store.t line 71
Do not use HTTP::Session2::ClientStore. Use HTTP::Session2::ServerStore or HTTP::Session2::ClientStore2 instead. at /home/cpan/pit/bare/conf/perl-5.16.3/.cpanplus/5.16.3/build/HTTP-Session2-1.07/blib/lib/HTTP/Session2/ClientStore.pm line 35.
Secret string too short at /home/cpan/pit/bare/conf/perl-5.16.3/.cpanplus/5.16.3/build/HTTP-Session2-1.07/blib/lib/HTTP/Session2/Base.pm line 79.
	HTTP::Session2::Base::__ANON__('HTTP::Session2::ClientStore=HASH(0x7f7ff673f6a8)', 'secret') called at t/07_client_store.t line 76
	main::__ANON__() called at /home/cpan/pit/bare/perl-5.16.3/lib/5.16.3/Test/Builder.pm line 258
	Test::Builder::__ANON__() called at /home/cpan/pit/bare/perl-5.16.3/lib/5.16.3/Test/Builder.pm line 263
	eval {...} called at /home/cpan/pit/bare/perl-5.16.3/lib/5.16.3/Test/Builder.pm line 263
	Test::Builder::subtest('Test::Builder=HASH(0x7f7ff7b94258)', 'ignore_old', 'CODE(0x7f7ff67400f0)') called at /home/cpan/pit/bare/perl-5.16.3/lib/5.16.3/Test/More.pm line 770
	Test::More::subtest('ignore_old', 'CODE(0x7f7ff67400f0)') called at t/07_client_store.t line 106
Do not use HTTP::Session2::ClientStore. Use HTTP::Session2::ServerStore or HTTP::Session2::ClientStore2 instead. at /home/cpan/pit/bare/conf/perl-5.16.3/.cpanplus/5.16.3/build/HTTP-Session2-1.07/blib/lib/HTTP/Session2/ClientStore.pm line 25.
Secret string too short at /home/cpan/pit/bare/conf/perl-5.16.3/.cpanplus/5.16.3/build/HTTP-Session2-1.07/blib/lib/HTTP/Session2/Base.pm line 79.
	HTTP::Session2::Base::__ANON__('HTTP::Session2::ClientStore=HASH(0x7f7ff6b19258)', 'secret') called at t/07_client_store.t line 87
	main::__ANON__() called at /home/cpan/pit/bare/perl-5.16.3/lib/5.16.3/Test/Builder.pm line 258
	Test::Builder::__ANON__() called at /home/cpan/pit/bare/perl-5.16.3/lib/5.16.3/Test/Builder.pm line 263
	eval {...} called at /home/cpan/pit/bare/perl-5.16.3/lib/5.16.3/Test/Builder.pm line 263
	Test::Builder::subtest('Test::Builder=HASH(0x7f7ff7b94258)', 'ignore_old disabled', 'CODE(0x7f7ff6b19588)') called at /home/cpan/pit/bare/perl-5.16.3/lib/5.16.3/Test/More.pm line 770
	Test::More::subtest('ignore_old disabled', 'CODE(0x7f7ff6b19588)') called at t/07_client_store.t line 95
	main::__ANON__() called at /home/cpan/pit/bare/perl-5.16.3/lib/5.16.3/Test/Builder.pm line 258
	Test::Builder::__ANON__() called at /home/cpan/pit/bare/perl-5.16.3/lib/5.16.3/Test/Builder.pm line 263
	eval {...} called at /home/cpan/pit/bare/perl-5.16.3/lib/5.16.3/Test/Builder.pm line 263
	Test::Builder::subtest('Test::Builder=HASH(0x7f7ff7b94258)', 'ignore_old', 'CODE(0x7f7ff67400f0)') called at /home/cpan/pit/bare/perl-5.16.3/lib/5.16.3/Test/More.pm line 770
	Test::More::subtest('ignore_old', 'CODE(0x7f7ff67400f0)') called at t/07_client_store.t line 106
Do not use HTTP::Session2::ClientStore. Use HTTP::Session2::ServerStore or HTTP::Session2::ClientStore2 instead. at /home/cpan/pit/bare/conf/perl-5.16.3/.cpanplus/5.16.3/build/HTTP-Session2-1.07/blib/lib/HTTP/Session2/ClientStore.pm line 35.
Secret string too short at /home/cpan/pit/bare/conf/perl-5.16.3/.cpanplus/5.16.3/build/HTTP-Session2-1.07/blib/lib/HTTP/Session2/Base.pm line 79.
	HTTP::Session2::Base::__ANON__('HTTP::Session2::ClientStore=HASH(0x7f7ff673fe40)', 'secret') called at t/07_client_store.t line 97
	main::__ANON__() called at /home/cpan/pit/bare/perl-5.16.3/lib/5.16.3/Test/Builder.pm line 258
	Test::Builder::__ANON__() called at /home/cpan/pit/bare/perl-5.16.3/lib/5.16.3/Test/Builder.pm line 263
	eval {...} called at /home/cpan/pit/bare/perl-5.16.3/lib/5.16.3/Test/Builder.pm line 263
	Test::Builder::subtest('Test::Builder=HASH(0x7f7ff7b94258)', 'ignore_old enabled', 'CODE(0x7f7ff6b19588)') called at /home/cpan/pit/bare/perl-5.16.3/lib/5.16.3/Test/More.pm line 770
	Test::More::subtest('ignore_old enabled', 'CODE(0x7f7ff6b19588)') called at t/07_client_store.t line 105
	main::__ANON__() called at /home/cpan/pit/bare/perl-5.16.3/lib/5.16.3/Test/Builder.pm line 258
	Test::Builder::__ANON__() called at /home/cpan/pit/bare/perl-5.16.3/lib/5.16.3/Test/Builder.pm line 263
	eval {...} called at /home/cpan/pit/bare/perl-5.16.3/lib/5.16.3/Test/Builder.pm line 263
	Test::Builder::subtest('Test::Builder=HASH(0x7f7ff7b94258)', 'ignore_old', 'CODE(0x7f7ff67400f0)') called at /home/cpan/pit/bare/perl-5.16.3/lib/5.16.3/Test/More.pm line 770
	Test::More::subtest('ignore_old', 'CODE(0x7f7ff67400f0)') called at t/07_client_store.t line 106
t/07_client_store.t ....... ok
Secret string too short at /home/cpan/pit/bare/conf/perl-5.16.3/.cpanplus/5.16.3/build/HTTP-Session2-1.07/blib/lib/HTTP/Session2/Base.pm line 79.
	HTTP::Session2::Base::__ANON__('HTTP::Session2::Expired=HASH(0x7f7ff7b856f0)', 33333) called at t/08_expired.t line 7
t/08_expired.t ............ ok
# /dev/urandom available
# /dev/urandom(1): YnRoGR2LnsGVaWyEynsDuqpZSq8wqkd
# /dev/urandom(2): vkIqqzxOilPFRT7OCoAGlinwZd5eAQK
# perl:            886a8f8f861114201569d8c86e281bf
t/09_random.t ............. ok
Secret string too short at /home/cpan/pit/bare/conf/perl-5.16.3/.cpanplus/5.16.3/build/HTTP-Session2-1.07/blib/lib/HTTP/Session2/Base.pm line 79.
	HTTP::Session2::Base::__ANON__('HTTP::Session2::ClientStore2=HASH(0x7f7ff6307360)', 's3cret') called at t/10_client_side2.t line 24
	main::__ANON__('client -> server: request without cookie', 'CODE(0x7f7ff6307c60)') called at t/10_client_side2.t line 30
	main::__ANON__() called at /home/cpan/pit/bare/perl-5.16.3/lib/5.16.3/Test/Builder.pm line 258
	Test::Builder::__ANON__() called at /home/cpan/pit/bare/perl-5.16.3/lib/5.16.3/Test/Builder.pm line 263
	eval {...} called at /home/cpan/pit/bare/perl-5.16.3/lib/5.16.3/Test/Builder.pm line 263
	Test::Builder::subtest('Test::Builder=HASH(0x7f7ff7b951f8)', 'First request', 'CODE(0x7f7ff7b4c258)') called at /home/cpan/pit/bare/perl-5.16.3/lib/5.16.3/Test/More.pm line 770
	Test::More::subtest('First request', 'CODE(0x7f7ff7b4c258)') called at t/10_client_side2.t line 9
	main::scenario('First request', 'CODE(0x7f7ff7b4c258)') called at t/10_client_side2.t line 36
Secret string too short at /home/cpan/pit/bare/conf/perl-5.16.3/.cpanplus/5.16.3/build/HTTP-Session2-1.07/blib/lib/HTTP/Session2/Base.pm line 79.
	HTTP::Session2::Base::__ANON__('HTTP::Session2::ClientStore2=HASH(0x7f7ff63070f0)', 's3cret') called at t/10_client_side2.t line 41
	main::__ANON__('client -> server: request without cookie', 'CODE(0x7f7ff6307b40)') called at t/10_client_side2.t line 47
	main::__ANON__() called at /home/cpan/pit/bare/perl-5.16.3/lib/5.16.3/Test/Builder.pm line 258
	Test::Builder::__ANON__() called at /home/cpan/pit/bare/perl-5.16.3/lib/5.16.3/Test/Builder.pm line 263
	eval {...} called at /home/cpan/pit/bare/perl-5.16.3/lib/5.16.3/Test/Builder.pm line 263
	Test::Builder::subtest('Test::Builder=HASH(0x7f7ff7b951f8)', 'Store something without login', 'CODE(0x7f7ff7b4c258)') called at /home/cpan/pit/bare/perl-5.16.3/lib/5.16.3/Test/More.pm line 770
	Test::More::subtest('Store something without login', 'CODE(0x7f7ff7b4c258)') called at t/10_client_side2.t line 9
	main::scenario('Store something without login', 'CODE(0x7f7ff7b4c258)') called at t/10_client_side2.t line 63
Secret string too short at /home/cpan/pit/bare/conf/perl-5.16.3/.cpanplus/5.16.3/build/HTTP-Session2-1.07/blib/lib/HTTP/Session2/Base.pm line 79.
	HTTP::Session2::Base::__ANON__('HTTP::Session2::ClientStore2=HASH(0x7f7ff63078b8)', 's3cret') called at t/10_client_side2.t line 69
	main::__ANON__('client -> server: request without cookie', 'CODE(0x7f7ff6307f60)') called at t/10_client_side2.t line 76
	main::__ANON__() called at /home/cpan/pit/bare/perl-5.16.3/lib/5.16.3/Test/Builder.pm line 258
	Test::Builder::__ANON__() called at /home/cpan/pit/bare/perl-5.16.3/lib/5.16.3/Test/Builder.pm line 263
	eval {...} called at /home/cpan/pit/bare/perl-5.16.3/lib/5.16.3/Test/Builder.pm line 263
	Test::Builder::subtest('Test::Builder=HASH(0x7f7ff7b951f8)', 'Login', 'CODE(0x7f7ff7b4c258)') called at /home/cpan/pit/bare/perl-5.16.3/lib/5.16.3/Test/More.pm line 770
	Test::More::subtest('Login', 'CODE(0x7f7ff7b4c258)') called at t/10_client_side2.t line 9
	main::scenario('Login', 'CODE(0x7f7ff7b4c258)') called at t/10_client_side2.t line 96
Secret string too short at /home/cpan/pit/bare/conf/perl-5.16.3/.cpanplus/5.16.3/build/HTTP-Session2-1.07/blib/lib/HTTP/Session2/Base.pm line 79.
	HTTP::Session2::Base::__ANON__('HTTP::Session2::ClientStore2=HASH(0x7f7ff6307ed0)', 's3cret') called at t/10_client_side2.t line 102
	main::__ANON__('client -> server: request without cookie', 'CODE(0x7f7ff63035a0)') called at t/10_client_side2.t line 109
	main::__ANON__() called at /home/cpan/pit/bare/perl-5.16.3/lib/5.16.3/Test/Builder.pm line 258
	Test::Builder::__ANON__() called at /home/cpan/pit/bare/perl-5.16.3/lib/5.16.3/Test/Builder.pm line 263
	eval {...} called at /home/cpan/pit/bare/perl-5.16.3/lib/5.16.3/Test/Builder.pm line 263
	Test::Builder::subtest('Test::Builder=HASH(0x7f7ff7b951f8)', 'In a login session', 'CODE(0x7f7ff7b4c258)') called at /home/cpan/pit/bare/perl-5.16.3/lib/5.16.3/Test/More.pm line 770
	Test::More::subtest('In a login session', 'CODE(0x7f7ff7b4c258)') called at t/10_client_side2.t line 9
	main::scenario('In a login session', 'CODE(0x7f7ff7b4c258)') called at t/10_client_side2.t line 118
Secret string too short at /home/cpan/pit/bare/conf/perl-5.16.3/.cpanplus/5.16.3/build/HTTP-Session2-1.07/blib/lib/HTTP/Session2/Base.pm line 79.
	HTTP::Session2::Base::__ANON__('HTTP::Session2::ClientStore2=HASH(0x7f7ff6307d80)', 's3cret') called at t/10_client_side2.t line 123
	main::__ANON__('client -> server: request without cookie', 'CODE(0x7f7ff6307d98)') called at t/10_client_side2.t line 130
	main::__ANON__() called at /home/cpan/pit/bare/perl-5.16.3/lib/5.16.3/Test/Builder.pm line 258
	Test::Builder::__ANON__() called at /home/cpan/pit/bare/perl-5.16.3/lib/5.16.3/Test/Builder.pm line 263
	eval {...} called at /home/cpan/pit/bare/perl-5.16.3/lib/5.16.3/Test/Builder.pm line 263
	Test::Builder::subtest('Test::Builder=HASH(0x7f7ff7b951f8)', 'Logout', 'CODE(0x7f7ff7b4c258)') called at /home/cpan/pit/bare/perl-5.16.3/lib/5.16.3/Test/More.pm line 770
	Test::More::subtest('Logout', 'CODE(0x7f7ff7b4c258)') called at t/10_client_side2.t line 9
	main::scenario('Logout', 'CODE(0x7f7ff7b4c258)') called at t/10_client_side2.t line 143
Ciphertext does not begin with a valid header for 'salt' header mode at /home/cpan/pit/bare/conf/perl-5.16.3/.cpanplus/5.16.3/build/HTTP-Session2-1.07/blib/lib/HTTP/Session2/ClientStore2.pm line 81.
t/10_client_side2.t ....... ok
t/11_secret_string.t ...... ok
All tests successful.
Files=12, Tests=77,  5 wallclock secs ( 0.09 usr  0.08 sys +  1.05 cusr  2.18 csys =  3.40 CPU)
Result: PASS


PREREQUISITES:

Here is a list of prerequisites you specified and versions we
managed to load:

	  Module Name                        Have     Want
	  Cookie::Baker                      0.03        0
	  Crypt::CBC                         2.33        0
	  Crypt::Rijndael                    1.12        0
	  Data::MessagePack                  0.48        0
	  Digest::HMAC                       1.03        0
	  Digest::SHA                        5.92        0
	  Digest::SHA1                       2.13        0
	  MIME::Base64                       3.13     3.11
	  Mouse                             2.3.0        0
	  Plack::Response                  1.0031        0
	  Test::More                     1.001003     0.98
	  Test::WWW::Mechanize::PSGI         0.35        0
	  Time::HiRes                      1.9726        0
	  parent                            0.225        0

Perl module toolchain versions installed:
	Module Name                        Have
	CPANPLUS                         0.9152
	CPANPLUS::Dist::Build              0.78
	Cwd                                3.47
	ExtUtils::CBuilder             0.280216
	ExtUtils::Command                  1.17
	ExtUtils::Install                  1.68
	ExtUtils::MakeMaker                6.98
	ExtUtils::Manifest                 1.63
	ExtUtils::ParseXS                  3.24
	File::Spec                         3.47
	Module::Build                    0.4205
	Pod::Parser                        1.51
	Pod::Simple                        3.20
	Test::Harness                      3.32
	Test::More                     1.001003
	version                          0.9908

******************************** NOTE ********************************
The comments above are created mechanically, possibly without manual
checking by the sender.  As there are many people performing automatic
tests on each upload to CPAN, it is likely that you will receive
identical messages about the same problem.

If you believe that the message is mistaken, please reply to the first
one with correction and/or additional informations, and do not take
it personally.  We appreciate your patience. :)
**********************************************************************

Additional comments:


This report was machine-generated by CPANPLUS::Dist::YACSmoke 0.90.
Powered by minismokebox version 0.58

------------------------------
ENVIRONMENT AND OTHER CONTEXT
------------------------------

Environment variables:

    AUTOMATED_TESTING = 1
    NONINTERACTIVE_TESTING = 1
    PATH = /home/cpan/pit/bare/conf/perl-5.16.3/.cpanplus/5.16.3/build/WWW-Mechanize-1.73/blib/script:/home/cpan/pit/bare/conf/perl-5.16.3/.cpanplus/5.16.3/build/libwww-perl-6.08/blib/script:/home/cpan/pit/bare/conf/perl-5.16.3/.cpanplus/5.16.3/build/HTML-Tree-5.03/blib/script:/home/cpan/pit/bare/conf/perl-5.16.3/.cpanplus/5.16.3/build/Plack-1.0031/blib/script:/home/cpan/bin:/bin:/sbin:/usr/bin:/usr/sbin:/usr/X11R7/bin:/usr/X11R6/bin:/usr/pkg/bin:/usr/pkg/sbin:/usr/games:/usr/local/bin:/usr/local/sbin
    PERL5LIB = :/home/cpan/pit/bare/conf/perl-5.16.3/.cpanplus/5.16.3/build/Class-Inspector-1.28/blib/lib:/home/cpan/pit/bare/conf/perl-5.16.3/.cpanplus/5.16.3/build/Class-Inspector-1.28/blib/arch:/home/cpan/pit/bare/conf/perl-5.16.3/.cpanplus/5.16.3/build/File-ShareDir-Install-0.09/blib/lib:/home/cpan/pit/bare/conf/perl-5.16.3/.cpanplus/5.16.3/build/File-ShareDir-Install-0.09/blib/arch:/home/cpan/pit/bare/conf/perl-5.16.3/.cpanplus/5.16.3/build/File-ShareDir-1.102/blib/lib:/home/cpan/pit/bare/conf/perl-5.16.3/.cpanplus/5.16.3/build/File-ShareDir-1.102/blib/arch:/home/cpan/pit/bare/conf/perl-5.16.3/.cpanplus/5.16.3/build/HTML-FillInForm-Lite-1.13/blib/lib:/home/cpan/pit/bare/conf/perl-5.16.3/.cpanplus/5.16.3/build/HTML-FillInForm-Lite-1.13/blib/arch:/home/cpan/pit/bare/conf/perl-5.16.3/.cpanplus/5.16.3/build/Encode-Locale-1.03/blib/lib:/home/cpan/pit/bare/conf/perl-5.16.3/.cpanplus/5.16.3/build/Encode-Locale-1.03/blib/arch:/home/cpan/pit/bare/conf/perl-5.16.3/.cpanplus/5.16.3/build/HTTP-Date-6.02/blib/lib:/home/cpan/pit/bare/conf/perl-5.16.3/.cpanplus/5.16.3/build/HTTP-Date-6.02/blib/arch:/home/cpan/pit/bare/conf/perl-5.16.3/.cpanplus/5.16.3/build/IO-HTML-1.001/blib/lib:/home/cpan/pit/bare/conf/perl-5.16.3/.cpanplus/5.16.3/build/IO-HTML-1.001/blib/arch:/home/cpan/pit/bare/conf/perl-5.16.3/.cpanplus/5.16.3/build/LWP-MediaTypes-6.02/blib/lib:/home/cpan/pit/bare/conf/perl-5.16.3/.cpanplus/5.16.3/build/LWP-MediaTypes-6.02/blib/arch:/home/cpan/pit/bare/conf/perl-5.16.3/.cpanplus/5.16.3/build/URI-1.64/blib/lib:/home/cpan/pit/bare/conf/perl-5.16.3/.cpanplus/5.16.3/build/URI-1.64/blib/arch:/home/cpan/pit/bare/conf/perl-5.16.3/.cpanplus/5.16.3/build/HTTP-Message-6.06/blib/lib:/home/cpan/pit/bare/conf/perl-5.16.3/.cpanplus/5.16.3/build/HTTP-Message-6.06/blib/arch:/home/cpan/pit/bare/conf/perl-5.16.3/.cpanplus/5.16.3/build/File-Slurp-9999.19/blib/lib:/home/cpan/pit/bare/conf/perl-5.16.3/.cpanplus/5.16.3/build/File-Slurp-9999.19/blib/arch:/home/cpan/pit/bare/conf/perl-5.16.3/.cpanplus/5.16.3/build/Capture-Tiny-0.24/blib/lib:/home/cpan/pit/bare/conf/perl-5.16.3/.cpanplus/5.16.3/build/Capture-Tiny-0.24/blib/arch:/home/cpan/pit/bare/conf/perl-5.16.3/.cpanplus/5.16.3/build/Algorithm-Diff-1.1902/blib/lib:/home/cpan/pit/bare/conf/perl-5.16.3/.cpanplus/5.16.3/build/Algorithm-Diff-1.1902/blib/arch:/home/cpan/pit/bare/conf/perl-5.16.3/.cpanplus/5.16.3/build/Text-Diff-1.41/blib/lib:/home/cpan/pit/bare/conf/perl-5.16.3/.cpanplus/5.16.3/build/Text-Diff-1.41/blib/arch:/home/cpan/pit/bare/conf/perl-5.16.3/.cpanplus/5.16.3/build/Test-Differences-0.62/blib/lib:/home/cpan/pit/bare/conf/perl-5.16.3/.cpanplus/5.16.3/build/Test-Differences-0.62/blib/arch:/home/cpan/pit/bare/conf/perl-5.16.3/.cpanplus/5.16.3/build/Try-Tiny-0.22/blib/lib:/home/cpan/pit/bare/conf/perl-5.16.3/.cpanplus/5.16.3/build/Try-Tiny-0.22/blib/arch:/home/cpan/pit/bare/conf/perl-5.16.3/.cpanplus/5.16.3/build/Test-Fatal-0.013/blib/lib:/home/cpan/pit/bare/conf/perl-5.16.3/.cpanplus/5.16.3/build/Test-Fatal-0.013/blib/arch:/home/cpan/pit/bare/conf/perl-5.16.3/.cpanplus/5.16.3/build/Test-Name-FromLine-0.13/blib/lib:/home/cpan/pit/bare/conf/perl-5.16.3/.cpanplus/5.16.3/build/Test-Name-FromLine-0.13/blib/arch:/home/cpan/pit/bare/conf/perl-5.16.3/.cpanplus/5.16.3/build/Test-Time-0.04/blib/lib:/home/cpan/pit/bare/conf/perl-5.16.3/.cpanplus/5.16.3/build/Test-Time-0.04/blib/arch:/home/cpan/pit/bare/conf/perl-5.16.3/.cpanplus/5.16.3/build/Cookie-Baker-0.03/blib/lib:/home/cpan/pit/bare/conf/perl-5.16.3/.cpanplus/5.16.3/build/Cookie-Baker-0.03/blib/arch:/home/cpan/pit/bare/conf/perl-5.16.3/.cpanplus/5.16.3/build/Crypt-CBC-2.33/blib/lib:/home/cpan/pit/bare/conf/perl-5.16.3/.cpanplus/5.16.3/build/Crypt-CBC-2.33/blib/arch:/home/cpan/pit/bare/conf/perl-5.16.3/.cpanplus/5.16.3/build/Test-Manifest-1.23/blib/lib:/home/cpan/pit/bare/conf/perl-5.16.3/.cpanplus/5.16.3/build/Test-Manifest-1.23/blib/arch:/home/cpan/pit/bare/conf/perl-5.16.3/.cpanplus/5.16.3/build/Crypt-Rijndael-1.12/blib/lib:/home/cpan/pit/bare/conf/perl-5.16.3/.cpanplus/5.16.3/build/Crypt-Rijndael-1.12/blib/arch:/home/cpan/pit/bare/conf/perl-5.16.3/.cpanplus/5.16.3/build/Test-Requires-0.08/blib/lib:/home/cpan/pit/bare/conf/perl-5.16.3/.cpanplus/5.16.3/build/Test-Requires-0.08/blib/arch:/home/cpan/pit/bare/conf/perl-5.16.3/.cpanplus/5.16.3/build/Data-MessagePack-0.48/blib/lib:/home/cpan/pit/bare/conf/perl-5.16.3/.cpanplus/5.16.3/build/Data-MessagePack-0.48/blib/arch:/home/cpan/pit/bare/conf/perl-5.16.3/.cpanplus/5.16.3/build/Digest-HMAC-1.03/blib/lib:/home/cpan/pit/bare/conf/perl-5.16.3/.cpanplus/5.16.3/build/Digest-HMAC-1.03/blib/arch:/home/cpan/pit/bare/conf/perl-5.16.3/.cpanplus/5.16.3/build/Digest-SHA1-2.13/blib/lib:/home/cpan/pit/bare/conf/perl-5.16.3/.cpanplus/5.16.3/build/Digest-SHA1-2.13/blib/arch:/home/cpan/pit/bare/conf/perl-5.16.3/.cpanplus/5.16.3/build/Sub-Uplevel-0.24/blib/lib:/home/cpan/pit/bare/conf/perl-5.16.3/.cpanplus/5.16.3/build/Sub-Uplevel-0.24/blib/arch:/home/cpan/pit/bare/conf/perl-5.16.3/.cpanplus/5.16.3/build/Test-Exception-0.32/blib/lib:/home/cpan/pit/bare/conf/perl-5.16.3/.cpanplus/5.16.3/build/Test-Exception-0.32/blib/arch:/home/cpan/pit/bare/conf/perl-5.16.3/.cpanplus/5.16.3/build/Fennec-Lite-0.004/blib/lib:/home/cpan/pit/bare/conf/perl-5.16.3/.cpanplus/5.16.3/build/Fennec-Lite-0.004/blib/arch:/home/cpan/pit/bare/conf/perl-5.16.3/.cpanplus/5.16.3/build/Meta-Builder-0.003/blib/lib:/home/cpan/pit/bare/conf/perl-5.16.3/.cpanplus/5.16.3/build/Meta-Builder-0.003/blib/arch:/home/cpan/pit/bare/conf/perl-5.16.3/.cpanplus/5.16.3/build/aliased-0.31/blib/lib:/home/cpan/pit/bare/conf/perl-5.16.3/.cpanplus/5.16.3/build/aliased-0.31/blib/arch:/home/cpan/pit/bare/conf/perl-5.16.3/.cpanplus/5.16.3/build/Exporter-Declare-0.113/blib/lib:/home/cpan/pit/bare/conf/perl-5.16.3/.cpanplus/5.16.3/build/Exporter-Declare-0.113/blib/arch:/home/cpan/pit/bare/conf/perl-5.16.3/.cpanplus/5.16.3/build/Mock-Quick-1.107/blib/lib:/home/cpan/pit/bare/conf/perl-5.16.3/.cpanplus/5.16.3/build/Mock-Quick-1.107/blib/arch:/home/cpan/pit/bare/conf/perl-5.16.3/.cpanplus/5.16.3/build/Test-Exception-LessClever-0.006/blib/lib:/home/cpan/pit/bare/conf/perl-5.16.3/.cpanplus/5.16.3/build/Test-Exception-LessClever-0.006/blib/arch:/home/cpan/pit/bare/conf/perl-5.16.3/.cpanplus/5.16.3/build/Test-LeakTrace-0.14/blib/lib:/home/cpan/pit/bare/conf/perl-5.16.3/.cpanplus/5.16.3/build/Test-LeakTrace-0.14/blib/arch:/home/cpan/pit/bare/conf/perl-5.16.3/.cpanplus/5.16.3/build/Params-Util-1.07/blib/lib:/home/cpan/pit/bare/conf/perl-5.16.3/.cpanplus/5.16.3/build/Params-Util-1.07/blib/arch:/home/cpan/pit/bare/conf/perl-5.16.3/.cpanplus/5.16.3/build/Sub-Install-0.928/blib/lib:/home/cpan/pit/bare/conf/perl-5.16.3/.cpanplus/5.16.3/build/Sub-Install-0.928/blib/arch:/home/cpan/pit/bare/conf/perl-5.16.3/.cpanplus/5.16.3/build/Data-OptList-0.109/blib/lib:/home/cpan/pit/bare/conf/perl-5.16.3/.cpanplus/5.16.3/build/Data-OptList-0.109/blib/arch:/home/cpan/pit/bare/conf/perl-5.16.3/.cpanplus/5.16.3/build/Sub-Exporter-0.987/blib/lib:/home/cpan/pit/bare/conf/perl-5.16.3/.cpanplus/5.16.3/build/Sub-Exporter-0.987/blib/arch:/home/cpan/pit/bare/conf/perl-5.16.3/.cpanplus/5.16.3/build/Test-Tester-0.109/blib/lib:/home/cpan/pit/bare/conf/perl-5.16.3/.cpanplus/5.16.3/build/Test-Tester-0.109/blib/arch:/home/cpan/pit/bare/conf/perl-5.16.3/.cpanplus/5.16.3/build/Test-Output-1.03/blib/lib:/home/cpan/pit/bare/conf/perl-5.16.3/.cpanplus/5.16.3/build/Test-Output-1.03/blib/arch:/home/cpan/pit/bare/conf/perl-5.16.3/.cpanplus/5.16.3/build/Mouse-2.3.0/blib/lib:/home/cpan/pit/bare/conf/perl-5.16.3/.cpanplus/5.16.3/build/Mouse-2.3.0/blib/arch:/home/cpan/pit/bare/conf/perl-5.16.3/.cpanplus/5.16.3/build/POSIX-strftime-Compiler-0.32/blib/lib:/home/cpan/pit/bare/conf/perl-5.16.3/.cpanplus/5.16.3/build/POSIX-strftime-Compiler-0.32/blib/arch:/home/cpan/pit/bare/conf/perl-5.16.3/.cpanplus/5.16.3/build/Test-MockTime-0.12/blib/lib:/home/cpan/pit/bare/conf/perl-5.16.3/.cpanplus/5.16.3/build/Test-MockTime-0.12/blib/arch:/home/cpan/pit/bare/conf/perl-5.16.3/.cpanplus/5.16.3/build/Apache-LogFormat-Compiler-0.32/blib/lib:/home/cpan/pit/bare/conf/perl-5.16.3/.cpanplus/5.16.3/build/Apache-LogFormat-Compiler-0.32/blib/arch:/home/cpan/pit/bare/conf/perl-5.16.3/.cpanplus/5.16.3/build/Devel-StackTrace-1.34/blib/lib:/home/cpan/pit/bare/conf/perl-5.16.3/.cpanplus/5.16.3/build/Devel-StackTrace-1.34/blib/arch:/home/cpan/pit/bare/conf/perl-5.16.3/.cpanplus/5.16.3/build/Devel-StackTrace-AsHTML-0.14/blib/lib:/home/cpan/pit/bare/conf/perl-5.16.3/.cpanplus/5.16.3/build/Devel-StackTrace-AsHTML-0.14/blib/arch:/home/cpan/pit/bare/conf/perl-5.16.3/.cpanplus/5.16.3/build/Test-SharedFork-0.28/blib/lib:/home/cpan/pit/bare/conf/perl-5.16.3/.cpanplus/5.16.3/build/Test-SharedFork-0.28/blib/arch:/home/cpan/pit/bare/conf/perl-5.16.3/.cpanplus/5.16.3/build/Filesys-Notify-Simple-0.12/blib/lib:/home/cpan/pit/bare/conf/perl-5.16.3/.cpanplus/5.16.3/build/Filesys-Notify-Simple-0.12/blib/arch:/home/cpan/pit/bare/conf/perl-5.16.3/.cpanplus/5.16.3/build/Test-NoWarnings-1.04/blib/lib:/home/cpan/pit/bare/conf/perl-5.16.3/.cpanplus/5.16.3/build/Test-NoWarnings-1.04/blib/arch:/home/cpan/pit/bare/conf/perl-5.16.3/.cpanplus/5.16.3/build/Test-Deep-0.112/blib/lib:/home/cpan/pit/bare/conf/perl-5.16.3/.cpanplus/5.16.3/build/Test-Deep-0.112/blib/arch:/home/cpan/pit/bare/conf/perl-5.16.3/.cpanplus/5.16.3/build/HTTP-Body-1.19/blib/lib:/home/cpan/pit/bare/conf/perl-5.16.3/.cpanplus/5.16.3/build/HTTP-Body-1.19/blib/arch:/home/cpan/pit/bare/conf/perl-5.16.3/.cpanplus/5.16.3/build/HTTP-Tiny-0.047/blib/lib:/home/cpan/pit/bare/conf/perl-5.16.3/.cpanplus/5.16.3/build/HTTP-Tiny-0.047/blib/arch:/home/cpan/pit/bare/conf/perl-5.16.3/.cpanplus/5.16.3/build/Hash-MultiValue-0.15/blib/lib:/home/cpan/pit/bare/conf/perl-5.16.3/.cpanplus/5.16.3/build/Hash-MultiValue-0.15/blib/arch:/home/cpan/pit/bare/conf/perl-5.16.3/.cpanplus/5.16.3/build/Stream-Buffered-0.03/blib/lib:/home/cpan/pit/bare/conf/perl-5.16.3/.cpanplus/5.16.3/build/Stream-Buffered-0.03/blib/arch:/home/cpan/pit/bare/conf/perl-5.16.3/.cpanplus/5.16.3/build/Test-TCP-2.06/blib/lib:/home/cpan/pit/bare/conf/perl-5.16.3/.cpanplus/5.16.3/build/Test-TCP-2.06/blib/arch:/home/cpan/pit/bare/conf/perl-5.16.3/.cpanplus/5.16.3/build/Plack-1.0031/blib/lib:/home/cpan/pit/bare/conf/perl-5.16.3/.cpanplus/5.16.3/build/Plack-1.0031/blib/arch:/home/cpan/pit/bare/conf/perl-5.16.3/.cpanplus/5.16.3/build/Carp-Assert-0.21/blib/lib:/home/cpan/pit/bare/conf/perl-5.16.3/.cpanplus/5.16.3/build/Carp-Assert-0.21/blib/arch:/home/cpan/pit/bare/conf/perl-5.16.3/.cpanplus/5.16.3/build/Carp-Assert-More-1.14/blib/lib:/home/cpan/pit/bare/conf/perl-5.16.3/.cpanplus/5.16.3/build/Carp-Assert-More-1.14/blib/arch:/home/cpan/pit/bare/conf/perl-5.16.3/.cpanplus/5.16.3/build/HTML-Tagset-3.20/blib/lib:/home/cpan/pit/bare/conf/perl-5.16.3/.cpanplus/5.16.3/build/HTML-Tagset-3.20/blib/arch:/home/cpan/pit/bare/conf/perl-5.16.3/.cpanplus/5.16.3/build/HTML-Parser-3.71/blib/lib:/home/cpan/pit/bare/conf/perl-5.16.3/.cpanplus/5.16.3/build/HTML-Parser-3.71/blib/arch:/home/cpan/pit/bare/conf/perl-5.16.3/.cpanplus/5.16.3/build/HTML-Tree-5.03/blib/lib:/home/cpan/pit/bare/conf/perl-5.16.3/.cpanplus/5.16.3/build/HTML-Tree-5.03/blib/arch:/home/cpan/pit/bare/conf/perl-5.16.3/.cpanplus/5.16.3/build/HTTP-Server-Simple-0.44/blib/lib:/home/cpan/pit/bare/conf/perl-5.16.3/.cpanplus/5.16.3/build/HTTP-Server-Simple-0.44/blib/arch:/home/cpan/pit/bare/conf/perl-5.16.3/.cpanplus/5.16.3/build/File-Listing-6.04/blib/lib:/home/cpan/pit/bare/conf/perl-5.16.3/.cpanplus/5.16.3/build/File-Listing-6.04/blib/arch:/home/cpan/pit/bare/conf/perl-5.16.3/.cpanplus/5.16.3/build/HTTP-Cookies-6.01/blib/lib:/home/cpan/pit/bare/conf/perl-5.16.3/.cpanplus/5.16.3/build/HTTP-Cookies-6.01/blib/arch:/home/cpan/pit/bare/conf/perl-5.16.3/.cpanplus/5.16.3/build/HTTP-Daemon-6.01/blib/lib:/home/cpan/pit/bare/conf/perl-5.16.3/.cpanplus/5.16.3/build/HTTP-Daemon-6.01/blib/arch:/home/cpan/pit/bare/conf/perl-5.16.3/.cpanplus/5.16.3/build/HTTP-Negotiate-6.01/blib/lib:/home/cpan/pit/bare/conf/perl-5.16.3/.cpanplus/5.16.3/build/HTTP-Negotiate-6.01/blib/arch:/home/cpan/pit/bare/conf/perl-5.16.3/.cpanplus/5.16.3/build/Net-HTTP-6.07/blib/lib:/home/cpan/pit/bare/conf/perl-5.16.3/.cpanplus/5.16.3/build/Net-HTTP-6.07/blib/arch:/home/cpan/pit/bare/conf/perl-5.16.3/.cpanplus/5.16.3/build/WWW-RobotRules-6.02/blib/lib:/home/cpan/pit/bare/conf/perl-5.16.3/.cpanplus/5.16.3/build/WWW-RobotRules-6.02/blib/arch:/home/cpan/pit/bare/conf/perl-5.16.3/.cpanplus/5.16.3/build/libwww-perl-6.08/blib/lib:/home/cpan/pit/bare/conf/perl-5.16.3/.cpanplus/5.16.3/build/libwww-perl-6.08/blib/arch:/home/cpan/pit/bare/conf/perl-5.16.3/.cpanplus/5.16.3/build/Test-LongString-0.15/blib/lib:/home/cpan/pit/bare/conf/perl-5.16.3/.cpanplus/5.16.3/build/Test-LongString-0.15/blib/arch:/home/cpan/pit/bare/conf/perl-5.16.3/.cpanplus/5.16.3/build/HTML-Form-6.03/blib/lib:/home/cpan/pit/bare/conf/perl-5.16.3/.cpanplus/5.16.3/build/HTML-Form-6.03/blib/arch:/home/cpan/pit/bare/conf/perl-5.16.3/.cpanplus/5.16.3/build/Test-Warn-0.30/blib/lib:/home/cpan/pit/bare/conf/perl-5.16.3/.cpanplus/5.16.3/build/Test-Warn-0.30/blib/arch:/home/cpan/pit/bare/conf/perl-5.16.3/.cpanplus/5.16.3/build/WWW-Mechanize-1.73/blib/lib:/home/cpan/pit/bare/conf/perl-5.16.3/.cpanplus/5.16.3/build/WWW-Mechanize-1.73/blib/arch:/home/cpan/pit/bare/conf/perl-5.16.3/.cpanplus/5.16.3/build/Test-WWW-Mechanize-1.44/blib/lib:/home/cpan/pit/bare/conf/perl-5.16.3/.cpanplus/5.16.3/build/Test-WWW-Mechanize-1.44/blib/arch:/home/cpan/pit/bare/conf/perl-5.16.3/.cpanplus/5.16.3/build/Test-WWW-Mechanize-PSGI-0.35/blib/lib:/home/cpan/pit/bare/conf/perl-5.16.3/.cpanplus/5.16.3/build/Test-WWW-Mechanize-PSGI-0.35/blib/arch:/home/cpan/pit/bare/conf/perl-5.16.3/.cpanplus/5.16.3/build/HTTP-Session2-1.07/blib/lib:/home/cpan/pit/bare/conf/perl-5.16.3/.cpanplus/5.16.3/build/HTTP-Session2-1.07/blib/arch
    PERL5_CPANPLUS_IS_RUNNING = 29988
    PERL5_CPANPLUS_IS_VERSION = 0.9152
    PERL5_MINISMOKEBOX = 0.58
    PERL5_YACSMOKE_BASE = /home/cpan/pit/bare/conf/perl-5.16.3
    PERL_EXTUTILS_AUTOINSTALL = --defaultdeps
    PERL_MM_USE_DEFAULT = 1
    SHELL = /usr/pkg/bin/bash
    TERM = screen

Perl special variables (and OS-specific diagnostics, for MSWin32):

    Perl: $^X = /home/cpan/pit/bare/perl-5.16.3/bin/perl
    UID:  $<  = 1002
    EUID: $>  = 1002
    GID:  $(  = 100 100
    EGID: $)  = 100 100


-------------------------------


--

Summary of my perl5 (revision 5 version 16 subversion 3) configuration:
   
  Platform:
    osname=netbsd, osvers=6.1.4, archname=amd64-netbsd
    uname='netbsd naboo.bingosnet.co.uk 6.1.4 netbsd 6.1.4 (generic) amd64 '
    config_args='-des -Dprefix=/home/cpan/pit/bare/perl-5.16.3'
    hint=recommended, useposix=true, d_sigaction=define
    useithreads=undef, usemultiplicity=undef
    useperlio=define, d_sfio=undef, uselargefiles=define, usesocks=undef
    use64bitint=define, use64bitall=define, uselongdouble=undef
    usemymalloc=n, bincompat5005=undef
  Compiler:
    cc='cc', ccflags ='-fno-strict-aliasing -pipe -fstack-protector -I/usr/pkg/include',
    optimize='-O',
    cppflags='-fno-strict-aliasing -pipe -fstack-protector -I/usr/pkg/include'
    ccversion='', gccversion='4.5.3', gccosandvers=''
    intsize=4, longsize=8, ptrsize=8, doublesize=8, byteorder=12345678
    d_longlong=define, longlongsize=8, d_longdbl=define, longdblsize=16
    ivtype='long', ivsize=8, nvtype='double', nvsize=8, Off_t='off_t', lseeksize=8
    alignbytes=8, prototype=define
  Linker and Libraries:
    ld='cc', ldflags =' -Wl,-rpath,/usr/pkg/lib -Wl,-rpath,/usr/local/lib -fstack-protector -L/usr/pkg/lib'
    libpth=/usr/pkg/lib /lib /usr/lib
    libs=-lgdbm -lm -lcrypt -lutil -lc -lposix
    perllibs=-lm -lcrypt -lutil -lc -lposix
    libc=/lib/libc.so, so=so, useshrplib=false, libperl=libperl.a
    gnulibc_version=''
  Dynamic Linking:
    dlsrc=dl_dlopen.xs, dlext=so, d_dlsymun=undef, ccdlflags='-Wl,-E '
    cccdlflags='-DPIC -fPIC ', lddlflags='--whole-archive -shared  -L/usr/pkg/lib -fstack-protector'


Characteristics of this binary (from libperl): 
  Compile-time options: HAS_TIMES PERLIO_LAYERS PERL_DONT_CREATE_GVSV
                        PERL_MALLOC_WRAP PERL_PRESERVE_IVUV USE_64_BIT_ALL
                        USE_64_BIT_INT USE_LARGE_FILES USE_LOCALE
                        USE_LOCALE_COLLATE USE_LOCALE_CTYPE
                        USE_LOCALE_NUMERIC USE_PERLIO USE_PERL_ATOF
  Built under netbsd
  Compiled at May  9 2014 16:31:20
  %ENV:
    PERL5LIB=":/home/cpan/pit/bare/conf/perl-5.16.3/.cpanplus/5.16.3/build/Class-Inspector-1.28/blib/lib:/home/cpan/pit/bare/conf/perl-5.16.3/.cpanplus/5.16.3/build/Class-Inspector-1.28/blib/arch:/home/cpan/pit/bare/conf/perl-5.16.3/.cpanplus/5.16.3/build/File-ShareDir-Install-0.09/blib/lib:/home/cpan/pit/bare/conf/perl-5.16.3/.cpanplus/5.16.3/build/File-ShareDir-Install-0.09/blib/arch:/home/cpan/pit/bare/conf/perl-5.16.3/.cpanplus/5.16.3/build/File-ShareDir-1.102/blib/lib:/home/cpan/pit/bare/conf/perl-5.16.3/.cpanplus/5.16.3/build/File-ShareDir-1.102/blib/arch:/home/cpan/pit/bare/conf/perl-5.16.3/.cpanplus/5.16.3/build/HTML-FillInForm-Lite-1.13/blib/lib:/home/cpan/pit/bare/conf/perl-5.16.3/.cpanplus/5.16.3/build/HTML-FillInForm-Lite-1.13/blib/arch:/home/cpan/pit/bare/conf/perl-5.16.3/.cpanplus/5.16.3/build/Encode-Locale-1.03/blib/lib:/home/cpan/pit/bare/conf/perl-5.16.3/.cpanplus/5.16.3/build/Encode-Locale-1.03/blib/arch:/home/cpan/pit/bare/conf/perl-5.16.3/.cpanplus/5.16.3/build/HTTP-Date-6.02/blib/lib:/home/cpan/pit/bare/conf/perl-5.16.3/.cpanplus/5.16.3/build/HTTP-Date-6.02/blib/arch:/home/cpan/pit/bare/conf/perl-5.16.3/.cpanplus/5.16.3/build/IO-HTML-1.001/blib/lib:/home/cpan/pit/bare/conf/perl-5.16.3/.cpanplus/5.16.3/build/IO-HTML-1.001/blib/arch:/home/cpan/pit/bare/conf/perl-5.16.3/.cpanplus/5.16.3/build/LWP-MediaTypes-6.02/blib/lib:/home/cpan/pit/bare/conf/perl-5.16.3/.cpanplus/5.16.3/build/LWP-MediaTypes-6.02/blib/arch:/home/cpan/pit/bare/conf/perl-5.16.3/.cpanplus/5.16.3/build/URI-1.64/blib/lib:/home/cpan/pit/bare/conf/perl-5.16.3/.cpanplus/5.16.3/build/URI-1.64/blib/arch:/home/cpan/pit/bare/conf/perl-5.16.3/.cpanplus/5.16.3/build/HTTP-Message-6.06/blib/lib:/home/cpan/pit/bare/conf/perl-5.16.3/.cpanplus/5.16.3/build/HTTP-Message-6.06/blib/arch:/home/cpan/pit/bare/conf/perl-5.16.3/.cpanplus/5.16.3/build/File-Slurp-9999.19/blib/lib:/home/cpan/pit/bare/conf/perl-5.16.3/.cpanplus/5.16.3/build/File-Slurp-9999.19/blib/arch:/home/cpan/pit/bare/conf/perl-5.16.3/.cpanplus/5.16.3/build/Capture-Tiny-0.24/blib/lib:/home/cpan/pit/bare/conf/perl-5.16.3/.cpanplus/5.16.3/build/Capture-Tiny-0.24/blib/arch:/home/cpan/pit/bare/conf/perl-5.16.3/.cpanplus/5.16.3/build/Algorithm-Diff-1.1902/blib/lib:/home/cpan/pit/bare/conf/perl-5.16.3/.cpanplus/5.16.3/build/Algorithm-Diff-1.1902/blib/arch:/home/cpan/pit/bare/conf/perl-5.16.3/.cpanplus/5.16.3/build/Text-Diff-1.41/blib/lib:/home/cpan/pit/bare/conf/perl-5.16.3/.cpanplus/5.16.3/build/Text-Diff-1.41/blib/arch:/home/cpan/pit/bare/conf/perl-5.16.3/.cpanplus/5.16.3/build/Test-Differences-0.62/blib/lib:/home/cpan/pit/bare/conf/perl-5.16.3/.cpanplus/5.16.3/build/Test-Differences-0.62/blib/arch:/home/cpan/pit/bare/conf/perl-5.16.3/.cpanplus/5.16.3/build/Try-Tiny-0.22/blib/lib:/home/cpan/pit/bare/conf/perl-5.16.3/.cpanplus/5.16.3/build/Try-Tiny-0.22/blib/arch:/home/cpan/pit/bare/conf/perl-5.16.3/.cpanplus/5.16.3/build/Test-Fatal-0.013/blib/lib:/home/cpan/pit/bare/conf/perl-5.16.3/.cpanplus/5.16.3/build/Test-Fatal-0.013/blib/arch:/home/cpan/pit/bare/conf/perl-5.16.3/.cpanplus/5.16.3/build/Test-Name-FromLine-0.13/blib/lib:/home/cpan/pit/bare/conf/perl-5.16.3/.cpanplus/5.16.3/build/Test-Name-FromLine-0.13/blib/arch:/home/cpan/pit/bare/conf/perl-5.16.3/.cpanplus/5.16.3/build/Test-Time-0.04/blib/lib:/home/cpan/pit/bare/conf/perl-5.16.3/.cpanplus/5.16.3/build/Test-Time-0.04/blib/arch:/home/cpan/pit/bare/conf/perl-5.16.3/.cpanplus/5.16.3/build/Cookie-Baker-0.03/blib/lib:/home/cpan/pit/bare/conf/perl-5.16.3/.cpanplus/5.16.3/build/Cookie-Baker-0.03/blib/arch:/home/cpan/pit/bare/conf/perl-5.16.3/.cpanplus/5.16.3/build/Crypt-CBC-2.33/blib/lib:/home/cpan/pit/bare/conf/perl-5.16.3/.cpanplus/5.16.3/build/Crypt-CBC-2.33/blib/arch:/home/cpan/pit/bare/conf/perl-5.16.3/.cpanplus/5.16.3/build/Test-Manifest-1.23/blib/lib:/home/cpan/pit/bare/conf/perl-5.16.3/.cpanplus/5.16.3/build/Test-Manifest-1.23/blib/arch:/home/cpan/pit/bare/conf/perl-5.16.3/.cpanplus/5.16.3/build/Crypt-Rijndael-1.12/blib/lib:/home/cpan/pit/bare/conf/perl-5.16.3/.cpanplus/5.16.3/build/Crypt-Rijndael-1.12/blib/arch:/home/cpan/pit/bare/conf/perl-5.16.3/.cpanplus/5.16.3/build/Test-Requires-0.08/blib/lib:/home/cpan/pit/bare/conf/perl-5.16.3/.cpanplus/5.16.3/build/Test-Requires-0.08/blib/arch:/home/cpan/pit/bare/conf/perl-5.16.3/.cpanplus/5.16.3/build/Data-MessagePack-0.48/blib/lib:/home/cpan/pit/bare/conf/perl-5.16.3/.cpanplus/5.16.3/build/Data-MessagePack-0.48/blib/arch:/home/cpan/pit/bare/conf/perl-5.16.3/.cpanplus/5.16.3/build/Digest-HMAC-1.03/blib/lib:/home/cpan/pit/bare/conf/perl-5.16.3/.cpanplus/5.16.3/build/Digest-HMAC-1.03/blib/arch:/home/cpan/pit/bare/conf/perl-5.16.3/.cpanplus/5.16.3/build/Digest-SHA1-2.13/blib/lib:/home/cpan/pit/bare/conf/perl-5.16.3/.cpanplus/5.16.3/build/Digest-SHA1-2.13/blib/arch:/home/cpan/pit/bare/conf/perl-5.16.3/.cpanplus/5.16.3/build/Sub-Uplevel-0.24/blib/lib:/home/cpan/pit/bare/conf/perl-5.16.3/.cpanplus/5.16.3/build/Sub-Uplevel-0.24/blib/arch:/home/cpan/pit/bare/conf/perl-5.16.3/.cpanplus/5.16.3/build/Test-Exception-0.32/blib/lib:/home/cpan/pit/bare/conf/perl-5.16.3/.cpanplus/5.16.3/build/Test-Exception-0.32/blib/arch:/home/cpan/pit/bare/conf/perl-5.16.3/.cpanplus/5.16.3/build/Fennec-Lite-0.004/blib/lib:/home/cpan/pit/bare/conf/perl-5.16.3/.cpanplus/5.16.3/build/Fennec-Lite-0.004/blib/arch:/home/cpan/pit/bare/conf/perl-5.16.3/.cpanplus/5.16.3/build/Meta-Builder-0.003/blib/lib:/home/cpan/pit/bare/conf/perl-5.16.3/.cpanplus/5.16.3/build/Meta-Builder-0.003/blib/arch:/home/cpan/pit/bare/conf/perl-5.16.3/.cpanplus/5.16.3/build/aliased-0.31/blib/lib:/home/cpan/pit/bare/conf/perl-5.16.3/.cpanplus/5.16.3/build/aliased-0.31/blib/arch:/home/cpan/pit/bare/conf/perl-5.16.3/.cpanplus/5.16.3/build/Exporter-Declare-0.113/blib/lib:/home/cpan/pit/bare/conf/perl-5.16.3/.cpanplus/5.16.3/build/Exporter-Declare-0.113/blib/arch:/home/cpan/pit/bare/conf/perl-5.16.3/.cpanplus/5.16.3/build/Mock-Quick-1.107/blib/lib:/home/cpan/pit/bare/conf/perl-5.16.3/.cpanplus/5.16.3/build/Mock-Quick-1.107/blib/arch:/home/cpan/pit/bare/conf/perl-5.16.3/.cpanplus/5.16.3/build/Test-Exception-LessClever-0.006/blib/lib:/home/cpan/pit/bare/conf/perl-5.16.3/.cpanplus/5.16.3/build/Test-Exception-LessClever-0.006/blib/arch:/home/cpan/pit/bare/conf/perl-5.16.3/.cpanplus/5.16.3/build/Test-LeakTrace-0.14/blib/lib:/home/cpan/pit/bare/conf/perl-5.16.3/.cpanplus/5.16.3/build/Test-LeakTrace-0.14/blib/arch:/home/cpan/pit/bare/conf/perl-5.16.3/.cpanplus/5.16.3/build/Params-Util-1.07/blib/lib:/home/cpan/pit/bare/conf/perl-5.16.3/.cpanplus/5.16.3/build/Params-Util-1.07/blib/arch:/home/cpan/pit/bare/conf/perl-5.16.3/.cpanplus/5.16.3/build/Sub-Install-0.928/blib/lib:/home/cpan/pit/bare/conf/perl-5.16.3/.cpanplus/5.16.3/build/Sub-Install-0.928/blib/arch:/home/cpan/pit/bare/conf/perl-5.16.3/.cpanplus/5.16.3/build/Data-OptList-0.109/blib/lib:/home/cpan/pit/bare/conf/perl-5.16.3/.cpanplus/5.16.3/build/Data-OptList-0.109/blib/arch:/home/cpan/pit/bare/conf/perl-5.16.3/.cpanplus/5.16.3/build/Sub-Exporter-0.987/blib/lib:/home/cpan/pit/bare/conf/perl-5.16.3/.cpanplus/5.16.3/build/Sub-Exporter-0.987/blib/arch:/home/cpan/pit/bare/conf/perl-5.16.3/.cpanplus/5.16.3/build/Test-Tester-0.109/blib/lib:/home/cpan/pit/bare/conf/perl-5.16.3/.cpanplus/5.16.3/build/Test-Tester-0.109/blib/arch:/home/cpan/pit/bare/conf/perl-5.16.3/.cpanplus/5.16.3/build/Test-Output-1.03/blib/lib:/home/cpan/pit/bare/conf/perl-5.16.3/.cpanplus/5.16.3/build/Test-Output-1.03/blib/arch:/home/cpan/pit/bare/conf/perl-5.16.3/.cpanplus/5.16.3/build/Mouse-2.3.0/blib/lib:/home/cpan/pit/bare/conf/perl-5.16.3/.cpanplus/5.16.3/build/Mouse-2.3.0/blib/arch:/home/cpan/pit/bare/conf/perl-5.16.3/.cpanplus/5.16.3/build/POSIX-strftime-Compiler-0.32/blib/lib:/home/cpan/pit/bare/conf/perl-5.16.3/.cpanplus/5.16.3/build/POSIX-strftime-Compiler-0.32/blib/arch:/home/cpan/pit/bare/conf/perl-5.16.3/.cpanplus/5.16.3/build/Test-MockTime-0.12/blib/lib:/home/cpan/pit/bare/conf/perl-5.16.3/.cpanplus/5.16.3/build/Test-MockTime-0.12/blib/arch:/home/cpan/pit/bare/conf/perl-5.16.3/.cpanplus/5.16.3/build/Apache-LogFormat-Compiler-0.32/blib/lib:/home/cpan/pit/bare/conf/perl-5.16.3/.cpanplus/5.16.3/build/Apache-LogFormat-Compiler-0.32/blib/arch:/home/cpan/pit/bare/conf/perl-5.16.3/.cpanplus/5.16.3/build/Devel-StackTrace-1.34/blib/lib:/home/cpan/pit/bare/conf/perl-5.16.3/.cpanplus/5.16.3/build/Devel-StackTrace-1.34/blib/arch:/home/cpan/pit/bare/conf/perl-5.16.3/.cpanplus/5.16.3/build/Devel-StackTrace-AsHTML-0.14/blib/lib:/home/cpan/pit/bare/conf/perl-5.16.3/.cpanplus/5.16.3/build/Devel-StackTrace-AsHTML-0.14/blib/arch:/home/cpan/pit/bare/conf/perl-5.16.3/.cpanplus/5.16.3/build/Test-SharedFork-0.28/blib/lib:/home/cpan/pit/bare/conf/perl-5.16.3/.cpanplus/5.16.3/build/Test-SharedFork-0.28/blib/arch:/home/cpan/pit/bare/conf/perl-5.16.3/.cpanplus/5.16.3/build/Filesys-Notify-Simple-0.12/blib/lib:/home/cpan/pit/bare/conf/perl-5.16.3/.cpanplus/5.16.3/build/Filesys-Notify-Simple-0.12/blib/arch:/home/cpan/pit/bare/conf/perl-5.16.3/.cpanplus/5.16.3/build/Test-NoWarnings-1.04/blib/lib:/home/cpan/pit/bare/conf/perl-5.16.3/.cpanplus/5.16.3/build/Test-NoWarnings-1.04/blib/arch:/home/cpan/pit/bare/conf/perl-5.16.3/.cpanplus/5.16.3/build/Test-Deep-0.112/blib/lib:/home/cpan/pit/bare/conf/perl-5.16.3/.cpanplus/5.16.3/build/Test-Deep-0.112/blib/arch:/home/cpan/pit/bare/conf/perl-5.16.3/.cpanplus/5.16.3/build/HTTP-Body-1.19/blib/lib:/home/cpan/pit/bare/conf/perl-5.16.3/.cpanplus/5.16.3/build/HTTP-Body-1.19/blib/arch:/home/cpan/pit/bare/conf/perl-5.16.3/.cpanplus/5.16.3/build/HTTP-Tiny-0.047/blib/lib:/home/cpan/pit/bare/conf/perl-5.16.3/.cpanplus/5.16.3/build/HTTP-Tiny-0.047/blib/arch:/home/cpan/pit/bare/conf/perl-5.16.3/.cpanplus/5.16.3/build/Hash-MultiValue-0.15/blib/lib:/home/cpan/pit/bare/conf/perl-5.16.3/.cpanplus/5.16.3/build/Hash-MultiValue-0.15/blib/arch:/home/cpan/pit/bare/conf/perl-5.16.3/.cpanplus/5.16.3/build/Stream-Buffered-0.03/blib/lib:/home/cpan/pit/bare/conf/perl-5.16.3/.cpanplus/5.16.3/build/Stream-Buffered-0.03/blib/arch:/home/cpan/pit/bare/conf/perl-5.16.3/.cpanplus/5.16.3/build/Test-TCP-2.06/blib/lib:/home/cpan/pit/bare/conf/perl-5.16.3/.cpanplus/5.16.3/build/Test-TCP-2.06/blib/arch:/home/cpan/pit/bare/conf/perl-5.16.3/.cpanplus/5.16.3/build/Plack-1.0031/blib/lib:/home/cpan/pit/bare/conf/perl-5.16.3/.cpanplus/5.16.3/build/Plack-1.0031/blib/arch:/home/cpan/pit/bare/conf/perl-5.16.3/.cpanplus/5.16.3/build/Carp-Assert-0.21/blib/lib:/home/cpan/pit/bare/conf/perl-5.16.3/.cpanplus/5.16.3/build/Carp-Assert-0.21/blib/arch:/home/cpan/pit/bare/conf/perl-5.16.3/.cpanplus/5.16.3/build/Carp-Assert-More-1.14/blib/lib:/home/cpan/pit/bare/conf/perl-5.16.3/.cpanplus/5.16.3/build/Carp-Assert-More-1.14/blib/arch:/home/cpan/pit/bare/conf/perl-5.16.3/.cpanplus/5.16.3/build/HTML-Tagset-3.20/blib/lib:/home/cpan/pit/bare/conf/perl-5.16.3/.cpanplus/5.16.3/build/HTML-Tagset-3.20/blib/arch:/home/cpan/pit/bare/conf/perl-5.16.3/.cpanplus/5.16.3/build/HTML-Parser-3.71/blib/lib:/home/cpan/pit/bare/conf/perl-5.16.3/.cpanplus/5.16.3/build/HTML-Parser-3.71/blib/arch:/home/cpan/pit/bare/conf/perl-5.16.3/.cpanplus/5.16.3/build/HTML-Tree-5.03/blib/lib:/home/cpan/pit/bare/conf/perl-5.16.3/.cpanplus/5.16.3/build/HTML-Tree-5.03/blib/arch:/home/cpan/pit/bare/conf/perl-5.16.3/.cpanplus/5.16.3/build/HTTP-Server-Simple-0.44/blib/lib:/home/cpan/pit/bare/conf/perl-5.16.3/.cpanplus/5.16.3/build/HTTP-Server-Simple-0.44/blib/arch:/home/cpan/pit/bare/conf/perl-5.16.3/.cpanplus/5.16.3/build/File-Listing-6.04/blib/lib:/home/cpan/pit/bare/conf/perl-5.16.3/.cpanplus/5.16.3/build/File-Listing-6.04/blib/arch:/home/cpan/pit/bare/conf/perl-5.16.3/.cpanplus/5.16.3/build/HTTP-Cookies-6.01/blib/lib:/home/cpan/pit/bare/conf/perl-5.16.3/.cpanplus/5.16.3/build/HTTP-Cookies-6.01/blib/arch:/home/cpan/pit/bare/conf/perl-5.16.3/.cpanplus/5.16.3/build/HTTP-Daemon-6.01/blib/lib:/home/cpan/pit/bare/conf/perl-5.16.3/.cpanplus/5.16.3/build/HTTP-Daemon-6.01/blib/arch:/home/cpan/pit/bare/conf/perl-5.16.3/.cpanplus/5.16.3/build/HTTP-Negotiate-6.01/blib/lib:/home/cpan/pit/bare/conf/perl-5.16.3/.cpanplus/5.16.3/build/HTTP-Negotiate-6.01/blib/arch:/home/cpan/pit/bare/conf/perl-5.16.3/.cpanplus/5.16.3/build/Net-HTTP-6.07/blib/lib:/home/cpan/pit/bare/conf/perl-5.16.3/.cpanplus/5.16.3/build/Net-HTTP-6.07/blib/arch:/home/cpan/pit/bare/conf/perl-5.16.3/.cpanplus/5.16.3/build/WWW-RobotRules-6.02/blib/lib:/home/cpan/pit/bare/conf/perl-5.16.3/.cpanplus/5.16.3/build/WWW-RobotRules-6.02/blib/arch:/home/cpan/pit/bare/conf/perl-5.16.3/.cpanplus/5.16.3/build/libwww-perl-6.08/blib/lib:/home/cpan/pit/bare/conf/perl-5.16.3/.cpanplus/5.16.3/build/libwww-perl-6.08/blib/arch:/home/cpan/pit/bare/conf/perl-5.16.3/.cpanplus/5.16.3/build/Test-LongString-0.15/blib/lib:/home/cpan/pit/bare/conf/perl-5.16.3/.cpanplus/5.16.3/build/Test-LongString-0.15/blib/arch:/home/cpan/pit/bare/conf/perl-5.16.3/.cpanplus/5.16.3/build/HTML-Form-6.03/blib/lib:/home/cpan/pit/bare/conf/perl-5.16.3/.cpanplus/5.16.3/build/HTML-Form-6.03/blib/arch:/home/cpan/pit/bare/conf/perl-5.16.3/.cpanplus/5.16.3/build/Test-Warn-0.30/blib/lib:/home/cpan/pit/bare/conf/perl-5.16.3/.cpanplus/5.16.3/build/Test-Warn-0.30/blib/arch:/home/cpan/pit/bare/conf/perl-5.16.3/.cpanplus/5.16.3/build/WWW-Mechanize-1.73/blib/lib:/home/cpan/pit/bare/conf/perl-5.16.3/.cpanplus/5.16.3/build/WWW-Mechanize-1.73/blib/arch:/home/cpan/pit/bare/conf/perl-5.16.3/.cpanplus/5.16.3/build/Test-WWW-Mechanize-1.44/blib/lib:/home/cpan/pit/bare/conf/perl-5.16.3/.cpanplus/5.16.3/build/Test-WWW-Mechanize-1.44/blib/arch:/home/cpan/pit/bare/conf/perl-5.16.3/.cpanplus/5.16.3/build/Test-WWW-Mechanize-PSGI-0.35/blib/lib:/home/cpan/pit/bare/conf/perl-5.16.3/.cpanplus/5.16.3/build/Test-WWW-Mechanize-PSGI-0.35/blib/arch:/home/cpan/pit/bare/conf/perl-5.16.3/.cpanplus/5.16.3/build/HTTP-Session2-1.07/blib/lib:/home/cpan/pit/bare/conf/perl-5.16.3/.cpanplus/5.16.3/build/HTTP-Session2-1.07/blib/arch"
    PERL5_CPANPLUS_IS_RUNNING="29988"
    PERL5_CPANPLUS_IS_VERSION="0.9152"
    PERL5_MINISMOKEBOX="0.58"
    PERL5_YACSMOKE_BASE="/home/cpan/pit/bare/conf/perl-5.16.3"
    PERL_EXTUTILS_AUTOINSTALL="--defaultdeps"
    PERL_MM_USE_DEFAULT="1"
  @INC:
    /home/cpan/pit/bare/conf/perl-5.16.3/.cpanplus/5.16.3/build/Class-Inspector-1.28/blib/lib
    /home/cpan/pit/bare/conf/perl-5.16.3/.cpanplus/5.16.3/build/Class-Inspector-1.28/blib/arch
    /home/cpan/pit/bare/conf/perl-5.16.3/.cpanplus/5.16.3/build/File-ShareDir-Install-0.09/blib/lib
    /home/cpan/pit/bare/conf/perl-5.16.3/.cpanplus/5.16.3/build/File-ShareDir-Install-0.09/blib/arch
    /home/cpan/pit/bare/conf/perl-5.16.3/.cpanplus/5.16.3/build/File-ShareDir-1.102/blib/lib
    /home/cpan/pit/bare/conf/perl-5.16.3/.cpanplus/5.16.3/build/File-ShareDir-1.102/blib/arch
    /home/cpan/pit/bare/conf/perl-5.16.3/.cpanplus/5.16.3/build/HTML-FillInForm-Lite-1.13/blib/lib
    /home/cpan/pit/bare/conf/perl-5.16.3/.cpanplus/5.16.3/build/HTML-FillInForm-Lite-1.13/blib/arch
    /home/cpan/pit/bare/conf/perl-5.16.3/.cpanplus/5.16.3/build/Encode-Locale-1.03/blib/lib
    /home/cpan/pit/bare/conf/perl-5.16.3/.cpanplus/5.16.3/build/Encode-Locale-1.03/blib/arch
    /home/cpan/pit/bare/conf/perl-5.16.3/.cpanplus/5.16.3/build/HTTP-Date-6.02/blib/lib
    /home/cpan/pit/bare/conf/perl-5.16.3/.cpanplus/5.16.3/build/HTTP-Date-6.02/blib/arch
    /home/cpan/pit/bare/conf/perl-5.16.3/.cpanplus/5.16.3/build/IO-HTML-1.001/blib/lib
    /home/cpan/pit/bare/conf/perl-5.16.3/.cpanplus/5.16.3/build/IO-HTML-1.001/blib/arch
    /home/cpan/pit/bare/conf/perl-5.16.3/.cpanplus/5.16.3/build/LWP-MediaTypes-6.02/blib/lib
    /home/cpan/pit/bare/conf/perl-5.16.3/.cpanplus/5.16.3/build/LWP-MediaTypes-6.02/blib/arch
    /home/cpan/pit/bare/conf/perl-5.16.3/.cpanplus/5.16.3/build/URI-1.64/blib/lib
    /home/cpan/pit/bare/conf/perl-5.16.3/.cpanplus/5.16.3/build/URI-1.64/blib/arch
    /home/cpan/pit/bare/conf/perl-5.16.3/.cpanplus/5.16.3/build/HTTP-Message-6.06/blib/lib
    /home/cpan/pit/bare/conf/perl-5.16.3/.cpanplus/5.16.3/build/HTTP-Message-6.06/blib/arch
    /home/cpan/pit/bare/conf/perl-5.16.3/.cpanplus/5.16.3/build/File-Slurp-9999.19/blib/lib
    /home/cpan/pit/bare/conf/perl-5.16.3/.cpanplus/5.16.3/build/File-Slurp-9999.19/blib/arch
    /home/cpan/pit/bare/conf/perl-5.16.3/.cpanplus/5.16.3/build/Capture-Tiny-0.24/blib/lib
    /home/cpan/pit/bare/conf/perl-5.16.3/.cpanplus/5.16.3/build/Capture-Tiny-0.24/blib/arch
    /home/cpan/pit/bare/conf/perl-5.16.3/.cpanplus/5.16.3/build/Algorithm-Diff-1.1902/blib/lib
    /home/cpan/pit/bare/conf/perl-5.16.3/.cpanplus/5.16.3/build/Algorithm-Diff-1.1902/blib/arch
    /home/cpan/pit/bare/conf/perl-5.16.3/.cpanplus/5.16.3/build/Text-Diff-1.41/blib/lib
    /home/cpan/pit/bare/conf/perl-5.16.3/.cpanplus/5.16.3/build/Text-Diff-1.41/blib/arch
    /home/cpan/pit/bare/conf/perl-5.16.3/.cpanplus/5.16.3/build/Test-Differences-0.62/blib/lib
    /home/cpan/pit/bare/conf/perl-5.16.3/.cpanplus/5.16.3/build/Test-Differences-0.62/blib/arch
    /home/cpan/pit/bare/conf/perl-5.16.3/.cpanplus/5.16.3/build/Try-Tiny-0.22/blib/lib
    /home/cpan/pit/bare/conf/perl-5.16.3/.cpanplus/5.16.3/build/Try-Tiny-0.22/blib/arch
    /home/cpan/pit/bare/conf/perl-5.16.3/.cpanplus/5.16.3/build/Test-Fatal-0.013/blib/lib
    /home/cpan/pit/bare/conf/perl-5.16.3/.cpanplus/5.16.3/build/Test-Fatal-0.013/blib/arch
    /home/cpan/pit/bare/conf/perl-5.16.3/.cpanplus/5.16.3/build/Test-Name-FromLine-0.13/blib/lib
    /home/cpan/pit/bare/conf/perl-5.16.3/.cpanplus/5.16.3/build/Test-Name-FromLine-0.13/blib/arch
    /home/cpan/pit/bare/conf/perl-5.16.3/.cpanplus/5.16.3/build/Test-Time-0.04/blib/lib
    /home/cpan/pit/bare/conf/perl-5.16.3/.cpanplus/5.16.3/build/Test-Time-0.04/blib/arch
    /home/cpan/pit/bare/conf/perl-5.16.3/.cpanplus/5.16.3/build/Cookie-Baker-0.03/blib/lib
    /home/cpan/pit/bare/conf/perl-5.16.3/.cpanplus/5.16.3/build/Cookie-Baker-0.03/blib/arch
    /home/cpan/pit/bare/conf/perl-5.16.3/.cpanplus/5.16.3/build/Crypt-CBC-2.33/blib/lib
    /home/cpan/pit/bare/conf/perl-5.16.3/.cpanplus/5.16.3/build/Crypt-CBC-2.33/blib/arch
    /home/cpan/pit/bare/conf/perl-5.16.3/.cpanplus/5.16.3/build/Test-Manifest-1.23/blib/lib
    /home/cpan/pit/bare/conf/perl-5.16.3/.cpanplus/5.16.3/build/Test-Manifest-1.23/blib/arch
    /home/cpan/pit/bare/conf/perl-5.16.3/.cpanplus/5.16.3/build/Crypt-Rijndael-1.12/blib/lib
    /home/cpan/pit/bare/conf/perl-5.16.3/.cpanplus/5.16.3/build/Crypt-Rijndael-1.12/blib/arch
    /home/cpan/pit/bare/conf/perl-5.16.3/.cpanplus/5.16.3/build/Test-Requires-0.08/blib/lib
    /home/cpan/pit/bare/conf/perl-5.16.3/.cpanplus/5.16.3/build/Test-Requires-0.08/blib/arch
    /home/cpan/pit/bare/conf/perl-5.16.3/.cpanplus/5.16.3/build/Data-MessagePack-0.48/blib/lib
    /home/cpan/pit/bare/conf/perl-5.16.3/.cpanplus/5.16.3/build/Data-MessagePack-0.48/blib/arch
    /home/cpan/pit/bare/conf/perl-5.16.3/.cpanplus/5.16.3/build/Digest-HMAC-1.03/blib/lib
    /home/cpan/pit/bare/conf/perl-5.16.3/.cpanplus/5.16.3/build/Digest-HMAC-1.03/blib/arch
    /home/cpan/pit/bare/conf/perl-5.16.3/.cpanplus/5.16.3/build/Digest-SHA1-2.13/blib/lib
    /home/cpan/pit/bare/conf/perl-5.16.3/.cpanplus/5.16.3/build/Digest-SHA1-2.13/blib/arch
    /home/cpan/pit/bare/conf/perl-5.16.3/.cpanplus/5.16.3/build/Sub-Uplevel-0.24/blib/lib
    /home/cpan/pit/bare/conf/perl-5.16.3/.cpanplus/5.16.3/build/Sub-Uplevel-0.24/blib/arch
    /home/cpan/pit/bare/conf/perl-5.16.3/.cpanplus/5.16.3/build/Test-Exception-0.32/blib/lib
    /home/cpan/pit/bare/conf/perl-5.16.3/.cpanplus/5.16.3/build/Test-Exception-0.32/blib/arch
    /home/cpan/pit/bare/conf/perl-5.16.3/.cpanplus/5.16.3/build/Fennec-Lite-0.004/blib/lib
    /home/cpan/pit/bare/conf/perl-5.16.3/.cpanplus/5.16.3/build/Fennec-Lite-0.004/blib/arch
    /home/cpan/pit/bare/conf/perl-5.16.3/.cpanplus/5.16.3/build/Meta-Builder-0.003/blib/lib
    /home/cpan/pit/bare/conf/perl-5.16.3/.cpanplus/5.16.3/build/Meta-Builder-0.003/blib/arch
    /home/cpan/pit/bare/conf/perl-5.16.3/.cpanplus/5.16.3/build/aliased-0.31/blib/lib
    /home/cpan/pit/bare/conf/perl-5.16.3/.cpanplus/5.16.3/build/aliased-0.31/blib/arch
    /home/cpan/pit/bare/conf/perl-5.16.3/.cpanplus/5.16.3/build/Exporter-Declare-0.113/blib/lib
    /home/cpan/pit/bare/conf/perl-5.16.3/.cpanplus/5.16.3/build/Exporter-Declare-0.113/blib/arch
    /home/cpan/pit/bare/conf/perl-5.16.3/.cpanplus/5.16.3/build/Mock-Quick-1.107/blib/lib
    /home/cpan/pit/bare/conf/perl-5.16.3/.cpanplus/5.16.3/build/Mock-Quick-1.107/blib/arch
    /home/cpan/pit/bare/conf/perl-5.16.3/.cpanplus/5.16.3/build/Test-Exception-LessClever-0.006/blib/lib
    /home/cpan/pit/bare/conf/perl-5.16.3/.cpanplus/5.16.3/build/Test-Exception-LessClever-0.006/blib/arch
    /home/cpan/pit/bare/conf/perl-5.16.3/.cpanplus/5.16.3/build/Test-LeakTrace-0.14/blib/lib
    /home/cpan/pit/bare/conf/perl-5.16.3/.cpanplus/5.16.3/build/Test-LeakTrace-0.14/blib/arch
    /home/cpan/pit/bare/conf/perl-5.16.3/.cpanplus/5.16.3/build/Params-Util-1.07/blib/lib
    /home/cpan/pit/bare/conf/perl-5.16.3/.cpanplus/5.16.3/build/Params-Util-1.07/blib/arch
    /home/cpan/pit/bare/conf/perl-5.16.3/.cpanplus/5.16.3/build/Sub-Install-0.928/blib/lib
    /home/cpan/pit/bare/conf/perl-5.16.3/.cpanplus/5.16.3/build/Sub-Install-0.928/blib/arch
    /home/cpan/pit/bare/conf/perl-5.16.3/.cpanplus/5.16.3/build/Data-OptList-0.109/blib/lib
    /home/cpan/pit/bare/conf/perl-5.16.3/.cpanplus/5.16.3/build/Data-OptList-0.109/blib/arch
    /home/cpan/pit/bare/conf/perl-5.16.3/.cpanplus/5.16.3/build/Sub-Exporter-0.987/blib/lib
    /home/cpan/pit/bare/conf/perl-5.16.3/.cpanplus/5.16.3/build/Sub-Exporter-0.987/blib/arch
    /home/cpan/pit/bare/conf/perl-5.16.3/.cpanplus/5.16.3/build/Test-Tester-0.109/blib/lib
    /home/cpan/pit/bare/conf/perl-5.16.3/.cpanplus/5.16.3/build/Test-Tester-0.109/blib/arch
    /home/cpan/pit/bare/conf/perl-5.16.3/.cpanplus/5.16.3/build/Test-Output-1.03/blib/lib
    /home/cpan/pit/bare/conf/perl-5.16.3/.cpanplus/5.16.3/build/Test-Output-1.03/blib/arch
    /home/cpan/pit/bare/conf/perl-5.16.3/.cpanplus/5.16.3/build/Mouse-2.3.0/blib/lib
    /home/cpan/pit/bare/conf/perl-5.16.3/.cpanplus/5.16.3/build/Mouse-2.3.0/blib/arch
    /home/cpan/pit/bare/conf/perl-5.16.3/.cpanplus/5.16.3/build/POSIX-strftime-Compiler-0.32/blib/lib
    /home/cpan/pit/bare/conf/perl-5.16.3/.cpanplus/5.16.3/build/POSIX-strftime-Compiler-0.32/blib/arch
    /home/cpan/pit/bare/conf/perl-5.16.3/.cpanplus/5.16.3/build/Test-MockTime-0.12/blib/lib
    /home/cpan/pit/bare/conf/perl-5.16.3/.cpanplus/5.16.3/build/Test-MockTime-0.12/blib/arch
    /home/cpan/pit/bare/conf/perl-5.16.3/.cpanplus/5.16.3/build/Apache-LogFormat-Compiler-0.32/blib/lib
    /home/cpan/pit/bare/conf/perl-5.16.3/.cpanplus/5.16.3/build/Apache-LogFormat-Compiler-0.32/blib/arch
    /home/cpan/pit/bare/conf/perl-5.16.3/.cpanplus/5.16.3/build/Devel-StackTrace-1.34/blib/lib
    /home/cpan/pit/bare/conf/perl-5.16.3/.cpanplus/5.16.3/build/Devel-StackTrace-1.34/blib/arch
    /home/cpan/pit/bare/conf/perl-5.16.3/.cpanplus/5.16.3/build/Devel-StackTrace-AsHTML-0.14/blib/lib
    /home/cpan/pit/bare/conf/perl-5.16.3/.cpanplus/5.16.3/build/Devel-StackTrace-AsHTML-0.14/blib/arch
    /home/cpan/pit/bare/conf/perl-5.16.3/.cpanplus/5.16.3/build/Test-SharedFork-0.28/blib/lib
    /home/cpan/pit/bare/conf/perl-5.16.3/.cpanplus/5.16.3/build/Test-SharedFork-0.28/blib/arch
    /home/cpan/pit/bare/conf/perl-5.16.3/.cpanplus/5.16.3/build/Filesys-Notify-Simple-0.12/blib/lib
    /home/cpan/pit/bare/conf/perl-5.16.3/.cpanplus/5.16.3/build/Filesys-Notify-Simple-0.12/blib/arch
    /home/cpan/pit/bare/conf/perl-5.16.3/.cpanplus/5.16.3/build/Test-NoWarnings-1.04/blib/lib
    /home/cpan/pit/bare/conf/perl-5.16.3/.cpanplus/5.16.3/build/Test-NoWarnings-1.04/blib/arch
    /home/cpan/pit/bare/conf/perl-5.16.3/.cpanplus/5.16.3/build/Test-Deep-0.112/blib/lib
    /home/cpan/pit/bare/conf/perl-5.16.3/.cpanplus/5.16.3/build/Test-Deep-0.112/blib/arch
    /home/cpan/pit/bare/conf/perl-5.16.3/.cpanplus/5.16.3/build/HTTP-Body-1.19/blib/lib
    /home/cpan/pit/bare/conf/perl-5.16.3/.cpanplus/5.16.3/build/HTTP-Body-1.19/blib/arch
    /home/cpan/pit/bare/conf/perl-5.16.3/.cpanplus/5.16.3/build/HTTP-Tiny-0.047/blib/lib
    /home/cpan/pit/bare/conf/perl-5.16.3/.cpanplus/5.16.3/build/HTTP-Tiny-0.047/blib/arch
    /home/cpan/pit/bare/conf/perl-5.16.3/.cpanplus/5.16.3/build/Hash-MultiValue-0.15/blib/lib
    /home/cpan/pit/bare/conf/perl-5.16.3/.cpanplus/5.16.3/build/Hash-MultiValue-0.15/blib/arch
    /home/cpan/pit/bare/conf/perl-5.16.3/.cpanplus/5.16.3/build/Stream-Buffered-0.03/blib/lib
    /home/cpan/pit/bare/conf/perl-5.16.3/.cpanplus/5.16.3/build/Stream-Buffered-0.03/blib/arch
    /home/cpan/pit/bare/conf/perl-5.16.3/.cpanplus/5.16.3/build/Test-TCP-2.06/blib/lib
    /home/cpan/pit/bare/conf/perl-5.16.3/.cpanplus/5.16.3/build/Test-TCP-2.06/blib/arch
    /home/cpan/pit/bare/conf/perl-5.16.3/.cpanplus/5.16.3/build/Plack-1.0031/blib/lib
    /home/cpan/pit/bare/conf/perl-5.16.3/.cpanplus/5.16.3/build/Plack-1.0031/blib/arch
    /home/cpan/pit/bare/conf/perl-5.16.3/.cpanplus/5.16.3/build/Carp-Assert-0.21/blib/lib
    /home/cpan/pit/bare/conf/perl-5.16.3/.cpanplus/5.16.3/build/Carp-Assert-0.21/blib/arch
    /home/cpan/pit/bare/conf/perl-5.16.3/.cpanplus/5.16.3/build/Carp-Assert-More-1.14/blib/lib
    /home/cpan/pit/bare/conf/perl-5.16.3/.cpanplus/5.16.3/build/Carp-Assert-More-1.14/blib/arch
    /home/cpan/pit/bare/conf/perl-5.16.3/.cpanplus/5.16.3/build/HTML-Tagset-3.20/blib/lib
    /home/cpan/pit/bare/conf/perl-5.16.3/.cpanplus/5.16.3/build/HTML-Tagset-3.20/blib/arch
    /home/cpan/pit/bare/conf/perl-5.16.3/.cpanplus/5.16.3/build/HTML-Parser-3.71/blib/lib
    /home/cpan/pit/bare/conf/perl-5.16.3/.cpanplus/5.16.3/build/HTML-Parser-3.71/blib/arch
    /home/cpan/pit/bare/conf/perl-5.16.3/.cpanplus/5.16.3/build/HTML-Tree-5.03/blib/lib
    /home/cpan/pit/bare/conf/perl-5.16.3/.cpanplus/5.16.3/build/HTML-Tree-5.03/blib/arch
    /home/cpan/pit/bare/conf/perl-5.16.3/.cpanplus/5.16.3/build/HTTP-Server-Simple-0.44/blib/lib
    /home/cpan/pit/bare/conf/perl-5.16.3/.cpanplus/5.16.3/build/HTTP-Server-Simple-0.44/blib/arch
    /home/cpan/pit/bare/conf/perl-5.16.3/.cpanplus/5.16.3/build/File-Listing-6.04/blib/lib
    /home/cpan/pit/bare/conf/perl-5.16.3/.cpanplus/5.16.3/build/File-Listing-6.04/blib/arch
    /home/cpan/pit/bare/conf/perl-5.16.3/.cpanplus/5.16.3/build/HTTP-Cookies-6.01/blib/lib
    /home/cpan/pit/bare/conf/perl-5.16.3/.cpanplus/5.16.3/build/HTTP-Cookies-6.01/blib/arch
    /home/cpan/pit/bare/conf/perl-5.16.3/.cpanplus/5.16.3/build/HTTP-Daemon-6.01/blib/lib
    /home/cpan/pit/bare/conf/perl-5.16.3/.cpanplus/5.16.3/build/HTTP-Daemon-6.01/blib/arch
    /home/cpan/pit/bare/conf/perl-5.16.3/.cpanplus/5.16.3/build/HTTP-Negotiate-6.01/blib/lib
    /home/cpan/pit/bare/conf/perl-5.16.3/.cpanplus/5.16.3/build/HTTP-Negotiate-6.01/blib/arch
    /home/cpan/pit/bare/conf/perl-5.16.3/.cpanplus/5.16.3/build/Net-HTTP-6.07/blib/lib
    /home/cpan/pit/bare/conf/perl-5.16.3/.cpanplus/5.16.3/build/Net-HTTP-6.07/blib/arch
    /home/cpan/pit/bare/conf/perl-5.16.3/.cpanplus/5.16.3/build/WWW-RobotRules-6.02/blib/lib
    /home/cpan/pit/bare/conf/perl-5.16.3/.cpanplus/5.16.3/build/WWW-RobotRules-6.02/blib/arch
    /home/cpan/pit/bare/conf/perl-5.16.3/.cpanplus/5.16.3/build/libwww-perl-6.08/blib/lib
    /home/cpan/pit/bare/conf/perl-5.16.3/.cpanplus/5.16.3/build/libwww-perl-6.08/blib/arch
    /home/cpan/pit/bare/conf/perl-5.16.3/.cpanplus/5.16.3/build/Test-LongString-0.15/blib/lib
    /home/cpan/pit/bare/conf/perl-5.16.3/.cpanplus/5.16.3/build/Test-LongString-0.15/blib/arch
    /home/cpan/pit/bare/conf/perl-5.16.3/.cpanplus/5.16.3/build/HTML-Form-6.03/blib/lib
    /home/cpan/pit/bare/conf/perl-5.16.3/.cpanplus/5.16.3/build/HTML-Form-6.03/blib/arch
    /home/cpan/pit/bare/conf/perl-5.16.3/.cpanplus/5.16.3/build/Test-Warn-0.30/blib/lib
    /home/cpan/pit/bare/conf/perl-5.16.3/.cpanplus/5.16.3/build/Test-Warn-0.30/blib/arch
    /home/cpan/pit/bare/conf/perl-5.16.3/.cpanplus/5.16.3/build/WWW-Mechanize-1.73/blib/lib
    /home/cpan/pit/bare/conf/perl-5.16.3/.cpanplus/5.16.3/build/WWW-Mechanize-1.73/blib/arch
    /home/cpan/pit/bare/conf/perl-5.16.3/.cpanplus/5.16.3/build/Test-WWW-Mechanize-1.44/blib/lib
    /home/cpan/pit/bare/conf/perl-5.16.3/.cpanplus/5.16.3/build/Test-WWW-Mechanize-1.44/blib/arch
    /home/cpan/pit/bare/conf/perl-5.16.3/.cpanplus/5.16.3/build/Test-WWW-Mechanize-PSGI-0.35/blib/lib
    /home/cpan/pit/bare/conf/perl-5.16.3/.cpanplus/5.16.3/build/Test-WWW-Mechanize-PSGI-0.35/blib/arch
    /home/cpan/pit/bare/conf/perl-5.16.3/.cpanplus/5.16.3/build/HTTP-Session2-1.07/blib/lib
    /home/cpan/pit/bare/conf/perl-5.16.3/.cpanplus/5.16.3/build/HTTP-Session2-1.07/blib/arch
    /home/cpan/pit/bare/perl-5.16.3/lib/site_perl/5.16.3/amd64-netbsd
    /home/cpan/pit/bare/perl-5.16.3/lib/site_perl/5.16.3
    /home/cpan/pit/bare/perl-5.16.3/lib/5.16.3/amd64-netbsd
    /home/cpan/pit/bare/perl-5.16.3/lib/5.16.3
    .