XML-Feed v0.62 Perl 5 v5.16.3 MSWin32-x86-multi-thread

Status
Pass
From
Alexandr Ciornii (CHORNY)
Dist
XML-Feed v0.62
Platform
Perl 5 v5.16.3 MSWin32-x86-multi-thread
Date
2021-05-24 15:46:16
ID
6c8e745e-6bf3-1014-b366-c1aecba97678
This distribution has been tested as part of the CPAN Testers
project, supporting the Perl programming language.  See
http://wiki.cpantesters.org/ for more information or email
questions to cpan-testers-discuss@perl.org


--
Dear Dave Cross,

This is a computer-generated report for XML-Feed-0.62
on perl 5.16.3, created by CPAN-Reporter-1.2018.

Thank you for uploading your work to CPAN.  Congratulations!
All tests were successful.

Sections of this report:

    * Tester comments
    * Program output
    * Prerequisites
    * Environment and other context

------------------------------
TESTER COMMENTS
------------------------------

Additional comments from tester:

this report is from an automated smoke testing program
and was not reviewed by a human for accuracy

------------------------------
PROGRAM OUTPUT
------------------------------

Output from 'C:\strawberry163\perl\bin\perl.exe ./Build test':

t\00-compile.t .................. ok
t\01-parse.t .................... ok
t\02-create.t ................... ok
t\04-splice-atom.t .............. ok
t\04-splice-rss.t ............... ok
t\05-atom10-link.t .............. ok
t\06-atom10.t ................... ok
t\07-atom10-create.t ............ ok
t\08-convert-summary-bug.t ...... ok
t\09-missing-content-bug.t ...... ok
t\10-mix-and-match.t ............ ok
t\11-xml-base-atom.t ............ ok
t\11-xml-base-rss.t ............. ok
t\12-multi-categories-atom.t .... ok
t\12-multi-categories-rss.t ..... ok
t\12-multi-subjects-rss.t ....... ok
t\13-category-hash-bug.t ........ skipped: XML::RSS::LibXML is required.
t\14-enclosures.t ............... ok
t\14-multi-enclosures.t ......... ok
t\15-odd-date.t ................. ok
t\16-convert-mult-categories.t .. ok
t\17-double.t ................... ok
t\18-double2.t .................. ok
t\19-double3.t .................. ok
t\20-no-enclosures.t ............ ok
t\21-rss2-permalinks.t .......... ok
t\22-bug73160.t ................. ok
t\23-eval.t ..................... ok
t\24-identify-feed.t ............ ok
t\25-date-format-bug.t .......... ok
t\26-content-encoded.t .......... ok
t\27-dummy-content-encoded.t .... ok
t\28-rss-guid.t ................. ok
t\29-date-parsing.t ............. ok
t\has-version.t ................. ok
t\pod-coverage.t ................ ok
t\pod.t ......................... ok
t\relative-links.t .............. ok
All tests successful.
Files=38, Tests=814, 58 wallclock secs ( 0.36 usr +  0.05 sys =  0.41 CPU)
Result: PASS

------------------------------
PREREQUISITES
------------------------------

Prerequisite modules loaded:

requires:

    Module                     Need    Have    
    -------------------------- ------- --------
    Class::ErrorHandler        0       0.01    
    DateTime                   0       1.07    
    DateTime::Format::Flexible 0       0.25    
    DateTime::Format::ISO8601  0       0.08    
    DateTime::Format::Mail     0       0.3001  
    DateTime::Format::Natural  0       1.02    
    DateTime::Format::W3CDTF   0       0.06    
    Feed::Find                 0       0.07    
    HTML::Entities             0       3.69    
    HTML::TokeParser           0       3.69    
    List::Util                 0       1.38    
    LWP::UserAgent             0       6.05    
    Module::Pluggable          0       5.1     
    perl                       v5.10.0 5.016003
    Scalar::Util               0       1.38    
    Test::More                 0       1.001002
    URI::Fetch                 0       0.09    
    XML::Atom                  0.38    0.41    
    XML::LibXML                1.66    2.0014  
    XML::RSS                   1.47    1.54    

build_requires:

    Module                     Need    Have    
    -------------------------- ------- --------
    URI                        0       1.60    
    XML::XPath                 0       1.13    

configure_requires:

    Module                     Need    Have    
    -------------------------- ------- --------
    Module::Build              0.42    0.4205  


------------------------------
ENVIRONMENT AND OTHER CONTEXT
------------------------------

Environment variables:

    AUTOMATED_TESTING = 1
    COMSPEC = C:\WINDOWS\system32\cmd.exe
    NUMBER_OF_PROCESSORS = 1
    PATH = C:\WINDOWS\system32;C:\WINDOWS;C:\WINDOWS\System32\Wbem;C:\strawberry163\c\bin;C:\strawberry163\perl\site\bin;C:\strawberry163\perl\bin
    PERL5LIB = 
    PERL5OPT = 
    PERL5_CPANPLUS_IS_RUNNING = 2036
    PERL5_CPAN_IS_RUNNING = 2036
    PERL5_CPAN_IS_RUNNING_IN_RECURSION = 1208,2036
    PERL_CR_SMOKER_CURRENT = XML-Feed-0.62
    PERL_CR_SMOKER_RUNONCE = 1
    PERL_EXTUTILS_AUTOINSTALL = --defaultdeps
    PERL_MM_USE_DEFAULT = 1
    PROCESSOR_IDENTIFIER = x86 Family 18 Model 1 Stepping 0, AuthenticAMD
    TEMP = C:\DOCUME~1\c\LOCALS~1\Temp
    TERM = dumb

Perl special variables (and OS-specific diagnostics, for MSWin32):

    $^X = C:\strawberry163\perl\bin\perl.exe
    $UID/$EUID = 0 / 0
    $GID = 0
    $EGID = 0
    Win32::GetOSName = WinXP/.Net
    Win32::GetOSVersion = Service Pack 3, 5, 1, 2600, 2, 3, 0, 256, 1
    Win32::FsType = NTFS
    Win32::IsAdminUser = 1

Perl module toolchain versions installed:

    Module              Have    
    ------------------- --------
    CPAN                2.16    
    CPAN::Meta          2.140640
    Cwd                 3.40    
    ExtUtils::CBuilder  0.280206
    ExtUtils::Command   1.17    
    ExtUtils::Install   1.58    
    ExtUtils::MakeMaker 6.64    
    ExtUtils::Manifest  1.61    
    ExtUtils::ParseXS   3.24    
    File::Spec          3.40    
    JSON                2.90    
    JSON::PP            2.27203 
    Module::Build       0.4205  
    Module::Signature   0.70    
    Parse::CPAN::Meta   1.4414  
    Test::Harness       3.30    
    Test::More          1.001002
    YAML                0.90    
    YAML::Syck          1.24    
    version             0.9902  


--

Summary of my perl5 (revision 5 version 16 subversion 3) configuration:
   
  Platform:
    osname=MSWin32, osvers=4.0, archname=MSWin32-x86-multi-thread
    uname='Win32 strawberry-perl 5.16.3.1 #1 Tue Mar 12 13:55:20 2013 i386'
    config_args='undef'
    hint=recommended, useposix=true, d_sigaction=undef
    useithreads=define, usemultiplicity=define
    useperlio=define, d_sfio=undef, uselargefiles=define, usesocks=undef
    use64bitint=undef, use64bitall=undef, uselongdouble=undef
    usemymalloc=n, bincompat5005=undef
  Compiler:
    cc='gcc', ccflags =' -s -O2 -DWIN32  -DPERL_TEXTMODE_SCRIPTS -DPERL_IMPLICIT_CONTEXT -DPERL_IMPLICIT_SYS -fno-strict-aliasing -mms-bitfields',
    optimize='-s -O2',
    cppflags='-DWIN32'
    ccversion='', gccversion='4.6.3', gccosandvers=''
    intsize=4, longsize=4, ptrsize=4, doublesize=8, byteorder=1234
    d_longlong=undef, longlongsize=8, d_longdbl=define, longdblsize=12
    ivtype='long', ivsize=4, nvtype='double', nvsize=8, Off_t='long long', lseeksize=8
    alignbytes=8, prototype=define
  Linker and Libraries:
    ld='g++', ldflags ='-s -L"C:\strawberry163\perl\lib\CORE" -L"C:\strawberry163\c\lib"'
    libpth=C:\strawberry163\c\lib C:\strawberry163\c\i686-w64-mingw32\lib
    libs=-lmoldname -lkernel32 -luser32 -lgdi32 -lwinspool -lcomdlg32 -ladvapi32 -lshell32 -lole32 -loleaut32 -lnetapi32 -luuid -lws2_32 -lmpr -lwinmm -lversion -lodbc32 -lodbccp32 -lcomctl32
    perllibs=-lmoldname -lkernel32 -luser32 -lgdi32 -lwinspool -lcomdlg32 -ladvapi32 -lshell32 -lole32 -loleaut32 -lnetapi32 -luuid -lws2_32 -lmpr -lwinmm -lversion -lodbc32 -lodbccp32 -lcomctl32
    libc=, so=dll, useshrplib=true, libperl=libperl516.a
    gnulibc_version=''
  Dynamic Linking:
    dlsrc=dl_win32.xs, dlext=dll, d_dlsymun=undef, ccdlflags=' '
    cccdlflags=' ', lddlflags='-mdll -s -L"C:\strawberry163\perl\lib\CORE" -L"C:\strawberry163\c\lib"'


Characteristics of this binary (from libperl): 
  Compile-time options: HAS_TIMES HAVE_INTERP_INTERN MULTIPLICITY
                        PERLIO_LAYERS PERL_DONT_CREATE_GVSV
                        PERL_IMPLICIT_CONTEXT PERL_IMPLICIT_SYS
                        PERL_MALLOC_WRAP PERL_PRESERVE_IVUV PL_OP_SLAB_ALLOC
                        USE_ITHREADS USE_LARGE_FILES USE_LOCALE
                        USE_LOCALE_COLLATE USE_LOCALE_CTYPE
                        USE_LOCALE_NUMERIC USE_PERLIO USE_PERL_ATOF
  Built under MSWin32
  Compiled at Mar 12 2013 14:01:07
  %ENV:
    PERL5_CPANPLUS_IS_RUNNING="2036"
    PERL5_CPAN_IS_RUNNING="2036"
    PERL5_CPAN_IS_RUNNING_IN_RECURSION="1208,2036"
    PERL_CR_SMOKER_CURRENT="XML-Feed-0.62"
    PERL_CR_SMOKER_RUNONCE="1"
    PERL_EXTUTILS_AUTOINSTALL="--defaultdeps"
    PERL_MM_USE_DEFAULT="1"
  @INC:
    C:/strawberry163/perl/site/lib
    C:/strawberry163/perl/vendor/lib
    C:/strawberry163/perl/lib
    .