Report for CatalystX-ExtJS-Direct-2.1.0

Back
From: metabase:user:320bfe00-2aae-11df-837a-5e0a49663a4f
Subject: PASS CatalystX-ExtJS-Direct-2.1.0 v5.8.7 GNU/Linux
Date: 2011-02-05T21:53:53Z

This distribution has been tested as part of the CPAN Testers
project, supporting the Perl programming language.  See
http://wiki.cpantesters.org/ for more information or email
questions to cpan-testers-discuss@perl.org


--
Dear Moritz Onken,

This is a computer-generated report for CatalystX-ExtJS-Direct-2.1.0
on perl 5.8.7, created by CPAN-Reporter-1.1902.

Thank you for uploading your work to CPAN.  Congratulations!
All tests were successful.

Sections of this report:

    * Tester comments
    * Program output
    * Prerequisites
    * Environment and other context

------------------------------
TESTER COMMENTS
------------------------------

Additional comments from tester:

this report is from an automated smoke testing program
and was not reviewed by a human for accuracy

------------------------------
PROGRAM OUTPUT
------------------------------

Output from './Build test':

t/00-compile.t ................ ok
# 
# 
# perl:  (wanted any version) on linux from /usr/local/perl-5.8.7-threaded/bin/perl
# 
# Carp                                          => 1.04       (want any version)
# Catalyst                                      => 5.80030    (want any version)
# Catalyst::Action                              => <undef>    (want any version)
# Catalyst::Action::Deserialize                 => 0.89       (want any version)
# Catalyst::Action::REST                        => 0.89       (want 0.88)   
# Catalyst::Action::RenderView                  => 0.14       (want any version)
# Catalyst::Action::Serialize                   => 0.89       (want any version)
# Catalyst::Controller                          => <undef>    (want any version)
# Catalyst::Controller::REST                    => 0.89       (want any version)
# Catalyst::Engine::HTTP                        => <undef>    (want any version)
# Catalyst::Request::REST::ForBrowsers          => 0.89       (want any version)
# Catalyst::Runtime                             => 5.80030    (want 5.80024)
# Catalyst::Utils                               => <undef>    (want any version)
# Catalyst::View::JSON                          => 0.32       (want any version)
# File::Find                                    => 1.09       (want any version)
# File::Temp                                    => 0.22       (want any version)
# FindBin                                       => 1.44       (want any version)
# Getopt::Long                                  => 2.3802     (want any version)
# HTTP::Request::Common                         => 5.824      (want any version)
# JSON::Any                                     => 1.25       (want any version)
# JSON::XS                                      => 2.3        (want any version)
# List::MoreUtils                               => 0.30       (want any version)
# List::Util                                    => 1.2303     (want any version)
# Module::Build                                 => 0.3701     (want 0.3601) 
# Moose                                         => 1.21       (want 1.21)   
# Moose::Role                                   => 1.21       (want any version)
# MooseX::MethodAttributes                      => 0.24       (want any version)
# Pod::Usage                                    => 1.36       (want any version)
# Test::More                                    => 0.9701     (want 0.88)   
# Test::WWW::Mechanize::Catalyst                => 0.52       (want any version)
# Try::Tiny                                     => 0.09       (want any version)
# namespace::autoclean                          => 0.12       (want any version)
# 
# Thanks for using my code.  I hope it works for you.
# If not, please try and include this output in the bug report.
# That will help me reproduce the issue and solve you problem.
# 
t/000-report-versions-tiny.t .. ok
t/api.t ....................... ok
t/json.t ...................... ok
t/release-has-version.t ....... skipped: these tests are for release candidate testing
t/release-kwalitee.t .......... skipped: these tests are for release candidate testing
t/release-minimum-version.t ... skipped: these tests are for release candidate testing
t/release-pod-coverage.t ...... skipped: these tests are for release candidate testing
t/release-pod-syntax.t ........ skipped: these tests are for release candidate testing
t/release-portability.t ....... skipped: these tests are for release candidate testing
t/router.t .................... ok
t/synopsis.t .................. ok
All tests successful.
Files=12, Tests=47, 11 wallclock secs ( 0.08 usr  0.02 sys + 10.04 cusr  0.52 csys = 10.66 CPU)
Result: PASS

------------------------------
PREREQUISITES
------------------------------

Prerequisite modules loaded:

requires:

    Module                               Need    Have   
    ------------------------------------ ------- -------
    Carp                                 0       1.04   
    Catalyst::Action                     0       0      
    Catalyst::Action::Deserialize        0       0.89   
    Catalyst::Action::RenderView         0       0.14   
    Catalyst::Action::REST               0.88    0.89   
    Catalyst::Action::Serialize          0       0.89   
    Catalyst::Controller::REST           0       0.89   
    Catalyst::Runtime                    5.80024 5.80030
    Catalyst::Utils                      0       0      
    JSON::Any                            0       1.25   
    JSON::XS                             0       2.3    
    List::MoreUtils                      0       0.30   
    List::Util                           0       1.23_03
    Moose                                1.21    1.21   
    Moose::Role                          0       1.21   
    MooseX::MethodAttributes             0       0.24   
    namespace::autoclean                 0       0.12   
    Try::Tiny                            0       0.09   

build_requires:

    Module                               Need    Have   
    ------------------------------------ ------- -------
    Catalyst                             0       5.80030
    Catalyst::Controller                 0       0      
    Catalyst::Engine::HTTP               0       0      
    Catalyst::Request::REST::ForBrowsers 0       0.89   
    Catalyst::View::JSON                 0       0.32   
    File::Find                           0       1.09   
    File::Temp                           0       0.22   
    FindBin                              0       1.44   
    Getopt::Long                         0       2.3802 
    HTTP::Request::Common                0       5.824  
    Module::Build                        0.3601  0.37_01
    Pod::Usage                           0       1.36   
    Test::More                           0.88    0.97_01
    Test::WWW::Mechanize::Catalyst       0       0.52   

configure_requires:

    Module                               Need    Have   
    ------------------------------------ ------- -------
    Module::Build                        0.3601  0.37_01


------------------------------
ENVIRONMENT AND OTHER CONTEXT
------------------------------

Environment variables:

    AUTOMATED_TESTING = 1
    LANG = en_US.UTF-8
    PATH = /home/sand/bin:/usr/local/bin:/usr/bin:/bin:/usr/bin/X11:/usr/games:/usr/local/perl/bin:/usr/X11/bin:/sbin:/usr/sbin
    PERL5LIB = 
    PERL5OPT = 
    PERL5_CPANPLUS_IS_RUNNING = 5257
    PERL5_CPAN_IS_RUNNING = 5257
    PERL_MM_USE_DEFAULT = 1
    SHELL = /usr/bin/zsh
    TERM = screen

Perl special variables (and OS-specific diagnostics, for MSWin32):

    $^X = /usr/local/perl-5.8.7-threaded/bin/perl
    $UID/$EUID = 1001 / 1001
    $GID = 1001 1001
    $EGID = 1001 1001

Perl module toolchain versions installed:

    Module              Have    
    ------------------- --------
    CPAN                1.94_64 
    Cwd                 3.33    
    ExtUtils::CBuilder  0.280202
    ExtUtils::Command   1.16    
    ExtUtils::Install   1.52_03 
    ExtUtils::MakeMaker 6.57_06 
    ExtUtils::Manifest  1.58    
    ExtUtils::ParseXS   2.2206  
    File::Spec          3.33    
    Module::Build       0.37_01 
    Module::Signature   0.66    
    Test::Harness       3.22    
    Test::More          0.97_01 
    YAML                0.72    
    YAML::Syck          1.17    
    version             0.88    


--

Summary of my perl5 (revision 5 version 8 subversion 7) configuration:
  Platform:
    osname=linux, osvers=2.6.26-1-amd64, archname=x86_64-linux-thread-multi-ld
    uname='linux k81 2.6.26-1-amd64 #1 smp mon dec 15 17:25:36 utc 2008 x86_64 gnulinux '
    config_args='-Dprefix=/usr/local/perl-5.8.7-threaded -Uversiononly -Dusedevel -Ui_db -Duselongdouble -des -Dusethreads'
    hint=recommended, useposix=true, d_sigaction=define
    usethreads=define use5005threads=undef useithreads=define usemultiplicity=define
    useperlio=define d_sfio=undef uselargefiles=define usesocks=undef
    use64bitint=define use64bitall=define uselongdouble=define
    usemymalloc=n, bincompat5005=undef
  Compiler:
    cc='cc', ccflags ='-D_REENTRANT -D_GNU_SOURCE -DTHREADS_HAVE_PIDS -fno-strict-aliasing -pipe -I/usr/local/include -D_LARGEFILE_SOURCE -D_FILE_OFFSET_BITS=64',
    optimize='-O2',
    cppflags='-D_REENTRANT -D_GNU_SOURCE -DTHREADS_HAVE_PIDS -fno-strict-aliasing -pipe -I/usr/local/include'
    ccversion='', gccversion='4.3.2', gccosandvers=''
    intsize=4, longsize=8, ptrsize=8, doublesize=8, byteorder=12345678
    d_longlong=define, longlongsize=8, d_longdbl=define, longdblsize=16
    ivtype='long', ivsize=8, nvtype='long double', nvsize=16, Off_t='off_t', lseeksize=8
    alignbytes=16, prototype=define
  Linker and Libraries:
    ld='cc', ldflags =' -L/usr/local/lib'
    libpth=/usr/local/lib /lib /usr/lib
    libs=-lnsl -ldb -ldl -lm -lcrypt -lutil -lpthread -lc
    perllibs=-lnsl -ldl -lm -lcrypt -lutil -lpthread -lc
    libc=/lib/libc-2.7.so, so=so, useshrplib=false, libperl=libperl.a
    gnulibc_version='2.7'
  Dynamic Linking:
    dlsrc=dl_dlopen.xs, dlext=so, d_dlsymun=undef, ccdlflags='-Wl,-E'
    cccdlflags='-fpic', lddlflags='-shared -L/usr/local/lib'


Characteristics of this binary (from libperl): 
  Compile-time options: MULTIPLICITY USE_ITHREADS USE_64_BIT_INT
                        USE_64_BIT_ALL USE_LONG_DOUBLE USE_LARGE_FILES
                        PERL_IMPLICIT_CONTEXT
  Built under linux
  Compiled at Feb 20 2009 04:23:53
  %ENV:
    PERL5LIB=""
    PERL5OPT=""
    PERL5_CPANPLUS_IS_RUNNING="5257"
    PERL5_CPAN_IS_RUNNING="5257"
    PERL_MM_USE_DEFAULT="1"
  @INC:
    /usr/local/perl-5.8.7-threaded/lib/5.8.7/x86_64-linux-thread-multi-ld
    /usr/local/perl-5.8.7-threaded/lib/5.8.7
    /usr/local/perl-5.8.7-threaded/lib/site_perl/5.8.7/x86_64-linux-thread-multi-ld
    /usr/local/perl-5.8.7-threaded/lib/site_perl/5.8.7
    /usr/local/perl-5.8.7-threaded/lib/site_perl
    .