Back
From: metabase:user:314402c4-2aae-11df-837a-5e0a49663a4f
Subject: PASS Test-Class-GetoptControl-1.100860 v5.18.2 FreeBSD
Date: 2014-05-10T00:31:27Z
This distribution has been tested as part of the CPAN Testers
project, supporting the Perl programming language. See
http://wiki.cpantesters.org/ for more information or email
questions to cpan-testers-discuss@perl.org
--
Dear Marcel Gruenauer,
This is a computer-generated report for Test-Class-GetoptControl-1.100860
on perl 5.18.2, created by CPAN-Reporter-1.2011.
Thank you for uploading your work to CPAN. Congratulations!
All tests were successful.
Sections of this report:
* Tester comments
* Program output
* Prerequisites
* Environment and other context
------------------------------
TESTER COMMENTS
------------------------------
Additional comments from tester:
none provided
------------------------------
PROGRAM OUTPUT
------------------------------
Output from '/usr/bin/make test':
PERL_DL_NONLAZY=1 /usr/home/eserte/var/ctps/51911/install/perl-5.18.2/bin/perl5.18.2 "-MExtUtils::Command::MM" "-MTest::Harness" "-e" "undef *Test::Harness::Switches; test_harness(0, 'blib/lib', 'blib/arch')" t/*.t
t/00-compile.t ............... ok
# Testing with Perl 5.018002, /usr/home/eserte/var/ctps/51911/install/perl-5.18.2/bin/perl5.18.2
# Carp version is 1.3301
# English version is 1.06_01
# ExtUtils::MakeMaker version is 6.98
# File::Find version is 1.23
# File::Temp version is 0.2304
# Getopt::Inherited version is 1.100860
# List::Util version is 1.38
# Scalar::Util version is 1.38
# Test::Class version is 0.41
# Test::More version is 1.001003
# constant version is 1.27
# parent version is 0.228
t/000-report-versions.t ...... ok
t/author-critic.t ............ skipped: these tests are for testing by the author
t/release-check-changes.t .... skipped: these tests are for release candidate testing
t/release-dist-manifest.t .... skipped: these tests are for release candidate testing
t/release-has-version.t ...... skipped: these tests are for release candidate testing
t/release-kwalitee.t ......... skipped: these tests are for release candidate testing
t/release-meta-yaml.t ........ skipped: these tests are for release candidate testing
t/release-minimum-version.t .. skipped: these tests are for release candidate testing
t/release-pod-coverage.t ..... skipped: these tests are for release candidate testing
t/release-pod-spell.t ........ skipped: these tests are for release candidate testing
t/release-pod-syntax.t ....... skipped: these tests are for release candidate testing
t/release-portability.t ...... skipped: these tests are for release candidate testing
t/release-synopsis.t ......... skipped: these tests are for release candidate testing
All tests successful.
Files=14, Tests=13, 2 wallclock secs ( 0.14 usr 0.05 sys + 1.34 cusr 0.26 csys = 1.79 CPU)
Result: PASS
------------------------------
PREREQUISITES
------------------------------
Prerequisite modules loaded:
requires:
Module Need Have
------------------- ---- --------
Carp 0 1.3301
constant 0 1.27
English 0 1.06_01
File::Find 0 1.23
File::Temp 0 0.2304
Getopt::Inherited 0 1.100860
List::Util 0 1.38
parent 0 0.228
Scalar::Util 0 1.38
Test::Class 0 0.41
Test::More 0.88 1.001003
configure_requires:
Module Need Have
------------------- ---- --------
ExtUtils::MakeMaker 6.11 6.98
------------------------------
ENVIRONMENT AND OTHER CONTEXT
------------------------------
Environment variables:
DBIC_NO_WARN_BAD_PERL = 1
PATH = /usr/local/bin:/usr/bin:/bin:/usr/local/sbin:/usr/sbin:/sbin:/home/eserte/bin/freebsd9.1:/home/eserte/bin/sh:/home/eserte/bin:/usr/games:/home/eserte/devel:/usr/home/eserte/src/cpan-testers-parallelsmoker/utils
PERL5LIB =
PERL5OPT =
PERL5_CPANPLUS_IS_RUNNING = 23347
PERL5_CPAN_IS_RUNNING = 23347
PERL5_CPAN_IS_RUNNING_IN_RECURSION = 19711,23347
PERLDOC = -MPod::Perldoc::ToTextOverstrike
PERL_BATCH = yes
PERL_CPAN_REPORTER_DIR = /home/eserte/var/ctps/51911/config/perl-5.18.2/cpanreporter
PERL_EXTUTILS_AUTOINSTALL = --defaultdeps
PERL_HTML_DISPLAY_CLASS = HTML::Display::Mozilla
PERL_PARALLEL_SMOKER = yes
PERL_TEST_UNPATCHED = 1
PERL_TEST_UNPATCHED = 1
SHELL = /usr/local/bin/zsh
TERM = xterm
TMPDIR = /var/tmp/cpansmoker-1000
Perl special variables (and OS-specific diagnostics, for MSWin32):
$^X = /usr/home/eserte/var/ctps/51911/install/perl-5.18.2/bin/perl5.18.2
$UID/$EUID = 1000 / 1000
$GID = 1000 1000 0 5
$EGID = 1000 1000 0 5
Perl module toolchain versions installed:
Module Have
------------------- --------
CPAN 2.05
CPAN::Meta 2.141170
Cwd 3.40
ExtUtils::CBuilder 0.280216
ExtUtils::Command 1.18
ExtUtils::Install 1.67
ExtUtils::MakeMaker 6.98
ExtUtils::Manifest 1.63
ExtUtils::ParseXS 3.24
File::Spec 3.40
JSON 2.90
JSON::PP 2.27203
Module::Build 0.4205
Module::Signature 0.73
Parse::CPAN::Meta 1.4414
Test::Harness 3.30
Test::More 1.001003
YAML 0.90
YAML::Syck 1.27
version 0.9908
--
Summary of my perl5 (revision 5 version 18 subversion 2) configuration:
Platform:
osname=freebsd, osvers=9.2-release, archname=amd64-freebsd
uname='freebsd cvrsnica-freebsd-92-ctps-51911.herceg.de 9.2-release freebsd 9.2-release #0 r255898: thu sep 26 22:50:31 utc 2013 root@bake.isc.freebsd.org:usrobjusrsrcsysgeneric amd64 '
config_args='-ds -e -Uversiononly -Dinstallusrbinperl=n -Dusedevel -Dprefix=/home/eserte/var/ctps/51911/install/perl-5.18.2'
hint=recommended, useposix=true, d_sigaction=define
useithreads=undef, usemultiplicity=undef
useperlio=define, d_sfio=undef, uselargefiles=define, usesocks=undef
use64bitint=define, use64bitall=define, uselongdouble=undef
usemymalloc=n, bincompat5005=undef
Compiler:
cc='cc', ccflags ='-DHAS_FPSETMASK -DHAS_FLOATINGPOINT_H -fno-strict-aliasing -pipe -fstack-protector -I/usr/local/include',
optimize='-O',
cppflags='-DHAS_FPSETMASK -DHAS_FLOATINGPOINT_H -fno-strict-aliasing -pipe -fstack-protector -I/usr/local/include'
ccversion='', gccversion='4.2.1 20070831 patched [FreeBSD]', gccosandvers=''
intsize=4, longsize=8, ptrsize=8, doublesize=8, byteorder=12345678
d_longlong=define, longlongsize=8, d_longdbl=define, longdblsize=16
ivtype='long', ivsize=8, nvtype='double', nvsize=8, Off_t='off_t', lseeksize=8
alignbytes=8, prototype=define
Linker and Libraries:
ld='cc', ldflags ='-Wl,-E -fstack-protector -L/usr/local/lib'
libpth=/usr/lib /usr/local/lib
libs=-lgdbm -lm -lcrypt -lutil -lc
perllibs=-lm -lcrypt -lutil -lc
libc=, so=so, useshrplib=false, libperl=libperl.a
gnulibc_version=''
Dynamic Linking:
dlsrc=dl_dlopen.xs, dlext=so, d_dlsymun=undef, ccdlflags=' '
cccdlflags='-DPIC -fPIC', lddlflags='-shared -L/usr/local/lib -fstack-protector'
Characteristics of this binary (from libperl):
Compile-time options: HAS_TIMES PERLIO_LAYERS PERL_DONT_CREATE_GVSV
PERL_HASH_FUNC_ONE_AT_A_TIME_HARD PERL_MALLOC_WRAP
PERL_PRESERVE_IVUV PERL_SAWAMPERSAND PERL_USE_DEVEL
USE_64_BIT_ALL USE_64_BIT_INT USE_LARGE_FILES
USE_LOCALE USE_LOCALE_COLLATE USE_LOCALE_CTYPE
USE_LOCALE_NUMERIC USE_PERLIO USE_PERL_ATOF
Built under freebsd
Compiled at Apr 25 2014 08:12:08
%ENV:
PERL5LIB=""
PERL5OPT=""
PERL5_CPANPLUS_IS_RUNNING="23347"
PERL5_CPAN_IS_RUNNING="23347"
PERL5_CPAN_IS_RUNNING_IN_RECURSION="19711,23347"
PERLDOC="-MPod::Perldoc::ToTextOverstrike"
PERL_BATCH="yes"
PERL_CPAN_REPORTER_DIR="/home/eserte/var/ctps/51911/config/perl-5.18.2/cpanreporter"
PERL_EXTUTILS_AUTOINSTALL="--defaultdeps"
PERL_HTML_DISPLAY_CLASS="HTML::Display::Mozilla"
PERL_PARALLEL_SMOKER="yes"
PERL_TEST_UNPATCHED="1"
@INC:
/home/eserte/var/ctps/51911/install/perl-5.18.2/lib/site_perl/5.18.2/amd64-freebsd
/home/eserte/var/ctps/51911/install/perl-5.18.2/lib/site_perl/5.18.2
/home/eserte/var/ctps/51911/install/perl-5.18.2/lib/5.18.2/amd64-freebsd
/home/eserte/var/ctps/51911/install/perl-5.18.2/lib/5.18.2
.