Report for Log-Any-Adapter-Syslog-1.3

Back
From: metabase:user:3198cbe2-2aae-11df-837a-5e0a49663a4f
Subject: PASS Log-Any-Adapter-Syslog-1.3 v5.14.2 GNU/Linux
Date: 2012-11-30T07:20:31Z

This distribution has been tested as part of the CPAN Testers
project, supporting the Perl programming language.  See
http://wiki.cpantesters.org/ for more information or email
questions to cpan-testers-discuss@perl.org


--
Dear Stephen Thirlwall,

This is a computer-generated report for Log-Any-Adapter-Syslog-1.3
on perl 5.14.2, created by CPAN-Reporter-1.2006.

Thank you for uploading your work to CPAN.  Congratulations!
All tests were successful.

Sections of this report:

    * Tester comments
    * Program output
    * Prerequisites
    * Environment and other context

------------------------------
TESTER COMMENTS
------------------------------

Additional comments from tester:

this report is from an automated smoke testing program
and was not reviewed by a human for accuracy

------------------------------
PROGRAM OUTPUT
------------------------------

Output from '/usr/bin/make test':

PERL_DL_NONLAZY=1 /home/graham/perls/perl-5.14.2-thread/bin/perl "-MExtUtils::Command::MM" "-e" "test_harness(0, 'blib/lib', 'blib/arch')" t/*.t t/options/*.t
t/00-compile.t ................ ok
# 
# 
# perl: v5.14.2 (wanted any version) on linux from /home/graham/perls/perl-5.14.2-thread/bin/perl
# 
# Carp                                          => 1.26       (want any version)
# ExtUtils::MakeMaker                           => 6.62       (want 6.30)   
# File::Basename                                => 2.82       (want any version)
# File::Find                                    => 1.19       (want any version)
# File::Temp                                    => 0.22       (want any version)
# Log::Any                                      => 0.14       (want any version)
# Log::Any::Adapter                             => 0.04       (want any version)
# Log::Any::Adapter::Base                       => 0.04       (want any version)
# Log::Any::Adapter::Util                       => 0.04       (want any version)
# Test::Exception                               => 0.31       (want any version)
# Test::MockModule                              => 0.05       (want any version)
# Test::More                                    => 0.9803     (want 0.88)   
# Test::Warn                                    => 0.24       (want any version)
# Unix::Syslog                                  => 1.1        (want any version)
# base                                          => 2.18       (want any version)
# strict                                        => 1.04       (want any version)
# vars                                          => 1.02       (want any version)
# warnings                                      => 1.12       (want any version)
# 
# Thanks for using my code.  I hope it works for you.
# If not, please try and include this output in the bug report.
# That will help me reproduce the issue and solve you problem.
# 
t/000-report-versions-tiny.t .. ok
t/options/defaults.t .......... ok
t/options/facility.t .......... ok
t/options/name.t .............. ok
t/options/options.t ........... ok
t/reinit.t .................... ok
t/release-distmeta.t .......... skipped: these tests are for release candidate testing
t/release-has-version.t ....... skipped: these tests are for release candidate testing
t/release-minimum-version.t ... skipped: these tests are for release candidate testing
t/release-pod-syntax.t ........ skipped: these tests are for release candidate testing
t/release-portability.t ....... skipped: these tests are for release candidate testing
t/release-synopsis.t .......... skipped: these tests are for release candidate testing
t/release-unused-vars.t ....... skipped: these tests are for release candidate testing
t/write-logs.t ................ ok
All tests successful.
Files=15, Tests=44,  2 wallclock secs ( 0.08 usr  0.01 sys +  0.77 cusr  0.14 csys =  1.00 CPU)
Result: PASS

------------------------------
PREREQUISITES
------------------------------

Prerequisite modules loaded:

requires:

    Module                  Need Have   
    ----------------------- ---- -------
    base                    0    2.18   
    Carp                    0    1.26   
    File::Basename          0    2.82   
    Log::Any::Adapter::Base 0    0.04   
    Log::Any::Adapter::Util 0    0.04   
    strict                  0    1.04   
    Unix::Syslog            0    1.1    
    warnings                0    1.12   

build_requires:

    Module                  Need Have   
    ----------------------- ---- -------
    File::Find              0    1.19   
    File::Temp              0    0.22   
    Log::Any                0    0.14   
    Log::Any::Adapter       0    0.04   
    Test::Exception         0    0.31   
    Test::MockModule        0    0.05   
    Test::More              0.88 0.98_03
    Test::Warn              0    0.24   
    vars                    0    1.02   

configure_requires:

    Module                  Need Have   
    ----------------------- ---- -------
    ExtUtils::MakeMaker     6.30 6.62   


------------------------------
ENVIRONMENT AND OTHER CONTEXT
------------------------------

Environment variables:

    AUTOMATED_TESTING = 1
    LANG = C
    PATH = /home/graham/perls/perl-5.14.2-thread/bin:/home/graham/perls/perl-5.14.2-thread/bin:/usr/local/bin:/usr/bin:/bin:/usr/local/sbin:/usr/sbin:/sbin:/usr/bin/core_perl
    PERL5LIB = 
    PERL5OPT = 
    PERL5_CPANPLUS_IS_RUNNING = 12789
    PERL5_CPAN_IS_RUNNING = 12789
    PERL5_CPAN_IS_RUNNING_IN_RECURSION = 12888,12789
    PERL_CR_SMOKER_CURRENT = Log-Any-Adapter-Syslog-1.3
    PERL_EXTUTILS_AUTOINSTALL = --defaultdeps
    PERL_MM_USE_DEFAULT = 1
    SHELL = /bin/bash
    TERM = xterm

Perl special variables (and OS-specific diagnostics, for MSWin32):

    $^X = /home/graham/perls/perl-5.14.2-thread/bin/perl
    $UID/$EUID = 1000 / 1000
    $GID = 100 100
    $EGID = 100 100

Perl module toolchain versions installed:

    Module              Have    
    ------------------- --------
    CPAN                1.99_51 
    CPAN::Meta          2.120351
    Cwd                 3.39_01 
    ExtUtils::CBuilder  0.280205
    ExtUtils::Command   1.17    
    ExtUtils::Install   1.56    
    ExtUtils::MakeMaker 6.62    
    ExtUtils::Manifest  1.61    
    ExtUtils::ParseXS   3.18    
    File::Spec          3.39_01 
    JSON                2.53    
    JSON::PP            2.27200 
    Module::Build       0.4003  
    Module::Signature   0.70    
    Parse::CPAN::Meta   1.4404  
    Test::Harness       3.23    
    Test::More          0.98_03 
    YAML                0.84    
    YAML::Syck          1.21    
    version             0.9901  


--

Summary of my perl5 (revision 5 version 14 subversion 2) configuration:
   
  Platform:
    osname=linux, osvers=3.5.6-1-arch, archname=x86_64-linux-thread-multi
    uname='linux grosics 3.5.6-1-arch #1 smp preempt sun oct 7 19:30:49 cest 2012 x86_64 gnulinux '
    config_args='-Dusethreads -Dprefix=/home/graham/perls/perl-5.14.2-thread'
    hint=recommended, useposix=true, d_sigaction=define
    useithreads=define, usemultiplicity=define
    useperlio=define, d_sfio=undef, uselargefiles=define, usesocks=undef
    use64bitint=define, use64bitall=define, uselongdouble=undef
    usemymalloc=n, bincompat5005=undef
  Compiler:
    cc='cc', ccflags ='-D_REENTRANT -D_GNU_SOURCE -fno-strict-aliasing -pipe -fstack-protector -I/usr/local/include -D_LARGEFILE_SOURCE -D_FILE_OFFSET_BITS=64',
    optimize='-O2',
    cppflags='-D_REENTRANT -D_GNU_SOURCE -fno-strict-aliasing -pipe -fstack-protector -I/usr/local/include'
    ccversion='', gccversion='4.7.2', gccosandvers=''
    intsize=4, longsize=8, ptrsize=8, doublesize=8, byteorder=12345678
    d_longlong=define, longlongsize=8, d_longdbl=define, longdblsize=16
    ivtype='long', ivsize=8, nvtype='double', nvsize=8, Off_t='off_t', lseeksize=8
    alignbytes=8, prototype=define
  Linker and Libraries:
    ld='cc', ldflags =' -fstack-protector -L/usr/local/lib'
    libpth=/usr/local/lib /lib/../lib /usr/lib/../lib /lib /usr/lib
    libs=-lnsl -lgdbm -ldb -ldl -lm -lcrypt -lutil -lpthread -lc -lgdbm_compat
    perllibs=-lnsl -ldl -lm -lcrypt -lutil -lpthread -lc
    libc=/lib/libc-2.16.so, so=so, useshrplib=false, libperl=libperl.a
    gnulibc_version='2.16'
  Dynamic Linking:
    dlsrc=dl_dlopen.xs, dlext=so, d_dlsymun=undef, ccdlflags='-Wl,-E'
    cccdlflags='-fPIC', lddlflags='-shared -O2 -L/usr/local/lib -fstack-protector'


Characteristics of this binary (from libperl): 
  Compile-time options: MULTIPLICITY PERL_DONT_CREATE_GVSV
                        PERL_IMPLICIT_CONTEXT PERL_MALLOC_WRAP
                        PERL_PRESERVE_IVUV USE_64_BIT_ALL USE_64_BIT_INT
                        USE_ITHREADS USE_LARGE_FILES USE_PERLIO USE_PERL_ATOF
                        USE_REENTRANT_API
  Built under linux
  Compiled at Oct 13 2012 14:36:03
  %ENV:
    PERL5LIB=""
    PERL5OPT=""
    PERL5_CPANPLUS_IS_RUNNING="12789"
    PERL5_CPAN_IS_RUNNING="12789"
    PERL5_CPAN_IS_RUNNING_IN_RECURSION="12888,12789"
    PERL_CR_SMOKER_CURRENT="Log-Any-Adapter-Syslog-1.3"
    PERL_EXTUTILS_AUTOINSTALL="--defaultdeps"
    PERL_MM_USE_DEFAULT="1"
  @INC:
    /home/graham/perls/perl-5.14.2-thread/lib/site_perl/5.14.2/x86_64-linux-thread-multi
    /home/graham/perls/perl-5.14.2-thread/lib/site_perl/5.14.2
    /home/graham/perls/perl-5.14.2-thread/lib/5.14.2/x86_64-linux-thread-multi
    /home/graham/perls/perl-5.14.2-thread/lib/5.14.2
    .