Redis-Fast v0.30 Perl 5 v5.35.2 x86_64-linux-thread-multi

Status
Pass
From
Andreas J. König (ANDK)
Dist
Redis-Fast v0.30
Platform
Perl 5 v5.35.2 x86_64-linux-thread-multi
Date
2021-06-25 08:22:05
ID
6ce92e02-d58e-11eb-a8c7-dcc4eef319e8
This distribution has been tested as part of the CPAN Testers
project, supporting the Perl programming language.  See
http://wiki.cpantesters.org/ for more information or email
questions to cpan-testers-discuss@perl.org


--
Dear Shogo Ichinose,

This is a computer-generated report for Redis-Fast-0.30
on perl 5.35.2, created by CPAN-Reporter-1.2018.

Thank you for uploading your work to CPAN.  Congratulations!
All tests were successful.

Sections of this report:

    * Tester comments
    * Program output
    * Prerequisites
    * Environment and other context

------------------------------
TESTER COMMENTS
------------------------------

Additional comments from tester:

this report is from an automated smoke testing program
and was not reviewed by a human for accuracy

------------------------------
PROGRAM OUTPUT
------------------------------

Output from './Build test':

t/01-basic.t ............... ok
t/02-responses.t ........... ok
    # parent waiting for child 386533...
    # child is ready to test, signal parent to kill our server
    # parent killed pub/sub redis server, signal child to proceed
    # now, check wait_for_messages(), should die...
    # parent waiting for child 386544...
    # CHILD: reconnected (with a 10s timeout)
    # CHILD: is ready to test, signal parent to restart our server
    # PARENT: killed pub/sub redis server, signal child to proceed
    # CHILD: launch wait_for_messages(2), with reconnect...
    # CHILD: reconnected (with a 10s timeout)
    # PARENT: has relaunched the server...
    # CHILD: after 2 sec, nothing yet, retrying
    # CHILD: launch wait_for_messages(2), with reconnect...
    # CHILD: after 2 sec, nothing yet, retrying
    # CHILD: launch wait_for_messages(2), with reconnect...
    # PARENT: waiting for child 386550...
    # CHILD: child received the message
t/03-pubsub.t .............. ok
t/04-pipeline.t ............ ok
t/05-nonblock.t ............ skipped: not needed, tested by hiredis
t/06-on-connect.t .......... ok
t/07-reconnect-on-error.t .. ok
    # Sleeping 11 seconds, waiting for Redis to timeout...
    # Sleeping 11 seconds, waiting for Redis to timeout...
    # Sleeping 11 seconds, waiting for Redis to timeout...
t/07-reconnect.t ........... ok
t/08-unix-socket.t ......... skipped: Define ENV TEST_REDIS_SERVER_SOCK_PATH to test UNIX socket support
t/09-env-redis-server.t .... ok
t/10-tie-list.t ............ ok
t/11-timeout.t ............. ok
t/20-tie-hash.t ............ ok
t/30-scripts.t ............. ok
t/42-client_cmds.t ......... ok
t/44-no-unicode-bug.t ...... ok
t/50-fork_safe.t ........... ok
t/51-leak.t ................ ok
t/53-blpop.t ............... ok
t/53-blpop_and_timeout.t ... ok
t/53-deep-recursion.t ...... ok
t/53-fail-to-connect.t ..... ok
t/53-password.t ............ ok
t/53-signal.t .............. ok
t/53-timeout-length.t ...... ok
# redis address : 127.0.0.1:33427
# sentinel address: 127.0.0.1:42207
# sentinel2 address: 127.0.0.1:40743
# wait 3 sec for the sentinels and the master to gossip
# shutting down sentinel2
# shutting down sentinel
# shutting down redis
t/60-sentinel.t ............ ok
All tests successful.
Files=26, Tests=322, 140 wallclock secs ( 0.09 usr  0.15 sys +  4.73 cusr  1.92 csys =  6.89 CPU)
Result: PASS

------------------------------
PREREQUISITES
------------------------------

Prerequisite modules loaded:

requires:

    Module                Need     Have    
    --------------------- -------- --------
    perl                  5.008001 5.035002
    Time::HiRes           0        1.9767  
    Try::Tiny             0        0.30    

build_requires:

    Module                Need     Have    
    --------------------- -------- --------
    Digest::SHA           0        6.02    
    ExtUtils::CBuilder    0        0.280236
    File::Temp            0        0.2311  
    Parallel::ForkManager 0        2.02    
    Test::Deep            0        1.130   
    Test::Fatal           0        0.016   
    Test::LeakTrace       0        0.17    
    Test::More            0.98     1.302185
    Test::SharedFork      0        0.35    
    Test::TCP             0        2.22    
    Test::UNIXSock        0        0.4     

configure_requires:

    Module                Need     Have    
    --------------------- -------- --------
    File::Which           0        1.27    
    Module::Build         0.4005   0.4231  
    Module::Build::XSUtil 0.02     0.19    


------------------------------
ENVIRONMENT AND OTHER CONTEXT
------------------------------

Environment variables:

    AUTOMATED_TESTING = 1
    LANG = en_US.UTF-8
    PATH = /home/sand/bin:/usr/local/bin:/usr/bin:/bin:/usr/games:/usr/local/perl/bin:/usr/X11/bin:/sbin:/usr/sbin
    PERL5LIB = 
    PERL5OPT = 
    PERL5_CPANPLUS_IS_RUNNING = 342865
    PERL5_CPAN_IS_RUNNING = 342865
    PERL_CANARY_STABILITY_NOPROMPT = 1
    PERL_MM_USE_DEFAULT = 1
    PERL_USE_UNSAFE_INC = 1
    SHELL = /usr/bin/zsh
    TERM = screen

Perl special variables (and OS-specific diagnostics, for MSWin32):

    $^X = /tmp/basesmoker-reloperl-e4bE/bin/perl
    $UID/$EUID = 1005 / 1005
    $GID = 1005 1005
    $EGID = 1005 1005

Perl module toolchain versions installed:

    Module              Have    
    ------------------- --------
    CPAN                2.28    
    CPAN::Meta          2.150010
    Cwd                 3.81    
    ExtUtils::CBuilder  0.280236
    ExtUtils::Command   7.62    
    ExtUtils::Install   2.20    
    ExtUtils::MakeMaker 7.62    
    ExtUtils::Manifest  1.73    
    ExtUtils::ParseXS   3.43    
    File::Spec          3.81    
    JSON                4.03    
    JSON::PP            4.06    
    Module::Build       0.4231  
    Module::Signature   0.87    
    Parse::CPAN::Meta   2.150010
    Test::Harness       3.43    
    Test::More          1.302185
    YAML                1.30    
    YAML::Syck          1.34    
    version             0.9929  


--

Summary of my perl5 (revision 5 version 35 subversion 2) configuration:
  Commit id: 9fa00226c78c14bc34a562b90346047d2dcdd3b1
  Platform:
    osname=linux
    osvers=5.3.0-2-amd64
    archname=x86_64-linux-thread-multi
    uname='linux k93msid 5.3.0-2-amd64 #1 smp debian 5.3.9-3 (2019-11-19) x86_64 gnulinux '
    config_args='-Dprefix=/home/sand/src/perl/repoperls/installed-perls/host/k93msid/v5.35.1-33-g9fa00226c7/419a -Dmyhostname=k93msid -Dinstallusrbinperl=n -Uversiononly -Dusedevel -des -Ui_db -Dlibswanted=cl pthread socket inet nsl gdbm dbm malloc dl ld sun m crypt sec util c cposix posix ucb BSD gdbm_compat -Duseithreads -Uuselongdouble -DEBUGGING=none'
    hint=recommended
    useposix=true
    d_sigaction=define
    useithreads=define
    usemultiplicity=define
    use64bitint=define
    use64bitall=define
    uselongdouble=undef
    usemymalloc=n
    default_inc_excludes_dot=define
  Compiler:
    cc='cc'
    ccflags ='-D_REENTRANT -D_GNU_SOURCE -fwrapv -fno-strict-aliasing -pipe -fstack-protector-strong -I/usr/local/include -D_LARGEFILE_SOURCE -D_FILE_OFFSET_BITS=64 -D_FORTIFY_SOURCE=2'
    optimize='-O2'
    cppflags='-D_REENTRANT -D_GNU_SOURCE -fwrapv -fno-strict-aliasing -pipe -fstack-protector-strong -I/usr/local/include'
    ccversion=''
    gccversion='9.2.1 20191109'
    gccosandvers=''
    intsize=4
    longsize=8
    ptrsize=8
    doublesize=8
    byteorder=12345678
    doublekind=3
    d_longlong=define
    longlongsize=8
    d_longdbl=define
    longdblsize=16
    longdblkind=3
    ivtype='long'
    ivsize=8
    nvtype='double'
    nvsize=8
    Off_t='off_t'
    lseeksize=8
    alignbytes=8
    prototype=define
  Linker and Libraries:
    ld='cc'
    ldflags =' -fstack-protector-strong -L/usr/local/lib'
    libpth=/usr/local/lib /usr/lib/x86_64-linux-gnu /usr/lib /lib/x86_64-linux-gnu /lib
    libs=-lpthread -lnsl -ldl -lm -lcrypt -lutil -lc
    perllibs=-lpthread -lnsl -ldl -lm -lcrypt -lutil -lc
    libc=libc-2.29.so
    so=so
    useshrplib=false
    libperl=libperl.a
    gnulibc_version='2.29'
  Dynamic Linking:
    dlsrc=dl_dlopen.xs
    dlext=so
    d_dlsymun=undef
    ccdlflags='-Wl,-E'
    cccdlflags='-fPIC'
    lddlflags='-shared -O2 -L/usr/local/lib -fstack-protector-strong'


Characteristics of this binary (from libperl): 
  Compile-time options:
    HAS_TIMES
    MULTIPLICITY
    PERLIO_LAYERS
    PERL_COPY_ON_WRITE
    PERL_DONT_CREATE_GVSV
    PERL_MALLOC_WRAP
    PERL_OP_PARENT
    PERL_PRESERVE_IVUV
    PERL_USE_DEVEL
    USE_64_BIT_ALL
    USE_64_BIT_INT
    USE_ITHREADS
    USE_LARGE_FILES
    USE_LOCALE
    USE_LOCALE_COLLATE
    USE_LOCALE_CTYPE
    USE_LOCALE_NUMERIC
    USE_LOCALE_TIME
    USE_PERLIO
    USE_PERL_ATOF
    USE_REENTRANT_API
    USE_THREAD_SAFE_LOCALE
  Built under linux
  Compiled at Jun 23 2021 16:54:21
  %ENV:
    PERL5LIB=""
    PERL5OPT=""
    PERL5_CPANPLUS_IS_RUNNING="342865"
    PERL5_CPAN_IS_RUNNING="342865"
    PERL_CANARY_STABILITY_NOPROMPT="1"
    PERL_MM_USE_DEFAULT="1"
    PERL_USE_UNSAFE_INC="1"
  @INC:
    /home/sand/src/perl/repoperls/installed-perls/host/k93msid/v5.35.1-33-g9fa00226c7/419a/lib/site_perl/5.35.2/x86_64-linux-thread-multi
    /home/sand/src/perl/repoperls/installed-perls/host/k93msid/v5.35.1-33-g9fa00226c7/419a/lib/site_perl/5.35.2
    /home/sand/src/perl/repoperls/installed-perls/host/k93msid/v5.35.1-33-g9fa00226c7/419a/lib/5.35.2/x86_64-linux-thread-multi
    /home/sand/src/perl/repoperls/installed-perls/host/k93msid/v5.35.1-33-g9fa00226c7/419a/lib/5.35.2
    .