Report for Dist-Zilla-Plugin-ReadmeMarkdownFromPod-0.141140

Back
From: metabase:user:320bfe00-2aae-11df-837a-5e0a49663a4f
Subject: PASS Dist-Zilla-Plugin-ReadmeMarkdownFromPod-0.141140 v5.21.3 GNU/Linux
Date: 2014-08-04T07:17:42Z

This distribution has been tested as part of the CPAN Testers
project, supporting the Perl programming language.  See
http://wiki.cpantesters.org/ for more information or email
questions to cpan-testers-discuss@perl.org


--
Dear Ryan C. Thompson,

This is a computer-generated report for Dist-Zilla-Plugin-ReadmeMarkdownFromPod-0.141140
on perl 5.21.3, created by CPAN-Reporter-1.2011.

Thank you for uploading your work to CPAN.  Congratulations!
All tests were successful.

Sections of this report:

    * Tester comments
    * Program output
    * Prerequisites
    * Environment and other context

------------------------------
TESTER COMMENTS
------------------------------

Additional comments from tester:

this report is from an automated smoke testing program
and was not reviewed by a human for accuracy

------------------------------
PROGRAM OUTPUT
------------------------------

Output from '/usr/bin/make test':

PERL_DL_NONLAZY=1 /tmp/basesmoker-reloperl-Sisv/bin/perl "-MExtUtils::Command::MM" "-MTest::Harness" "-e" "undef *Test::Harness::Switches; test_harness(0, 'blib/lib', 'blib/arch')" t/*.t
t/00-compile.t ............ ok
# Testing with Perl 5.021003, /tmp/basesmoker-reloperl-Sisv/bin/perl
#     Carp version is 1.34
#     Dist::Zilla::Plugin::ReadmeAnyFromPod version is 0.141760
#     ExtUtils::MakeMaker version is 6.98
#     File::Spec version is 3.49
#     IO::Handle version is 1.35
#     IPC::Open3 version is 1.18
#     Moose version is 2.1210
#     Scalar::Util version is 1.39
#     Test::DZil version is 5.020
#     Test::More version is 1.001003
#     Test::Most version is 0.34
#     autodie version is 2.25
#     strict version is 1.08
#     warnings version is 1.26
t/000-report-versions.t ... ok
t/author-critic.t ......... skipped: these tests are for testing by the author
t/main.t .................. ok
t/release-has-version.t ... skipped: these tests are for release candidate testing
t/release-kwalitee.t ...... skipped: these tests are for release candidate testing
t/release-pod-coverage.t .. skipped: these tests are for release candidate testing
t/release-pod-syntax.t .... skipped: these tests are for release candidate testing
t/release-portability.t ... skipped: these tests are for release candidate testing
t/release-unused-vars.t ... skipped: these tests are for release candidate testing
All tests successful.
Files=10, Tests=20,  3 wallclock secs ( 0.04 usr  0.01 sys +  1.99 cusr  0.08 csys =  2.12 CPU)
Result: PASS

------------------------------
PREREQUISITES
------------------------------

Prerequisite modules loaded:

requires:

    Module                                Need     Have    
    ------------------------------------- -------- --------
    Dist::Zilla::Plugin::ReadmeAnyFromPod 0.120120 0.141760
    Moose                                 0        2.1210  
    strict                                0        1.08    

build_requires:

    Module                                Need     Have    
    ------------------------------------- -------- --------
    autodie                               0        2.25    
    Carp                                  0        1.34    
    File::Spec                            0        3.49    
    IO::Handle                            0        1.35    
    IPC::Open3                            0        1.18    
    Scalar::Util                          0        1.39    
    Test::DZil                            0        5.020   
    Test::More                            0.94     1.001003
    Test::Most                            0        0.34    
    warnings                              0        1.26    

configure_requires:

    Module                                Need     Have    
    ------------------------------------- -------- --------
    ExtUtils::MakeMaker                   6.30     6.98    


------------------------------
ENVIRONMENT AND OTHER CONTEXT
------------------------------

Environment variables:

    AUTOMATED_TESTING = 1
    LANG = en_US.UTF-8
    LANGUAGE = en_US:en
    PATH = /usr/lib/ccache:/home/sand/bin:/usr/local/bin:/usr/bin:/bin:/usr/games:/usr/local/perl/bin:/usr/X11/bin:/sbin:/usr/sbin
    PERL5LIB = /tmp/loop_over_bdir-1183-MmgO6w/FusionInventory-Agent-2.3.10-piv6Cj/blib/arch:/tmp/loop_over_bdir-1183-MmgO6w/FusionInventory-Agent-2.3.10-piv6Cj/blib/lib
    PERL5OPT = 
    PERL5_CPANPLUS_IS_RUNNING = 2811
    PERL5_CPAN_IS_RUNNING = 2811
    PERL_MM_USE_DEFAULT = 1
    SHELL = /usr/bin/zsh
    TERM = screen

Perl special variables (and OS-specific diagnostics, for MSWin32):

    $^X = /tmp/basesmoker-reloperl-Sisv/bin/perl
    $UID/$EUID = 1005 / 1005
    $GID = 1005 1005
    $EGID = 1005 1005

Perl module toolchain versions installed:

    Module              Have    
    ------------------- --------
    CPAN                2.05    
    CPAN::Meta          2.142060
    Cwd                 3.49    
    ExtUtils::CBuilder  0.280216
    ExtUtils::Command   1.18    
    ExtUtils::Install   1.68    
    ExtUtils::MakeMaker 6.98    
    ExtUtils::Manifest  1.64    
    ExtUtils::ParseXS   3.25    
    File::Spec          3.49    
    JSON                2.90    
    JSON::PP            2.27203 
    Module::Build       0.4206  
    Module::Signature   0.73    
    Parse::CPAN::Meta   1.4414  
    Test::Harness       3.32    
    Test::More          1.001003
    YAML                0.98    
    YAML::Syck          1.27    
    version             0.9908  


--

Summary of my perl5 (revision 5 version 21 subversion 3) configuration:
  Commit id: ce7ce09736ea27007b926de51e1f44c473ea79e5
  Platform:
    osname=linux, osvers=3.14-2-amd64, archname=x86_64-linux-thread-multi-ld
    uname='linux k83 3.14-2-amd64 #1 smp debian 3.14.13-2 (2014-07-24) x86_64 gnulinux '
    config_args='-Dprefix=/home/sand/src/perl/repoperls/installed-perls/perl/v5.21.2-89-gce7ce09/a2da -Dmyhostname=k83 -Dinstallusrbinperl=n -Uversiononly -Dusedevel -des -Ui_db -Duseithreads -Duselongdouble -DDEBUGGING=-g'
    hint=recommended, useposix=true, d_sigaction=define
    useithreads=define, usemultiplicity=define
    use64bitint=define, use64bitall=define, uselongdouble=define
    usemymalloc=n, bincompat5005=undef
  Compiler:
    cc='cc', ccflags ='-D_REENTRANT -D_GNU_SOURCE -fwrapv -fno-strict-aliasing -pipe -fstack-protector -I/usr/local/include -D_LARGEFILE_SOURCE -D_FILE_OFFSET_BITS=64 -D_FORTIFY_SOURCE=2',
    optimize='-O2 -g',
    cppflags='-D_REENTRANT -D_GNU_SOURCE -fwrapv -fno-strict-aliasing -pipe -fstack-protector -I/usr/local/include'
    ccversion='', gccversion='4.9.1', gccosandvers=''
    intsize=4, longsize=8, ptrsize=8, doublesize=8, byteorder=12345678
    d_longlong=define, longlongsize=8, d_longdbl=define, longdblsize=16
    ivtype='long', ivsize=8, nvtype='long double', nvsize=16, Off_t='off_t', lseeksize=8
    alignbytes=16, prototype=define
  Linker and Libraries:
    ld='cc', ldflags =' -fstack-protector -L/usr/local/lib'
    libpth=/usr/local/lib /usr/lib/gcc/x86_64-linux-gnu/4.9/include-fixed /usr/include/x86_64-linux-gnu /usr/lib /lib/x86_64-linux-gnu /lib/../lib /usr/lib/x86_64-linux-gnu /usr/lib/../lib /lib
    libs=-lnsl -lgdbm -ldb -ldl -lm -lcrypt -lutil -lpthread -lc -lgdbm_compat
    perllibs=-lnsl -ldl -lm -lcrypt -lutil -lpthread -lc
    libc=libc-2.19.so, so=so, useshrplib=false, libperl=libperl.a
    gnulibc_version='2.19'
  Dynamic Linking:
    dlsrc=dl_dlopen.xs, dlext=so, d_dlsymun=undef, ccdlflags='-Wl,-E'
    cccdlflags='-fPIC', lddlflags='-shared -O2 -g -L/usr/local/lib -fstack-protector'


Characteristics of this binary (from libperl): 
  Compile-time options: HAS_TIMES MULTIPLICITY PERLIO_LAYERS
                        PERL_DONT_CREATE_GVSV
                        PERL_HASH_FUNC_ONE_AT_A_TIME_HARD
                        PERL_IMPLICIT_CONTEXT PERL_MALLOC_WRAP
                        PERL_NEW_COPY_ON_WRITE PERL_PRESERVE_IVUV
                        PERL_USE_DEVEL USE_64_BIT_ALL USE_64_BIT_INT
                        USE_ITHREADS USE_LARGE_FILES USE_LOCALE
                        USE_LOCALE_COLLATE USE_LOCALE_CTYPE
                        USE_LOCALE_NUMERIC USE_LOCALE_TIME USE_LONG_DOUBLE
                        USE_PERLIO USE_PERL_ATOF USE_REENTRANT_API
  Built under linux
  Compiled at Aug  3 2014 19:12:17
  %ENV:
    PERL5LIB="/tmp/loop_over_bdir-1183-MmgO6w/FusionInventory-Agent-2.3.10-piv6Cj/blib/arch:/tmp/loop_over_bdir-1183-MmgO6w/FusionInventory-Agent-2.3.10-piv6Cj/blib/lib"
    PERL5OPT=""
    PERL5_CPANPLUS_IS_RUNNING="2811"
    PERL5_CPAN_IS_RUNNING="2811"
    PERL_MM_USE_DEFAULT="1"
  @INC:
    /tmp/loop_over_bdir-1183-MmgO6w/FusionInventory-Agent-2.3.10-piv6Cj/blib/arch
    /tmp/loop_over_bdir-1183-MmgO6w/FusionInventory-Agent-2.3.10-piv6Cj/blib/lib
    /home/sand/src/perl/repoperls/installed-perls/perl/v5.21.2-89-gce7ce09/a2da/lib/site_perl/5.21.3/x86_64-linux-thread-multi-ld
    /home/sand/src/perl/repoperls/installed-perls/perl/v5.21.2-89-gce7ce09/a2da/lib/site_perl/5.21.3
    /home/sand/src/perl/repoperls/installed-perls/perl/v5.21.2-89-gce7ce09/a2da/lib/5.21.3/x86_64-linux-thread-multi-ld
    /home/sand/src/perl/repoperls/installed-perls/perl/v5.21.2-89-gce7ce09/a2da/lib/5.21.3
    .