DBIx-Class-ResultClass-HashRefInflator-UTF8 v1.000005 Perl 5 v5.20.3 x86_64-linux
        
            - Status
- Pass
- From
- Andreas J. König (ANDK)
- Dist
- 
                DBIx-Class-ResultClass-HashRefInflator-UTF8 v1.000005
            
- Platform
- Perl 5 v5.20.3 x86_64-linux
- Date
- 2018-12-31 06:00:50
- ID
- 6cfe2c6e-0cc1-11e9-a33b-4af16ac126f9
This distribution has been tested as part of the CPAN Testers
project, supporting the Perl programming language.  See
http://wiki.cpantesters.org/ for more information or email
questions to cpan-testers-discuss@perl.org
--
Dear Akzhan Abdulin,
This is a computer-generated report for DBIx-Class-ResultClass-HashRefInflator-UTF8-1.000005
on perl 5.20.3, created by CPAN-Reporter-1.2018.
Thank you for uploading your work to CPAN.  Congratulations!
All tests were successful.
Sections of this report:
    * Tester comments
    * Program output
    * Prerequisites
    * Environment and other context
------------------------------
TESTER COMMENTS
------------------------------
Additional comments from tester:
this report is from an automated smoke testing program
and was not reviewed by a human for accuracy
------------------------------
PROGRAM OUTPUT
------------------------------
Output from '/usr/bin/make test':
PERL_DL_NONLAZY=1 "/home/sand/src/perl/repoperls/installed-perls/host/k93msid/v5.20.3/da1c/bin/perl" "-MExtUtils::Command::MM" "-MTest::Harness" "-e" "undef *Test::Harness::Switches; test_harness(0, 'blib/lib', 'blib/arch')" t/*.t
t/00-compile.t ................................... ok
# 
# Versions for all modules listed in MYMETA.json (including optional ones):
# 
# === Configure Requires ===
# 
#     Module              Want    Have
#     ------------------- ---- -------
#     ExtUtils::MakeMaker  any 7.35_07
# 
# === Build Requires ===
# 
#     Module              Want    Have
#     ------------------- ---- -------
#     ExtUtils::MakeMaker  any 7.35_07
# 
# === Test Requires ===
# 
#     Module              Want     Have
#     ------------------- ---- --------
#     ExtUtils::MakeMaker  any  7.35_07
#     File::Spec           any     3.75
#     File::Temp           any   0.2308
#     FindBin              any     1.51
#     IO::Handle           any     1.35
#     IPC::Open3           any     1.16
#     Test::Deep           any    1.128
#     Test::More          0.98 1.302148
#     strict               any     1.08
#     utf8                 any  1.13_01
#     warnings             any     1.23
# 
# === Test Recommends ===
# 
#     Module                      Want     Have
#     ----------------------- -------- --------
#     CPAN::Meta              2.120900 2.150010
#     Pod::Coverage::TrustPod      any 0.100005
#     Test::CPAN::Meta             any     0.25
#     Test::EOL                    any     2.00
#     Test::NoTabs                 any     2.02
#     Test::Pod                    any     1.52
#     Test::Pod::Coverage          any     1.10
# 
# === Runtime Requires ===
# 
#     Module       Want     Have
#     ------------ ---- --------
#     DBIx::Class   any 0.082841
#     Scalar::Util  any     1.50
#     parent        any    0.237
#     strict        any     1.08
#     utf8          any  1.13_01
#     warnings      any     1.23
# 
t/00-report-prereqs.t ............................ ok
t/author-eol.t ................................... skipped: these tests are for testing by the author
t/author-no-tabs.t ............................... skipped: these tests are for testing by the author
t/author-pod-coverage.t .......................... skipped: these tests are for testing by the author
t/author-pod-syntax.t ............................ skipped: these tests are for testing by the author
t/author-test-version.t .......................... skipped: these tests are for testing by the author
t/DBIx-Class-ResultClass-HashRefInflator-UTF8.t .. ok
t/looks_like_number.t ............................ ok
t/release-distmeta.t ............................. skipped: these tests are for release candidate testing
All tests successful.
Files=10, Tests=10,  1 wallclock secs ( 0.04 usr  0.04 sys +  0.25 cusr  0.12 csys =  0.45 CPU)
Result: PASS
------------------------------
PREREQUISITES
------------------------------
Prerequisite modules loaded:
requires:
    Module              Need     Have    
    ------------------- -------- --------
    DBIx::Class         0        0.082841
    parent              0        0.237   
    perl                5.010001 5.020003
    Scalar::Util        0        1.50    
    strict              0        1.08    
    utf8                0        1.13_01 
    warnings            0        1.23    
build_requires:
    Module              Need     Have    
    ------------------- -------- --------
    ExtUtils::MakeMaker 0        7.35_07 
    File::Spec          0        3.75    
    File::Temp          0        0.2308  
    FindBin             0        1.51    
    IO::Handle          0        1.35    
    IPC::Open3          0        1.16    
    strict              0        1.08    
    Test::Deep          0        1.128   
    Test::More          0.98     1.302148
    utf8                0        1.13_01 
    warnings            0        1.23    
configure_requires:
    Module              Need     Have    
    ------------------- -------- --------
    ExtUtils::MakeMaker 0        7.35_07 
------------------------------
ENVIRONMENT AND OTHER CONTEXT
------------------------------
Environment variables:
    AUTOMATED_TESTING = 1
    LANG = en_US.UTF-8
    PATH = /home/sand/bin:/usr/local/bin:/usr/bin:/bin:/usr/games:/usr/local/perl/bin:/usr/X11/bin:/sbin:/usr/sbin
    PERL5LIB = 
    PERL5OPT = 
    PERL5_CPANPLUS_IS_RUNNING = 18112
    PERL5_CPAN_IS_RUNNING = 18112
    PERL5_CPAN_IS_RUNNING_IN_RECURSION = 5756,18112
    PERL_CANARY_STABILITY_NOPROMPT = 1
    PERL_MM_USE_DEFAULT = 1
    PERL_USE_UNSAFE_INC = 1
    SHELL = /usr/bin/zsh
    TERM = screen
Perl special variables (and OS-specific diagnostics, for MSWin32):
    $^X = /home/sand/src/perl/repoperls/installed-perls/host/k93msid/v5.20.3/da1c/bin/perl
    $UID/$EUID = 1005 / 1005
    $GID = 1005 1005
    $EGID = 1005 1005
Perl module toolchain versions installed:
    Module              Have    
    ------------------- --------
    CPAN                2.21    
    CPAN::Meta          2.150010
    Cwd                 3.75    
    ExtUtils::CBuilder  0.280230
    ExtUtils::Command   7.35_07 
    ExtUtils::Install   2.06    
    ExtUtils::MakeMaker 7.35_07 
    ExtUtils::Manifest  1.70    
    ExtUtils::ParseXS   3.35    
    File::Spec          3.75    
    JSON                4.00    
    JSON::PP            2.97001 
    Module::Build       0.4224  
    Module::Signature   0.83    
    Parse::CPAN::Meta   2.150010
    Test::Harness       3.42    
    Test::More          1.302148
    YAML                1.26    
    YAML::Syck          1.31    
    version             0.9924  
--
Summary of my perl5 (revision 5 version 20 subversion 3) configuration:
  Derived from: b67331aafd6eff33e3fd904c45e811f69cbfb0b2
  Platform:
    osname=linux, osvers=4.18.0-2-amd64, archname=x86_64-linux
    uname='linux k93msid 4.18.0-2-amd64 #1 smp debian 4.18.10-2 (2018-10-07) x86_64 gnulinux '
    config_args='-Dprefix=/home/sand/src/perl/repoperls/installed-perls/host/k93msid/v5.20.3/da1c -Dmyhostname=k93msid -Dinstallusrbinperl=n -Uversiononly -Dusedevel -des -Ui_db -Dlibswanted=cl pthread socket inet nsl gdbm dbm malloc dl ld sun m crypt sec util c cposix posix ucb BSD gdbm_compat -Uuseithreads -Uuselongdouble -DEBUGGING=-g'
    hint=recommended, useposix=true, d_sigaction=define
    useithreads=undef, usemultiplicity=undef
    use64bitint=define, use64bitall=define, uselongdouble=undef
    usemymalloc=n, bincompat5005=undef
  Compiler:
    cc='cc', ccflags ='-fwrapv -fno-strict-aliasing -pipe -fstack-protector -I/usr/local/include -D_LARGEFILE_SOURCE -D_FILE_OFFSET_BITS=64',
    optimize='-O2 -g',
    cppflags='-fwrapv -fno-strict-aliasing -pipe -fstack-protector -I/usr/local/include'
    ccversion='', gccversion='8.2.0', gccosandvers=''
    intsize=4, longsize=8, ptrsize=8, doublesize=8, byteorder=12345678
    d_longlong=define, longlongsize=8, d_longdbl=define, longdblsize=16
    ivtype='long', ivsize=8, nvtype='double', nvsize=8, Off_t='off_t', lseeksize=8
    alignbytes=8, prototype=define
  Linker and Libraries:
    ld='cc', ldflags =' -fstack-protector -L/usr/local/lib'
    libpth=/usr/local/lib /usr/lib/gcc/x86_64-linux-gnu/8/include-fixed /usr/include/x86_64-linux-gnu /usr/lib /lib/x86_64-linux-gnu /lib/../lib /usr/lib/x86_64-linux-gnu /usr/lib/../lib /lib
    libs=-lpthread -lnsl -ldl -lm -lcrypt -lutil -lc
    perllibs=-lpthread -lnsl -ldl -lm -lcrypt -lutil -lc
    libc=libc-2.27.so, so=so, useshrplib=false, libperl=libperl.a
    gnulibc_version='2.27'
  Dynamic Linking:
    dlsrc=dl_dlopen.xs, dlext=so, d_dlsymun=undef, ccdlflags='-Wl,-E'
    cccdlflags='-fPIC', lddlflags='-shared -O2 -g -L/usr/local/lib -fstack-protector'
Characteristics of this binary (from libperl): 
  Compile-time options: HAS_TIMES PERLIO_LAYERS PERL_DONT_CREATE_GVSV
                        PERL_HASH_FUNC_ONE_AT_A_TIME_HARD PERL_MALLOC_WRAP
                        PERL_NEW_COPY_ON_WRITE PERL_PRESERVE_IVUV
                        PERL_USE_DEVEL USE_64_BIT_ALL USE_64_BIT_INT
                        USE_LARGE_FILES USE_LOCALE USE_LOCALE_COLLATE
                        USE_LOCALE_CTYPE USE_LOCALE_NUMERIC USE_PERLIO
                        USE_PERL_ATOF
  Locally applied patches:
	uncommitted-changes
  Built under linux
  Compiled at Oct 28 2018 22:54:11
  %ENV:
    PERL5LIB=""
    PERL5OPT=""
    PERL5_CPANPLUS_IS_RUNNING="18112"
    PERL5_CPAN_IS_RUNNING="18112"
    PERL5_CPAN_IS_RUNNING_IN_RECURSION="5756,18112"
    PERL_CANARY_STABILITY_NOPROMPT="1"
    PERL_MM_USE_DEFAULT="1"
    PERL_USE_UNSAFE_INC="1"
  @INC:
    /home/sand/src/perl/repoperls/installed-perls/host/k93msid/v5.20.3/da1c/lib/site_perl/5.20.3/x86_64-linux
    /home/sand/src/perl/repoperls/installed-perls/host/k93msid/v5.20.3/da1c/lib/site_perl/5.20.3
    /home/sand/src/perl/repoperls/installed-perls/host/k93msid/v5.20.3/da1c/lib/5.20.3/x86_64-linux
    /home/sand/src/perl/repoperls/installed-perls/host/k93msid/v5.20.3/da1c/lib/5.20.3
    .