Dezi-App v0.016 Perl 5 v5.39.2 x86_64-linux-thread-multi-ld

Status
Pass
From
Andreas J. König (ANDK)
Dist
Dezi-App v0.016
Platform
Perl 5 v5.39.2 x86_64-linux-thread-multi-ld
Date
2023-09-14 22:24:10
ID
6d08e802-534d-11ee-ac7e-4674768fa51e
This distribution has been tested as part of the CPAN Testers
project, supporting the Perl programming language.  See
http://wiki.cpantesters.org/ for more information or email
questions to cpan-testers-discuss@perl.org


--
Dear Peter Karman,

This is a computer-generated report for Dezi-App-0.016
on perl 5.39.2, created by CPAN-Reporter-1.2019.

Thank you for uploading your work to CPAN.  Congratulations!
All tests were successful.

Sections of this report:

    * Tester comments
    * Program output
    * Prerequisites
    * Environment and other context

------------------------------
TESTER COMMENTS
------------------------------

Additional comments from tester:

this report is from an automated smoke testing program
and was not reviewed by a human for accuracy

------------------------------
PROGRAM OUTPUT
------------------------------

Output from '/usr/bin/make test':

PERL_DL_NONLAZY=1 "/tmp/basesmoker-reloperl-0q94/bin/perl" "-MExtUtils::Command::MM" "-MTest::Harness" "-e" "undef *Test::Harness::Switches; test_harness(0, 'blib/lib', 'blib/arch')" t/*.t t/lucy/*.t
# Testing Dezi::App 0.016
# Lucy 0.006002
# SWISH::3 1.000015, libswish3 version 1.0.2480a0b libxml2 version 2.9.13
# Perl 5.039002, /tmp/basesmoker-reloperl-0q94/bin/perl
t/000-load.t .......................... ok
# testing Dezi::App version 0.016
# doc filter on t/test.pdf
# doc filter on t/test.html
# doc filter on t/test.xml
# doc filter on t/test-gz.html
# doc filter on t/test.pdf
# doc filter on t/test-gz.xml
# doc filter on t/test2.html
t/000-synopsis.t ...................... ok
t/001-fs.t ............................ ok
# Checking on Mail::Box
# Checking on Dezi::Aggregator::Mail
t/002-mail.t .......................... ok
# set TEST_SPIDER env var to test the spider
t/003-spider.t ........................ ok
t/004-indexer-config.t ................ ok
# { Format => "Test", Locale => "en_US.UTF-8", Name => "index.swish" }
t/005-invindex-header.t ............... ok
# converting t/config2/example1.config
# converting t/config2/example8.config
# converting t/config2/example4.config
# converting t/config2/complex.conf
# converting t/config2/example5.config
# converting t/config2/example6.config
# converting t/config2/example9.config
# converting t/config2/example2.config
# converting t/config2/example7.config
# converting t/config2/example3.config
t/006-indexer-config.t ................ ok
t/007-leak-test.t ..................... ok
# Checking on Mail::Box
# Checking on Dezi::Aggregator::MailFS
# t/mailfs/somedir/cur/1201404060.V802I5f9e4M893922.louvin.peknet.com:2,
t/008-mail-fs.t ....................... ok
# t/test-gz.html
# t/test-gz.xml
# t/test.html
# t/test2.html
# t/test.xml
t/009-searcher.t ...................... ok
Overriding invindex->path 'dezi.index' with IndexFile value from config 'foo/bar'
t/010-invindex-config.t ............... ok
t/011-replace-rules.t ................. ok
# Checking on Dezi::Aggregator::Spider
# Checking on Test::HTTP::Server::Simple
# Checking on HTTP::Server::Simple::CGI
# Checking on HTTP::Server::Simple::Authen
# spidering http://localhost:5002
[Thu Sep 14 22:21:30 2023][2443043] http://127.0.0.1/hello [500 Can't connect to 127.0.0.1:80 (Connection refused)]
t/012-spider-server.t ................. ok
t/013-utils.t ......................... ok
t/014-logging.t ....................... ok
# Checking on Dezi::Aggregator::DBI
# Checking on DBI
# Checking on Rose::DBx::TestDB
Can't locate Rose/DBx/TestDB.pm in @INC (you may need to install the Rose::DBx::TestDB module) (@INC entries checked: /tmp/loop_over_bdir-2463-_XQut3/Dezi-App-0.016-0/blib/lib /tmp/loop_over_bdir-2463-_XQut3/Dezi-App-0.016-0/blib/arch /tmp/loop_over_bdir-2463-_XQut3/Business-Shipping-DataFiles-1.02-0/blib/arch /tmp/loop_over_bdir-2463-_XQut3/Business-Shipping-DataFiles-1.02-0/blib/lib /tmp/loop_over_bdir-2463-_XQut3/Linux-InitFS-0.2-0/blib/arch /tmp/loop_over_bdir-2463-_XQut3/Linux-InitFS-0.2-0/blib/lib /tmp/loop_over_bdir-2463-_XQut3/Devel-Required-0.16-0/blib/arch /tmp/loop_over_bdir-2463-_XQut3/Devel-Required-0.16-0/blib/lib /tmp/loop_over_bdir-2463-_XQut3/Lingua-YaTeA-0.626-0/blib/arch /tmp/loop_over_bdir-2463-_XQut3/Lingua-YaTeA-0.626-0/blib/lib /tmp/loop_over_bdir-2463-_XQut3/EJBCA-CrlPublish-0.60-0/blib/arch /tmp/loop_over_bdir-2463-_XQut3/EJBCA-CrlPublish-0.60-0/blib/lib /tmp/loop_over_bdir-2463-_XQut3/Business-Shipping-DataFiles-1.02-0/blib/arch /tmp/loop_over_bdir-2463-_XQut3/Business-Shipping-DataFiles-1.02-0/blib/lib /tmp/loop_over_bdir-2463-_XQut3/Linux-InitFS-0.2-0/blib/arch /tmp/loop_over_bdir-2463-_XQut3/Linux-InitFS-0.2-0/blib/lib /tmp/loop_over_bdir-2463-_XQut3/Devel-Required-0.16-0/blib/arch /tmp/loop_over_bdir-2463-_XQut3/Devel-Required-0.16-0/blib/lib /tmp/loop_over_bdir-2463-_XQut3/Lingua-YaTeA-0.626-0/blib/arch /tmp/loop_over_bdir-2463-_XQut3/Lingua-YaTeA-0.626-0/blib/lib /tmp/loop_over_bdir-2463-_XQut3/EJBCA-CrlPublish-0.60-0/blib/arch /tmp/loop_over_bdir-2463-_XQut3/EJBCA-CrlPublish-0.60-0/blib/lib /home/sand/src/perl/repoperls/installed-perls/host/k93jammy/v5.39.2/322f/lib/site_perl/5.39.2/x86_64-linux-thread-multi-ld /home/sand/src/perl/repoperls/installed-perls/host/k93jammy/v5.39.2/322f/lib/site_perl/5.39.2 /home/sand/src/perl/repoperls/installed-perls/host/k93jammy/v5.39.2/322f/lib/5.39.2/x86_64-linux-thread-multi-ld /home/sand/src/perl/repoperls/installed-perls/host/k93jammy/v5.39.2/322f/lib/5.39.2 .) at t/015-dbi.t line 29.
	main::try {...} () called at /home/sand/src/perl/repoperls/installed-perls/host/k93jammy/v5.39.2/322f/lib/site_perl/5.39.2/Try/Tiny.pm line 100
	eval {...} called at /home/sand/src/perl/repoperls/installed-perls/host/k93jammy/v5.39.2/322f/lib/site_perl/5.39.2/Try/Tiny.pm line 93
	Try::Tiny::try(CODE(0x55cd6f1c5140), Try::Tiny::Catch=REF(0x55cd71297518)) called at t/015-dbi.t line 39
# ----------------------------------------
# Do you need to install Rose::DBx::TestDB ?
# ----------------------------------------
t/015-dbi.t ........................... ok
# Testing Dezi::Lucy 0.016 Lucy 0.006002 , Perl 5.039002, /tmp/basesmoker-reloperl-0q94/bin/perl
t/lucy/000-load.t ..................... ok
# 16
# result2: ["doc"]
# result3: ["swishdefault"]
# result3: ["doc"]
# t/lucy/test.html
# t/lucy/test.xml
# t/lucy/test.html
# t/lucy/test.xml
t/lucy/001-fs.t ....................... ok
t/lucy/002-leak-trace.t ............... ok
# pass 1
# pass 2
# pass 3
t/lucy/003-update-index.t ............. ok
t/lucy/004-auto-reconnect-searcher.t .. ok
t/lucy/005-stemmer.t .................. ok
t/lucy/006-fields.t ................... ok
t/pod-coverage.t ...................... skipped: set RELEASE_TESTING to test POD
t/pod.t ............................... skipped: set RELEASE_TESTING to test POD
All tests successful.
Files=26, Tests=388, 17 wallclock secs ( 0.10 usr  0.04 sys + 14.46 cusr  1.94 csys = 16.54 CPU)
Result: PASS

------------------------------
PREREQUISITES
------------------------------

Prerequisite modules loaded:

requires:

    Module                       Need     Have    
    ---------------------------- -------- --------
    Carp                         0        1.54    
    Class::Load                  0        0.25    
    Config::General              2.31     2.65    
    Data::Dump                   0        1.25    
    DateTime::Format::DateParse  0        0.05    
    Digest::MD5                  0        2.58_01 
    File::Basename               0        2.86    
    File::Rules                  0.02     0.02    
    File::Spec                   0        3.90    
    File::Temp                   0        0.2311  
    HTTP::Date                   0        6.06    
    Lucy                         0.006002 0.006002
    Moose                        0        2.2206  
    MooseX::Getopt               0        0.75    
    MooseX::StrictConstructor    0        0.21    
    MooseX::Types::DateTime      0        0.13    
    MooseX::Types::Path::Class   0        0.09    
    MooseX::XSAccessor           0        0.010   
    namespace::autoclean         0        0.29    
    Path::Class                  0.32     0.37    
    Path::Class::File::Lockable  0        0.03    
    Path::Class::File::Stat      0.05     0.05    
    perl                         5.008003 5.039002
    Scalar::Util                 0        1.63    
    Search::Query                0.307    0.307   
    Search::Query::Dialect::Lucy 0.202    0.202   
    Search::Tools                1.000    1.007   
    Sort::SQL                    0        0.08    
    SWISH::3                     1.000015 1.000015
    SWISH::Filter                0.191    0.191   
    Sys::Hostname                0        1.25    
    Text::ParseWords             0        3.31    
    Time::HiRes                  0        1.9776  
    Try::Tiny                    0        0.31    
    Type::Tiny                   0        2.004000
    Types::Standard              0        2.004000

build_requires:

    Module                       Need     Have    
    ---------------------------- -------- --------
    CAM::PDF                     0        1.60    
    Compress::Zlib               0        2.206   
    ExtUtils::MakeMaker          0        7.70    
    Test::LeakTrace              0        0.17    
    Test::More                   0        1.302195

configure_requires:

    Module                       Need     Have    
    ---------------------------- -------- --------
    ExtUtils::MakeMaker          0        7.70    

opt_requires:

    Module                       Need     Have    
    ---------------------------- -------- --------
    DBI                          0        1.643   
    File::Find                   0        1.43    
    HTML::LinkExtor              0        3.81    
    HTML::Tagset                 0        3.20    
    HTTP::Cookies                0        6.10    
    HTTP::Message                0        6.44    
    HTTP::Server::Simple         0        0.52    
    HTTP::Server::Simple::Authen 0        0.04    
    JSON                         2.0      4.10    
    LWP::RobotUA                 0        6.72    
    Mail::Box                    0        3.010   
  ! Rose::DBx::TestDB            0        n/a     
    Term::ProgressBar            0        2.23    
    Test::HTTP::Server::Simple   0        0.11    
    URI                          0        5.21    
    WWW::Sitemap::XML            0        2.02    
    XML::Feed                    0        0.63    
    YAML::Syck                   0.72     1.34    


------------------------------
ENVIRONMENT AND OTHER CONTEXT
------------------------------

Environment variables:

    AUTOMATED_TESTING = 1
    LANG = en_US.UTF-8
    LC_ADDRESS = de_DE.UTF-8
    LC_IDENTIFICATION = de_DE.UTF-8
    LC_MEASUREMENT = de_DE.UTF-8
    LC_MONETARY = de_DE.UTF-8
    LC_NAME = de_DE.UTF-8
    LC_NUMERIC = de_DE.UTF-8
    LC_PAPER = de_DE.UTF-8
    LC_TELEPHONE = de_DE.UTF-8
    LC_TIME = de_DE.UTF-8
    PATH = /home/sand/bin:/usr/local/bin:/usr/local/sbin:/usr/sbin:/usr/bin:/sbin:/bin:/usr/games:/usr/local/games:/snap/bin:/usr/local/perl/bin:/usr/X11/bin
    PERL = /tmp/basesmoker-reloperl-0q94/bin/perl
    PERL5LIB = /tmp/loop_over_bdir-2463-_XQut3/Business-Shipping-DataFiles-1.02-0/blib/arch:/tmp/loop_over_bdir-2463-_XQut3/Business-Shipping-DataFiles-1.02-0/blib/lib:/tmp/loop_over_bdir-2463-_XQut3/Linux-InitFS-0.2-0/blib/arch:/tmp/loop_over_bdir-2463-_XQut3/Linux-InitFS-0.2-0/blib/lib:/tmp/loop_over_bdir-2463-_XQut3/Devel-Required-0.16-0/blib/arch:/tmp/loop_over_bdir-2463-_XQut3/Devel-Required-0.16-0/blib/lib:/tmp/loop_over_bdir-2463-_XQut3/Lingua-YaTeA-0.626-0/blib/arch:/tmp/loop_over_bdir-2463-_XQut3/Lingua-YaTeA-0.626-0/blib/lib:/tmp/loop_over_bdir-2463-_XQut3/EJBCA-CrlPublish-0.60-0/blib/arch:/tmp/loop_over_bdir-2463-_XQut3/EJBCA-CrlPublish-0.60-0/blib/lib
    PERL5OPT = 
    PERL5_CPANPLUS_IS_RUNNING = 2471
    PERL5_CPAN_IS_RUNNING = 2471
    PERL_CANARY_STABILITY_NOPROMPT = 1
    PERL_MM_USE_DEFAULT = 1
    PERL_USE_UNSAFE_INC = 1
    SHELL = /usr/bin/zsh
    TERM = screen

Perl special variables (and OS-specific diagnostics, for MSWin32):

    $^X = /tmp/basesmoker-reloperl-0q94/bin/perl
    $UID/$EUID = 1005 / 1005
    $GID = 1005 1005
    $EGID = 1005 1005

Perl module toolchain versions installed:

    Module              Have    
    ------------------- --------
    CPAN                2.36    
    CPAN::Meta          2.150010
    Cwd                 3.90    
    ExtUtils::CBuilder  0.280239
    ExtUtils::Command   7.70    
    ExtUtils::Install   2.22    
    ExtUtils::MakeMaker 7.70    
    ExtUtils::Manifest  1.75    
    ExtUtils::ParseXS   3.51    
    File::Spec          3.90    
    JSON                4.10    
    JSON::PP            4.16    
    Module::Build       0.4234  
    Module::Signature   0.88    
    Parse::CPAN::Meta   2.150010
    Test2               1.302195
    Test::Harness       3.47    
    Test::More          1.302195
    YAML                1.30    
    YAML::Syck          1.34    
    version             0.9929  


--

Summary of my perl5 (revision 5 version 39 subversion 2) configuration:
  Commit id: e246fd63c3ad4034efc21113d44231047f6b2909
  Platform:
    osname=linux
    osvers=6.2.0-32-generic
    archname=x86_64-linux-thread-multi-ld
    uname='linux k93jammy 6.2.0-32-generic #32~22.04.1-ubuntu smp preempt_dynamic fri aug 18 10:40:13 utc 2 x86_64 x86_64 x86_64 gnulinux '
    config_args='-Dprefix=/home/sand/src/perl/repoperls/installed-perls/host/k93jammy/v5.39.2/322f -Dmyhostname=k93jammy -Dinstallusrbinperl=n -Uversiononly -Dusedevel -des -Ui_db -Dlibswanted=cl pthread socket inet nsl gdbm dbm malloc dl ld sun m crypt sec util c cposix posix ucb BSD gdbm_compat -Duseithreads -Duselongdouble -DEBUGGING=-g'
    hint=recommended
    useposix=true
    d_sigaction=define
    useithreads=define
    usemultiplicity=define
    use64bitint=define
    use64bitall=define
    uselongdouble=define
    usemymalloc=n
    default_inc_excludes_dot=define
  Compiler:
    cc='cc'
    ccflags ='-D_REENTRANT -D_GNU_SOURCE -fwrapv -fno-strict-aliasing -pipe -fstack-protector-strong -I/usr/local/include -D_LARGEFILE_SOURCE -D_FILE_OFFSET_BITS=64'
    optimize='-O2 -g'
    cppflags='-D_REENTRANT -D_GNU_SOURCE -fwrapv -fno-strict-aliasing -pipe -fstack-protector-strong -I/usr/local/include'
    ccversion=''
    gccversion='11.4.0'
    gccosandvers=''
    intsize=4
    longsize=8
    ptrsize=8
    doublesize=8
    byteorder=12345678
    doublekind=3
    d_longlong=define
    longlongsize=8
    d_longdbl=define
    longdblsize=16
    longdblkind=3
    ivtype='long'
    ivsize=8
    nvtype='long double'
    nvsize=16
    Off_t='off_t'
    lseeksize=8
    alignbytes=16
    prototype=define
  Linker and Libraries:
    ld='cc'
    ldflags =' -fstack-protector-strong -L/usr/local/lib'
    libpth=/usr/local/lib /usr/lib/x86_64-linux-gnu /usr/lib /usr/lib64
    libs=-lpthread -lnsl -ldl -lm -lcrypt -lutil -lc
    perllibs=-lpthread -lnsl -ldl -lm -lcrypt -lutil -lc
    libc=/lib/x86_64-linux-gnu/libc.so.6
    so=so
    useshrplib=false
    libperl=libperl.a
    gnulibc_version='2.35'
  Dynamic Linking:
    dlsrc=dl_dlopen.xs
    dlext=so
    d_dlsymun=undef
    ccdlflags='-Wl,-E'
    cccdlflags='-fPIC'
    lddlflags='-shared -O2 -g -L/usr/local/lib -fstack-protector-strong'


Characteristics of this binary (from libperl): 
  Compile-time options:
    HAS_LONG_DOUBLE
    HAS_STRTOLD
    HAS_TIMES
    MULTIPLICITY
    PERLIO_LAYERS
    PERL_COPY_ON_WRITE
    PERL_DONT_CREATE_GVSV
    PERL_HASH_FUNC_SIPHASH13
    PERL_HASH_USE_SBOX32
    PERL_MALLOC_WRAP
    PERL_OP_PARENT
    PERL_PRESERVE_IVUV
    PERL_USE_DEVEL
    PERL_USE_SAFE_PUTENV
    USE_64_BIT_ALL
    USE_64_BIT_INT
    USE_ITHREADS
    USE_LARGE_FILES
    USE_LOCALE
    USE_LOCALE_COLLATE
    USE_LOCALE_CTYPE
    USE_LOCALE_NUMERIC
    USE_LOCALE_TIME
    USE_LONG_DOUBLE
    USE_PERLIO
    USE_PERL_ATOF
    USE_REENTRANT_API
    USE_THREAD_SAFE_LOCALE
  Built under linux
  Compiled at Sep 11 2023 06:29:39
  %ENV:
    PERL="/tmp/basesmoker-reloperl-0q94/bin/perl"
    PERL5LIB="/tmp/loop_over_bdir-2463-_XQut3/Business-Shipping-DataFiles-1.02-0/blib/arch:/tmp/loop_over_bdir-2463-_XQut3/Business-Shipping-DataFiles-1.02-0/blib/lib:/tmp/loop_over_bdir-2463-_XQut3/Linux-InitFS-0.2-0/blib/arch:/tmp/loop_over_bdir-2463-_XQut3/Linux-InitFS-0.2-0/blib/lib:/tmp/loop_over_bdir-2463-_XQut3/Devel-Required-0.16-0/blib/arch:/tmp/loop_over_bdir-2463-_XQut3/Devel-Required-0.16-0/blib/lib:/tmp/loop_over_bdir-2463-_XQut3/Lingua-YaTeA-0.626-0/blib/arch:/tmp/loop_over_bdir-2463-_XQut3/Lingua-YaTeA-0.626-0/blib/lib:/tmp/loop_over_bdir-2463-_XQut3/EJBCA-CrlPublish-0.60-0/blib/arch:/tmp/loop_over_bdir-2463-_XQut3/EJBCA-CrlPublish-0.60-0/blib/lib"
    PERL5OPT=""
    PERL5_CPANPLUS_IS_RUNNING="2471"
    PERL5_CPAN_IS_RUNNING="2471"
    PERL_CANARY_STABILITY_NOPROMPT="1"
    PERL_MM_USE_DEFAULT="1"
    PERL_USE_UNSAFE_INC="1"
  @INC:
    /tmp/loop_over_bdir-2463-_XQut3/Business-Shipping-DataFiles-1.02-0/blib/arch
    /tmp/loop_over_bdir-2463-_XQut3/Business-Shipping-DataFiles-1.02-0/blib/lib
    /tmp/loop_over_bdir-2463-_XQut3/Linux-InitFS-0.2-0/blib/arch
    /tmp/loop_over_bdir-2463-_XQut3/Linux-InitFS-0.2-0/blib/lib
    /tmp/loop_over_bdir-2463-_XQut3/Devel-Required-0.16-0/blib/arch
    /tmp/loop_over_bdir-2463-_XQut3/Devel-Required-0.16-0/blib/lib
    /tmp/loop_over_bdir-2463-_XQut3/Lingua-YaTeA-0.626-0/blib/arch
    /tmp/loop_over_bdir-2463-_XQut3/Lingua-YaTeA-0.626-0/blib/lib
    /tmp/loop_over_bdir-2463-_XQut3/EJBCA-CrlPublish-0.60-0/blib/arch
    /tmp/loop_over_bdir-2463-_XQut3/EJBCA-CrlPublish-0.60-0/blib/lib
    /home/sand/src/perl/repoperls/installed-perls/host/k93jammy/v5.39.2/322f/lib/site_perl/5.39.2/x86_64-linux-thread-multi-ld
    /home/sand/src/perl/repoperls/installed-perls/host/k93jammy/v5.39.2/322f/lib/site_perl/5.39.2
    /home/sand/src/perl/repoperls/installed-perls/host/k93jammy/v5.39.2/322f/lib/5.39.2/x86_64-linux-thread-multi-ld
    /home/sand/src/perl/repoperls/installed-perls/host/k93jammy/v5.39.2/322f/lib/5.39.2
    .