HTTP-Cache-Transparent v1.4 Perl 5 v5.33.2 cygwin-thread-multi

Status
Pass
From
Nigel Horne
Dist
HTTP-Cache-Transparent v1.4
Platform
Perl 5 v5.33.2 cygwin-thread-multi
Date
2020-10-21 12:39:14
ID
6d23d1a8-139a-11eb-b9db-b6c7a8faccfa
This distribution has been tested as part of the CPAN Testers
project, supporting the Perl programming language.  See
http://wiki.cpantesters.org/ for more information or email
questions to cpan-testers-discuss@perl.org


--
Dear Mattias Holmlund,

This is a computer-generated report for HTTP-Cache-Transparent-1.4
on perl 5.33.2, created by CPAN-Reporter-1.2018.

Thank you for uploading your work to CPAN.  Congratulations!
All tests were successful.

Sections of this report:

    * Tester comments
    * Program output
    * Prerequisites
    * Environment and other context

------------------------------
TESTER COMMENTS
------------------------------

Additional comments from tester:

none provided

------------------------------
PROGRAM OUTPUT
------------------------------

Output from '/usr/bin/make test':

PERL_DL_NONLAZY=1 "/home/Nigel/perl5/perlbrew/perls/perl-5.33.2/bin/perl5.33.2.exe" "-MExtUtils::Command::MM" "-MTest::Harness" "-e" "undef *Test::Harness::Switches; test_harness(0, 'blib/lib', 'blib/arch')" t/*.t
t/pod-coverage.t ............ skipped: Test::Pod::Coverage 1.00 required for testing POD coverage
t/HTTP-Cache-Transparent.t .. ok
t/pod.t ..................... skipped: Test::Pod 1.00 required for testing POD
t/cache.t ................... ok
All tests successful.
Files=4, Tests=9, 11 wallclock secs ( 0.00 usr  0.05 sys +  0.61 cusr  0.73 csys =  1.38 CPU)
Result: PASS

------------------------------
PREREQUISITES
------------------------------

Prerequisite modules loaded:

requires:

    Module              Need Have
    ------------------- ---- ----
    LWP                 0    6.49

build_requires:

    Module              Need Have
    ------------------- ---- ----
    ExtUtils::MakeMaker 0    7.48

configure_requires:

    Module              Need Have
    ------------------- ---- ----
    ExtUtils::MakeMaker 0    7.48


------------------------------
ENVIRONMENT AND OTHER CONTEXT
------------------------------

Environment variables:

    COMSPEC = C:\WINDOWS\system32\cmd.exe
    HARNESS_OPTIONS = c:j6
    LANG = en_GB.UTF-8
    NONINTERACTIVE_TESTING = 1
    NUMBER_OF_PROCESSORS = 12
    PATH = /home/Nigel/perl5/perlbrew/bin:/home/Nigel/perl5/perlbrew/perls/perl-5.33.2/bin:::/home/Nigel/perl5/perlbrew/bin:/home/Nigel/bin::/home/Nigel/bin:/usr/local/bin:/usr/bin:/bin
    PERL5LIB = 
    PERL5OPT = 
    PERL5_CPANPLUS_IS_RUNNING = 1746
    PERL5_CPAN_IS_RUNNING = 1746
    PERL5_CPAN_IS_RUNNING_IN_RECURSION = 1745,1746
    PERLBREW_HOME = /home/Nigel/.perlbrew
    PERLBREW_LIB = 
    PERLBREW_MANPATH = /home/Nigel/perl5/perlbrew/perls/perl-5.33.2/man
    PERLBREW_PATH = /home/Nigel/perl5/perlbrew/bin:/home/Nigel/perl5/perlbrew/perls/perl-5.33.2/bin
    PERLBREW_PERL = perl-5.33.2
    PERLBREW_ROOT = /home/Nigel/perl5/perlbrew
    PERLBREW_SHELLRC_VERSION = 0.86
    PERLBREW_VERSION = 0.86
    PERL_LOCAL_LIB_ROOT = 
    PERL_MM_USE_DEFAULT = 1
    PERL_USE_UNSAFE_INC = 1
    PROCESSOR_IDENTIFIER = Intel64 Family 6 Model 62 Stepping 4, GenuineIntel
    SHELL = /bin/bash
    TEMP = /cygdrive/j/temp
    TERM = xterm
    TMPDIR = /cygdrive/j/temp

Perl special variables (and OS-specific diagnostics, for MSWin32):

    $^X = /home/Nigel/perl5/perlbrew/perls/perl-5.33.2/bin/perl5.33.2
    $UID/$EUID = 1001 / 1001
    $GID = 11001 401408 1002 559 545 4 66049 11 15 68354 113 4095 66048 262180
    $EGID = 11001 401408 1002 559 545 4 66049 11 15 68354 113 4095 66048 262180

Perl module toolchain versions installed:

    Module              Have    
    ------------------- --------
    CPAN                2.27    
    CPAN::Meta          2.150010
    Cwd                 3.78    
    ExtUtils::CBuilder  0.280234
    ExtUtils::Command   7.48    
    ExtUtils::Install   2.18    
    ExtUtils::MakeMaker 7.48    
    ExtUtils::Manifest  1.72    
    ExtUtils::ParseXS   3.41    
    File::Spec          3.78    
    JSON                n/a     
    JSON::PP            4.05    
    Module::Build       0.4231  
    Module::Signature   n/a     
    Parse::CPAN::Meta   2.150010
    Test::Harness       3.42    
    Test::More          1.302181
    YAML                n/a     
    YAML::Syck          n/a     
    version             0.9924  


--

Summary of my perl5 (revision 5 version 33 subversion 2) configuration:
   
  Platform:
    osname=cygwin
    osvers=3.1.7(0.34053)
    archname=cygwin-thread-multi
    uname='cygwin_nt-10.0 cyberpower 3.1.7(0.34053) 2020-08-22 17:48 x86_64 cygwin '
    config_args='-de -Dprefix=/home/Nigel/perl5/perlbrew/perls/perl-5.33.2 -Dusedevel -Dusedevel -Accflags=-O2 -W -Wformat=2 -Wswitch -Wshadow -Wwrite-strings -Wuninitialized -Wall -pipe -mtune=native -march=native -fomit-frame-pointer -msse2 -msse -mmmx -mfpmath=sse -D_FORTIFY_SOURCE=2 -Wpointer-arith -Wstrict-prototypes -fstack-protector -Wstack-protector -Wextra -Wbad-function-cast -Wcast-align -Wcast-qual -Wdisabled-optimization -Wendif-labels -Wfloat-equal -Wformat-nonliteral -Winline -Wmissing-declarations -Wmissing-prototypes -Wnested-externs -Wpointer-arith -Wundef -Wformat-security -ftree-vectorize -mtune=native -march=native -Aeval:scriptdir=/home/Nigel/perl5/perlbrew/perls/perl-5.33.2/bin'
    hint=recommended
    useposix=true
    d_sigaction=define
    useithreads=define
    usemultiplicity=define
    use64bitint=define
    use64bitall=define
    uselongdouble=undef
    usemymalloc=n
    default_inc_excludes_dot=define
  Compiler:
    cc='gcc'
    ccflags ='-DPERL_USE_SAFE_PUTENV -U__STRICT_ANSI__ -O2 -W -Wformat=2 -Wswitch -Wshadow -Wwrite-strings -Wuninitialized -Wall -pipe -mtune=native -march=native -fomit-frame-pointer -msse2 -msse -mmmx -mfpmath=sse -D_FORTIFY_SOURCE=2 -Wpointer-arith -Wstrict-prototypes -fstack-protector -Wstack-protector -Wextra -Wbad-function-cast -Wcast-align -Wcast-qual -Wdisabled-optimization -Wendif-labels -Wfloat-equal -Wformat-nonliteral -Winline -Wmissing-declarations -Wmissing-prototypes -Wnested-externs -Wpointer-arith -Wundef -Wformat-security -ftree-vectorize -mtune=native -march=native -fwrapv -fno-strict-aliasing -fstack-protector-strong'
    optimize='-O3'
    cppflags='-DPERL_USE_SAFE_PUTENV -U__STRICT_ANSI__ -O2 -W -Wformat=2 -Wswitch -Wshadow -Wwrite-strings -Wuninitialized -Wall -pipe -mtune=native -march=native -fomit-frame-pointer -msse2 -msse -mmmx -mfpmath=sse -D_FORTIFY_SOURCE=2 -Wpointer-arith -Wstrict-prototypes -fstack-protector -Wstack-protector -Wextra -Wbad-function-cast -Wcast-align -Wcast-qual -Wdisabled-optimization -Wendif-labels -Wfloat-equal -Wformat-nonliteral -Winline -Wmissing-declarations -Wmissing-prototypes -Wnested-externs -Wpointer-arith -Wundef -Wformat-security -ftree-vectorize -mtune=native -march=native -fwrapv -fno-strict-aliasing -fstack-protector-strong'
    ccversion=''
    gccversion='9.3.0'
    gccosandvers=''
    intsize=4
    longsize=8
    ptrsize=8
    doublesize=8
    byteorder=12345678
    doublekind=3
    d_longlong=define
    longlongsize=8
    d_longdbl=define
    longdblsize=16
    longdblkind=3
    ivtype='long'
    ivsize=8
    nvtype='double'
    nvsize=8
    Off_t='off_t'
    lseeksize=8
    alignbytes=8
    prototype=define
  Linker and Libraries:
    ld='g++'
    ldflags =' -Wl,--enable-auto-import -Wl,--export-all-symbols -Wl,--enable-auto-image-base -fstack-protector-strong -L/usr/local/lib'
    libpth=/usr/lib /usr/lib/gcc/x86_64-pc-cygwin/9.3.0/../../../../lib/../include/w32api /usr/local/lib /lib
    libs=-lpthread -ldl
    perllibs=-lpthread -ldl
    libc=/usr/lib/libc.a
    so=dll
    useshrplib=true
    libperl=cygperl5_33_2.dll
    gnulibc_version=''
  Dynamic Linking:
    dlsrc=dl_dlopen.xs
    dlext=dll
    d_dlsymun=undef
    ccdlflags=' '
    cccdlflags=' '
    lddlflags=' --shared  -Wl,--enable-auto-import -Wl,--export-all-symbols -Wl,--enable-auto-image-base -L/usr/local/lib -fstack-protector-strong'


Characteristics of this binary (from libperl): 
  Compile-time options:
    HAS_TIMES
    MULTIPLICITY
    PERLIO_LAYERS
    PERL_COPY_ON_WRITE
    PERL_DONT_CREATE_GVSV
    PERL_IMPLICIT_CONTEXT
    PERL_MALLOC_WRAP
    PERL_OP_PARENT
    PERL_PRESERVE_IVUV
    PERL_USE_DEVEL
    PERL_USE_SAFE_PUTENV
    USE_64_BIT_ALL
    USE_64_BIT_INT
    USE_ITHREADS
    USE_LARGE_FILES
    USE_LOCALE
    USE_LOCALE_COLLATE
    USE_LOCALE_CTYPE
    USE_LOCALE_NUMERIC
    USE_LOCALE_TIME
    USE_PERLIO
    USE_PERL_ATOF
    USE_REENTRANT_API
    USE_THREAD_SAFE_LOCALE
  Built under cygwin
  Compiled at Oct 11 2020 12:13:03
  %ENV:
    PERL5LIB=""
    PERL5OPT=""
    PERL5_CPANPLUS_IS_RUNNING="1746"
    PERL5_CPAN_IS_RUNNING="1746"
    PERL5_CPAN_IS_RUNNING_IN_RECURSION="1745,1746"
    PERLBREW_HOME="/home/Nigel/.perlbrew"
    PERLBREW_LIB=""
    PERLBREW_MANPATH="/home/Nigel/perl5/perlbrew/perls/perl-5.33.2/man"
    PERLBREW_PATH="/home/Nigel/perl5/perlbrew/bin:/home/Nigel/perl5/perlbrew/perls/perl-5.33.2/bin"
    PERLBREW_PERL="perl-5.33.2"
    PERLBREW_ROOT="/home/Nigel/perl5/perlbrew"
    PERLBREW_SHELLRC_VERSION="0.86"
    PERLBREW_VERSION="0.86"
    PERL_LOCAL_LIB_ROOT=""
    PERL_MM_USE_DEFAULT="1"
    PERL_USE_UNSAFE_INC="1"
  @INC:
    /home/Nigel/perl5/perlbrew/perls/perl-5.33.2/lib/site_perl/5.33.2/cygwin-thread-multi
    /home/Nigel/perl5/perlbrew/perls/perl-5.33.2/lib/site_perl/5.33.2
    /home/Nigel/perl5/perlbrew/perls/perl-5.33.2/lib/5.33.2/cygwin-thread-multi
    /home/Nigel/perl5/perlbrew/perls/perl-5.33.2/lib/5.33.2
    .