Promise-ES6 v0.28 Perl 5 v5.16.3 darwin-thread-multi-2level

Status
Pass
From
David Cantrell (DCANTRELL)
Dist
Promise-ES6 v0.28
Platform
Perl 5 v5.16.3 darwin-thread-multi-2level
Date
2024-07-17 22:32:19
ID
6d4c7cbc-448c-11ef-be63-e8e8f5e06b75
This distribution has been tested as part of the CPAN Testers
project, supporting the Perl programming language.  See
http://wiki.cpantesters.org/ for more information or email
questions to cpan-testers-discuss@perl.org


--
Dear Felipe Gasper,

This is a computer-generated report for Promise-ES6-0.28
on perl 5.16.3, created by CPAN-Reporter-1.2019.

Thank you for uploading your work to CPAN.  Congratulations!
All tests were successful.

Sections of this report:

    * Tester comments
    * Program output
    * Prerequisites
    * Environment and other context

------------------------------
TESTER COMMENTS
------------------------------

Additional comments from tester:

this report is from an automated smoke testing program
and was not reviewed by a human for accuracy

------------------------------
PROGRAM OUTPUT
------------------------------

Output from '/usr/bin/make test':

PERL_DL_NONLAZY=1 "/Users/cpantesting/cpantesting/perl-5.16.3/bin/perl" "-MExtUtils::Command::MM" "-MTest::Harness" "-e" "undef *Test::Harness::Switches; test_harness(0, 'blib/lib', 'blib/arch')" t/*.t
# Devel::GlobalDestruction isn’t available, but ${^GLOBAL_PHASE} exists.
t/all.t ........................... ok
# Devel::GlobalDestruction isn’t available, but ${^GLOBAL_PHASE} exists.
t/all_async.t ..................... ok
# Devel::GlobalDestruction isn’t available, but ${^GLOBAL_PHASE} exists.
t/allsettled.t .................... ok
t/anyevent.t ...................... ok
t/async_await.t ................... skipped: Can’t run test: Can't locate Test/Future/AsyncAwait/Awaitable.pm in @INC (@INC contains: /Users/cpantesting/cpantesting/perl-5.16.3/.cpan/build/Promise-ES6-0.28-xc8OT0/blib/lib /Users/cpantesting/cpantesting/perl-5.16.3/.cpan/build/Promise-ES6-0.28-xc8OT0/blib/arch /Users/cpantesting/cpantesting/perl-5.16.3/lib/site_perl/5.16.3/darwin-thread-multi-2level /Users/cpantesting/cpantesting/perl-5.16.3/lib/site_perl/5.16.3 /Users/cpantesting/cpantesting/perl-5.16.3/lib/5.16.3/darwin-thread-multi-2level /Users/cpantesting/cpantesting/perl-5.16.3/lib/5.16.3 .) at (eval 5) line 1.
t/async_await_additional.t ........ skipped: No Future::AsyncAwait
t/async_await_sync.t .............. skipped: Can’t run test: Can't locate Test/Future/AsyncAwait/Awaitable.pm in @INC (@INC contains: /Users/cpantesting/cpantesting/perl-5.16.3/.cpan/build/Promise-ES6-0.28-xc8OT0/blib/lib /Users/cpantesting/cpantesting/perl-5.16.3/.cpan/build/Promise-ES6-0.28-xc8OT0/blib/arch /Users/cpantesting/cpantesting/perl-5.16.3/lib/site_perl/5.16.3/darwin-thread-multi-2level /Users/cpantesting/cpantesting/perl-5.16.3/lib/site_perl/5.16.3 /Users/cpantesting/cpantesting/perl-5.16.3/lib/5.16.3/darwin-thread-multi-2level /Users/cpantesting/cpantesting/perl-5.16.3/lib/5.16.3 .) at (eval 5) line 1.
# Devel::GlobalDestruction isn’t available, but ${^GLOBAL_PHASE} exists.
t/await.t ......................... ok
# Devel::GlobalDestruction isn’t available, but ${^GLOBAL_PHASE} exists.
# MASTER PID: 52598
t/await_then_with_async.t ......... ok
# Devel::GlobalDestruction isn’t available, but ${^GLOBAL_PHASE} exists.
t/await_with_async.t .............. ok
# Devel::GlobalDestruction isn’t available, but ${^GLOBAL_PHASE} exists.
t/catch.t ......................... ok
# Devel::GlobalDestruction isn’t available, but ${^GLOBAL_PHASE} exists.
t/catch_asyncreject.t ............. ok
# Devel::GlobalDestruction isn’t available, but ${^GLOBAL_PHASE} exists.
t/finally.t ....................... ok
t/future.t ........................ ok
Promise::ES6=ARRAY(0x7f8a3601c090): Unhandled rejection: abc at -e line 1.
# [
#   ''
# ]
t/global_destruction.t ............ ok
t/ioasync.t ....................... ok
# Devel::GlobalDestruction isn’t available, but ${^GLOBAL_PHASE} exists.
t/memory_leaks.t .................. ok
t/mojo.t .......................... ok
# Devel::GlobalDestruction isn’t available, but ${^GLOBAL_PHASE} exists.
t/multi_then.t .................... ok
t/no_leak_stashed_ref.t ........... ok
# Devel::GlobalDestruction isn’t available, but ${^GLOBAL_PHASE} exists.
t/race.t .......................... ok
# Devel::GlobalDestruction isn’t available, but ${^GLOBAL_PHASE} exists.
t/race_async.t .................... ok
# Devel::GlobalDestruction isn’t available, but ${^GLOBAL_PHASE} exists.
t/race_fail.t ..................... ok
# Devel::GlobalDestruction isn’t available, but ${^GLOBAL_PHASE} exists.
t/race_success.t .................. ok
# Devel::GlobalDestruction isn’t available, but ${^GLOBAL_PHASE} exists.
t/reject.t ........................ ok
# Devel::GlobalDestruction isn’t available, but ${^GLOBAL_PHASE} exists.
t/resolve.t ....................... ok
# Devel::GlobalDestruction isn’t available, but ${^GLOBAL_PHASE} exists.
t/then.t .......................... ok
# Devel::GlobalDestruction isn’t available, but ${^GLOBAL_PHASE} exists.
t/then_catch.t .................... ok
# Devel::GlobalDestruction isn’t available, but ${^GLOBAL_PHASE} exists.
t/then_promise.t .................. ok
# Devel::GlobalDestruction isn’t available, but ${^GLOBAL_PHASE} exists.
t/then_success.t .................. ok
# Devel::GlobalDestruction isn’t available, but ${^GLOBAL_PHASE} exists.
t/then_success_with_no_handler.t .. ok
# Devel::GlobalDestruction isn’t available, but ${^GLOBAL_PHASE} exists.
t/unhandled_rejection.t ........... ok
t/use_event_anyevent.t ............ ok
t/use_event_ioasync.t ............. ok
t/use_event_mojolicious.t ......... ok
All tests successful.
Files=35, Tests=143,  9 wallclock secs ( 0.17 usr  0.11 sys +  5.81 cusr  1.39 csys =  7.48 CPU)
Result: PASS

------------------------------
PREREQUISITES
------------------------------

Prerequisite modules loaded:

build_requires:

    Module                        Need     Have    
    ----------------------------- -------- --------
    autodie                       0        2.10    
    ExtUtils::MakeMaker           0        7.58    
    FindBin                       0        1.51    
    Test::Class                   0        0.52    
    Test::Deep                    0        1.130   
    Test::FailWarnings            0        0.008   
    Test::Fatal                   0        0.016   
    Test::More                    1.302103 1.302183

configure_requires:

    Module                        Need     Have    
    ----------------------------- -------- --------
    ExtUtils::MakeMaker::CPANfile 0.09     0.09    


------------------------------
ENVIRONMENT AND OTHER CONTEXT
------------------------------

Environment variables:

    AUTOMATED_TESTING = 1
    NONINTERACTIVE_TESTING = 1
    PATH = /Users/cpantesting/perl5/perlbrew/bin:/Users/cpantesting/perl5/perlbrew/perls/perl-5.32.0/bin:/usr/local/bin:/System/Cryptexes/App/usr/bin:/usr/bin:/bin:/usr/sbin:/sbin:/var/run/com.apple.security.cryptexd/codex.system/bootstrap/usr/local/bin:/var/run/com.apple.security.cryptexd/codex.system/bootstrap/usr/bin:/var/run/com.apple.security.cryptexd/codex.system/bootstrap/usr/appleinternal/bin:/Library/Apple/usr/bin:/Users/cpantesting/.cargo/bin
    PERL = 5.16.3
    PERL5LIB = 
    PERL5OPT = 
    PERL5_CPANPLUS_IS_RUNNING = 39528
    PERL5_CPAN_IS_RUNNING = 39528
    PERLBREW_HOME = /Users/cpantesting/.perlbrew
    PERLBREW_MANPATH = /Users/cpantesting/perl5/perlbrew/perls/perl-5.32.0/man
    PERLBREW_PATH = /Users/cpantesting/perl5/perlbrew/bin:/Users/cpantesting/perl5/perlbrew/perls/perl-5.32.0/bin
    PERLBREW_PERL = perl-5.32.0
    PERLBREW_ROOT = /Users/cpantesting/perl5/perlbrew
    PERLBREW_SHELLRC_VERSION = 0.94
    PERLBREW_VERSION = 0.94
    PERLVER = 5.16.3
    PERL_INLINE_DIRECTORY = /Users/cpantesting/.Inline-5.16.3
    PERL_MM_USE_DEFAULT = 1
    PERL_USE_UNSAFE_INC = 0
    SHELL = /bin/bash
    TERM = screen

Perl special variables (and OS-specific diagnostics, for MSWin32):

    $^X = /Users/cpantesting/cpantesting/perl-5.16.3/bin/perl
    $UID/$EUID = 503 / 503
    $GID = 20 20 12 61 703 702 701 100
    $EGID = 20 20 12 61 703 702 701 100

Perl module toolchain versions installed:

    Module              Have    
    ------------------- --------
    CPAN                1.9800  
    CPAN::Meta          2.143240
    Cwd                 3.39_02 
    ExtUtils::CBuilder  0.280235
    ExtUtils::Command   7.58    
    ExtUtils::Install   2.06    
    ExtUtils::MakeMaker 7.58    
    ExtUtils::Manifest  1.70    
    ExtUtils::ParseXS   3.51    
    File::Spec          3.39_02 
    JSON                4.10    
    JSON::PP            4.05    
    Module::Build       0.4234  
    Module::Signature   n/a     
    Parse::CPAN::Meta   1.4414  
    Test2               1.302183
    Test::Harness       3.48    
    Test::More          1.302183
    YAML                1.31    
    YAML::Syck          n/a     
    version             0.99    


--

Summary of my perl5 (revision 5 version 16 subversion 3) configuration:
   
  Platform:
    osname=darwin, osvers=19.6.0, archname=darwin-thread-multi-2level
    uname='darwin harrow.local 19.6.0 darwin kernel version 19.6.0: thu oct 29 22:56:45 pdt 2020; root:xnu-6153.141.2.2~1release_x86_64 x86_64 '
    config_args='-de -Dusethreads -Dprefix=/Users/cpantesting/cpantesting/perl-5.16.3'
    hint=recommended, useposix=true, d_sigaction=define
    useithreads=define, usemultiplicity=define
    useperlio=define, d_sfio=undef, uselargefiles=define, usesocks=undef
    use64bitint=define, use64bitall=define, uselongdouble=undef
    usemymalloc=n, bincompat5005=undef
  Compiler:
    cc='cc', ccflags ='-fno-common -DPERL_DARWIN -fno-strict-aliasing -pipe -fstack-protector -I/usr/local/include',
    optimize='-O3',
    cppflags='-fno-common -DPERL_DARWIN -fno-strict-aliasing -pipe -fstack-protector -I/usr/local/include'
    ccversion='', gccversion='Apple LLVM 12.0.0 (clang-1200.0.32.27)', gccosandvers=''
    intsize=4, longsize=8, ptrsize=8, doublesize=8, byteorder=12345678
    d_longlong=define, longlongsize=8, d_longdbl=define, longdblsize=16
    ivtype='long', ivsize=8, nvtype='double', nvsize=8, Off_t='off_t', lseeksize=8
    alignbytes=8, prototype=define
  Linker and Libraries:
    ld='env MACOSX_DEPLOYMENT_TARGET=10.3 cc', ldflags =' -fstack-protector -L/usr/local/lib'
    libpth=/usr/local/lib /usr/lib
    libs=-lgdbm -ldbm -ldl -lm -lutil -lc
    perllibs=-ldl -lm -lutil -lc
    libc=, so=dylib, useshrplib=false, libperl=libperl.a
    gnulibc_version=''
  Dynamic Linking:
    dlsrc=dl_dlopen.xs, dlext=bundle, d_dlsymun=undef, ccdlflags=' '
    cccdlflags=' ', lddlflags=' -bundle -undefined dynamic_lookup -L/usr/local/lib -fstack-protector'


Characteristics of this binary (from libperl): 
  Compile-time options: HAS_TIMES MULTIPLICITY PERLIO_LAYERS
                        PERL_DONT_CREATE_GVSV PERL_IMPLICIT_CONTEXT
                        PERL_MALLOC_WRAP PERL_PRESERVE_IVUV USE_64_BIT_ALL
                        USE_64_BIT_INT USE_ITHREADS USE_LARGE_FILES
                        USE_LOCALE USE_LOCALE_COLLATE USE_LOCALE_CTYPE
                        USE_LOCALE_NUMERIC USE_PERLIO USE_PERL_ATOF
                        USE_REENTRANT_API
  Built under darwin
  Compiled at Dec 29 2020 22:52:51
  %ENV:
    PERL="5.16.3"
    PERL5LIB=""
    PERL5OPT=""
    PERL5_CPANPLUS_IS_RUNNING="39528"
    PERL5_CPAN_IS_RUNNING="39528"
    PERLBREW_HOME="/Users/cpantesting/.perlbrew"
    PERLBREW_MANPATH="/Users/cpantesting/perl5/perlbrew/perls/perl-5.32.0/man"
    PERLBREW_PATH="/Users/cpantesting/perl5/perlbrew/bin:/Users/cpantesting/perl5/perlbrew/perls/perl-5.32.0/bin"
    PERLBREW_PERL="perl-5.32.0"
    PERLBREW_ROOT="/Users/cpantesting/perl5/perlbrew"
    PERLBREW_SHELLRC_VERSION="0.94"
    PERLBREW_VERSION="0.94"
    PERLVER="5.16.3"
    PERL_INLINE_DIRECTORY="/Users/cpantesting/.Inline-5.16.3"
    PERL_MM_USE_DEFAULT="1"
    PERL_USE_UNSAFE_INC="0"
  @INC:
    /Users/cpantesting/cpantesting/perl-5.16.3/lib/site_perl/5.16.3/darwin-thread-multi-2level
    /Users/cpantesting/cpantesting/perl-5.16.3/lib/site_perl/5.16.3
    /Users/cpantesting/cpantesting/perl-5.16.3/lib/5.16.3/darwin-thread-multi-2level
    /Users/cpantesting/cpantesting/perl-5.16.3/lib/5.16.3
    .