IPC-Run v0.96 Perl 5 v5.18.2 x86_64-linux
- Status
- Pass
- From
- Nigel Horne
- Dist
-
IPC-Run v0.96
- Platform
- Perl 5 v5.18.2 x86_64-linux
- Date
- 2018-02-03 16:51:06
- ID
- 6d74e26e-0902-11e8-af2b-acaf1d79aee4
This distribution has been tested as part of the CPAN Testers
project, supporting the Perl programming language. See
http://wiki.cpantesters.org/ for more information or email
questions to cpan-testers-discuss@perl.org
--
Dear Todd Rinaldo,
This is a computer-generated report for IPC-Run-0.96
on perl 5.18.2, created by CPAN-Reporter-1.2018.
Thank you for uploading your work to CPAN. Congratulations!
All tests were successful.
Sections of this report:
* Tester comments
* Program output
* Prerequisites
* Environment and other context
------------------------------
TESTER COMMENTS
------------------------------
Additional comments from tester:
none provided
------------------------------
PROGRAM OUTPUT
------------------------------
Output from '/usr/bin/make test':
PERL_DL_NONLAZY=1 "/home/njh/perl5/perlbrew/perls/perl-5.18.2-clang/bin/perl5.18.2" "-MExtUtils::Command::MM" "-MTest::Harness" "-e" "undef *Test::Harness::Switches; test_harness(0, 'blib/lib', 'blib/arch')" t/*.t
t/97_meta.t .................. skipped: Author tests not required for installation
t/98_pod.t ................... skipped: Author tests not required for installation
t/98_pod_coverage.t .......... skipped: Author tests not required for installation
t/99_perl_minimum_version.t .. skipped: Author tests not required for installation
t/adopt.t .................... skipped: adopt not implemented yet
t/binmode.t .................. ok
t/bogus.t .................... ok
t/filter.t ................... ok
t/harness.t .................. ok
t/io.t ....................... ok
t/parallel.t ................. ok
t/pty.t ...................... skipped: IO::Pty not installed
t/pump.t ..................... ok
t/run.t ...................... ok
t/signal.t ................... ok
t/kill_kill.t ................ ok
t/timer.t .................... ok
Subroutine IPPROTO_TCP redefined at /home/njh/perl5/perlbrew/perls/perl-5.18.2-clang/lib/5.18.2/x86_64-linux/Socket.pm line 4294967295.
t/win32_compile.t ............ ok
t/windows_search_path.t ...... ok
t/timeout.t .................. ok
All tests successful.
Files=20, Tests=661, 9 wallclock secs ( 0.25 usr 0.02 sys + 2.61 cusr 0.73 csys = 3.61 CPU)
Result: PASS
------------------------------
PREREQUISITES
------------------------------
Prerequisite modules loaded:
requires:
Module Need Have
------------------- ---- --------
Test::More 0.47 1.302120
build_requires:
Module Need Have
------------------- ---- --------
ExtUtils::MakeMaker 0 7.30
configure_requires:
Module Need Have
------------------- ---- --------
ExtUtils::MakeMaker 0 7.30
------------------------------
ENVIRONMENT AND OTHER CONTEXT
------------------------------
Environment variables:
HARNESS_OPTIONS = j2:c
LANG = en_GB.UTF-8
LANGUAGE = en_GB:en
LD_LIBRARY_PATH = /usr/local/lib::
PATH = /home/njh/perl5/perlbrew/bin:/home/njh/perl5/perlbrew/perls/perl-5.18.2-clang/bin:/home/njh/perl5/perlbrew/bin:/usr/local/bin:/usr/bin:/bin:/usr/local/games:/usr/games:/home/njh/bin:/sbin
PERL5LIB =
PERL5OPT =
PERL5_CPANPLUS_IS_RUNNING = 24738
PERL5_CPAN_IS_RUNNING = 24738
PERLBREW_BASHRC_VERSION = 0.75
PERLBREW_HOME = /home/njh/.perlbrew
PERLBREW_LIB =
PERLBREW_MANPATH = /home/njh/perl5/perlbrew/perls/perl-5.18.2-clang/man
PERLBREW_PATH = /home/njh/perl5/perlbrew/bin:/home/njh/perl5/perlbrew/perls/perl-5.18.2-clang/bin
PERLBREW_PERL = perl-5.18.2-clang
PERLBREW_ROOT = /home/njh/perl5/perlbrew
PERLBREW_VERSION = 0.75
PERL_LOCAL_LIB_ROOT =
SHELL = /bin/bash
TERM = xterm-256color
Perl special variables (and OS-specific diagnostics, for MSWin32):
$^X = /home/njh/perl5/perlbrew/perls/perl-5.18.2-clang/bin/perl5.18.2
$UID/$EUID = 1000 / 1000
$GID = 1000 4 24 25 29 30 44 46 103 108 116 127 1000
$EGID = 1000 4 24 25 29 30 44 46 103 108 116 127 1000
Perl module toolchain versions installed:
Module Have
------------------- --------
CPAN 2.00
CPAN::Meta 2.143240
Cwd 3.40
ExtUtils::CBuilder 0.280210
ExtUtils::Command 7.30
ExtUtils::Install 2.06
ExtUtils::MakeMaker 7.30
ExtUtils::Manifest 1.70
ExtUtils::ParseXS 3.18
File::Spec 3.40
JSON n/a
JSON::PP 2.27203
Module::Build 0.4003
Module::Signature n/a
Parse::CPAN::Meta 1.4414
Test::Harness 3.26
Test::More 1.302120
YAML n/a
YAML::Syck n/a
version 0.9902
--
Summary of my perl5 (revision 5 version 18 subversion 2) configuration:
Platform:
osname=linux, osvers=4.14.0-2-amd64, archname=x86_64-linux
uname='linux compaq 4.14.0-2-amd64 #1 smp debian 4.14.7-1 (2017-12-22) x86_64 gnulinux '
config_args='-de -Dprefix=/home/njh/perl5/perlbrew/perls/perl-5.18.2-clang -Dusedevel -Dcc=clang -Accflags= -Aeval:scriptdir=/home/njh/perl5/perlbrew/perls/perl-5.18.2-clang/bin'
hint=recommended, useposix=true, d_sigaction=define
useithreads=undef, usemultiplicity=undef
useperlio=define, d_sfio=undef, uselargefiles=define, usesocks=undef
use64bitint=define, use64bitall=define, uselongdouble=undef
usemymalloc=n, bincompat5005=undef
Compiler:
cc='clang', ccflags ='-fno-strict-aliasing -pipe -fstack-protector -I/usr/local/include -D_LARGEFILE_SOURCE -D_FILE_OFFSET_BITS=64',
optimize='-O2',
cppflags='-fno-strict-aliasing -pipe -fstack-protector -I/usr/local/include'
ccversion='', gccversion='4.2.1 Compatible Clang 4.0.1 (tags/RELEASE_401/final)', gccosandvers=''
intsize=4, longsize=8, ptrsize=8, doublesize=8, byteorder=12345678
d_longlong=define, longlongsize=8, d_longdbl=define, longdblsize=16
ivtype='long', ivsize=8, nvtype='double', nvsize=8, Off_t='off_t', lseeksize=8
alignbytes=8, prototype=define
Linker and Libraries:
ld='clang', ldflags =' -fstack-protector -L/usr/local/lib'
libpth=/usr/local/lib /lib/x86_64-linux-gnu /lib/../lib /usr/lib/x86_64-linux-gnu /usr/lib/../lib /lib /usr/lib /lib64 /usr/lib64
libs=-lnsl -lgdbm -ldb -ldl -lm -lcrypt -lutil -lc -lgdbm_compat
perllibs=-lnsl -ldl -lm -lcrypt -lutil -lc
libc=, so=so, useshrplib=false, libperl=libperl.a
gnulibc_version='2.26'
Dynamic Linking:
dlsrc=dl_dlopen.xs, dlext=so, d_dlsymun=undef, ccdlflags='-Wl,-E'
cccdlflags='-fPIC', lddlflags='-shared -O2 -L/usr/local/lib -fstack-protector'
Characteristics of this binary (from libperl):
Compile-time options: HAS_TIMES PERLIO_LAYERS PERL_DONT_CREATE_GVSV
PERL_HASH_FUNC_ONE_AT_A_TIME_HARD PERL_MALLOC_WRAP
PERL_PRESERVE_IVUV PERL_SAWAMPERSAND PERL_USE_DEVEL
USE_64_BIT_ALL USE_64_BIT_INT USE_LARGE_FILES
USE_LOCALE USE_LOCALE_COLLATE USE_LOCALE_CTYPE
USE_LOCALE_NUMERIC USE_PERLIO USE_PERL_ATOF
Built under linux
Compiled at Jan 26 2018 01:14:51
%ENV:
PERL5LIB=""
PERL5OPT=""
PERL5_CPANPLUS_IS_RUNNING="24738"
PERL5_CPAN_IS_RUNNING="24738"
PERLBREW_BASHRC_VERSION="0.75"
PERLBREW_HOME="/home/njh/.perlbrew"
PERLBREW_LIB=""
PERLBREW_MANPATH="/home/njh/perl5/perlbrew/perls/perl-5.18.2-clang/man"
PERLBREW_PATH="/home/njh/perl5/perlbrew/bin:/home/njh/perl5/perlbrew/perls/perl-5.18.2-clang/bin"
PERLBREW_PERL="perl-5.18.2-clang"
PERLBREW_ROOT="/home/njh/perl5/perlbrew"
PERLBREW_VERSION="0.75"
PERL_LOCAL_LIB_ROOT=""
@INC:
/home/njh/perl5/perlbrew/perls/perl-5.18.2-clang/lib/site_perl/5.18.2/x86_64-linux
/home/njh/perl5/perlbrew/perls/perl-5.18.2-clang/lib/site_perl/5.18.2
/home/njh/perl5/perlbrew/perls/perl-5.18.2-clang/lib/5.18.2/x86_64-linux
/home/njh/perl5/perlbrew/perls/perl-5.18.2-clang/lib/5.18.2
.