PadWalker v2.5 Perl 5 v5.30.1 darwin-2level
- Status
- Pass
- From
- Neil Bowers
- Dist
-
PadWalker v2.5
- Platform
- Perl 5 v5.30.1 darwin-2level
- Date
- 2021-06-08 14:04:23
- ID
- 6dc19226-c862-11eb-a6a4-aec2ec01cbbc
This distribution has been tested as part of the CPAN Testers
project, supporting the Perl programming language. See
http://wiki.cpantesters.org/ for more information or email
questions to cpan-testers-discuss@perl.org
--
Dear Robin Houston,
This is a computer-generated report for PadWalker-2.5
on perl 5.30.1, created by CPAN-Reporter-1.2018.
Thank you for uploading your work to CPAN. Congratulations!
All tests were successful.
Sections of this report:
* Tester comments
* Program output
* Prerequisites
* Environment and other context
------------------------------
TESTER COMMENTS
------------------------------
Additional comments from tester:
none provided
------------------------------
PROGRAM OUTPUT
------------------------------
Output from '/usr/bin/make test':
"/usr/local/perl/5301/bin/perl" -MExtUtils::Command::MM -e 'cp_nonempty' -- PadWalker.bs blib/arch/auto/PadWalker/PadWalker.bs 644
PERL_DL_NONLAZY=1 "/usr/local/perl/5301/bin/perl" "-MExtUtils::Command::MM" "-MTest::Harness" "-e" "undef *Test::Harness::Switches; test_harness(0, 'blib/lib', 'blib/arch')" t/*.t
"my" variable $blah masks earlier declaration in same scope at t/closure.t line 57.
t/closure.t ... ok
"my" variable $x masks earlier declaration in same scope at t/dm.t line 58.
"our" variable $x masks earlier declaration in same scope at t/dm.t line 63.
t/dm.t ........ ok
t/foo.t ....... ok
"my" variable $h masks earlier declaration in same scope at t/our.t line 12.
t/our.t ....... ok
t/recurse.t ... ok
t/sub.t ....... ok
t/test.t ...... ok
t/tt.t ........ ok
"my" variable $foo masks earlier declaration in same scope at t/var_name.t line 13.
t/var_name.t .. ok
All tests successful.
Files=9, Tests=82, 1 wallclock secs ( 0.03 usr 0.02 sys + 0.07 cusr 0.03 csys = 0.15 CPU)
Result: PASS
------------------------------
PREREQUISITES
------------------------------
Prerequisite modules loaded:
requires:
Module Need Have
------------------- -------- --------
perl 5.008001 5.030001
build_requires:
Module Need Have
------------------- -------- --------
ExtUtils::MakeMaker 0 7.62
configure_requires:
Module Need Have
------------------- -------- --------
ExtUtils::MakeMaker 0 7.62
------------------------------
ENVIRONMENT AND OTHER CONTEXT
------------------------------
Environment variables:
NONINTERACTIVE_TESTING = 1
PATH = /usr/local/apache/bin:/usr/local/bin:/usr/local/bin:/usr/bin:/bin:/usr/sbin:/sbin:/Applications/VMware Fusion.app/Contents/Public:/usr/local/go/bin:/opt/X11/bin:/usr/local/git/bin
PERL5LIB =
PERL5OPT =
PERL5_CPANPLUS_IS_RUNNING = 18364
PERL5_CPAN_IS_RUNNING = 18364
PERL_MM_USE_DEFAULT = 1
PERL_USE_UNSAFE_INC = 1
SHELL = /bin/sh
TERM = xterm
Perl special variables (and OS-specific diagnostics, for MSWin32):
$^X = /usr/local/perl/5301/bin/perl
$UID/$EUID = 0 / 0
$GID = 0 0 1 2 3 4 5 8 9 12 20 29 61 80 701 702 33
$EGID = 0 0 1 2 3 4 5 8 9 12 20 29 61 80 701 702 33
Perl module toolchain versions installed:
Module Have
------------------- --------
CPAN 2.22
CPAN::Meta 2.150010
Cwd 3.78
ExtUtils::CBuilder 0.280231
ExtUtils::Command 7.62
ExtUtils::Install 2.14
ExtUtils::MakeMaker 7.62
ExtUtils::Manifest 1.72
ExtUtils::ParseXS 3.40
File::Spec 3.78
JSON 4.03
JSON::PP 4.02
Module::Build 0.4231
Module::Signature n/a
Parse::CPAN::Meta 2.150010
Test::Harness 3.42
Test::More 1.302185
YAML 1.30
YAML::Syck n/a
version 0.9924
--
Summary of my perl5 (revision 5 version 30 subversion 1) configuration:
Platform:
osname=darwin
osvers=20.4.0
archname=darwin-2level
uname='darwin tucumcari.local 20.4.0 darwin kernel version 20.4.0: thu apr 22 21:46:47 pdt 2021; root:xnu-7195.101.2~1release_x86_64 x86_64 '
config_args=''
hint=recommended
useposix=true
d_sigaction=define
useithreads=undef
usemultiplicity=undef
use64bitint=define
use64bitall=define
uselongdouble=undef
usemymalloc=n
default_inc_excludes_dot=define
bincompat5005=undef
Compiler:
cc='cc'
ccflags ='-fno-common -DPERL_DARWIN -mmacosx-version-min=11.3 -fno-strict-aliasing -pipe -fstack-protector-strong -I/usr/local/include -I/opt/local/include -DPERL_USE_SAFE_PUTENV'
optimize='-O3'
cppflags='-fno-common -DPERL_DARWIN -mmacosx-version-min=11.3 -fno-strict-aliasing -pipe -fstack-protector-strong -I/usr/local/include -I/opt/local/include'
ccversion=''
gccversion='Apple LLVM 12.0.0 (clang-1200.0.32.29)'
gccosandvers=''
intsize=4
longsize=8
ptrsize=8
doublesize=8
byteorder=12345678
doublekind=3
d_longlong=define
longlongsize=8
d_longdbl=define
longdblsize=16
longdblkind=3
ivtype='long'
ivsize=8
nvtype='double'
nvsize=8
Off_t='off_t'
lseeksize=8
alignbytes=8
prototype=define
Linker and Libraries:
ld='cc'
ldflags =' -mmacosx-version-min=11.3 -fstack-protector-strong -L/usr/local/lib -L/opt/local/lib'
libpth=/usr/local/lib /Applications/Xcode.app/Contents/Developer/Toolchains/XcodeDefault.xctoolchain/usr/lib/clang/12.0.0/lib /Applications/Xcode.app/Contents/Developer/Platforms/MacOSX.platform/Developer/SDKs/MacOSX.sdk/usr/lib /Applications/Xcode.app/Contents/Developer/Toolchains/XcodeDefault.xctoolchain/usr/lib /opt/local/lib /usr/lib
libs=-lgdbm
perllibs=
libc=
so=dylib
useshrplib=false
libperl=libperl.a
gnulibc_version=''
Dynamic Linking:
dlsrc=dl_dlopen.xs
dlext=bundle
d_dlsymun=undef
ccdlflags=' '
cccdlflags=' '
lddlflags=' -mmacosx-version-min=11.3 -bundle -undefined dynamic_lookup -L/usr/local/lib -L/opt/local/lib -fstack-protector-strong'
Characteristics of this binary (from libperl):
Compile-time options:
HAS_TIMES
PERLIO_LAYERS
PERL_COPY_ON_WRITE
PERL_DONT_CREATE_GVSV
PERL_MALLOC_WRAP
PERL_OP_PARENT
PERL_PRESERVE_IVUV
PERL_USE_SAFE_PUTENV
USE_64_BIT_ALL
USE_64_BIT_INT
USE_LARGE_FILES
USE_LOCALE
USE_LOCALE_COLLATE
USE_LOCALE_CTYPE
USE_LOCALE_NUMERIC
USE_LOCALE_TIME
USE_PERLIO
USE_PERL_ATOF
Built under darwin
Compiled at May 19 2021 16:24:41
%ENV:
PERL5LIB=""
PERL5OPT=""
PERL5_CPANPLUS_IS_RUNNING="18364"
PERL5_CPAN_IS_RUNNING="18364"
PERL_MM_USE_DEFAULT="1"
PERL_USE_UNSAFE_INC="1"
@INC:
/usr/local/perl/5301/lib/site_perl/5.30.1/darwin-2level
/usr/local/perl/5301/lib/site_perl/5.30.1
/usr/local/perl/5301/lib/5.30.1/darwin-2level
/usr/local/perl/5301/lib/5.30.1
.