CPAN-SQLite v0.215 Perl 5 v5.26.0 x86_64-linux
- Status
- Pass
- From
- Chris Williams (BINGOS)
- Dist
-
CPAN-SQLite v0.215
- Platform
- Perl 5 v5.26.0 x86_64-linux
- Date
- 2019-01-27 19:55:00
- ID
- 6dc8d39e-226d-11e9-98d5-bb14e5798fec
This distribution has been tested as part of the CPAN Testers
project, supporting the Perl programming language. See
http://wiki.cpantesters.org/ for more information or email
questions to cpan-testers-discuss@perl.org
--
Dear STRO,
This is a computer-generated error report created automatically by
CPANPLUS, version 0.9176. Testers personal comments may appear
at the end of this report.
Thank you for uploading your work to CPAN. Congratulations!
All tests were successful.
TEST RESULTS:
Below is the error stack from stage 'make test':
PERL_DL_NONLAZY=1 "/home/cpan/pit/bare/perl-5.26.0/bin/perl" "-MExtUtils::Command::MM" "-MTest::Harness" "-e" "undef *Test::Harness::Switches; test_harness(0, 'blib/lib', 'blib/arch')" t/*.t
# Listing %INC
# B 1.68
# CPAN 2.18
# CPAN::Author 5.5002
# CPAN::Bundle 5.5003
# CPAN::CacheMgr 5.5002
# CPAN::Complete 5.5001
# CPAN::Debug 5.5001
# CPAN::DeferredCode 5.50
# CPAN::DistnameInfo 0.12
# CPAN::Distribution 2.18
# CPAN::Distroprefs 6.0001
# CPAN::Distrostatus 5.5
# CPAN::Exception::RecursiveDependency 5.5001
# CPAN::Exception::yaml_not_installed 5.5
# CPAN::Exception::yaml_process_error 5.5
# CPAN::FTP 5.5008
# CPAN::FTP::netrc 1.01
# CPAN::HTTP::Credentials 1.9601
# CPAN::HandleConfig 5.5008
# CPAN::Index 2.12
# CPAN::InfoObj 5.5
# CPAN::LWP::UserAgent 1.9601
# CPAN::Module 5.5003
# CPAN::Prompt 5.5
# CPAN::Queue 5.5002
# CPAN::Shell 5.5006
# CPAN::Tarzip 5.5012
# CPAN::URL 5.5
# CPAN::Version 5.5003
# Carp 1.42
# Carp::Heavy 1.42
# Compress::Raw::Zlib 2.081
# Compress::Zlib 2.081
# Config 5.026000
# Cwd 3.75
# DBI 1.642
# DirHandle 1.04
# DynaLoader 1.42
# Encode 2.88
# Encode::Alias 2.21
# Encode::Config 2.05
# Encode::Encoding 2.07
# English 1.10
# Errno 1.28
# Exporter 5.72
# Exporter::Heavy 5.72
# ExtUtils::Liblist 7.34
# ExtUtils::Liblist::Kid 7.34
# ExtUtils::MM 7.34
# ExtUtils::MM_Any 7.34
# ExtUtils::MM_Unix 7.34
# ExtUtils::MY 7.34
# ExtUtils::MakeMaker 7.34
# ExtUtils::MakeMaker::Config 7.34
# ExtUtils::MakeMaker::Locale 7.34
# ExtUtils::MakeMaker::version 7.34
# Fcntl 1.13
# File::Basename 2.85
# File::Copy 2.32
# File::Find 1.34
# File::Glob 1.28
# File::GlobMapper 1.001
# File::HomeDir 1.004
# File::HomeDir::Driver 1.004
# File::HomeDir::FreeDesktop 1.004
# File::HomeDir::Unix 1.004
# File::Path 2.16
# File::Spec 3.75
# File::Spec::Functions 3.75
# File::Spec::Unix 3.75
# File::Which 1.23
# FileHandle 2.03
# Getopt::Long 2.49
# HTTP::Tiny 0.070
# I18N::Langinfo 0.13
# IO 1.38
# IO::Compress::Adapter::Deflate 2.081
# IO::Compress::Base 2.081
# IO::Compress::Base::Common 2.081
# IO::Compress::Gzip 2.081
# IO::Compress::Gzip::Constants 2.081
# IO::Compress::RawDeflate 2.081
# IO::Compress::Zlib::Extra 2.081
# IO::File 1.16
# IO::Handle 1.36
# IO::Seekable 1.1
# IO::Socket 1.38
# IO::Socket::INET 1.35
# IO::Socket::IP 0.38
# IO::Socket::UNIX 1.26
# IO::Uncompress::Adapter::Inflate 2.081
# IO::Uncompress::Base 2.081
# IO::Uncompress::Gunzip 2.081
# IO::Uncompress::RawInflate 2.081
# List::Util 1.4602
# Opcode 1.39
# POSIX 1.76
# Safe 2.40
# Scalar::Util 1.4602
# SelectSaver 1.02
# Socket 2.020_03
# Symbol 1.08
# Sys::Hostname 1.20
# Text::ParseWords 3.30
# Text::Tabs 2013.0523
# Text::Wrap 2013.0523
# Tie::Hash 1.05
# Tie::Hash::NamedCapture 0.10
# XSLoader 0.27
# base 2.25
# bytes 1.05
# constant 1.33
# lib 0.64
# overload 1.28
# overloading 0.02
# parent 0.236
# re 0.34
# strict 1.11
# subs 1.02
# utf8 1.19
# vars 1.03
# version 0.9924
# version::regex 0.9924
# version::vxs 0.9924
# warnings 1.37
# warnings::register 1.04
t/00-all_prereqs.t ............... ok
t/00-compile.t ................... ok
#
# Versions for all modules listed in MYMETA.json (including optional ones):
#
# === Configure Requires ===
#
# Module Want Have
# ------------------- ---- ----
# ExtUtils::MakeMaker any 7.34
#
# === Build Requires ===
#
# Module Want Have
# ------------------- ---- ----
# ExtUtils::MakeMaker any 7.34
#
# === Test Requires ===
#
# Module Want Have
# ------------------- ---- --------
# CPAN::HandleConfig any 5.5008
# CPAN::Version any 5.5003
# Carp any 1.42
# DBD::SQLite any 1.62
# ExtUtils::MakeMaker any 7.34
# File::Copy any 2.32
# File::Spec any 3.75
# FindBin any 1.51
# IO::Handle any 1.36
# IPC::Open3 any 1.20
# Test::Memory::Cycle any 1.06
# Test::More 0.94 1.302141
# base any 2.25
# lib any 0.64
#
# === Test Recommends ===
#
# Module Want Have
# ---------- -------- --------
# CPAN::Meta 2.120900 2.150010
#
# === Runtime Requires ===
#
# Module Want Have
# --------------------- ---- -------
# Archive::Tar 1.54 2.32
# CPAN any 2.18
# CPAN::DistnameInfo 0.09 0.12
# CPAN::Index 1.93 2.12
# Compress::Zlib any 2.081
# Cwd any 3.75
# DBD::SQLite 1.27 1.62
# DBI any 1.642
# English any 1.10
# Exporter any 5.72
# File::Basename any 2.85
# File::Find any 1.34
# File::HomeDir any 1.004
# File::Path any 2.16
# File::Spec any 3.75
# File::Spec::Functions any 3.75
# Getopt::Long any 2.49
# HTTP::Tiny any 0.070
# IO::Zlib any 1.10
# Safe any 2.40
# Scalar::Util any 1.46_02
# constant any 1.33
# parent any 0.236
# strict any 1.11
# utf8 any 1.19
# warnings any 1.37
#
t/00-report-prereqs.t ............ ok
# Testing with Perl 5.026000, /home/cpan/pit/bare/perl-5.26.0/bin/perl
# CPAN version is 2.18
# CPAN::DistnameInfo version is 0.12
# CPAN::HandleConfig version is 5.5008
# CPAN::Version version is 5.5003
# Carp version is 1.42
# Compress::Zlib version is 2.081
# Cwd version is 3.75
# DBD::SQLite version is 1.62
# DBI version is 1.642
# English version is 1.10
# Exporter version is 5.72
# ExtUtils::MakeMaker version is 7.34
# File::Basename version is 2.85
# File::Copy version is 2.32
# File::Find version is 1.34
# File::HomeDir version is 1.004
# File::Path version is 2.16
# File::Spec version is 3.75
# File::Spec::Functions version is 3.75
# FindBin version is 1.51
# Getopt::Long version is 2.49
# HTTP::Tiny version is 0.070
# IO::Handle version is 1.36
# IPC::Open3 version is 1.20
# Safe version is 2.40
# Scalar::Util version is 1.4602
# Test::Memory::Cycle version is 1.06
# Test::More version is 1.302141
# base version is 2.25
# constant version is 1.33
# lib version is 0.64
# parent version is 0.236
# strict version is 1.11
# utf8 version is 1.19
# warnings version is 1.37
t/000-report-versions.t .......... ok
t/01basic.t ...................... ok
t/02drop.t ....................... ok
t/03info.t ....................... ok
t/04search.t ..................... ok
t/04search_everything.t .......... ok
t/05meta_new.t ................... ok
t/05meta_update.t ................ ok
t/06retrieve.t ................... ok
t/07download.t ................... ok
t/08circular_references.t ........ ok
t/author-critic.t ................ skipped: these tests are for testing by the author
t/author-eol.t ................... skipped: these tests are for testing by the author
t/author-minimum-version.t ....... skipped: these tests are for testing by the author
t/author-no-tabs.t ............... skipped: these tests are for testing by the author
t/author-pod-syntax.t ............ skipped: these tests are for testing by the author
t/release-changes_has_content.t .. skipped: these tests are for release candidate testing
t/release-distmeta.t ............. skipped: these tests are for release candidate testing
t/release-fixme.t ................ skipped: these tests are for release candidate testing
t/release-has-version.t .......... skipped: these tests are for release candidate testing
t/release-kwalitee.t ............. skipped: these tests are for release candidate testing
t/release-meta-json.t ............ skipped: these tests are for release candidate testing
t/release-pause-permissions.t .... skipped: these tests are for release candidate testing
All tests successful.
Files=26, Tests=11316, 13 wallclock secs ( 0.80 usr 0.12 sys + 5.60 cusr 0.77 csys = 7.29 CPU)
Result: PASS
PREREQUISITES:
Here is a list of prerequisites you specified and versions we
managed to load:
Module Name Have Want
Archive::Tar 2.32 1.54
CPAN::DistnameInfo 0.12 0.09
CPAN::Index 2.12 1.93
Compress::Zlib 2.081 0
DBD::SQLite 1.62 1.27
ExtUtils::MakeMaker 7.34 0
File::HomeDir 1.004 0
File::Spec 3.75 0
HTTP::Tiny 0.070 0
IO::Zlib 1.10 0
Test::Memory::Cycle 1.06 0
parent 0.236 0
Perl module toolchain versions installed:
Module Name Have
CPANPLUS 0.9176
CPANPLUS::Dist::Build 0.90
Cwd 3.75
ExtUtils::CBuilder 0.280230
ExtUtils::Command 7.34
ExtUtils::Install 2.14
ExtUtils::MakeMaker 7.34
ExtUtils::Manifest 1.71
ExtUtils::ParseXS 3.35
File::Spec 3.75
Module::Build 0.4224
Pod::Parser 1.63
Pod::Simple 3.35
Test2 1.302141
Test::Harness 3.42
Test::More 1.302141
version 0.9924
******************************** NOTE ********************************
The comments above are created mechanically, possibly without manual
checking by the sender. As there are many people performing automatic
tests on each upload to CPAN, it is likely that you will receive
identical messages about the same problem.
If you believe that the message is mistaken, please reply to the first
one with correction and/or additional informations, and do not take
it personally. We appreciate your patience. :)
**********************************************************************
Additional comments:
This report was machine-generated by CPANPLUS::Dist::YACSmoke 1.06.
Powered by minismokebox version 0.68
------------------------------
ENVIRONMENT AND OTHER CONTEXT
------------------------------
Environment variables:
AUTOMATED_TESTING = 1
LANG = en_GB.UTF-8
LANGUAGE = en_GB:en
NONINTERACTIVE_TESTING = 1
PATH = /home/cpan/pit/bare/conf/perl-5.26.0/.cpanplus/5.26.0/build/5DcPvz2J8K/CPAN-SQLite-0.215/blib/script:/usr/local/sbin:/usr/local/bin:/usr/sbin:/usr/bin:/sbin:/bin:/usr/games:/usr/local/games:/snap/bin
PERL5LIB = /home/cpan/pit/jail/nJ0SyaKRse/lib/perl5:/home/cpan/pit/bare/conf/perl-5.26.0/.cpanplus/5.26.0/build/5DcPvz2J8K/CPAN-SQLite-0.215/blib/lib:/home/cpan/pit/bare/conf/perl-5.26.0/.cpanplus/5.26.0/build/5DcPvz2J8K/CPAN-SQLite-0.215/blib/arch
PERL5_CPANPLUS_IS_RUNNING = 4468
PERL5_CPANPLUS_IS_VERSION = 0.9176
PERL5_MINISMOKEBOX = 0.68
PERL5_YACSMOKE_BASE = /home/cpan/pit/bare/conf/perl-5.26.0
PERL_EXTUTILS_AUTOINSTALL = --defaultdeps
PERL_LOCAL_LIB_ROOT = /home/cpan/pit/jail/nJ0SyaKRse
PERL_MB_OPT = --install_base "/home/cpan/pit/jail/nJ0SyaKRse"
PERL_MM_OPT = INSTALL_BASE=/home/cpan/pit/jail/nJ0SyaKRse
PERL_MM_USE_DEFAULT = 1
SHELL = /bin/bash
TERM = screen
Perl special variables (and OS-specific diagnostics, for MSWin32):
Perl: $^X = /home/cpan/pit/bare/perl-5.26.0/bin/perl
UID: $< = 1001
EUID: $> = 1001
GID: $( = 1001 1001
EGID: $) = 1001 1001
-------------------------------
--
Summary of my perl5 (revision 5 version 26 subversion 0) configuration:
Platform:
osname=linux
osvers=4.4.0-72-generic
archname=x86_64-linux
uname='linux uchder 4.4.0-72-generic #93-ubuntu smp fri mar 31 14:07:41 utc 2017 x86_64 x86_64 x86_64 gnulinux '
config_args='-des -Dprefix=/home/cpan/pit/bare/perl-5.26.0'
hint=recommended
useposix=true
d_sigaction=define
useithreads=undef
usemultiplicity=undef
use64bitint=define
use64bitall=define
uselongdouble=undef
usemymalloc=n
default_inc_excludes_dot=define
bincompat5005=undef
Compiler:
cc='cc'
ccflags ='-fwrapv -fno-strict-aliasing -pipe -fstack-protector-strong -I/usr/local/include -D_LARGEFILE_SOURCE -D_FILE_OFFSET_BITS=64'
optimize='-O2'
cppflags='-fwrapv -fno-strict-aliasing -pipe -fstack-protector-strong -I/usr/local/include'
ccversion=''
gccversion='5.4.0 20160609'
gccosandvers=''
intsize=4
longsize=8
ptrsize=8
doublesize=8
byteorder=12345678
doublekind=3
d_longlong=define
longlongsize=8
d_longdbl=define
longdblsize=16
longdblkind=3
ivtype='long'
ivsize=8
nvtype='double'
nvsize=8
Off_t='off_t'
lseeksize=8
alignbytes=8
prototype=define
Linker and Libraries:
ld='cc'
ldflags =' -fstack-protector-strong -L/usr/local/lib'
libpth=/usr/local/lib /usr/lib/gcc/x86_64-linux-gnu/5/include-fixed /usr/include/x86_64-linux-gnu /usr/lib /lib/x86_64-linux-gnu /lib/../lib /usr/lib/x86_64-linux-gnu /usr/lib/../lib /lib
libs=-lpthread -lnsl -lgdbm -ldl -lm -lcrypt -lutil -lc -lgdbm_compat
perllibs=-lpthread -lnsl -ldl -lm -lcrypt -lutil -lc
libc=libc-2.23.so
so=so
useshrplib=false
libperl=libperl.a
gnulibc_version='2.23'
Dynamic Linking:
dlsrc=dl_dlopen.xs
dlext=so
d_dlsymun=undef
ccdlflags='-Wl,-E'
cccdlflags='-fPIC'
lddlflags='-shared -O2 -L/usr/local/lib -fstack-protector-strong'
Characteristics of this binary (from libperl):
Compile-time options:
HAS_TIMES
PERLIO_LAYERS
PERL_COPY_ON_WRITE
PERL_DONT_CREATE_GVSV
PERL_MALLOC_WRAP
PERL_OP_PARENT
PERL_PRESERVE_IVUV
USE_64_BIT_ALL
USE_64_BIT_INT
USE_LARGE_FILES
USE_LOCALE
USE_LOCALE_COLLATE
USE_LOCALE_CTYPE
USE_LOCALE_NUMERIC
USE_LOCALE_TIME
USE_PERLIO
USE_PERL_ATOF
Locally applied patches:
Devel::PatchPerl 1.48
Built under linux
Compiled at May 31 2017 11:08:22
%ENV:
PERL5LIB="/home/cpan/pit/jail/nJ0SyaKRse/lib/perl5:/home/cpan/pit/bare/conf/perl-5.26.0/.cpanplus/5.26.0/build/5DcPvz2J8K/CPAN-SQLite-0.215/blib/lib:/home/cpan/pit/bare/conf/perl-5.26.0/.cpanplus/5.26.0/build/5DcPvz2J8K/CPAN-SQLite-0.215/blib/arch"
PERL5_CPANPLUS_IS_RUNNING="4468"
PERL5_CPANPLUS_IS_VERSION="0.9176"
PERL5_MINISMOKEBOX="0.68"
PERL5_YACSMOKE_BASE="/home/cpan/pit/bare/conf/perl-5.26.0"
PERL_EXTUTILS_AUTOINSTALL="--defaultdeps"
PERL_LOCAL_LIB_ROOT="/home/cpan/pit/jail/nJ0SyaKRse"
PERL_MB_OPT="--install_base "/home/cpan/pit/jail/nJ0SyaKRse""
PERL_MM_OPT="INSTALL_BASE=/home/cpan/pit/jail/nJ0SyaKRse"
PERL_MM_USE_DEFAULT="1"
@INC:
/home/cpan/pit/jail/nJ0SyaKRse/lib/perl5/5.26.0/x86_64-linux
/home/cpan/pit/jail/nJ0SyaKRse/lib/perl5/5.26.0
/home/cpan/pit/jail/nJ0SyaKRse/lib/perl5/x86_64-linux
/home/cpan/pit/jail/nJ0SyaKRse/lib/perl5
/home/cpan/pit/bare/conf/perl-5.26.0/.cpanplus/5.26.0/build/5DcPvz2J8K/CPAN-SQLite-0.215/blib/lib
/home/cpan/pit/bare/conf/perl-5.26.0/.cpanplus/5.26.0/build/5DcPvz2J8K/CPAN-SQLite-0.215/blib/arch
/home/cpan/pit/bare/perl-5.26.0/lib/site_perl/5.26.0/x86_64-linux
/home/cpan/pit/bare/perl-5.26.0/lib/site_perl/5.26.0
/home/cpan/pit/bare/perl-5.26.0/lib/5.26.0/x86_64-linux
/home/cpan/pit/bare/perl-5.26.0/lib/5.26.0