App-perlimports v0.000055 Perl 5 v5.18.4 x86_64-linux

Status
Pass
From
Slaven Rezić
Dist
App-perlimports v0.000055
Platform
Perl 5 v5.18.4 x86_64-linux
Date
2024-07-04 21:14:41
ID
6def9bfa-3a4a-11ef-aa06-33276e8775ea
This distribution has been tested as part of the CPAN Testers
project, supporting the Perl programming language.  See
http://wiki.cpantesters.org/ for more information or email
questions to cpan-testers-discuss@perl.org


--
Dear Olaf Alders,

This is a computer-generated report for App-perlimports-0.000055
on perl 5.18.4, created by CPAN-Reporter-1.2018.

Thank you for uploading your work to CPAN.  Congratulations!
All tests were successful.

Sections of this report:

    * Tester comments
    * Program output
    * Prerequisites
    * Environment and other context

------------------------------
TESTER COMMENTS
------------------------------

Additional comments from tester:

none provided

------------------------------
PROGRAM OUTPUT
------------------------------

Output from 'make test':

PERL_DL_NONLAZY=1 "/opt/perl-5.18.4/bin/perl" "-MExtUtils::Command::MM" "-MTest::Harness" "-e" "undef *Test::Harness::Switches; test_harness(0, 'blib/lib', 'blib/arch')" t/*.t t/ExportInspector/*.t t/cpan-modules/*.t
# 
# Versions for all modules listed in MYMETA.json (including optional ones):
# 
# === Configure Requires ===
# 
#     Module                 Want     Have
#     ------------------- ------- --------
#     ExtUtils::MakeMaker     any     7.64
#     perl                v5.10.0 5.018004
# 
# === Build Requires ===
# 
#     Module              Want Have
#     ------------------- ---- ----
#     ExtUtils::MakeMaker  any 7.64
# 
# === Test Requires ===
# 
#     Module                    Want     Have
#     ---------------------- ------- --------
#     ExtUtils::MakeMaker        any     7.64
#     File::Spec                 any     3.40
#     File::pushd                any    1.016
#     Log::Dispatch::Array       any    1.003
#     PPI::Dumper                any    1.278
#     Sub::Exporter              any    0.988
#     Test::Differences          any     0.69
#     Test::Fatal                any    0.016
#     Test::More                 any 1.302190
#     Test::Needs                any 0.002009
#     Test::RequiresInternet     any     0.05
#     Test::Script              1.29     1.29
#     Test::Warnings             any    0.031
#     lib                        any     0.63
#     perl                   v5.18.0 5.018004
# 
# === Test Recommends ===
# 
#     Module         Want     Have
#     ---------- -------- --------
#     CPAN::Meta 2.120900 2.150010
# 
# === Runtime Requires ===
# 
#     Module                           Want     Have
#     ---------------------------- -------- --------
#     Capture::Tiny                     any     0.48
#     Class::Inspector                 1.36     1.36
#     Cpanel::JSON::XS                  any     4.29
#     Data::Dumper                      any    2.145
#     Data::UUID                        any    1.226
#     File::Basename                    any     2.84
#     File::XDG                        1.01     1.02
#     Getopt::Long::Descriptive         any    0.110
#     List::Util                        any     1.62
#     Log::Dispatch                    2.70     2.70
#     Memoize                           any     1.03
#     Module::Runtime                   any    0.016
#     Moo                               any 2.005004
#     Moo::Role                         any 2.005004
#     MooX::StrictConstructor           any    0.011
#     PPI                             1.276    1.278
#     PPI::Document                     any    1.278
#     PPIx::Utils::Classification       any    0.003
#     Path::Iterator::Rule              any    1.015
#     Path::Tiny                        any    0.122
#     Perl::Tidy                   20220613 20240511
#     Pod::Usage                        any     2.03
#     Ref::Util                         any    0.204
#     Scalar::Util                      any     1.62
#     Sereal::Decoder                   any    5.004
#     Sereal::Encoder                   any    5.004
#     Sub::HandlesVia                   any    0.016
#     Symbol::Get                      0.10     0.12
#     TOML::Tiny                       0.16     0.17
#     Text::Diff                        any     1.45
#     Text::SimpleTable::AutoWidth      any     0.09
#     Try::Tiny                         any     0.31
#     Types::Standard                   any 1.012004
#     feature                           any     1.32
#     perl                         5.018000 5.018004
#     strict                            any     1.07
#     utf8                              any     1.10
#     warnings                          any     1.18
# 
t/00-report-prereqs.t ............ ok
t/after.t ........................ ok
t/annotations.t .................. ok
t/args-in-import.t ............... ok
t/builtin.t ...................... ok
t/carp.t ......................... ok
t/cast-in-regex.t ................ skipped: Need Lingua::EN::Inflect
t/cast.t ......................... skipped: Need Mojo::Util
t/cli-args.t ..................... skipped: Need Perl::Critic::Utils
t/cli.t .......................... skipped: Need Perl::Critic::Utils
t/config-in-import.t ............. ok
t/Config.t ....................... ok
t/cpan-modules/pithub.t .......... skipped: Need Pithub
t/cpan-modules/test2-v0.t ........ ok
t/datetime.t ..................... ok
t/do-block.t ..................... ok
t/Document.t ..................... ok
t/dump-perl-exports.t ............ ok
t/dupes.t ........................ ok
t/english.t ...................... ok
t/explodes.t ..................... ok
t/export-tags.t .................. ok
t/exported-variables.t ........... ok
t/ExportInspector/load.t ......... skipped: Need Import::Into
t/ExportInspector/SubExporter.t .. skipped: Need Import::Into, MetaCPAN::Moose, MooseX::Types::Path::Class
t/find-bin.t ..................... ok
t/fully-qualified.t .............. ok
t/func-in-use.t .................. ok
t/func-in-var.t .................. skipped: Need Mojo::Util
t/geo-ip.t ....................... skipped: Need Geo::IP
t/hash-in-regex.t ................ ok
t/hash-key-expression.t .......... ok
t/hash-key.t ..................... ok
t/hash-unquoted-key.t ............ ok
t/heredoc.t ...................... skipped: Need Perl::Critic::Utils
t/ignored-modules.t .............. skipped: Need Geo::IP
t/import-error.t ................. ok
t/interpolation.t ................ ok
t/is-ignored.t ................... ok
t/locally-defined-sub.t .......... ok
t/lookalike-words.t .............. ok
t/memoize.t ...................... skipped: Need MooseX::Types::UUID, UUID
t/meta.t ......................... ok
t/method.t ....................... ok
t/missing-semicolon-in-import.t .. ok
t/module-with-inner-packages.t ... ok
t/moo.t .......................... skipped: Need Import::Into
t/moose-types.t .................. skipped: Need MooseX::Types::Path::Class
t/moose.t ........................ skipped: Need Import::Into
t/moosex-types-moose.t ........... ok
t/nested-quotes.t ................ ok
t/never-exports.t ................ ok
t/original-imports.t ............. ok
t/padding.t ...................... ok
t/perl-imports.t ................. ok
t/perl.t ......................... ok
t/perlimports.t .................. ok
t/pragma.t ....................... ok
t/preserve-some-padding.t ........ ok
t/preserve-spaces.t .............. ok
t/qualified-bareword.t ........... ok
t/quoted-var.t ................... ok
t/re-export-via-sub-exporter.t ... ok
t/regex-replacement.t ............ skipped: Need IP::Random 1.200230
t/require.t ...................... ok
t/respace-include.t .............. ok
t/Sandbox.t ...................... ok
t/script-with-inner-packages.t ... ok
t/signatures.t ................... skipped: Need perl 5.020000 (have 5.018004)
t/skip-all.t ..................... skipped: Test is broken
t/socket.t ....................... ok
t/sort-imports.t ................. ok
t/switches-in-import.t ........... ok
t/symbol-as-method-call.t ........ skipped: Need HTML::TableExtract, Object::Tap
t/symbol-in-export.t ............. ok
t/test-builder.t ................. skipped: Need Test::HTML::Lint
t/test-most.t .................... ok
t/typeglob.t ..................... ok
t/unnest-quotes.t ................ ok
t/use-and-require.t .............. ok
t/var-in-hash-key.t .............. skipped: Need Perl::Critic::Utils
t/var-in-regex.t ................. skipped: Need Perl::Critic::Utils
t/variable.t ..................... ok
t/warning.t ...................... skipped: Need Mojo::URL
t/with-version.t ................. ok
All tests successful.
Files=85, Tests=142, 34 wallclock secs ( 0.20 usr  0.06 sys + 27.70 cusr  3.88 csys = 31.84 CPU)
Result: PASS

------------------------------
PREREQUISITES
------------------------------

Prerequisite modules loaded:

requires:

    Module                       Need     Have    
    ---------------------------- -------- --------
    Capture::Tiny                0        0.48    
    Class::Inspector             1.36     1.36    
    Cpanel::JSON::XS             0        4.29    
    Data::Dumper                 0        2.145   
    Data::UUID                   0        1.226   
    feature                      0        1.32    
    File::Basename               0        2.84    
    File::XDG                    1.01     1.02    
    Getopt::Long::Descriptive    0        0.110   
    List::Util                   0        1.62    
    Log::Dispatch                2.70     2.70    
    Memoize                      0        1.03    
    Module::Runtime              0        0.016   
    Moo                          0        2.005004
    Moo::Role                    0        2.005004
    MooX::StrictConstructor      0        0.011   
    Path::Iterator::Rule         0        1.015   
    Path::Tiny                   0        0.122   
    perl                         5.018000 5.018004
    Perl::Tidy                   20220613 20240511
    Pod::Usage                   0        2.03    
    PPI                          1.276    1.278   
    PPI::Document                0        1.278   
    PPIx::Utils::Classification  0        0.003   
    Ref::Util                    0        0.204   
    Scalar::Util                 0        1.62    
    Sereal::Decoder              0        5.004   
    Sereal::Encoder              0        5.004   
    strict                       0        1.07    
    Sub::HandlesVia              0        0.016   
    Symbol::Get                  0.10     0.12    
    Text::Diff                   0        1.45    
    Text::SimpleTable::AutoWidth 0        0.09    
    TOML::Tiny                   0.16     0.17    
    Try::Tiny                    0        0.31    
    Types::Standard              0        1.012004
    utf8                         0        1.10    
    warnings                     0        1.18    

build_requires:

    Module                       Need     Have    
    ---------------------------- -------- --------
    ExtUtils::MakeMaker          0        7.64    
    File::pushd                  0        1.016   
    File::Spec                   0        3.40    
    lib                          0        0.63    
    Log::Dispatch::Array         0        1.003   
    PPI::Dumper                  0        1.278   
    Sub::Exporter                0        0.988   
    Test::Differences            0        0.69    
    Test::Fatal                  0        0.016   
    Test::More                   0        1.302190
    Test::Needs                  0        0.002009
    Test::RequiresInternet       0        0.05    
    Test::Script                 1.29     1.29    
    Test::Warnings               0        0.031   

configure_requires:

    Module                       Need     Have    
    ---------------------------- -------- --------
    ExtUtils::MakeMaker          0        7.64    
    perl                         v5.10.0  5.018004


------------------------------
ENVIRONMENT AND OTHER CONTEXT
------------------------------

Environment variables:

    LANG = en_US.UTF-8
    PATH = /usr/local/bin:/usr/bin:/bin:/usr/local/sbin:/usr/sbin:/sbin:/home/e/eserte/bin/linux-gnu:/home/e/eserte/bin/sh:/home/e/eserte/bin:/home/e/eserte/bin/pistachio-perl/bin:/usr/games:/home/e/eserte/devel:/home/e/eserte/work2/fzf/bin:/home/e/eserte/src/srezic-misc/scripts
    PERL5LIB = /home/e/eserte/.cpan/build/2024070422/TOML-Tiny-0.17-1/blib/arch:/home/e/eserte/.cpan/build/2024070422/TOML-Tiny-0.17-1/blib/lib:/home/e/eserte/.cpan/build/2024070422/TOML-Parser-0.91-1/blib/arch:/home/e/eserte/.cpan/build/2024070422/TOML-Parser-0.91-1/blib/lib:/home/e/eserte/.cpan/build/2024070422/Test-Deep-Fuzzy-0.01-1/blib/arch:/home/e/eserte/.cpan/build/2024070422/Test-Deep-Fuzzy-0.01-1/blib/lib:/home/e/eserte/.cpan/build/2024070422/Math-BigInt-2.003003-0/blib/arch:/home/e/eserte/.cpan/build/2024070422/Math-BigInt-2.003003-0/blib/lib:/home/e/eserte/.cpan/build/2024070422/DateTime-Format-RFC3339-v1.8.0-1/blib/arch:/home/e/eserte/.cpan/build/2024070422/DateTime-Format-RFC3339-v1.8.0-1/blib/lib:/home/e/eserte/.cpan/build/2024070422/Symbol-Get-0.12-1/blib/arch:/home/e/eserte/.cpan/build/2024070422/Symbol-Get-0.12-1/blib/lib:/home/e/eserte/.cpan/build/2024070422/Call-Context-0.05-1/blib/arch:/home/e/eserte/.cpan/build/2024070422/Call-Context-0.05-1/blib/lib:/home/e/eserte/.cpan/build/2024070422/Sereal-Encoder-5.004-1/blib/arch:/home/e/eserte/.cpan/build/2024070422/Sereal-Encoder-5.004-1/blib/lib:/home/e/eserte/.cpan/build/2024070422/Sereal-Decoder-5.004-1/blib/arch:/home/e/eserte/.cpan/build/2024070422/Sereal-Decoder-5.004-1/blib/lib:/home/e/eserte/.cpan/build/2024070422/Devel-CheckLib-1.16-1/blib/arch:/home/e/eserte/.cpan/build/2024070422/Devel-CheckLib-1.16-1/blib/lib:/home/e/eserte/.cpan/build/2024070422/Mock-Config-0.03-1/blib/arch:/home/e/eserte/.cpan/build/2024070422/Mock-Config-0.03-1/blib/lib:/home/e/eserte/.cpan/build/2024070422/Perl-Tidy-20240511-1/blib/arch:/home/e/eserte/.cpan/build/2024070422/Perl-Tidy-20240511-1/blib/lib:/home/e/eserte/.cpan/build/2024070422/PPIx-Utils-0.003-1/blib/arch:/home/e/eserte/.cpan/build/2024070422/PPIx-Utils-0.003-1/blib/lib:/home/e/eserte/.cpan/build/2024070422/B-Keywords-1.27-1/blib/arch:/home/e/eserte/.cpan/build/2024070422/B-Keywords-1.27-1/blib/lib:/home/e/eserte/.cpan/build/2024070422/PPI-1.278-0/blib/arch:/home/e/eserte/.cpan/build/2024070422/PPI-1.278-0/blib/lib:/home/e/eserte/.cpan/build/2024070422/File-XDG-1.02-1/blib/arch:/home/e/eserte/.cpan/build/2024070422/File-XDG-1.02-1/blib/lib
    PERL5OPT = 
    PERL5_CPANPLUS_IS_RUNNING = 10142
    PERL5_CPAN_IS_RUNNING = 10142
    PERL5_CPAN_IS_RUNNING_IN_RECURSION = 9537,10142
    PERLDOC = -MPod::Perldoc::ToTextOverstrike
    PERL_BATCH = yes
    PERL_CANARY_STABILITY_NOPROMPT = 1
    PERL_CPAN_REPORTER_CONFIG = /var/tmp/cpansmoker-1000/2024070422/cpanreporter_001_config.ini
    PERL_EXTUTILS_AUTOINSTALL = --defaultdeps
    PERL_USE_UNSAFE_INC = 1
    SHELL = /bin/zsh
    STDPERL = perl
    TERM = xterm
    TMPDIR = /var/tmp/cpansmoker-1000/2024070422

Perl special variables (and OS-specific diagnostics, for MSWin32):

    $^X = /opt/perl-5.18.4/bin/perl
    $UID/$EUID = 1000 / 1000
    $GID = 1000 4 24 25 27 29 30 33 44 46 108 111 115 128 134 1000 1024
    $EGID = 1000 4 24 25 27 29 30 33 44 46 108 111 115 128 134 1000 1024

Perl module toolchain versions installed:

    Module              Have    
    ------------------- --------
    CPAN                2.34    
    CPAN::Meta          2.150010
    Cwd                 3.40    
    ExtUtils::CBuilder  0.280210
    ExtUtils::Command   7.64    
    ExtUtils::Install   2.06    
    ExtUtils::MakeMaker 7.64    
    ExtUtils::Manifest  1.70    
    ExtUtils::ParseXS   3.44    
    File::Spec          3.40    
    JSON                4.06    
    JSON::PP            4.09    
    Module::Build       0.4231  
    Module::Signature   0.88    
    Parse::CPAN::Meta   2.150010
    Test::Harness       3.44    
    Test::More          1.302190
    YAML                1.30    
    YAML::Syck          1.34    
    version             0.9902  


--

Summary of my perl5 (revision 5 version 18 subversion 4) configuration:
   
  Platform:
    osname=linux, osvers=4.9.0-18-amd64, archname=x86_64-linux
    uname='linux cabulja 4.9.0-18-amd64 #1 smp debian 4.9.303-1 (2022-03-07) x86_64 gnulinux '
    config_args='-ds -e -Dprefix=/opt/perl-5.18.4 -Dcf_email=srezic@cpan.org'
    hint=recommended, useposix=true, d_sigaction=define
    useithreads=undef, usemultiplicity=undef
    useperlio=define, d_sfio=undef, uselargefiles=define, usesocks=undef
    use64bitint=define, use64bitall=define, uselongdouble=undef
    usemymalloc=n, bincompat5005=undef
  Compiler:
    cc='cc', ccflags ='-fwrapv -fno-strict-aliasing -pipe -fstack-protector -I/usr/local/include -D_LARGEFILE_SOURCE -D_FILE_OFFSET_BITS=64',
    optimize='-O2',
    cppflags='-fwrapv -fno-strict-aliasing -pipe -fstack-protector -I/usr/local/include'
    ccversion='', gccversion='6.3.0 20170516', gccosandvers=''
    intsize=4, longsize=8, ptrsize=8, doublesize=8, byteorder=12345678
    d_longlong=define, longlongsize=8, d_longdbl=define, longdblsize=16
    ivtype='long', ivsize=8, nvtype='double', nvsize=8, Off_t='off_t', lseeksize=8
    alignbytes=8, prototype=define
  Linker and Libraries:
    ld='cc', ldflags =' -fstack-protector -L/usr/local/lib'
    libpth=/usr/local/lib /lib/x86_64-linux-gnu /lib/../lib /usr/lib/x86_64-linux-gnu /usr/lib/../lib /lib /usr/lib
    libs=-lnsl -lgdbm -ldb -ldl -lm -lcrypt -lutil -lc -lgdbm_compat
    perllibs=-lnsl -ldl -lm -lcrypt -lutil -lc
    libc=libc-2.24.so, so=so, useshrplib=false, libperl=libperl.a
    gnulibc_version='2.24'
  Dynamic Linking:
    dlsrc=dl_dlopen.xs, dlext=so, d_dlsymun=undef, ccdlflags='-Wl,-E'
    cccdlflags='-fPIC', lddlflags='-shared -O2 -L/usr/local/lib -fstack-protector'


Characteristics of this binary (from libperl): 
  Compile-time options: HAS_TIMES PERLIO_LAYERS PERL_DONT_CREATE_GVSV
                        PERL_HASH_FUNC_ONE_AT_A_TIME_HARD PERL_MALLOC_WRAP
                        PERL_PRESERVE_IVUV PERL_SAWAMPERSAND USE_64_BIT_ALL
                        USE_64_BIT_INT USE_LARGE_FILES USE_LOCALE
                        USE_LOCALE_COLLATE USE_LOCALE_CTYPE
                        USE_LOCALE_NUMERIC USE_PERLIO USE_PERL_ATOF
  Locally applied patches:
	Devel::PatchPerl 2.08
  Built under linux
  Compiled at May 30 2022 08:09:10
  %ENV:
    PERL5LIB="/home/e/eserte/.cpan/build/2024070422/TOML-Tiny-0.17-1/blib/arch:/home/e/eserte/.cpan/build/2024070422/TOML-Tiny-0.17-1/blib/lib:/home/e/eserte/.cpan/build/2024070422/TOML-Parser-0.91-1/blib/arch:/home/e/eserte/.cpan/build/2024070422/TOML-Parser-0.91-1/blib/lib:/home/e/eserte/.cpan/build/2024070422/Test-Deep-Fuzzy-0.01-1/blib/arch:/home/e/eserte/.cpan/build/2024070422/Test-Deep-Fuzzy-0.01-1/blib/lib:/home/e/eserte/.cpan/build/2024070422/Math-BigInt-2.003003-0/blib/arch:/home/e/eserte/.cpan/build/2024070422/Math-BigInt-2.003003-0/blib/lib:/home/e/eserte/.cpan/build/2024070422/DateTime-Format-RFC3339-v1.8.0-1/blib/arch:/home/e/eserte/.cpan/build/2024070422/DateTime-Format-RFC3339-v1.8.0-1/blib/lib:/home/e/eserte/.cpan/build/2024070422/Symbol-Get-0.12-1/blib/arch:/home/e/eserte/.cpan/build/2024070422/Symbol-Get-0.12-1/blib/lib:/home/e/eserte/.cpan/build/2024070422/Call-Context-0.05-1/blib/arch:/home/e/eserte/.cpan/build/2024070422/Call-Context-0.05-1/blib/lib:/home/e/eserte/.cpan/build/2024070422/Sereal-Encoder-5.004-1/blib/arch:/home/e/eserte/.cpan/build/2024070422/Sereal-Encoder-5.004-1/blib/lib:/home/e/eserte/.cpan/build/2024070422/Sereal-Decoder-5.004-1/blib/arch:/home/e/eserte/.cpan/build/2024070422/Sereal-Decoder-5.004-1/blib/lib:/home/e/eserte/.cpan/build/2024070422/Devel-CheckLib-1.16-1/blib/arch:/home/e/eserte/.cpan/build/2024070422/Devel-CheckLib-1.16-1/blib/lib:/home/e/eserte/.cpan/build/2024070422/Mock-Config-0.03-1/blib/arch:/home/e/eserte/.cpan/build/2024070422/Mock-Config-0.03-1/blib/lib:/home/e/eserte/.cpan/build/2024070422/Perl-Tidy-20240511-1/blib/arch:/home/e/eserte/.cpan/build/2024070422/Perl-Tidy-20240511-1/blib/lib:/home/e/eserte/.cpan/build/2024070422/PPIx-Utils-0.003-1/blib/arch:/home/e/eserte/.cpan/build/2024070422/PPIx-Utils-0.003-1/blib/lib:/home/e/eserte/.cpan/build/2024070422/B-Keywords-1.27-1/blib/arch:/home/e/eserte/.cpan/build/2024070422/B-Keywords-1.27-1/blib/lib:/home/e/eserte/.cpan/build/2024070422/PPI-1.278-0/blib/arch:/home/e/eserte/.cpan/build/2024070422/PPI-1.278-0/blib/lib:/home/e/eserte/.cpan/build/2024070422/File-XDG-1.02-1/blib/arch:/home/e/eserte/.cpan/build/2024070422/File-XDG-1.02-1/blib/lib"
    PERL5OPT=""
    PERL5_CPANPLUS_IS_RUNNING="10142"
    PERL5_CPAN_IS_RUNNING="10142"
    PERL5_CPAN_IS_RUNNING_IN_RECURSION="9537,10142"
    PERLDOC="-MPod::Perldoc::ToTextOverstrike"
    PERL_BATCH="yes"
    PERL_CANARY_STABILITY_NOPROMPT="1"
    PERL_CPAN_REPORTER_CONFIG="/var/tmp/cpansmoker-1000/2024070422/cpanreporter_001_config.ini"
    PERL_EXTUTILS_AUTOINSTALL="--defaultdeps"
    PERL_USE_UNSAFE_INC="1"
  @INC:
    /home/e/eserte/.cpan/build/2024070422/TOML-Tiny-0.17-1/blib/arch
    /home/e/eserte/.cpan/build/2024070422/TOML-Tiny-0.17-1/blib/lib
    /home/e/eserte/.cpan/build/2024070422/TOML-Parser-0.91-1/blib/arch
    /home/e/eserte/.cpan/build/2024070422/TOML-Parser-0.91-1/blib/lib
    /home/e/eserte/.cpan/build/2024070422/Test-Deep-Fuzzy-0.01-1/blib/arch
    /home/e/eserte/.cpan/build/2024070422/Test-Deep-Fuzzy-0.01-1/blib/lib
    /home/e/eserte/.cpan/build/2024070422/Math-BigInt-2.003003-0/blib/arch
    /home/e/eserte/.cpan/build/2024070422/Math-BigInt-2.003003-0/blib/lib
    /home/e/eserte/.cpan/build/2024070422/DateTime-Format-RFC3339-v1.8.0-1/blib/arch
    /home/e/eserte/.cpan/build/2024070422/DateTime-Format-RFC3339-v1.8.0-1/blib/lib
    /home/e/eserte/.cpan/build/2024070422/Symbol-Get-0.12-1/blib/arch
    /home/e/eserte/.cpan/build/2024070422/Symbol-Get-0.12-1/blib/lib
    /home/e/eserte/.cpan/build/2024070422/Call-Context-0.05-1/blib/arch
    /home/e/eserte/.cpan/build/2024070422/Call-Context-0.05-1/blib/lib
    /home/e/eserte/.cpan/build/2024070422/Sereal-Encoder-5.004-1/blib/arch
    /home/e/eserte/.cpan/build/2024070422/Sereal-Encoder-5.004-1/blib/lib
    /home/e/eserte/.cpan/build/2024070422/Sereal-Decoder-5.004-1/blib/arch
    /home/e/eserte/.cpan/build/2024070422/Sereal-Decoder-5.004-1/blib/lib
    /home/e/eserte/.cpan/build/2024070422/Devel-CheckLib-1.16-1/blib/arch
    /home/e/eserte/.cpan/build/2024070422/Devel-CheckLib-1.16-1/blib/lib
    /home/e/eserte/.cpan/build/2024070422/Mock-Config-0.03-1/blib/arch
    /home/e/eserte/.cpan/build/2024070422/Mock-Config-0.03-1/blib/lib
    /home/e/eserte/.cpan/build/2024070422/Perl-Tidy-20240511-1/blib/arch
    /home/e/eserte/.cpan/build/2024070422/Perl-Tidy-20240511-1/blib/lib
    /home/e/eserte/.cpan/build/2024070422/PPIx-Utils-0.003-1/blib/arch
    /home/e/eserte/.cpan/build/2024070422/PPIx-Utils-0.003-1/blib/lib
    /home/e/eserte/.cpan/build/2024070422/B-Keywords-1.27-1/blib/arch
    /home/e/eserte/.cpan/build/2024070422/B-Keywords-1.27-1/blib/lib
    /home/e/eserte/.cpan/build/2024070422/PPI-1.278-0/blib/arch
    /home/e/eserte/.cpan/build/2024070422/PPI-1.278-0/blib/lib
    /home/e/eserte/.cpan/build/2024070422/File-XDG-1.02-1/blib/arch
    /home/e/eserte/.cpan/build/2024070422/File-XDG-1.02-1/blib/lib
    /opt/perl-5.18.4/lib/site_perl/5.18.4/x86_64-linux
    /opt/perl-5.18.4/lib/site_perl/5.18.4
    /opt/perl-5.18.4/lib/5.18.4/x86_64-linux
    /opt/perl-5.18.4/lib/5.18.4
    .