WebService-Client v1.0001 Perl 5 v5.33.8 amd64-freebsd

Status
Pass
From
Slaven Rezić
Dist
WebService-Client v1.0001
Platform
Perl 5 v5.33.8 amd64-freebsd
Date
2021-04-22 22:02:29
ID
6e0d7464-a3b6-11eb-9d06-a71d1f24ea8f
This distribution has been tested as part of the CPAN Testers
project, supporting the Perl programming language.  See
http://wiki.cpantesters.org/ for more information or email
questions to cpan-testers-discuss@perl.org


--
Dear Naveed Massjouni,

This is a computer-generated report for WebService-Client-1.0001
on perl 5.33.8, created by CPAN-Reporter-1.2018.

Thank you for uploading your work to CPAN.  Congratulations!
All tests were successful.

Sections of this report:

    * Tester comments
    * Program output
    * Prerequisites
    * Environment and other context

------------------------------
TESTER COMMENTS
------------------------------

Additional comments from tester:

none provided

------------------------------
PROGRAM OUTPUT
------------------------------

Output from '/usr/bin/make test':

PERL_DL_NONLAZY=1 "/usr/perl5.33.8p/bin/perl5.33.8" "-MExtUtils::Command::MM" "-MTest::Harness" "-e" "undef *Test::Harness::Switches; test_harness(0, 'blib/lib', 'blib/arch')" t/*.t
t/00-compile.t ................. ok
# 
# Versions for all modules listed in MYMETA.json (including optional ones):
# 
# === Configure Requires ===
# 
#     Module              Want Have
#     ------------------- ---- ----
#     ExtUtils::MakeMaker  any 7.60
# 
# === Build Requires ===
# 
#     Module              Want Have
#     ------------------- ---- ----
#     ExtUtils::MakeMaker  any 7.60
# 
# === Test Requires ===
# 
#     Module               Want     Have
#     -------------------- ---- --------
#     ExtUtils::MakeMaker   any     7.60
#     File::Spec            any     3.80
#     IO::Handle            any     1.46
#     IPC::Open3            any     1.21
#     Test::LWP::UserAgent  any    0.034
#     Test::More            any 1.302183
#     strict                any     1.12
#     warnings              any     1.51
# 
# === Test Recommends ===
# 
#     Module         Want     Have
#     ---------- -------- --------
#     CPAN::Meta 2.120900 2.150010
# 
# === Runtime Requires ===
# 
#     Module                         Want     Have
#     -------------------------- -------- --------
#     Carp                            any     1.52
#     HTTP::Message                  6.06     6.29
#     HTTP::Request                   any     6.29
#     HTTP::Request::Common           any     6.29
#     HTTP::Response::Stringable   0.0002   0.0002
#     JSON::MaybeXS                   any 1.004003
#     LWP::UserAgent                  any     6.53
#     Moo                        1.005000 2.005003
#     Moo::Role                       any 2.005003
# 
t/00-report-prereqs.t .......... ok
t/00-test-get.t ................ ok
t/author-eof.t ................. skipped: these tests are for testing by the author
t/author-eol.t ................. skipped: these tests are for testing by the author
t/author-no-breakpoints.t ...... skipped: these tests are for testing by the author
t/author-no-tabs.t ............. skipped: these tests are for testing by the author
t/author-pod-syntax.t .......... skipped: these tests are for testing by the author
t/author-portability.t ......... skipped: these tests are for testing by the author
t/release-distmeta.t ........... skipped: these tests are for release candidate testing
t/release-kwalitee.t ........... skipped: these tests are for release candidate testing
t/release-pause-permissions.t .. skipped: these tests are for release candidate testing
t/release-unused-vars.t ........ skipped: these tests are for release candidate testing
All tests successful.
Files=13, Tests=4,  1 wallclock secs ( 0.03 usr  0.02 sys +  0.44 cusr  0.19 csys =  0.68 CPU)
Result: PASS

------------------------------
PREREQUISITES
------------------------------

Prerequisite modules loaded:

requires:

    Module                     Need     Have    
    -------------------------- -------- --------
    Carp                       0        1.52    
    HTTP::Message              6.06     6.29    
    HTTP::Request              0        6.29    
    HTTP::Request::Common      0        6.29    
    HTTP::Response::Stringable 0.0002   0.0002  
    JSON::MaybeXS              0        1.004003
    LWP::UserAgent             0        6.53    
    Moo                        1.005000 2.005003
    Moo::Role                  0        2.005003
    perl                       5.006    5.033008

build_requires:

    Module                     Need     Have    
    -------------------------- -------- --------
    ExtUtils::MakeMaker        0        7.60    
    File::Spec                 0        3.80    
    IO::Handle                 0        1.46    
    IPC::Open3                 0        1.21    
    strict                     0        1.12    
    Test::LWP::UserAgent       0        0.034   
    Test::More                 0        1.302183
    warnings                   0        1.51    

configure_requires:

    Module                     Need     Have    
    -------------------------- -------- --------
    ExtUtils::MakeMaker        0        7.60    
    perl                       5.006    5.033008


------------------------------
ENVIRONMENT AND OTHER CONTEXT
------------------------------

Environment variables:

    PATH = /usr/local/bin:/usr/bin:/bin:/usr/local/sbin:/usr/sbin:/sbin:/home/cpansand/bin/freebsd12.0:/home/cpansand/bin/sh:/home/cpansand/bin:/usr/games:/home/cpansand/devel:/usr/home/eserte/src/srezic-misc/scripts
    PERL5LIB = /home/cpansand/.cpan/build/2021042221/HTTP-Response-Stringable-0.0002-0/blib/arch:/home/cpansand/.cpan/build/2021042221/HTTP-Response-Stringable-0.0002-0/blib/lib:/home/cpansand/.cpan/build/2021042221/Test-Mock-LWP-Dispatch-0.08-1/blib/arch:/home/cpansand/.cpan/build/2021042221/Test-Mock-LWP-Dispatch-0.08-1/blib/lib:/home/cpansand/.cpan/build/2021042221/Method-Signatures-20170211-3/blib/arch:/home/cpansand/.cpan/build/2021042221/Method-Signatures-20170211-3/blib/lib:/home/cpansand/.cpan/build/2021042221/Lexical-SealRequireHints-0.011-3/blib/arch:/home/cpansand/.cpan/build/2021042221/Lexical-SealRequireHints-0.011-3/blib/lib:/home/cpansand/.cpan/build/2021042221/Devel-Declare-0.006022-7/blib/arch:/home/cpansand/.cpan/build/2021042221/Devel-Declare-0.006022-7/blib/lib
    PERL5OPT = 
    PERL5_CPANPLUS_IS_RUNNING = 92069
    PERL5_CPAN_IS_RUNNING = 92069
    PERL5_CPAN_IS_RUNNING_IN_RECURSION = 90619,92069
    PERLDOC = -MPod::Perldoc::ToTextOverstrike
    PERL_BATCH = yes
    PERL_CANARY_STABILITY_NOPROMPT = 1
    PERL_CPAN_REPORTER_CONFIG = /var/tmp/cpansmoker-1023/2021042220/cpanreporter_000_config.ini
    PERL_EXTUTILS_AUTOINSTALL = --defaultdeps
    PERL_USE_UNSAFE_INC = 1
    SHELL = /usr/local/bin/zsh
    TERM = screen
    TMPDIR = /var/tmp/cpansmoker-1023/2021042220

Perl special variables (and OS-specific diagnostics, for MSWin32):

    $^X = /usr/perl5.33.8p/bin/perl5.33.8
    $UID/$EUID = 1023 / 1023
    $GID = 1023 1023
    $EGID = 1023 1023

Perl module toolchain versions installed:

    Module              Have    
    ------------------- --------
    CPAN                2.28    
    CPAN::Meta          2.150010
    Cwd                 3.80    
    ExtUtils::CBuilder  0.280236
    ExtUtils::Command   7.60    
    ExtUtils::Install   2.20    
    ExtUtils::MakeMaker 7.60    
    ExtUtils::Manifest  1.73    
    ExtUtils::ParseXS   3.42    
    File::Spec          3.80    
    JSON                4.03    
    JSON::PP            4.06    
    Module::Build       0.4231  
    Module::Signature   n/a     
    Parse::CPAN::Meta   2.150010
    Test::Harness       3.43    
    Test::More          1.302183
    YAML                1.30    
    YAML::Syck          1.34    
    version             0.9928  


--

Summary of my perl5 (revision 5 version 33 subversion 8) configuration:
   
  Platform:
    osname=freebsd
    osvers=12.2-stable
    archname=amd64-freebsd
    uname='freebsd cloud1.bbbike.org 12.2-stable freebsd 12.2-stable stable12-n72-2225c9780 generic amd64 '
    config_args='-ds -e -Dprefix=/usr/perl5.33.8p -Dusedevel -Dusemallocwrap=no -Dcf_email=srezic@cpan.org -Doptimize=-O2 -pipe'
    hint=recommended
    useposix=true
    d_sigaction=define
    useithreads=undef
    usemultiplicity=undef
    use64bitint=define
    use64bitall=define
    uselongdouble=undef
    usemymalloc=n
    default_inc_excludes_dot=define
  Compiler:
    cc='cc'
    ccflags ='-DHAS_FPSETMASK -DHAS_FLOATINGPOINT_H -fno-strict-aliasing -pipe -fstack-protector-strong -I/usr/local/include'
    optimize='-O2 -pipe'
    cppflags='-DHAS_FPSETMASK -DHAS_FLOATINGPOINT_H -fno-strict-aliasing -pipe -fstack-protector-strong -I/usr/local/include'
    ccversion=''
    gccversion='FreeBSD Clang 10.0.1 (git@github.com:llvm/llvm-project.git llvmorg-10.0.1-0-gef32c611aa2)'
    gccosandvers=''
    intsize=4
    longsize=8
    ptrsize=8
    doublesize=8
    byteorder=12345678
    doublekind=3
    d_longlong=define
    longlongsize=8
    d_longdbl=define
    longdblsize=16
    longdblkind=3
    ivtype='long'
    ivsize=8
    nvtype='double'
    nvsize=8
    Off_t='off_t'
    lseeksize=8
    alignbytes=8
    prototype=define
  Linker and Libraries:
    ld='cc'
    ldflags ='-pthread -Wl,-E  -fstack-protector-strong -L/usr/local/lib'
    libpth=/usr/lib /usr/local/lib /usr/lib/clang/10.0.1/lib /usr/lib
    libs=-lpthread -lgdbm -ldl -lm -lcrypt -lutil -lc
    perllibs=-lpthread -ldl -lm -lcrypt -lutil -lc
    libc=
    so=so
    useshrplib=false
    libperl=libperl.a
    gnulibc_version=''
  Dynamic Linking:
    dlsrc=dl_dlopen.xs
    dlext=so
    d_dlsymun=undef
    ccdlflags=' '
    cccdlflags='-DPIC -fPIC'
    lddlflags='-shared  -L/usr/local/lib -fstack-protector-strong'


Characteristics of this binary (from libperl): 
  Compile-time options:
    HAS_TIMES
    PERLIO_LAYERS
    PERL_COPY_ON_WRITE
    PERL_DONT_CREATE_GVSV
    PERL_OP_PARENT
    PERL_PRESERVE_IVUV
    PERL_USE_DEVEL
    USE_64_BIT_ALL
    USE_64_BIT_INT
    USE_LARGE_FILES
    USE_LOCALE
    USE_LOCALE_COLLATE
    USE_LOCALE_CTYPE
    USE_LOCALE_NUMERIC
    USE_LOCALE_TIME
    USE_PERLIO
    USE_PERL_ATOF
  Built under freebsd
  Compiled at Mar 27 2021 13:27:09
  %ENV:
    PERL5LIB="/home/cpansand/.cpan/build/2021042221/HTTP-Response-Stringable-0.0002-0/blib/arch:/home/cpansand/.cpan/build/2021042221/HTTP-Response-Stringable-0.0002-0/blib/lib:/home/cpansand/.cpan/build/2021042221/Test-Mock-LWP-Dispatch-0.08-1/blib/arch:/home/cpansand/.cpan/build/2021042221/Test-Mock-LWP-Dispatch-0.08-1/blib/lib:/home/cpansand/.cpan/build/2021042221/Method-Signatures-20170211-3/blib/arch:/home/cpansand/.cpan/build/2021042221/Method-Signatures-20170211-3/blib/lib:/home/cpansand/.cpan/build/2021042221/Lexical-SealRequireHints-0.011-3/blib/arch:/home/cpansand/.cpan/build/2021042221/Lexical-SealRequireHints-0.011-3/blib/lib:/home/cpansand/.cpan/build/2021042221/Devel-Declare-0.006022-7/blib/arch:/home/cpansand/.cpan/build/2021042221/Devel-Declare-0.006022-7/blib/lib"
    PERL5OPT=""
    PERL5_CPANPLUS_IS_RUNNING="92069"
    PERL5_CPAN_IS_RUNNING="92069"
    PERL5_CPAN_IS_RUNNING_IN_RECURSION="90619,92069"
    PERLDOC="-MPod::Perldoc::ToTextOverstrike"
    PERL_BATCH="yes"
    PERL_CANARY_STABILITY_NOPROMPT="1"
    PERL_CPAN_REPORTER_CONFIG="/var/tmp/cpansmoker-1023/2021042220/cpanreporter_000_config.ini"
    PERL_EXTUTILS_AUTOINSTALL="--defaultdeps"
    PERL_USE_UNSAFE_INC="1"
  @INC:
    /home/cpansand/.cpan/build/2021042221/HTTP-Response-Stringable-0.0002-0/blib/arch
    /home/cpansand/.cpan/build/2021042221/HTTP-Response-Stringable-0.0002-0/blib/lib
    /home/cpansand/.cpan/build/2021042221/Test-Mock-LWP-Dispatch-0.08-1/blib/arch
    /home/cpansand/.cpan/build/2021042221/Test-Mock-LWP-Dispatch-0.08-1/blib/lib
    /home/cpansand/.cpan/build/2021042221/Method-Signatures-20170211-3/blib/arch
    /home/cpansand/.cpan/build/2021042221/Method-Signatures-20170211-3/blib/lib
    /home/cpansand/.cpan/build/2021042221/Lexical-SealRequireHints-0.011-3/blib/arch
    /home/cpansand/.cpan/build/2021042221/Lexical-SealRequireHints-0.011-3/blib/lib
    /home/cpansand/.cpan/build/2021042221/Devel-Declare-0.006022-7/blib/arch
    /home/cpansand/.cpan/build/2021042221/Devel-Declare-0.006022-7/blib/lib
    /usr/perl5.33.8p/lib/site_perl/5.33.8/amd64-freebsd
    /usr/perl5.33.8p/lib/site_perl/5.33.8
    /usr/perl5.33.8p/lib/5.33.8/amd64-freebsd
    /usr/perl5.33.8p/lib/5.33.8
    .