CPAN-SQLite v0.215 Perl 5 v5.22.4 x86_64-linux-thread-multi

Status
Pass
From
David Cantrell (DCANTRELL)
Dist
CPAN-SQLite v0.215
Platform
Perl 5 v5.22.4 x86_64-linux-thread-multi
Date
2019-01-24 12:56:13
ID
6e3ed532-1fd7-11e9-8aff-36f97247484a
This distribution has been tested as part of the CPAN Testers
project, supporting the Perl programming language.  See
http://wiki.cpantesters.org/ for more information or email
questions to cpan-testers-discuss@perl.org


--
Dear Serguei Trouchelle,

This is a computer-generated report for CPAN-SQLite-0.215
on perl 5.22.4, created by CPAN-Reporter-1.2018.

Thank you for uploading your work to CPAN.  Congratulations!
All tests were successful.

Sections of this report:

    * Tester comments
    * Program output
    * Prerequisites
    * Environment and other context

------------------------------
TESTER COMMENTS
------------------------------

Additional comments from tester:

this report is from an automated smoke testing program
and was not reviewed by a human for accuracy

------------------------------
PROGRAM OUTPUT
------------------------------

Output from '/usr/bin/make test':

PERL_DL_NONLAZY=1 "/home/david/cpantesting/perl-5.22.4/bin/perl" "-MExtUtils::Command::MM" "-MTest::Harness" "-e" "undef *Test::Harness::Switches; test_harness(0, 'blib/lib', 'blib/arch')" t/*.t
# Listing %INC
#                                    B 1.58
#                                 CPAN 2.1101
#                         CPAN::Author 5.5002
#                         CPAN::Bundle 5.5001
#                       CPAN::CacheMgr 5.5002
#                       CPAN::Complete 5.5001
#                          CPAN::Debug 5.5001
#                   CPAN::DeferredCode 5.50
#                   CPAN::DistnameInfo 0.12
#                   CPAN::Distribution 2.04
#                    CPAN::Distroprefs 6.0001
#                   CPAN::Distrostatus 5.5
# CPAN::Exception::RecursiveDependency 5.5
#  CPAN::Exception::yaml_not_installed 5.5
#  CPAN::Exception::yaml_process_error 5.5
#                            CPAN::FTP 5.5006
#                     CPAN::FTP::netrc 1.01
#              CPAN::HTTP::Credentials 1.9601
#                   CPAN::HandleConfig 5.5006
#                          CPAN::Index 1.9601
#                        CPAN::InfoObj 5.5
#                 CPAN::LWP::UserAgent 1.9601
#                         CPAN::Module 5.5002
#                         CPAN::Prompt 5.5
#                          CPAN::Queue 5.5002
#                          CPAN::Shell 5.5005
#                         CPAN::Tarzip 5.5012
#                            CPAN::URL 5.5
#                        CPAN::Version 5.5003
#                                 Carp 1.36
#                          Carp::Heavy 1.36
#                  Compress::Raw::Zlib 2.068
#                       Compress::Zlib 2.068001
#                               Config 5.022004
#                                  Cwd 3.56_02
#                                  DBI 1.642
#                            DirHandle 1.04
#                           DynaLoader 1.32
#                               Encode 2.72_01
#                        Encode::Alias 2.19
#                       Encode::Config 2.05
#                     Encode::Encoding 2.07
#                              English 1.09
#                                Errno 1.23
#                             Exporter 5.72
#                      Exporter::Heavy 5.72
#                    ExtUtils::Liblist 7.34
#               ExtUtils::Liblist::Kid 7.34
#                         ExtUtils::MM 7.34
#                     ExtUtils::MM_Any 7.34
#                    ExtUtils::MM_Unix 7.34
#                         ExtUtils::MY 7.34
#                  ExtUtils::MakeMaker 7.34
#          ExtUtils::MakeMaker::Config 7.34
#          ExtUtils::MakeMaker::Locale 7.34
#         ExtUtils::MakeMaker::version 7.34
#                                Fcntl 1.13
#                       File::Basename 2.85
#                           File::Copy 2.30
#                           File::Find 1.29
#                           File::Glob 1.24
#                     File::GlobMapper 1.000
#                        File::HomeDir 1.002
#                File::HomeDir::Driver 1.002
#                  File::HomeDir::Unix 1.002
#                           File::Path 2.09
#                           File::Spec 3.56_02
#                File::Spec::Functions 3.56_02
#                     File::Spec::Unix 3.56_02
#                          File::Which 1.21
#                           FileHandle 2.02
#                         Getopt::Long 2.45
#                           HTTP::Tiny 0.070
#                       I18N::Langinfo 0.12
#                                   IO 1.35_01
#       IO::Compress::Adapter::Deflate 2.068_001
#                   IO::Compress::Base 2.068_001
#           IO::Compress::Base::Common 2.068_001
#                   IO::Compress::Gzip 2.068_001
#        IO::Compress::Gzip::Constants 2.068_001
#             IO::Compress::RawDeflate 2.068_001
#            IO::Compress::Zlib::Extra 2.068_001
#                             IO::File 1.16
#                           IO::Handle 1.35
#                         IO::Seekable 1.1
#                           IO::Socket 1.38
#                     IO::Socket::INET 1.35
#                       IO::Socket::IP 0.39
#                     IO::Socket::UNIX 1.26
#     IO::Uncompress::Adapter::Inflate 2.068_001
#                 IO::Uncompress::Base 2.068_001
#               IO::Uncompress::Gunzip 2.068_001
#           IO::Uncompress::RawInflate 2.068_001
#                           List::Util 1.5
#                               Opcode 1.32
#                                POSIX 1.53_01
#                                 Safe 2.39
#                         Scalar::Util 1.5
#                          SelectSaver 1.02
#                               Socket 2.018
#                               Symbol 1.07
#                        Sys::Hostname 1.20
#                     Text::ParseWords 3.30
#                           Text::Tabs 2013.0523
#                           Text::Wrap 2013.0523
#                            Tie::Hash 1.05
#              Tie::Hash::NamedCapture 0.09
#                             XSLoader 0.24
#                                 base 2.2201
#                                bytes 1.04
#                             constant 1.33
#                                  lib 0.63
#                             overload 1.26
#                          overloading 0.02
#                               parent 0.232
#                                   re 0.32
#                               strict 1.09
#                                 subs 1.02
#                                 utf8 1.17
#                                 vars 1.03
#                              version 0.9909
#                       version::regex 0.9909
#                             warnings 1.34
#                   warnings::register 1.04
t/00-all_prereqs.t ............... ok
t/00-compile.t ................... ok
# 
# Versions for all modules listed in MYMETA.json (including optional ones):
# 
# === Configure Requires ===
# 
#     Module              Want Have
#     ------------------- ---- ----
#     ExtUtils::MakeMaker  any 7.34
# 
# === Build Requires ===
# 
#     Module              Want Have
#     ------------------- ---- ----
#     ExtUtils::MakeMaker  any 7.34
# 
# === Test Requires ===
# 
#     Module              Want     Have
#     ------------------- ---- --------
#     CPAN::HandleConfig   any   5.5006
#     CPAN::Version        any   5.5003
#     Carp                 any     1.36
#     DBD::SQLite          any     1.62
#     ExtUtils::MakeMaker  any     7.34
#     File::Copy           any     2.30
#     File::Spec           any  3.56_02
#     FindBin              any     1.51
#     IO::Handle           any     1.35
#     IPC::Open3           any     1.18
#     Test::Memory::Cycle  any     1.06
#     Test::More          0.94 1.302160
#     base                 any  2.22_01
#     lib                  any     0.63
# 
# === Test Recommends ===
# 
#     Module         Want     Have
#     ---------- -------- --------
#     CPAN::Meta 2.120900 2.150001
# 
# === Runtime Requires ===
# 
#     Module                Want      Have
#     --------------------- ---- ---------
#     Archive::Tar          1.54   2.04_01
#     CPAN                   any   2.11_01
#     CPAN::DistnameInfo    0.09      0.12
#     CPAN::Index           1.93    1.9601
#     Compress::Zlib         any 2.068_001
#     Cwd                    any   3.56_02
#     DBD::SQLite           1.27      1.62
#     DBI                    any     1.642
#     English                any      1.09
#     Exporter               any      5.72
#     File::Basename         any      2.85
#     File::Find             any      1.29
#     File::HomeDir          any     1.002
#     File::Path             any      2.09
#     File::Spec             any   3.56_02
#     File::Spec::Functions  any   3.56_02
#     Getopt::Long           any      2.45
#     HTTP::Tiny             any     0.070
#     IO::Zlib               any      1.10
#     Safe                   any      2.39
#     Scalar::Util           any      1.50
#     constant               any      1.33
#     parent                 any     0.232
#     strict                 any      1.09
#     utf8                   any      1.17
#     warnings               any      1.34
# 
t/00-report-prereqs.t ............ ok
# Testing with Perl 5.022004, /home/david/cpantesting/perl-5.22.4/bin/perl
#     CPAN version is 2.1101
#     CPAN::DistnameInfo version is 0.12
#     CPAN::HandleConfig version is 5.5006
#     CPAN::Version version is 5.5003
#     Carp version is 1.36
#     Compress::Zlib version is 2.068001
#     Cwd version is 3.56_02
#     DBD::SQLite version is 1.62
#     DBI version is 1.642
#     English version is 1.09
#     Exporter version is 5.72
#     ExtUtils::MakeMaker version is 7.34
#     File::Basename version is 2.85
#     File::Copy version is 2.30
#     File::Find version is 1.29
#     File::HomeDir version is 1.002
#     File::Path version is 2.09
#     File::Spec version is 3.56_02
#     File::Spec::Functions version is 3.56_02
#     FindBin version is 1.51
#     Getopt::Long version is 2.45
#     HTTP::Tiny version is 0.070
#     IO::Handle version is 1.35
#     IPC::Open3 version is 1.18
#     Safe version is 2.39
#     Scalar::Util version is 1.5
#     Test::Memory::Cycle version is 1.06
#     Test::More version is 1.302160
#     base version is 2.2201
#     constant version is 1.33
#     lib version is 0.63
#     parent version is 0.232
#     strict version is 1.09
#     utf8 version is 1.17
#     warnings version is 1.34
t/000-report-versions.t .......... ok
t/01basic.t ...................... ok
t/02drop.t ....................... ok
t/03info.t ....................... ok
t/04search.t ..................... ok
t/04search_everything.t .......... ok
t/05meta_new.t ................... ok
t/05meta_update.t ................ ok
t/06retrieve.t ................... ok
t/07download.t ................... ok
t/08circular_references.t ........ ok
t/author-critic.t ................ skipped: these tests are for testing by the author
t/author-eol.t ................... skipped: these tests are for testing by the author
t/author-minimum-version.t ....... skipped: these tests are for testing by the author
t/author-no-tabs.t ............... skipped: these tests are for testing by the author
t/author-pod-syntax.t ............ skipped: these tests are for testing by the author
t/release-changes_has_content.t .. skipped: these tests are for release candidate testing
t/release-distmeta.t ............. skipped: these tests are for release candidate testing
t/release-fixme.t ................ skipped: these tests are for release candidate testing
t/release-has-version.t .......... skipped: these tests are for release candidate testing
t/release-kwalitee.t ............. skipped: these tests are for release candidate testing
t/release-meta-json.t ............ skipped: these tests are for release candidate testing
t/release-pause-permissions.t .... skipped: these tests are for release candidate testing
All tests successful.
Files=26, Tests=11316, 39 wallclock secs ( 0.80 usr  0.18 sys +  5.33 cusr  0.90 csys =  7.21 CPU)
Result: PASS

------------------------------
PREREQUISITES
------------------------------

Prerequisite modules loaded:

requires:

    Module              Need Have     
    ------------------- ---- ---------
    Archive::Tar        1.54 2.04_01  
    Compress::Zlib      0    2.068_001
    CPAN::DistnameInfo  0.09 0.12     
    CPAN::Index         1.93 1.9601   
    DBD::SQLite         1.27 1.62     
    File::HomeDir       0    1.002    
    File::Spec          0    3.56_02  
    HTTP::Tiny          0    0.070    
    IO::Zlib            0    1.10     
    parent              0    0.232    

build_requires:

    Module              Need Have     
    ------------------- ---- ---------
    ExtUtils::MakeMaker 0    7.34     
    Test::Memory::Cycle 0    1.06     

configure_requires:

    Module              Need Have     
    ------------------- ---- ---------
    ExtUtils::MakeMaker 0    7.34     


------------------------------
ENVIRONMENT AND OTHER CONTEXT
------------------------------

Environment variables:

    AUTOMATED_TESTING = 1
    NONINTERACTIVE_TESTING = 1
    PATH = /usr/local/bin:/usr/bin:/bin:/usr/local/games:/usr/games
    PERL = 5.22.4
    PERL5LIB = 
    PERL5OPT = 
    PERL5_CPANPLUS_IS_RUNNING = 15209
    PERL5_CPAN_IS_RUNNING = 15209
    PERLVER = 5.22.4
    PERL_INLINE_DIRECTORY = /home/david/.Inline-5.22.4
    PERL_MM_USE_DEFAULT = 1
    PERL_USE_UNSAFE_INC = 0
    SHELL = /bin/bash
    TERM = screen

Perl special variables (and OS-specific diagnostics, for MSWin32):

    $^X = /home/david/cpantesting/perl-5.22.4/bin/perl
    $UID/$EUID = 1000 / 1000
    $GID = 1000 1000
    $EGID = 1000 1000

Perl module toolchain versions installed:

    Module              Have      
    ------------------- ----------
    CPAN                2.11_01   
    CPAN::Meta          2.150001  
    Cwd                 3.56_02   
    ExtUtils::CBuilder  0.280221  
    ExtUtils::Command   7.34      
    ExtUtils::Install   2.06      
    ExtUtils::MakeMaker 7.34      
    ExtUtils::Manifest  1.70      
    ExtUtils::ParseXS   3.28      
    File::Spec          3.56_02   
    JSON                4.01      
    JSON::PP            4.00      
    Module::Build       0.4224    
    Module::Signature   n/a       
    Parse::CPAN::Meta   1.4414_001
    Test::Harness       3.35_01   
    Test::More          1.302160  
    YAML                n/a       
    YAML::Syck          1.31      
    version             0.9909    


--

Summary of my perl5 (revision 5 version 22 subversion 4) configuration:
   
  Platform:
    osname=linux, osvers=3.16.0-4-amd64, archname=x86_64-linux-thread-multi
    uname='linux pigsty.barnyard.co.uk 3.16.0-4-amd64 #1 smp debian 3.16.36-1+deb8u1 (2016-09-03) x86_64 gnulinux '
    config_args='-de -Duse64bitall -Dusethreads -Dprefix=/home/david/cpantesting/perl-5.22.4'
    hint=recommended, useposix=true, d_sigaction=define
    useithreads=define, usemultiplicity=define
    use64bitint=define, use64bitall=define, uselongdouble=undef
    usemymalloc=n, bincompat5005=undef
  Compiler:
    cc='cc', ccflags ='-D_REENTRANT -D_GNU_SOURCE -fwrapv -fno-strict-aliasing -pipe -fstack-protector-strong -I/usr/local/include -D_LARGEFILE_SOURCE -D_FILE_OFFSET_BITS=64 -D_FORTIFY_SOURCE=2',
    optimize='-O2',
    cppflags='-D_REENTRANT -D_GNU_SOURCE -fwrapv -fno-strict-aliasing -pipe -fstack-protector-strong -I/usr/local/include'
    ccversion='', gccversion='4.9.2', gccosandvers=''
    intsize=4, longsize=8, ptrsize=8, doublesize=8, byteorder=12345678, doublekind=3
    d_longlong=define, longlongsize=8, d_longdbl=define, longdblsize=16, longdblkind=3
    ivtype='long', ivsize=8, nvtype='double', nvsize=8, Off_t='off_t', lseeksize=8
    alignbytes=8, prototype=define
  Linker and Libraries:
    ld='cc', ldflags =' -fstack-protector-strong -L/usr/local/lib'
    libpth=/usr/local/lib /usr/lib/gcc/x86_64-linux-gnu/4.9/include-fixed /usr/include/x86_64-linux-gnu /usr/lib /lib/x86_64-linux-gnu /lib/../lib /usr/lib/x86_64-linux-gnu /usr/lib/../lib /lib
    libs=-lpthread -lnsl -ldb -ldl -lm -lcrypt -lutil -lc
    perllibs=-lpthread -lnsl -ldl -lm -lcrypt -lutil -lc
    libc=libc-2.19.so, so=so, useshrplib=false, libperl=libperl.a
    gnulibc_version='2.19'
  Dynamic Linking:
    dlsrc=dl_dlopen.xs, dlext=so, d_dlsymun=undef, ccdlflags='-Wl,-E'
    cccdlflags='-fPIC', lddlflags='-shared -O2 -L/usr/local/lib -fstack-protector-strong'


Characteristics of this binary (from libperl): 
  Compile-time options: HAS_TIMES MULTIPLICITY PERLIO_LAYERS
                        PERL_DONT_CREATE_GVSV
                        PERL_HASH_FUNC_ONE_AT_A_TIME_HARD
                        PERL_IMPLICIT_CONTEXT PERL_MALLOC_WRAP
                        PERL_NEW_COPY_ON_WRITE PERL_PRESERVE_IVUV
                        USE_64_BIT_ALL USE_64_BIT_INT USE_ITHREADS
                        USE_LARGE_FILES USE_LOCALE USE_LOCALE_COLLATE
                        USE_LOCALE_CTYPE USE_LOCALE_NUMERIC USE_LOCALE_TIME
                        USE_PERLIO USE_PERL_ATOF USE_REENTRANT_API
  Built under linux
  Compiled at Jul 18 2017 10:39:58
  %ENV:
    PERL="5.22.4"
    PERL5LIB=""
    PERL5OPT=""
    PERL5_CPANPLUS_IS_RUNNING="15209"
    PERL5_CPAN_IS_RUNNING="15209"
    PERLVER="5.22.4"
    PERL_INLINE_DIRECTORY="/home/david/.Inline-5.22.4"
    PERL_MM_USE_DEFAULT="1"
    PERL_USE_UNSAFE_INC="0"
  @INC:
    /home/david/cpantesting/perl-5.22.4/lib/site_perl/5.22.4/x86_64-linux-thread-multi
    /home/david/cpantesting/perl-5.22.4/lib/site_perl/5.22.4
    /home/david/cpantesting/perl-5.22.4/lib/5.22.4/x86_64-linux-thread-multi
    /home/david/cpantesting/perl-5.22.4/lib/5.22.4
    .