Report for CatalystX-ExtJS-1.123000

Back
From: metabase:user:d2c9f356-b46f-11df-9a90-20a83c0b7757
Subject: PASS CatalystX-ExtJS-1.123000 v5.10.1 SunOS/Solaris
Date: 2010-11-30T13:04:57Z

This distribution has been tested as part of the CPAN Testers
project, supporting the Perl programming language.  See
http://wiki.cpantesters.org/ for more information or email
questions to cpan-testers-discuss@perl.org


--
Dear Moritz Onken,

This is a computer-generated report for CatalystX-ExtJS-1.123000
on perl 5.10.1, created by CPAN-Reporter-1.1803.

Thank you for uploading your work to CPAN.  Congratulations!
All tests were successful.

Sections of this report:

    * Tester comments
    * Program output
    * Prerequisites
    * Environment and other context

------------------------------
TESTER COMMENTS
------------------------------

Additional comments from tester:

this report is from an automated smoke testing program
and was not reviewed by a human for accuracy

------------------------------
PROGRAM OUTPUT
------------------------------

Output from './Build test':

t/00-compile.t ................ ok
# Testing with Perl 5.010001, /export/home/cpantest/perl5/bin/perl
#     Carp version is 1.11
#     Catalyst version is 5.80029
#     Catalyst::Action version is undefined
#     Catalyst::Action::Deserialize version is 0.87
#     Catalyst::Action::REST version is 0.87
#     Catalyst::Action::RenderView version is 0.14
#     Catalyst::Action::Serialize version is 0.87
#     Catalyst::Controller version is undefined
#     Catalyst::Controller::REST version is 0.87
#     Catalyst::Engine::HTTP version is undefined
#     Catalyst::Model::DBIC::Schema version is 0.43
#     Catalyst::Request::REST::ForBrowsers version is 0.87
#     Catalyst::Runtime version is 5.80029
#     Catalyst::Utils version is undefined
#     Catalyst::View::JSON version is 0.31
#     Catalyst::View::TT version is 0.36
#     Class::Accessor::Fast version is 0.34
#     Config::Any version is 0.20
#     DBIx::Class version is 0.08124
#     DBIx::Class::ResultSet version is undefined
#     DBIx::Class::Schema version is undefined
#     English version is 1.04
#     File::Find version is 1.14
#     File::Spec version is 3.33
#     File::Temp version is 0.22
#     FindBin version is 1.50
#     Getopt::Long version is 2.38
#     HTML::Entities version is 3.68
#     HTML::FormFu version is 0.08002
#     HTML::FormFu::ExtJS version is 0.077
#     HTML::FormFu::Model::DBIC version is 0.08002
#     HTTP::Request::Common version is 5.824
#     JSON version is 2.27
#     JSON::Any version is 1.25
#     JSON::XS version is 2.3
#     JavaScript::Dumper version is 0.011
#     Lingua::EN::Inflect version is 1.893
#     List::Util version is 1.23
#     Module::Build version is 0.3607
#     Moose version is 1.21
#     Moose::Util::TypeConstraints version is 1.21
#     MooseX::MethodAttributes version is 0.24
#     Path::Class version is 0.21
#     Path::Class::File version is 0.21
#     Pod::Usage version is 1.36
#     Scalar::Util version is 1.23
#     Test::More version is 0.96
#     Test::WWW::Mechanize::Catalyst version is 0.52
#     namespace::autoclean version is 0.11
t/000-report-versions.t ....... ok
t/author-critic.t ............. skipped: these tests are for testing by the author
[debug] Debug messages enabled
[debug] Statistics enabled
[debug] Loaded dispatcher "Catalyst::Dispatcher"
[debug] Loaded engine "Catalyst::Engine::CGI"
[debug] Found home "/export/home/cpantest/.cpan/build/CatalystX-ExtJS-1.123000-0xrqnd/t/lib/MyApp"
[debug] Loaded components:
.-----------------------------------------------------------------+----------.
| Class                                                           | Type     |
+-----------------------------------------------------------------+----------+
| MyApp::Controller::API                                          | instance |
| MyApp::Controller::Artist                                       | instance |
| MyApp::Controller::Calculator                                   | instance |
| MyApp::Controller::FindOrDefault                                | instance |
| MyApp::Controller::ForBrowser                                   | instance |
| MyApp::Controller::ForBrowsers                                  | instance |
| MyApp::Controller::JSON                                         | instance |
| MyApp::Controller::Nested::Controller                           | instance |
| MyApp::Controller::REST                                         | instance |
| MyApp::Controller::RequestClass                                 | instance |
| MyApp::Controller::SkipEnd                                      | instance |
| MyApp::Controller::User                                         | instance |
| MyApp::Model::DBIC                                              | instance |
| MyApp::Model::DBIC::FindOrDefault                               | class    |
| MyApp::Model::DBIC::SkipEnd                                     | class    |
| MyApp::Model::DBIC::User                                        | class    |
| MyApp::View::JSON                                               | instance |
| MyApp::View::TT                                                 | instance |
'-----------------------------------------------------------------+----------'

[debug] Loaded Private actions:
.----------------------+--------------------------------------+--------------.
| Private              | Class                                | Method       |
+----------------------+--------------------------------------+--------------+
| /api/src             | MyApp::Controller::API               | src          |
| /api/router          | MyApp::Controller::API               | router       |
| /api/end             | MyApp::Controller::API               | end          |
| /api/index           | MyApp::Controller::API               | index        |
| /api/begin           | MyApp::Controller::API               | begin        |
| /findordefault/base  | MyApp::Controller::FindOrDefault     | base         |
| /findordefault/obje- | MyApp::Controller::FindOrDefault     | object       |
| ct                   |                                      |              |
| /findordefault/obje- | MyApp::Controller::FindOrDefault     | object_DELE- |
| ct_DELETE            |                                      | TE           |
| /findordefault/obje- | MyApp::Controller::FindOrDefault     | object_POST  |
| ct_POST              |                                      |              |
| /findordefault/obje- | MyApp::Controller::FindOrDefault     | object_GET   |
| ct_GET               |                                      |              |
| /findordefault/obje- | MyApp::Controller::FindOrDefault     | object_PUT   |
| ct_PUT               |                                      |              |
| /findordefault/end   | MyApp::Controller::FindOrDefault     | end          |
| /findordefault/begin | MyApp::Controller::FindOrDefault     | begin        |
| /findordefault/list  | MyApp::Controller::FindOrDefault     | list         |
| /calc/add            | MyApp::Controller::Calculator        | add          |
| /calc/subtract       | MyApp::Controller::Calculator        | subtract     |
| /calc/upload         | MyApp::Controller::Calculator        | upload       |
| /calc/add_to         | MyApp::Controller::Calculator        | add_to       |
| /json/index          | MyApp::Controller::JSON              | index        |
| /forbrowsers/base    | MyApp::Controller::ForBrowsers       | base         |
| /forbrowsers/object  | MyApp::Controller::ForBrowsers       | object       |
| /forbrowsers/object- | MyApp::Controller::ForBrowsers       | object_DELE- |
| _DELETE              |                                      | TE           |
| /forbrowsers/object- | MyApp::Controller::ForBrowsers       | object_POST  |
| _POST                |                                      |              |
| /forbrowsers/object- | MyApp::Controller::ForBrowsers       | object_GET   |
| _GET                 |                                      |              |
| /forbrowsers/object- | MyApp::Controller::ForBrowsers       | object_PUT   |
| _PUT                 |                                      |              |
| /forbrowsers/end     | MyApp::Controller::ForBrowsers       | end          |
| /forbrowsers/begin   | MyApp::Controller::ForBrowsers       | begin        |
| /forbrowsers/list    | MyApp::Controller::ForBrowsers       | list         |
| /rest/object         | MyApp::Controller::REST              | object       |
| /rest/begin          | MyApp::Controller::REST              | begin        |
| /rest/end            | MyApp::Controller::REST              | end          |
| /nested/controller/- | MyApp::Controller::Nested::Controll- | index        |
| index                | er                                   |              |
| /skipend/load_form   | MyApp::Controller::SkipEnd           | load_form    |
| /skipend/object      | MyApp::Controller::SkipEnd           | object       |
| /skipend/object_GET  | MyApp::Controller::SkipEnd           | object_GET   |
| /skipend/object_PUT  | MyApp::Controller::SkipEnd           | object_PUT   |
| /skipend/begin       | MyApp::Controller::SkipEnd           | begin        |
| /skipend/list        | MyApp::Controller::SkipEnd           | list         |
| /skipend/base        | MyApp::Controller::SkipEnd           | base         |
| /skipend/object_POST | MyApp::Controller::SkipEnd           | object_POST  |
| /skipend/object_DEL- | MyApp::Controller::SkipEnd           | object_DELE- |
| ETE                  |                                      | TE           |
| /skipend/end         | MyApp::Controller::SkipEnd           | end          |
| /skipend/edit_record | MyApp::Controller::SkipEnd           | edit_record  |
| /forbrowser/base     | MyApp::Controller::ForBrowser        | base         |
| /forbrowser/object   | MyApp::Controller::ForBrowser        | object       |
| /forbrowser/object_- | MyApp::Controller::ForBrowser        | object_DELE- |
| DELETE               |                                      | TE           |
| /forbrowser/object_- | MyApp::Controller::ForBrowser        | object_POST  |
| POST                 |                                      |              |
| /forbrowser/object_- | MyApp::Controller::ForBrowser        | object_GET   |
| GET                  |                                      |              |
| /forbrowser/object_- | MyApp::Controller::ForBrowser        | object_PUT   |
| PUT                  |                                      |              |
| /forbrowser/end      | MyApp::Controller::ForBrowser        | end          |
| /forbrowser/begin    | MyApp::Controller::ForBrowser        | begin        |
| /forbrowser/list     | MyApp::Controller::ForBrowser        | list         |
| /requestclass/params | MyApp::Controller::RequestClass      | params       |
| /requestclass/reque- | MyApp::Controller::RequestClass      | request_cla- |
| st_class             |                                      | ss           |
| /user/base           | MyApp::Controller::User              | base         |
| /user/object         | MyApp::Controller::User              | object       |
| /user/object_DELETE  | MyApp::Controller::User              | object_DELE- |
|                      |                                      | TE           |
| /user/object_POST    | MyApp::Controller::User              | object_POST  |
| /user/object_GET     | MyApp::Controller::User              | object_GET   |
| /user/object_PUT     | MyApp::Controller::User              | object_PUT   |
| /user/end            | MyApp::Controller::User              | end          |
| /user/add_to_group   | MyApp::Controller::User              | add_to_group |
| /user/begin          | MyApp::Controller::User              | begin        |
| /user/list           | MyApp::Controller::User              | list         |
'----------------------+--------------------------------------+--------------'

[debug] Loaded Path actions:
.-------------------------------------+--------------------------------------.
| Path                                | Private                              |
+-------------------------------------+--------------------------------------+
| /api                                | /api/index                           |
| /api/router                         | /api/router                          |
| /api/src                            | /api/src                             |
| /calc                               | /calc/upload                         |
| /calc                               | /calc/add                            |
| /calc/subtract                      | /calc/subtract                       |
| /nested/controller/index            | /nested/controller/index             |
| /requestclass/params                | /requestclass/params                 |
| /requestclass/request_class         | /requestclass/request_class          |
'-------------------------------------+--------------------------------------'

[debug] Loaded Chained actions:
.-------------------------------------+--------------------------------------.
| Path Spec                           | Private                              |
+-------------------------------------+--------------------------------------+
| /add/*/to/*                         | /calc/add (1)                        |
|                                     | => /calc/add_to                      |
| /findordefaults/...                 | /findordefault/list                  |
| /findordefault/...                  | /findordefault/object                |
| /forbrowsers/...                    | /forbrowser/list                     |
| /forbrowser/...                     | /forbrowser/object                   |
| /forbrowser/...                     | /forbrowsers/list                    |
| /forbrowsers/...                    | /forbrowsers/object                  |
| /rest/object/*                      | /rest/object                         |
| /skipend/form/edit_record           | /skipend/load_form (0)               |
|                                     | => /skipend/edit_record              |
| /skipends/...                       | /skipend/list                        |
| /skipend/...                        | /skipend/object                      |
| /user/*/add_to_group/*              | /user/base (1)                       |
|                                     | => /user/add_to_group                |
| /users/...                          | /user/list                           |
| /user/...                           | /user/object                         |
'-------------------------------------+--------------------------------------'

[info] Application powered by Catalyst 5.80029
[info] *** Request 1 (0.500/s) [973] [Tue Nov 30 14:04:28 2010] ***
[debug] "GET" request for "api" from "127.0.0.1"
[debug] Path is "api"
[debug] Serializing with Catalyst::Action::Serialize::JSON
[debug] Response Code: 200; Content-Type: application/json; Content-Length: 561
[info] Request took 0.470930s (2.123/s)
.------------------------------------------------------------+-----------.
| Action                                                     | Time      |
+------------------------------------------------------------+-----------+
| /api/begin                                                 | 0.000389s |
| /api/index                                                 | 0.000088s |
| /api/end                                                   | 0.467146s |
'------------------------------------------------------------+-----------'

t/direct/api.t ................ ok
[debug] Debug messages enabled
[debug] Statistics enabled
[debug] Loaded dispatcher "Catalyst::Dispatcher"
[debug] Loaded engine "Catalyst::Engine::CGI"
[debug] Found home "/export/home/cpantest/.cpan/build/CatalystX-ExtJS-1.123000-0xrqnd/t/lib/MyApp"
[debug] Loaded components:
.-----------------------------------------------------------------+----------.
| Class                                                           | Type     |
+-----------------------------------------------------------------+----------+
| MyApp::Controller::API                                          | instance |
| MyApp::Controller::Artist                                       | instance |
| MyApp::Controller::Calculator                                   | instance |
| MyApp::Controller::FindOrDefault                                | instance |
| MyApp::Controller::ForBrowser                                   | instance |
| MyApp::Controller::ForBrowsers                                  | instance |
| MyApp::Controller::JSON                                         | instance |
| MyApp::Controller::Nested::Controller                           | instance |
| MyApp::Controller::REST                                         | instance |
| MyApp::Controller::RequestClass                                 | instance |
| MyApp::Controller::SkipEnd                                      | instance |
| MyApp::Controller::User                                         | instance |
| MyApp::Model::DBIC                                              | instance |
| MyApp::Model::DBIC::FindOrDefault                               | class    |
| MyApp::Model::DBIC::SkipEnd                                     | class    |
| MyApp::Model::DBIC::User                                        | class    |
| MyApp::View::JSON                                               | instance |
| MyApp::View::TT                                                 | instance |
'-----------------------------------------------------------------+----------'

[debug] Loaded Private actions:
.----------------------+--------------------------------------+--------------.
| Private              | Class                                | Method       |
+----------------------+--------------------------------------+--------------+
| /api/src             | MyApp::Controller::API               | src          |
| /api/router          | MyApp::Controller::API               | router       |
| /api/end             | MyApp::Controller::API               | end          |
| /api/index           | MyApp::Controller::API               | index        |
| /api/begin           | MyApp::Controller::API               | begin        |
| /findordefault/base  | MyApp::Controller::FindOrDefault     | base         |
| /findordefault/obje- | MyApp::Controller::FindOrDefault     | object       |
| ct                   |                                      |              |
| /findordefault/obje- | MyApp::Controller::FindOrDefault     | object_DELE- |
| ct_DELETE            |                                      | TE           |
| /findordefault/obje- | MyApp::Controller::FindOrDefault     | object_POST  |
| ct_POST              |                                      |              |
| /findordefault/obje- | MyApp::Controller::FindOrDefault     | object_GET   |
| ct_GET               |                                      |              |
| /findordefault/obje- | MyApp::Controller::FindOrDefault     | object_PUT   |
| ct_PUT               |                                      |              |
| /findordefault/end   | MyApp::Controller::FindOrDefault     | end          |
| /findordefault/begin | MyApp::Controller::FindOrDefault     | begin        |
| /findordefault/list  | MyApp::Controller::FindOrDefault     | list         |
| /calc/add            | MyApp::Controller::Calculator        | add          |
| /calc/subtract       | MyApp::Controller::Calculator        | subtract     |
| /calc/upload         | MyApp::Controller::Calculator        | upload       |
| /calc/add_to         | MyApp::Controller::Calculator        | add_to       |
| /json/index          | MyApp::Controller::JSON              | index        |
| /forbrowsers/base    | MyApp::Controller::ForBrowsers       | base         |
| /forbrowsers/object  | MyApp::Controller::ForBrowsers       | object       |
| /forbrowsers/object- | MyApp::Controller::ForBrowsers       | object_DELE- |
| _DELETE              |                                      | TE           |
| /forbrowsers/object- | MyApp::Controller::ForBrowsers       | object_POST  |
| _POST                |                                      |              |
| /forbrowsers/object- | MyApp::Controller::ForBrowsers       | object_GET   |
| _GET                 |                                      |              |
| /forbrowsers/object- | MyApp::Controller::ForBrowsers       | object_PUT   |
| _PUT                 |                                      |              |
| /forbrowsers/end     | MyApp::Controller::ForBrowsers       | end          |
| /forbrowsers/begin   | MyApp::Controller::ForBrowsers       | begin        |
| /forbrowsers/list    | MyApp::Controller::ForBrowsers       | list         |
| /rest/object         | MyApp::Controller::REST              | object       |
| /rest/begin          | MyApp::Controller::REST              | begin        |
| /rest/end            | MyApp::Controller::REST              | end          |
| /nested/controller/- | MyApp::Controller::Nested::Controll- | index        |
| index                | er                                   |              |
| /skipend/load_form   | MyApp::Controller::SkipEnd           | load_form    |
| /skipend/object      | MyApp::Controller::SkipEnd           | object       |
| /skipend/object_GET  | MyApp::Controller::SkipEnd           | object_GET   |
| /skipend/object_PUT  | MyApp::Controller::SkipEnd           | object_PUT   |
| /skipend/begin       | MyApp::Controller::SkipEnd           | begin        |
| /skipend/list        | MyApp::Controller::SkipEnd           | list         |
| /skipend/base        | MyApp::Controller::SkipEnd           | base         |
| /skipend/object_POST | MyApp::Controller::SkipEnd           | object_POST  |
| /skipend/object_DEL- | MyApp::Controller::SkipEnd           | object_DELE- |
| ETE                  |                                      | TE           |
| /skipend/end         | MyApp::Controller::SkipEnd           | end          |
| /skipend/edit_record | MyApp::Controller::SkipEnd           | edit_record  |
| /forbrowser/base     | MyApp::Controller::ForBrowser        | base         |
| /forbrowser/object   | MyApp::Controller::ForBrowser        | object       |
| /forbrowser/object_- | MyApp::Controller::ForBrowser        | object_DELE- |
| DELETE               |                                      | TE           |
| /forbrowser/object_- | MyApp::Controller::ForBrowser        | object_POST  |
| POST                 |                                      |              |
| /forbrowser/object_- | MyApp::Controller::ForBrowser        | object_GET   |
| GET                  |                                      |              |
| /forbrowser/object_- | MyApp::Controller::ForBrowser        | object_PUT   |
| PUT                  |                                      |              |
| /forbrowser/end      | MyApp::Controller::ForBrowser        | end          |
| /forbrowser/begin    | MyApp::Controller::ForBrowser        | begin        |
| /forbrowser/list     | MyApp::Controller::ForBrowser        | list         |
| /requestclass/params | MyApp::Controller::RequestClass      | params       |
| /requestclass/reque- | MyApp::Controller::RequestClass      | request_cla- |
| st_class             |                                      | ss           |
| /user/base           | MyApp::Controller::User              | base         |
| /user/object         | MyApp::Controller::User              | object       |
| /user/object_DELETE  | MyApp::Controller::User              | object_DELE- |
|                      |                                      | TE           |
| /user/object_POST    | MyApp::Controller::User              | object_POST  |
| /user/object_GET     | MyApp::Controller::User              | object_GET   |
| /user/object_PUT     | MyApp::Controller::User              | object_PUT   |
| /user/end            | MyApp::Controller::User              | end          |
| /user/add_to_group   | MyApp::Controller::User              | add_to_group |
| /user/begin          | MyApp::Controller::User              | begin        |
| /user/list           | MyApp::Controller::User              | list         |
'----------------------+--------------------------------------+--------------'

[debug] Loaded Path actions:
.-------------------------------------+--------------------------------------.
| Path                                | Private                              |
+-------------------------------------+--------------------------------------+
| /api                                | /api/index                           |
| /api/router                         | /api/router                          |
| /api/src                            | /api/src                             |
| /calc                               | /calc/upload                         |
| /calc                               | /calc/add                            |
| /calc/subtract                      | /calc/subtract                       |
| /nested/controller/index            | /nested/controller/index             |
| /requestclass/params                | /requestclass/params                 |
| /requestclass/request_class         | /requestclass/request_class          |
'-------------------------------------+--------------------------------------'

[debug] Loaded Chained actions:
.-------------------------------------+--------------------------------------.
| Path Spec                           | Private                              |
+-------------------------------------+--------------------------------------+
| /add/*/to/*                         | /calc/add (1)                        |
|                                     | => /calc/add_to                      |
| /findordefaults/...                 | /findordefault/list                  |
| /findordefault/...                  | /findordefault/object                |
| /forbrowsers/...                    | /forbrowser/list                     |
| /forbrowser/...                     | /forbrowser/object                   |
| /forbrowser/...                     | /forbrowsers/list                    |
| /forbrowsers/...                    | /forbrowsers/object                  |
| /rest/object/*                      | /rest/object                         |
| /skipend/form/edit_record           | /skipend/load_form (0)               |
|                                     | => /skipend/edit_record              |
| /skipends/...                       | /skipend/list                        |
| /skipend/...                        | /skipend/object                      |
| /user/*/add_to_group/*              | /user/base (1)                       |
|                                     | => /user/add_to_group                |
| /users/...                          | /user/list                           |
| /user/...                           | /user/object                         |
'-------------------------------------+--------------------------------------'

[info] Application powered by Catalyst 5.80029
[info] *** Request 1 (0.500/s) [1013] [Tue Nov 30 14:04:31 2010] ***
[debug] "POST" request for "api/router" from "127.0.0.1"
[debug] Path is "api/router"
[debug] Serializing with Catalyst::Action::Serialize::JSON
[debug] Response Code: 200; Content-Type: application/json; Content-Length: 78
[info] Request took 0.029890s (33.456/s)
.------------------------------------------------------------+-----------.
| Action                                                     | Time      |
+------------------------------------------------------------+-----------+
| /api/begin                                                 | 0.011138s |
| /api/router                                                | 0.002748s |
|  /json/index                                               | 0.001166s |
|   -> MyApp::View::JSON->process                            | 0.000674s |
| /api/end                                                   | 0.011717s |
'------------------------------------------------------------+-----------'

t/direct/json.t ............... ok
[debug] Debug messages enabled
[debug] Statistics enabled
[debug] Loaded dispatcher "Catalyst::Dispatcher"
[debug] Loaded engine "Catalyst::Engine::CGI"
[debug] Found home "/export/home/cpantest/.cpan/build/CatalystX-ExtJS-1.123000-0xrqnd/t/lib/MyApp"
[debug] Loaded components:
.-----------------------------------------------------------------+----------.
| Class                                                           | Type     |
+-----------------------------------------------------------------+----------+
| MyApp::Controller::API                                          | instance |
| MyApp::Controller::Artist                                       | instance |
| MyApp::Controller::Calculator                                   | instance |
| MyApp::Controller::FindOrDefault                                | instance |
| MyApp::Controller::ForBrowser                                   | instance |
| MyApp::Controller::ForBrowsers                                  | instance |
| MyApp::Controller::JSON                                         | instance |
| MyApp::Controller::Nested::Controller                           | instance |
| MyApp::Controller::REST                                         | instance |
| MyApp::Controller::RequestClass                                 | instance |
| MyApp::Controller::SkipEnd                                      | instance |
| MyApp::Controller::User                                         | instance |
| MyApp::Model::DBIC                                              | instance |
| MyApp::Model::DBIC::FindOrDefault                               | class    |
| MyApp::Model::DBIC::SkipEnd                                     | class    |
| MyApp::Model::DBIC::User                                        | class    |
| MyApp::View::JSON                                               | instance |
| MyApp::View::TT                                                 | instance |
'-----------------------------------------------------------------+----------'

[debug] Loaded Private actions:
.----------------------+--------------------------------------+--------------.
| Private              | Class                                | Method       |
+----------------------+--------------------------------------+--------------+
| /api/src             | MyApp::Controller::API               | src          |
| /api/router          | MyApp::Controller::API               | router       |
| /api/end             | MyApp::Controller::API               | end          |
| /api/index           | MyApp::Controller::API               | index        |
| /api/begin           | MyApp::Controller::API               | begin        |
| /findordefault/base  | MyApp::Controller::FindOrDefault     | base         |
| /findordefault/obje- | MyApp::Controller::FindOrDefault     | object       |
| ct                   |                                      |              |
| /findordefault/obje- | MyApp::Controller::FindOrDefault     | object_DELE- |
| ct_DELETE            |                                      | TE           |
| /findordefault/obje- | MyApp::Controller::FindOrDefault     | object_POST  |
| ct_POST              |                                      |              |
| /findordefault/obje- | MyApp::Controller::FindOrDefault     | object_GET   |
| ct_GET               |                                      |              |
| /findordefault/obje- | MyApp::Controller::FindOrDefault     | object_PUT   |
| ct_PUT               |                                      |              |
| /findordefault/end   | MyApp::Controller::FindOrDefault     | end          |
| /findordefault/begin | MyApp::Controller::FindOrDefault     | begin        |
| /findordefault/list  | MyApp::Controller::FindOrDefault     | list         |
| /calc/add            | MyApp::Controller::Calculator        | add          |
| /calc/subtract       | MyApp::Controller::Calculator        | subtract     |
| /calc/upload         | MyApp::Controller::Calculator        | upload       |
| /calc/add_to         | MyApp::Controller::Calculator        | add_to       |
| /json/index          | MyApp::Controller::JSON              | index        |
| /forbrowsers/base    | MyApp::Controller::ForBrowsers       | base         |
| /forbrowsers/object  | MyApp::Controller::ForBrowsers       | object       |
| /forbrowsers/object- | MyApp::Controller::ForBrowsers       | object_DELE- |
| _DELETE              |                                      | TE           |
| /forbrowsers/object- | MyApp::Controller::ForBrowsers       | object_POST  |
| _POST                |                                      |              |
| /forbrowsers/object- | MyApp::Controller::ForBrowsers       | object_GET   |
| _GET                 |                                      |              |
| /forbrowsers/object- | MyApp::Controller::ForBrowsers       | object_PUT   |
| _PUT                 |                                      |              |
| /forbrowsers/end     | MyApp::Controller::ForBrowsers       | end          |
| /forbrowsers/begin   | MyApp::Controller::ForBrowsers       | begin        |
| /forbrowsers/list    | MyApp::Controller::ForBrowsers       | list         |
| /rest/object         | MyApp::Controller::REST              | object       |
| /rest/begin          | MyApp::Controller::REST              | begin        |
| /rest/end            | MyApp::Controller::REST              | end          |
| /nested/controller/- | MyApp::Controller::Nested::Controll- | index        |
| index                | er                                   |              |
| /skipend/load_form   | MyApp::Controller::SkipEnd           | load_form    |
| /skipend/object      | MyApp::Controller::SkipEnd           | object       |
| /skipend/object_GET  | MyApp::Controller::SkipEnd           | object_GET   |
| /skipend/object_PUT  | MyApp::Controller::SkipEnd           | object_PUT   |
| /skipend/begin       | MyApp::Controller::SkipEnd           | begin        |
| /skipend/list        | MyApp::Controller::SkipEnd           | list         |
| /skipend/base        | MyApp::Controller::SkipEnd           | base         |
| /skipend/object_POST | MyApp::Controller::SkipEnd           | object_POST  |
| /skipend/object_DEL- | MyApp::Controller::SkipEnd           | object_DELE- |
| ETE                  |                                      | TE           |
| /skipend/end         | MyApp::Controller::SkipEnd           | end          |
| /skipend/edit_record | MyApp::Controller::SkipEnd           | edit_record  |
| /forbrowser/base     | MyApp::Controller::ForBrowser        | base         |
| /forbrowser/object   | MyApp::Controller::ForBrowser        | object       |
| /forbrowser/object_- | MyApp::Controller::ForBrowser        | object_DELE- |
| DELETE               |                                      | TE           |
| /forbrowser/object_- | MyApp::Controller::ForBrowser        | object_POST  |
| POST                 |                                      |              |
| /forbrowser/object_- | MyApp::Controller::ForBrowser        | object_GET   |
| GET                  |                                      |              |
| /forbrowser/object_- | MyApp::Controller::ForBrowser        | object_PUT   |
| PUT                  |                                      |              |
| /forbrowser/end      | MyApp::Controller::ForBrowser        | end          |
| /forbrowser/begin    | MyApp::Controller::ForBrowser        | begin        |
| /forbrowser/list     | MyApp::Controller::ForBrowser        | list         |
| /requestclass/params | MyApp::Controller::RequestClass      | params       |
| /requestclass/reque- | MyApp::Controller::RequestClass      | request_cla- |
| st_class             |                                      | ss           |
| /user/base           | MyApp::Controller::User              | base         |
| /user/object         | MyApp::Controller::User              | object       |
| /user/object_DELETE  | MyApp::Controller::User              | object_DELE- |
|                      |                                      | TE           |
| /user/object_POST    | MyApp::Controller::User              | object_POST  |
| /user/object_GET     | MyApp::Controller::User              | object_GET   |
| /user/object_PUT     | MyApp::Controller::User              | object_PUT   |
| /user/end            | MyApp::Controller::User              | end          |
| /user/add_to_group   | MyApp::Controller::User              | add_to_group |
| /user/begin          | MyApp::Controller::User              | begin        |
| /user/list           | MyApp::Controller::User              | list         |
'----------------------+--------------------------------------+--------------'

[debug] Loaded Path actions:
.-------------------------------------+--------------------------------------.
| Path                                | Private                              |
+-------------------------------------+--------------------------------------+
| /api                                | /api/index                           |
| /api/router                         | /api/router                          |
| /api/src                            | /api/src                             |
| /calc                               | /calc/upload                         |
| /calc                               | /calc/add                            |
| /calc/subtract                      | /calc/subtract                       |
| /nested/controller/index            | /nested/controller/index             |
| /requestclass/params                | /requestclass/params                 |
| /requestclass/request_class         | /requestclass/request_class          |
'-------------------------------------+--------------------------------------'

[debug] Loaded Chained actions:
.-------------------------------------+--------------------------------------.
| Path Spec                           | Private                              |
+-------------------------------------+--------------------------------------+
| /add/*/to/*                         | /calc/add (1)                        |
|                                     | => /calc/add_to                      |
| /findordefaults/...                 | /findordefault/list                  |
| /findordefault/...                  | /findordefault/object                |
| /forbrowsers/...                    | /forbrowser/list                     |
| /forbrowser/...                     | /forbrowser/object                   |
| /forbrowser/...                     | /forbrowsers/list                    |
| /forbrowsers/...                    | /forbrowsers/object                  |
| /rest/object/*                      | /rest/object                         |
| /skipend/form/edit_record           | /skipend/load_form (0)               |
|                                     | => /skipend/edit_record              |
| /skipends/...                       | /skipend/list                        |
| /skipend/...                        | /skipend/object                      |
| /user/*/add_to_group/*              | /user/base (1)                       |
|                                     | => /user/add_to_group                |
| /users/...                          | /user/list                           |
| /user/...                           | /user/object                         |
'-------------------------------------+--------------------------------------'

[info] Application powered by Catalyst 5.80029
[info] *** Request 1 (1.000/s) [1014] [Tue Nov 30 14:04:33 2010] ***
[debug] "GET" request for "add/8/to/9" from "127.0.0.1"
[debug] Path is "/calc/add_to"
[debug] Arguments are "9"
[debug] Response Code: 200; Content-Type: unknown; Content-Length: 2
[info] Request took 0.003584s (279.018/s)
.------------------------------------------------------------+-----------.
| Action                                                     | Time      |
+------------------------------------------------------------+-----------+
| /calc/add                                                  | 0.000146s |
| /calc/add_to                                               | 0.000109s |
'------------------------------------------------------------+-----------'

Use of uninitialized value in sprintf at /export/home/cpantest/.cpan/build/CatalystX-ExtJS-1.123000-0xrqnd/blib/lib/CatalystX/Controller/ExtJS/Direct/API.pm line 123.
Use of uninitialized value in sprintf at /export/home/cpantest/.cpan/build/CatalystX-ExtJS-1.123000-0xrqnd/blib/lib/CatalystX/Controller/ExtJS/Direct/API.pm line 123.
[info] *** Request 2 (2.000/s) [1014] [Tue Nov 30 14:04:33 2010] ***
[debug] "GET" request for "api/router" from "127.0.0.1"
[debug] Path is "api/router"
[debug] Status Bad Request: method  in action  does not exist
[debug] Serializing with Catalyst::Action::Serialize::JSON
[debug] Response Code: 400; Content-Type: application/json; Content-Length: 45
[info] Request took 0.015808s (63.259/s)
.------------------------------------------------------------+-----------.
| Action                                                     | Time      |
+------------------------------------------------------------+-----------+
| /api/begin                                                 | 0.000305s |
| /api/router                                                | 0.000978s |
| /api/end                                                   | 0.011808s |
'------------------------------------------------------------+-----------'

[info] *** Request 3 (3.000/s) [1014] [Tue Nov 30 14:04:33 2010] ***
[debug] "POST" request for "api/router" from "127.0.0.1"
[debug] Path is "api/router"
[debug] Serializing with Catalyst::Action::Serialize::JSON
[debug] Response Code: 200; Content-Type: application/json; Content-Length: 70
[info] Request took 0.015454s (64.708/s)
.------------------------------------------------------------+-----------.
| Action                                                     | Time      |
+------------------------------------------------------------+-----------+
| /api/begin                                                 | 0.009317s |
| /api/router                                                | 0.001924s |
|  /calc/add                                                 | 0.000107s |
|  /calc/add_to                                              | 0.000114s |
| /api/end                                                   | 0.000753s |
'------------------------------------------------------------+-----------'

[info] *** Request 4 (4.000/s) [1014] [Tue Nov 30 14:04:33 2010] ***
[debug] "POST" request for "api/router" from "127.0.0.1"
[debug] Body Parameters are:
.-------------------------------------+--------------------------------------.
| Parameter                           | Value                                |
+-------------------------------------+--------------------------------------+
| extAction                           | Calculator                           |
| extData                             | [1,3]                                |
| extMethod                           | add                                  |
| extTID                              | 2                                    |
| extType                             | rpc                                  |
'-------------------------------------+--------------------------------------'
[debug] Path is "api/router"
[debug] I would have deserialized, but there was nothing in the body!
[debug] Serializing with Catalyst::Action::Serialize::JSON
[debug] Response Code: 200; Content-Type: application/json; Content-Length: 72
[info] Request took 0.006009s (166.417/s)
.------------------------------------------------------------+-----------.
| Action                                                     | Time      |
+------------------------------------------------------------+-----------+
| /api/begin                                                 | 0.000383s |
| /api/router                                                | 0.001812s |
|  /calc/add                                                 | 0.000102s |
|  /calc/add_to                                              | 0.000109s |
| /api/end                                                   | 0.000660s |
'------------------------------------------------------------+-----------'

[info] *** Request 5 (5.000/s) [1014] [Tue Nov 30 14:04:33 2010] ***
[debug] "POST" request for "api/router" from "127.0.0.1"
[debug] Path is "api/router"
[debug] Serializing with Catalyst::Action::Serialize::JSON
[debug] Response Code: 200; Content-Type: application/json; Content-Length: 285
[info] Request took 0.009975s (100.251/s)
.------------------------------------------------------------+-----------.
| Action                                                     | Time      |
+------------------------------------------------------------+-----------+
| /api/begin                                                 | 0.000432s |
| /api/router                                                | 0.005883s |
|  /calc/add                                                 | 0.000103s |
|  /calc/add_to                                              | 0.000111s |
|  /calc/add                                                 | 0.000094s |
|  /calc/add_to                                              | 0.000098s |
|  /calc/add                                                 | 0.000095s |
|  /calc/add_to                                              | 0.000096s |
|  /calc/add                                                 | 0.000092s |
|  /calc/add_to                                              | 0.000096s |
| /api/end                                                   | 0.000747s |
'------------------------------------------------------------+-----------'

[info] *** Request 6 (6.000/s) [1014] [Tue Nov 30 14:04:33 2010] ***
[debug] "POST" request for "api/router" from "127.0.0.1"
[debug] Body Parameters are:
.-------------------------------------+--------------------------------------.
| Parameter                           | Value                                |
+-------------------------------------+--------------------------------------+
| extAction                           | Calculator                           |
| extMethod                           | upload                               |
| extTID                              | 9                                    |
| extType                             | rpc                                  |
| extUpload                           | true                                 |
'-------------------------------------+--------------------------------------'
[debug] File Uploads are:
.--------------+----------------------------+--------------------+-----------.
| Parameter    | Filename                   | Type               | Size      |
+--------------+----------------------------+--------------------+-----------+
| file         | calc.txt                   | text/plain         | 3         |
'--------------+----------------------------+--------------------+-----------'
[debug] Path is "api/router"
[debug] Serializing with Catalyst::Action::Serialize::JSON
[debug] Response Code: 200; Content-Type: application/json; Content-Length: 76
[info] Request took 0.007211s (138.677/s)
.------------------------------------------------------------+-----------.
| Action                                                     | Time      |
+------------------------------------------------------------+-----------+
| /api/begin                                                 | 0.000453s |
| /api/router                                                | 0.001737s |
|  /calc/upload                                              | 0.000436s |
| /api/end                                                   | 0.000753s |
'------------------------------------------------------------+-----------'

[info] *** Request 7 (7.000/s) [1014] [Tue Nov 30 14:04:33 2010] ***
[debug] "POST" request for "api/router" from "127.0.0.1"
[debug] Body Parameters are:
.-------------------------------------+--------------------------------------.
| Parameter                           | Value                                |
+-------------------------------------+--------------------------------------+
| extAction                           | Calculator                           |
| extMethod                           | upload                               |
| extTID                              | 9                                    |
| extType                             | rpc                                  |
| extUpload                           | true                                 |
'-------------------------------------+--------------------------------------'
[debug] File Uploads are:
.--------------+----------------------------+--------------------+-----------.
| Parameter    | Filename                   | Type               | Size      |
+--------------+----------------------------+--------------------+-----------+
| file         | calc.txt                   | text/plain         | 4         |
'--------------+----------------------------+--------------------+-----------'
[debug] Path is "api/router"
[debug] 
[debug] Serializing with Catalyst::Action::Serialize::JSON
[debug] Response Code: 200; Content-Type: application/json; Content-Length: 43
[info] Request took 0.006911s (144.697/s)
.------------------------------------------------------------+-----------.
| Action                                                     | Time      |
+------------------------------------------------------------+-----------+
| /api/begin                                                 | 0.000402s |
| /api/router                                                | 0.001628s |
|  /calc/upload                                              | 0.000310s |
| /api/end                                                   | 0.000692s |
'------------------------------------------------------------+-----------'

[info] *** Request 8 (8.000/s) [1014] [Tue Nov 30 14:04:33 2010] ***
[debug] "POST" request for "rest/object/1" from "127.0.0.1"
[debug] Path is "/rest/object"
[debug] Arguments are "1"
[debug] Response Code: 200; Content-Type: text/plain; Content-Length: 54
[info] Request took 0.006458s (154.847/s)
.------------------------------------------------------------+-----------.
| Action                                                     | Time      |
+------------------------------------------------------------+-----------+
| /rest/begin                                                | 0.003060s |
| /rest/object                                               | 0.000108s |
| /object_POST                                               | 0.000198s |
| /rest/end                                                  | 0.000128s |
'------------------------------------------------------------+-----------'

[info] *** Request 9 (9.000/s) [1014] [Tue Nov 30 14:04:33 2010] ***
[debug] "POST" request for "api/router" from "127.0.0.1"
[debug] Path is "api/router"
[debug] I would have deserialized, but there was nothing in the body!
[debug] Serializing with Catalyst::Action::Serialize::JSON
[debug] Serializing with Catalyst::Action::Serialize::JSON
[debug] Response Code: 200; Content-Type: application/json; Content-Length: 85
[info] Request took 0.010833s (92.311/s)
.------------------------------------------------------------+-----------.
| Action                                                     | Time      |
+------------------------------------------------------------+-----------+
| /api/begin                                                 | 0.000427s |
| /api/router                                                | 0.006764s |
|  /rest/begin                                               | 0.000205s |
|  /rest/object                                              | 0.000087s |
|  /object_POST                                              | 0.000241s |
|  /rest/end                                                 | 0.004407s |
| /api/end                                                   | 0.000581s |
'------------------------------------------------------------+-----------'

[info] *** Request 10 (10.000/s) [1014] [Tue Nov 30 14:04:33 2010] ***
[debug] "POST" request for "api/router" from "127.0.0.1"
[debug] Path is "api/router"
[debug] Serializing with Catalyst::Action::Serialize::JSON
[debug] Serializing with Catalyst::Action::Serialize::JSON
[debug] Response Code: 200; Content-Type: application/json; Content-Length: 81
[info] Request took 0.006900s (144.928/s)
.------------------------------------------------------------+-----------.
| Action                                                     | Time      |
+------------------------------------------------------------+-----------+
| /api/begin                                                 | 0.000416s |
| /api/router                                                | 0.002952s |
|  /rest/begin                                               | 0.000125s |
|  /rest/object                                              | 0.000087s |
|  /object_GET                                               | 0.000174s |
|  /rest/end                                                 | 0.000680s |
| /api/end                                                   | 0.000520s |
'------------------------------------------------------------+-----------'

[info] *** Request 11 (11.000/s) [1014] [Tue Nov 30 14:04:33 2010] ***
[debug] "POST" request for "api/router" from "127.0.0.1"
[debug] Path is "api/router"
[debug] I would have deserialized, but there was nothing in the body!
[debug] Serializing with Catalyst::Action::Serialize::JSON
[debug] Serializing with Catalyst::Action::Serialize::JSON
[debug] Response Code: 200; Content-Type: application/json; Content-Length: 85
[info] Request took 0.006865s (145.666/s)
.------------------------------------------------------------+-----------.
| Action                                                     | Time      |
+------------------------------------------------------------+-----------+
| /api/begin                                                 | 0.000427s |
| /api/router                                                | 0.002945s |
|  /rest/begin                                               | 0.000197s |
|  /rest/object                                              | 0.000088s |
|  /object_PUT                                               | 0.000183s |
|  /rest/end                                                 | 0.000661s |
| /api/end                                                   | 0.000515s |
'------------------------------------------------------------+-----------'

[info] *** Request 12 (12.000/s) [1014] [Tue Nov 30 14:04:33 2010] ***
[debug] "POST" request for "api/router" from "127.0.0.1"
[debug] Path is "api/router"
[debug] I would have deserialized, but there was nothing in the body!
[debug] Serializing with Catalyst::Action::Serialize::JSON
[debug] Serializing with Catalyst::Action::Serialize::JSON
[debug] Response Code: 200; Content-Type: application/json; Content-Length: 87
[info] Request took 0.007015s (142.552/s)
.------------------------------------------------------------+-----------.
| Action                                                     | Time      |
+------------------------------------------------------------+-----------+
| /api/begin                                                 | 0.000447s |
| /api/router                                                | 0.003012s |
|  /rest/begin                                               | 0.000196s |
|  /rest/object                                              | 0.000092s |
|  /object_DELETE                                            | 0.000213s |
|  /rest/end                                                 | 0.000682s |
| /api/end                                                   | 0.000508s |
'------------------------------------------------------------+-----------'

[info] *** Request 13 (13.000/s) [1014] [Tue Nov 30 14:04:33 2010] ***
[debug] "POST" request for "api/router" from "127.0.0.1"
[debug] Body Parameters are:
.-------------------------------------+--------------------------------------.
| Parameter                           | Value                                |
+-------------------------------------+--------------------------------------+
| extAction                           | User                                 |
| extMethod                           | create                               |
| extTID                              | 6                                    |
| extType                             | rpc                                  |
| name                                | testuser                             |
| password                            | foobar                               |
'-------------------------------------+--------------------------------------'
[debug] Path is "api/router"
[debug] I would have deserialized, but there was nothing in the body!
[debug] I would have deserialized, but there was nothing in the body!
[debug] Calling default resultset method extjs_rest_user
[debug] Loading form t/root/forms/user.yml
[debug] Serializing with Catalyst::Action::Serialize::JSON
[debug] Serializing with Catalyst::Action::Serialize::JSON
[debug] Response Code: 200; Content-Type: application/json; Content-Length: 138
[info] Request took 0.140214s (7.132/s)
.------------------------------------------------------------+-----------.
| Action                                                     | Time      |
+------------------------------------------------------------+-----------+
| /api/begin                                                 | 0.000398s |
| /api/router                                                | 0.135953s |
|  /user/begin                                               | 0.003157s |
|  /user/object                                              | 0.125607s |
|   -> /user/object_POST                                     | 0.045795s |
|  /user/end                                                 | 0.004830s |
| /api/end                                                   | 0.000648s |
'------------------------------------------------------------+-----------'

[info] *** Request 14 (14.000/s) [1014] [Tue Nov 30 14:04:33 2010] ***
[debug] "POST" request for "api/router" from "127.0.0.1"
[debug] Path is "api/router"
[debug] I would have deserialized, but there was nothing in the body!
[debug] Loading form t/root/lists/user.yml
[debug] found configuration file for parameters
[debug] Calling resultset method extjs_rest_user
[debug] Serializing with Catalyst::Action::Serialize::JSON
[debug] Serializing with Catalyst::Action::Serialize::JSON
[debug] Response Code: 200; Content-Type: application/json; Content-Length: 394
[info] Request took 0.247304s (4.044/s)
.------------------------------------------------------------+-----------.
| Action                                                     | Time      |
+------------------------------------------------------------+-----------+
| /api/begin                                                 | 0.000432s |
| /api/router                                                | 0.242934s |
|  /user/begin                                               | 0.000235s |
|  /user/list                                                | 0.239459s |
|  /user/end                                                 | 0.001136s |
| /api/end                                                   | 0.000616s |
'------------------------------------------------------------+-----------'

[info] *** Request 15 (7.500/s) [1014] [Tue Nov 30 14:04:34 2010] ***
[debug] "POST" request for "api/router" from "127.0.0.1"
[debug] Path is "api/router"
[debug] Loading form t/root/lists/user.yml
[debug] found configuration file for parameters
[debug] Calling resultset method extjs_rest_user
[debug] Serializing with Catalyst::Action::Serialize::JSON
[debug] Serializing with Catalyst::Action::Serialize::JSON
[debug] Response Code: 200; Content-Type: application/json; Content-Length: 394
[info] Request took 0.033161s (30.156/s)
.------------------------------------------------------------+-----------.
| Action                                                     | Time      |
+------------------------------------------------------------+-----------+
| /api/begin                                                 | 0.000498s |
| /api/router                                                | 0.028094s |
|  /user/begin                                               | 0.000204s |
|  /user/object                                              | 0.024817s |
|   -> /user/list                                            | 0.018697s |
|  /user/end                                                 | 0.000965s |
| /api/end                                                   | 0.000638s |
'------------------------------------------------------------+-----------'

[info] *** Request 16 (8.000/s) [1014] [Tue Nov 30 14:04:34 2010] ***
[debug] "POST" request for "api/router" from "127.0.0.1"
[debug] Body Parameters are:
.-------------------------------------+--------------------------------------.
| Parameter                           | Value                                |
+-------------------------------------+--------------------------------------+
| extAction                           | User                                 |
| extMethod                           | update                               |
| extTID                              | 6                                    |
| extType                             | rpc                                  |
| extUpload                           | true                                 |
| id                                  | 1                                    |
| name                                | testuser                             |
| password                            | foobar2                              |
'-------------------------------------+--------------------------------------'
[debug] Path is "api/router"
[debug] I would have deserialized, but there was nothing in the body!
[debug] Calling default resultset method extjs_rest_user
[debug] Loading form t/root/forms/user.yml
[debug] Serializing with Catalyst::Action::Serialize::JSON
[debug] Serializing with Catalyst::Action::Serialize::JSON
[debug] Response Code: 200; Content-Type: application/json; Content-Length: 141
[info] Request took 0.025243s (39.615/s)
.------------------------------------------------------------+-----------.
| Action                                                     | Time      |
+------------------------------------------------------------+-----------+
| /api/begin                                                 | 0.000460s |
| /api/router                                                | 0.019766s |
|  /user/begin                                               | 0.000337s |
|  /user/object                                              | 0.016237s |
|   -> /user/object_PUT                                      | 0.007125s |
|  /user/end                                                 | 0.000962s |
| /api/end                                                   | 0.000655s |
'------------------------------------------------------------+-----------'

[info] *** Request 17 (8.500/s) [1014] [Tue Nov 30 14:04:34 2010] ***
[debug] "POST" request for "api/router" from "127.0.0.1"
[debug] Body Parameters are:
.-------------------------------------+--------------------------------------.
| Parameter                           | Value                                |
+-------------------------------------+--------------------------------------+
| extAction                           | User                                 |
| extMethod                           | update                               |
| extTID                              | 6                                    |
| extType                             | rpc                                  |
| id                                  | 1                                    |
| name                                | testuser                             |
| password                            | foobar2                              |
'-------------------------------------+--------------------------------------'
[debug] Path is "api/router"
[debug] I would have deserialized, but there was nothing in the body!
[debug] I would have deserialized, but there was nothing in the body!
[debug] Calling default resultset method extjs_rest_user
[debug] Loading form t/root/forms/user.yml
[debug] Serializing with Catalyst::Action::Serialize::JSON
[debug] Serializing with Catalyst::Action::Serialize::JSON
[debug] Response Code: 200; Content-Type: application/json; Content-Length: 141
[info] Request took 0.023322s (42.878/s)
.------------------------------------------------------------+-----------.
| Action                                                     | Time      |
+------------------------------------------------------------+-----------+
| /api/begin                                                 | 0.000446s |
| /api/router                                                | 0.018594s |
|  /user/begin                                               | 0.000289s |
|  /user/object                                              | 0.015000s |
|   -> /user/object_PUT                                      | 0.006103s |
|  /user/end                                                 | 0.000922s |
| /api/end                                                   | 0.000634s |
'------------------------------------------------------------+-----------'

[info] *** Request 18 (9.000/s) [1014] [Tue Nov 30 14:04:34 2010] ***
[debug] "POST" request for "api/router" from "127.0.0.1"
[debug] Path is "api/router"
[debug] I would have deserialized, but there was nothing in the body!
[debug] Loading form t/root/lists/user.yml
[debug] found configuration file for parameters
[debug] Calling resultset method extjs_rest_user
[debug] Serializing with Catalyst::Action::Serialize::JSON
[debug] Serializing with Catalyst::Action::Serialize::JSON
[debug] Response Code: 200; Content-Type: application/json; Content-Length: 395
[info] Request took 0.027118s (36.876/s)
.------------------------------------------------------------+-----------.
| Action                                                     | Time      |
+------------------------------------------------------------+-----------+
| /api/begin                                                 | 0.000540s |
| /api/router                                                | 0.022400s |
|  /user/begin                                               | 0.000290s |
|  /user/list                                                | 0.018860s |
|  /user/end                                                 | 0.000989s |
| /api/end                                                   | 0.000638s |
'------------------------------------------------------------+-----------'

[info] *** Request 19 (9.500/s) [1014] [Tue Nov 30 14:04:34 2010] ***
[debug] "POST" request for "api/router" from "127.0.0.1"
[debug] Path is "api/router"
[debug] I would have deserialized, but there was nothing in the body!
[debug] Calling default resultset method extjs_rest_user
[debug] Loading form t/root/forms/user.yml
[debug] Serializing with Catalyst::Action::Serialize::JSON
[debug] Serializing with Catalyst::Action::Serialize::JSON
[debug] Response Code: 200; Content-Type: application/json; Content-Length: 129
[info] Request took 0.017982s (55.611/s)
.------------------------------------------------------------+-----------.
| Action                                                     | Time      |
+------------------------------------------------------------+-----------+
| /api/begin                                                 | 0.000484s |
| /api/router                                                | 0.013243s |
|  /user/begin                                               | 0.000273s |
|  /user/object                                              | 0.009991s |
|   -> /user/object_DELETE                                   | 0.000964s |
|  /user/end                                                 | 0.000947s |
| /api/end                                                   | 0.000608s |
'------------------------------------------------------------+-----------'

[info] *** Request 20 (10.000/s) [1014] [Tue Nov 30 14:04:34 2010] ***
[debug] "POST" request for "api/router" from "127.0.0.1"
[debug] Path is "api/router"
[debug] I would have deserialized, but there was nothing in the body!
[debug] Loading form t/root/lists/user.yml
[debug] found configuration file for parameters
[debug] Calling resultset method extjs_rest_user
[debug] Serializing with Catalyst::Action::Serialize::JSON
[debug] Serializing with Catalyst::Action::Serialize::JSON
[debug] Response Code: 200; Content-Type: application/json; Content-Length: 348
[info] Request took 0.023566s (42.434/s)
.------------------------------------------------------------+-----------.
| Action                                                     | Time      |
+------------------------------------------------------------+-----------+
| /api/begin                                                 | 0.000500s |
| /api/router                                                | 0.019229s |
|  /user/begin                                               | 0.000257s |
|  /user/list                                                | 0.016193s |
|  /user/end                                                 | 0.000849s |
| /api/end                                                   | 0.000551s |
'------------------------------------------------------------+-----------'

t/direct/router.t ............. ok
[debug] Debug messages enabled
[debug] Statistics enabled
[debug] Loaded dispatcher "Catalyst::Dispatcher"
[debug] Loaded engine "Catalyst::Engine::CGI"
[debug] Found home "/export/home/cpantest/.cpan/build/CatalystX-ExtJS-1.123000-0xrqnd/t/lib/MyApp"
[debug] Loaded components:
.-----------------------------------------------------------------+----------.
| Class                                                           | Type     |
+-----------------------------------------------------------------+----------+
| MyApp::Controller::API                                          | instance |
| MyApp::Controller::Artist                                       | instance |
| MyApp::Controller::Calculator                                   | instance |
| MyApp::Controller::FindOrDefault                                | instance |
| MyApp::Controller::ForBrowser                                   | instance |
| MyApp::Controller::ForBrowsers                                  | instance |
| MyApp::Controller::JSON                                         | instance |
| MyApp::Controller::Nested::Controller                           | instance |
| MyApp::Controller::REST                                         | instance |
| MyApp::Controller::RequestClass                                 | instance |
| MyApp::Controller::SkipEnd                                      | instance |
| MyApp::Controller::User                                         | instance |
| MyApp::Model::DBIC                                              | instance |
| MyApp::Model::DBIC::FindOrDefault                               | class    |
| MyApp::Model::DBIC::SkipEnd                                     | class    |
| MyApp::Model::DBIC::User                                        | class    |
| MyApp::View::JSON                                               | instance |
| MyApp::View::TT                                                 | instance |
'-----------------------------------------------------------------+----------'

[debug] Loaded Private actions:
.----------------------+--------------------------------------+--------------.
| Private              | Class                                | Method       |
+----------------------+--------------------------------------+--------------+
| /api/src             | MyApp::Controller::API               | src          |
| /api/router          | MyApp::Controller::API               | router       |
| /api/end             | MyApp::Controller::API               | end          |
| /api/index           | MyApp::Controller::API               | index        |
| /api/begin           | MyApp::Controller::API               | begin        |
| /findordefault/base  | MyApp::Controller::FindOrDefault     | base         |
| /findordefault/obje- | MyApp::Controller::FindOrDefault     | object       |
| ct                   |                                      |              |
| /findordefault/obje- | MyApp::Controller::FindOrDefault     | object_DELE- |
| ct_DELETE            |                                      | TE           |
| /findordefault/obje- | MyApp::Controller::FindOrDefault     | object_POST  |
| ct_POST              |                                      |              |
| /findordefault/obje- | MyApp::Controller::FindOrDefault     | object_GET   |
| ct_GET               |                                      |              |
| /findordefault/obje- | MyApp::Controller::FindOrDefault     | object_PUT   |
| ct_PUT               |                                      |              |
| /findordefault/end   | MyApp::Controller::FindOrDefault     | end          |
| /findordefault/begin | MyApp::Controller::FindOrDefault     | begin        |
| /findordefault/list  | MyApp::Controller::FindOrDefault     | list         |
| /calc/add            | MyApp::Controller::Calculator        | add          |
| /calc/subtract       | MyApp::Controller::Calculator        | subtract     |
| /calc/upload         | MyApp::Controller::Calculator        | upload       |
| /calc/add_to         | MyApp::Controller::Calculator        | add_to       |
| /json/index          | MyApp::Controller::JSON              | index        |
| /forbrowsers/base    | MyApp::Controller::ForBrowsers       | base         |
| /forbrowsers/object  | MyApp::Controller::ForBrowsers       | object       |
| /forbrowsers/object- | MyApp::Controller::ForBrowsers       | object_DELE- |
| _DELETE              |                                      | TE           |
| /forbrowsers/object- | MyApp::Controller::ForBrowsers       | object_POST  |
| _POST                |                                      |              |
| /forbrowsers/object- | MyApp::Controller::ForBrowsers       | object_GET   |
| _GET                 |                                      |              |
| /forbrowsers/object- | MyApp::Controller::ForBrowsers       | object_PUT   |
| _PUT                 |                                      |              |
| /forbrowsers/end     | MyApp::Controller::ForBrowsers       | end          |
| /forbrowsers/begin   | MyApp::Controller::ForBrowsers       | begin        |
| /forbrowsers/list    | MyApp::Controller::ForBrowsers       | list         |
| /rest/object         | MyApp::Controller::REST              | object       |
| /rest/begin          | MyApp::Controller::REST              | begin        |
| /rest/end            | MyApp::Controller::REST              | end          |
| /nested/controller/- | MyApp::Controller::Nested::Controll- | index        |
| index                | er                                   |              |
| /skipend/load_form   | MyApp::Controller::SkipEnd           | load_form    |
| /skipend/object      | MyApp::Controller::SkipEnd           | object       |
| /skipend/object_GET  | MyApp::Controller::SkipEnd           | object_GET   |
| /skipend/object_PUT  | MyApp::Controller::SkipEnd           | object_PUT   |
| /skipend/begin       | MyApp::Controller::SkipEnd           | begin        |
| /skipend/list        | MyApp::Controller::SkipEnd           | list         |
| /skipend/base        | MyApp::Controller::SkipEnd           | base         |
| /skipend/object_POST | MyApp::Controller::SkipEnd           | object_POST  |
| /skipend/object_DEL- | MyApp::Controller::SkipEnd           | object_DELE- |
| ETE                  |                                      | TE           |
| /skipend/end         | MyApp::Controller::SkipEnd           | end          |
| /skipend/edit_record | MyApp::Controller::SkipEnd           | edit_record  |
| /forbrowser/base     | MyApp::Controller::ForBrowser        | base         |
| /forbrowser/object   | MyApp::Controller::ForBrowser        | object       |
| /forbrowser/object_- | MyApp::Controller::ForBrowser        | object_DELE- |
| DELETE               |                                      | TE           |
| /forbrowser/object_- | MyApp::Controller::ForBrowser        | object_POST  |
| POST                 |                                      |              |
| /forbrowser/object_- | MyApp::Controller::ForBrowser        | object_GET   |
| GET                  |                                      |              |
| /forbrowser/object_- | MyApp::Controller::ForBrowser        | object_PUT   |
| PUT                  |                                      |              |
| /forbrowser/end      | MyApp::Controller::ForBrowser        | end          |
| /forbrowser/begin    | MyApp::Controller::ForBrowser        | begin        |
| /forbrowser/list     | MyApp::Controller::ForBrowser        | list         |
| /requestclass/params | MyApp::Controller::RequestClass      | params       |
| /requestclass/reque- | MyApp::Controller::RequestClass      | request_cla- |
| st_class             |                                      | ss           |
| /user/base           | MyApp::Controller::User              | base         |
| /user/object         | MyApp::Controller::User              | object       |
| /user/object_DELETE  | MyApp::Controller::User              | object_DELE- |
|                      |                                      | TE           |
| /user/object_POST    | MyApp::Controller::User              | object_POST  |
| /user/object_GET     | MyApp::Controller::User              | object_GET   |
| /user/object_PUT     | MyApp::Controller::User              | object_PUT   |
| /user/end            | MyApp::Controller::User              | end          |
| /user/add_to_group   | MyApp::Controller::User              | add_to_group |
| /user/begin          | MyApp::Controller::User              | begin        |
| /user/list           | MyApp::Controller::User              | list         |
'----------------------+--------------------------------------+--------------'

[debug] Loaded Path actions:
.-------------------------------------+--------------------------------------.
| Path                                | Private                              |
+-------------------------------------+--------------------------------------+
| /api                                | /api/index                           |
| /api/router                         | /api/router                          |
| /api/src                            | /api/src                             |
| /calc                               | /calc/upload                         |
| /calc                               | /calc/add                            |
| /calc/subtract                      | /calc/subtract                       |
| /nested/controller/index            | /nested/controller/index             |
| /requestclass/params                | /requestclass/params                 |
| /requestclass/request_class         | /requestclass/request_class          |
'-------------------------------------+--------------------------------------'

[debug] Loaded Chained actions:
.-------------------------------------+--------------------------------------.
| Path Spec                           | Private                              |
+-------------------------------------+--------------------------------------+
| /add/*/to/*                         | /calc/add (1)                        |
|                                     | => /calc/add_to                      |
| /findordefaults/...                 | /findordefault/list                  |
| /findordefault/...                  | /findordefault/object                |
| /forbrowsers/...                    | /forbrowser/list                     |
| /forbrowser/...                     | /forbrowser/object                   |
| /forbrowser/...                     | /forbrowsers/list                    |
| /forbrowsers/...                    | /forbrowsers/object                  |
| /rest/object/*                      | /rest/object                         |
| /skipend/form/edit_record           | /skipend/load_form (0)               |
|                                     | => /skipend/edit_record              |
| /skipends/...                       | /skipend/list                        |
| /skipend/...                        | /skipend/object                      |
| /user/*/add_to_group/*              | /user/base (1)                       |
|                                     | => /user/add_to_group                |
| /users/...                          | /user/list                           |
| /user/...                           | /user/object                         |
'-------------------------------------+--------------------------------------'

[info] Application powered by Catalyst 5.80029
[info] *** Request 1 (1.000/s) [1016] [Tue Nov 30 14:04:36 2010] ***
[debug] "POST" request for "api/router" from "127.0.0.1"
[debug] Path is "api/router"
[debug] I would have deserialized, but there was nothing in the body!
[debug] Calling default resultset method extjs_rest_user
[debug] Loading form t/root/forms/user.yml
[debug] Serializing with Catalyst::Action::Serialize::JSON
[debug] I would have deserialized, but there was nothing in the body!
[debug] Calling default resultset method extjs_rest_user
[debug] Loading form t/root/forms/user.yml
[debug] Serializing with Catalyst::Action::Serialize::JSON
[debug] I would have deserialized, but there was nothing in the body!
[debug] Calling default resultset method extjs_rest_user
[debug] Loading form t/root/forms/user.yml
[debug] Serializing with Catalyst::Action::Serialize::JSON
[debug] Serializing with Catalyst::Action::Serialize::JSON
[debug] Response Code: 200; Content-Type: application/json; Content-Length: 370
[info] Request took 0.190349s (5.254/s)
.------------------------------------------------------------+-----------.
| Action                                                     | Time      |
+------------------------------------------------------------+-----------+
| /api/begin                                                 | 0.009355s |
| /api/router                                                | 0.172417s |
|  /user/begin                                               | 0.003064s |
|  /user/object                                              | 0.124308s |
|   -> /user/object_POST                                     | 0.045217s |
|  /user/end                                                 | 0.012249s |
|  /user/begin                                               | 0.000363s |
|  /user/object                                              | 0.012332s |
|   -> /user/object_POST                                     | 0.005565s |
|  /user/end                                                 | 0.000851s |
|  /user/begin                                               | 0.000298s |
|  /user/object                                              | 0.011846s |
|   -> /user/object_POST                                     | 0.005219s |
|  /user/end                                                 | 0.000799s |
| /api/end                                                   | 0.004494s |
'------------------------------------------------------------+-----------'

[info] *** Request 2 (2.000/s) [1016] [Tue Nov 30 14:04:36 2010] ***
[debug] "POST" request for "api/router" from "127.0.0.1"
[debug] Path is "api/router"
[debug] I would have deserialized, but there was nothing in the body!
[debug] Loading form t/root/lists/user.yml
[debug] found configuration file for parameters
[debug] Calling resultset method extjs_rest_user
[debug] Serializing with Catalyst::Action::Serialize::JSON
[debug] Serializing with Catalyst::Action::Serialize::JSON
[debug] Response Code: 200; Content-Type: application/json; Content-Length: 452
[info] Request took 0.095042s (10.522/s)
.------------------------------------------------------------+-----------.
| Action                                                     | Time      |
+------------------------------------------------------------+-----------+
| /api/begin                                                 | 0.000456s |
| /api/router                                                | 0.090698s |
|  /user/begin                                               | 0.000259s |
|  /user/list                                                | 0.087339s |
|  /user/end                                                 | 0.001046s |
| /api/end                                                   | 0.000725s |
'------------------------------------------------------------+-----------'

[info] *** Request 3 (3.000/s) [1016] [Tue Nov 30 14:04:36 2010] ***
[debug] "POST" request for "api/router" from "127.0.0.1"
[debug] Path is "api/router"
[debug] I would have deserialized, but there was nothing in the body!
[debug] Loading form t/root/lists/user.yml
[debug] found configuration file for parameters
[debug] Calling resultset method extjs_rest_user
[debug] Serializing with Catalyst::Action::Serialize::JSON
[debug] Serializing with Catalyst::Action::Serialize::JSON
[debug] Response Code: 200; Content-Type: application/json; Content-Length: 382
[info] Request took 0.031198s (32.053/s)
.------------------------------------------------------------+-----------.
| Action                                                     | Time      |
+------------------------------------------------------------+-----------+
| /api/begin                                                 | 0.000447s |
| /api/router                                                | 0.026934s |
|  /user/begin                                               | 0.000234s |
|  /user/list                                                | 0.023763s |
|  /user/end                                                 | 0.000970s |
| /api/end                                                   | 0.000624s |
'------------------------------------------------------------+-----------'

[info] *** Request 4 (2.000/s) [1016] [Tue Nov 30 14:04:37 2010] ***
[debug] "POST" request for "api/router" from "127.0.0.1"
[debug] Path is "api/router"
[debug] I would have deserialized, but there was nothing in the body!
[debug] Loading form t/root/lists/user.yml
[debug] found configuration file for parameters
[debug] Calling resultset method extjs_rest_user
[debug] Calling resultset method none
[debug] Serializing with Catalyst::Action::Serialize::JSON
[debug] Serializing with Catalyst::Action::Serialize::JSON
[debug] Response Code: 200; Content-Type: application/json; Content-Length: 348
[info] Request took 0.026013s (38.442/s)
.------------------------------------------------------------+-----------.
| Action                                                     | Time      |
+------------------------------------------------------------+-----------+
| /api/begin                                                 | 0.000480s |
| /api/router                                                | 0.021425s |
|  /user/begin                                               | 0.000265s |
|  /user/list                                                | 0.018154s |
|  /user/end                                                 | 0.000957s |
| /api/end                                                   | 0.000637s |
'------------------------------------------------------------+-----------'

Use of uninitialized value $params[0] in join or string at /export/home/cpantest/.cpan/build/CatalystX-ExtJS-1.123000-0xrqnd/blib/lib/CatalystX/Controller/ExtJS/REST.pm line 237.
Use of uninitialized value $params[0] in join or string at /export/home/cpantest/.cpan/build/CatalystX-ExtJS-1.123000-0xrqnd/blib/lib/CatalystX/Controller/ExtJS/REST.pm line 237.
[info] *** Request 5 (2.500/s) [1016] [Tue Nov 30 14:04:37 2010] ***
[debug] "POST" request for "api/router" from "127.0.0.1"
[debug] Path is "api/router"
[debug] I would have deserialized, but there was nothing in the body!
[debug] Loading form t/root/lists/user.yml
[debug] found configuration file for parameters
[debug] Calling resultset method extjs_rest_user
[debug] Calling resultset method foo with arguments ''
[debug] Calling resultset method not with arguments '1'
[debug] Calling resultset method not with arguments '2'
[debug] Calling resultset method not with arguments '3'
[debug] Calling resultset method not with arguments ''
[debug] Serializing with Catalyst::Action::Serialize::JSON
[debug] Serializing with Catalyst::Action::Serialize::JSON
[debug] Response Code: 200; Content-Type: application/json; Content-Length: 348
[info] Request took 0.030346s (32.953/s)
.------------------------------------------------------------+-----------.
| Action                                                     | Time      |
+------------------------------------------------------------+-----------+
| /api/begin                                                 | 0.000480s |
| /api/router                                                | 0.025753s |
|  /user/begin                                               | 0.000473s |
|  /user/list                                                | 0.022156s |
|  /user/end                                                 | 0.000986s |
| /api/end                                                   | 0.000635s |
'------------------------------------------------------------+-----------'

[info] *** Request 6 (3.000/s) [1016] [Tue Nov 30 14:04:37 2010] ***
[debug] "POST" request for "api/router" from "127.0.0.1"
[debug] Path is "api/router"
[debug] I would have deserialized, but there was nothing in the body!
[debug] Calling default resultset method extjs_rest_user
[debug] Loading form t/root/forms/user.yml
[debug] Serializing with Catalyst::Action::Serialize::JSON
[debug] Serializing with Catalyst::Action::Serialize::JSON
[debug] Response Code: 200; Content-Type: application/json; Content-Length: 129
[info] Request took 0.018292s (54.669/s)
.------------------------------------------------------------+-----------.
| Action                                                     | Time      |
+------------------------------------------------------------+-----------+
| /api/begin                                                 | 0.000484s |
| /api/router                                                | 0.013637s |
|  /user/begin                                               | 0.000284s |
|  /user/object                                              | 0.010340s |
|   -> /user/object_DELETE                                   | 0.000971s |
|  /user/end                                                 | 0.000923s |
| /api/end                                                   | 0.000641s |
'------------------------------------------------------------+-----------'

[info] *** Request 7 (3.500/s) [1016] [Tue Nov 30 14:04:37 2010] ***
[debug] "POST" request for "api/router" from "127.0.0.1"
[debug] Path is "api/router"
[debug] I would have deserialized, but there was nothing in the body!
[debug] Loading form t/root/lists/user.yml
[debug] found configuration file for parameters
[debug] Calling resultset method extjs_rest_user
[debug] Serializing with Catalyst::Action::Serialize::JSON
[debug] Serializing with Catalyst::Action::Serialize::JSON
[debug] Response Code: 200; Content-Type: application/json; Content-Length: 417
[info] Request took 0.027606s (36.224/s)
.------------------------------------------------------------+-----------.
| Action                                                     | Time      |
+------------------------------------------------------------+-----------+
| /api/begin                                                 | 0.000493s |
| /api/router                                                | 0.023150s |
|  /user/begin                                               | 0.000326s |
|  /user/list                                                | 0.019649s |
|  /user/end                                                 | 0.000883s |
| /api/end                                                   | 0.000548s |
'------------------------------------------------------------+-----------'

[info] *** Request 8 (4.000/s) [1016] [Tue Nov 30 14:04:37 2010] ***
[debug] "POST" request for "api/router" from "127.0.0.1"
[debug] Path is "api/router"
[debug] I would have deserialized, but there was nothing in the body!
[debug] Calling default resultset method extjs_rest_user
[debug] Loading form t/root/forms/user.yml
[debug] Serializing with Catalyst::Action::Serialize::JSON
[debug] I would have deserialized, but there was nothing in the body!
[debug] Calling default resultset method extjs_rest_user
[debug] Loading form t/root/forms/user.yml
[debug] Serializing with Catalyst::Action::Serialize::JSON
[debug] Serializing with Catalyst::Action::Serialize::JSON
[debug] Response Code: 200; Content-Type: application/json; Content-Length: 261
[info] Request took 0.026836s (37.263/s)
.------------------------------------------------------------+-----------.
| Action                                                     | Time      |
+------------------------------------------------------------+-----------+
| /api/begin                                                 | 0.000433s |
| /api/router                                                | 0.022681s |
|  /user/begin                                               | 0.000240s |
|  /user/object                                              | 0.008872s |
|   -> /user/object_DELETE                                   | 0.000766s |
|  /user/end                                                 | 0.000826s |
|  /user/begin                                               | 0.000288s |
|  /user/object                                              | 0.008177s |
|   -> /user/object_DELETE                                   | 0.000675s |
|  /user/end                                                 | 0.000763s |
| /api/end                                                   | 0.000539s |
'------------------------------------------------------------+-----------'

[info] *** Request 9 (4.500/s) [1016] [Tue Nov 30 14:04:37 2010] ***
[debug] "POST" request for "api/router" from "127.0.0.1"
[debug] Path is "api/router"
[debug] I would have deserialized, but there was nothing in the body!
[debug] Loading form t/root/lists/user.yml
[debug] found configuration file for parameters
[debug] Calling resultset method extjs_rest_user
[debug] Serializing with Catalyst::Action::Serialize::JSON
[debug] Serializing with Catalyst::Action::Serialize::JSON
[debug] Response Code: 200; Content-Type: application/json; Content-Length: 348
[info] Request took 0.021895s (45.673/s)
.------------------------------------------------------------+-----------.
| Action                                                     | Time      |
+------------------------------------------------------------+-----------+
| /api/begin                                                 | 0.000437s |
| /api/router                                                | 0.017847s |
|  /user/begin                                               | 0.000226s |
|  /user/list                                                | 0.014923s |
|  /user/end                                                 | 0.000896s |
| /api/end                                                   | 0.000547s |
'------------------------------------------------------------+-----------'

t/direct/router/rest_extjs.t .. ok
t/pod.t ....................... ok
t/release-distmeta.t .......... skipped: these tests are for release candidate testing
t/release-has-version.t ....... skipped: these tests are for release candidate testing
t/release-kwalitee.t .......... skipped: these tests are for release candidate testing
t/release-minimum-version.t ... skipped: these tests are for release candidate testing
t/release-pod-coverage.t ...... skipped: these tests are for release candidate testing
t/release-pod-syntax.t ........ skipped: these tests are for release candidate testing
t/release-portability.t ....... skipped: these tests are for release candidate testing
t/release-unused-vars.t ....... skipped: these tests are for release candidate testing
[debug] Debug messages enabled
[debug] Statistics enabled
[debug] Loaded dispatcher "Catalyst::Dispatcher"
[debug] Loaded engine "Catalyst::Engine::CGI"
[debug] Found home "/export/home/cpantest/.cpan/build/CatalystX-ExtJS-1.123000-0xrqnd/t/lib/MyApp"
[debug] Loaded components:
.-----------------------------------------------------------------+----------.
| Class                                                           | Type     |
+-----------------------------------------------------------------+----------+
| MyApp::Controller::API                                          | instance |
| MyApp::Controller::Artist                                       | instance |
| MyApp::Controller::Calculator                                   | instance |
| MyApp::Controller::FindOrDefault                                | instance |
| MyApp::Controller::ForBrowser                                   | instance |
| MyApp::Controller::ForBrowsers                                  | instance |
| MyApp::Controller::JSON                                         | instance |
| MyApp::Controller::Nested::Controller                           | instance |
| MyApp::Controller::REST                                         | instance |
| MyApp::Controller::RequestClass                                 | instance |
| MyApp::Controller::SkipEnd                                      | instance |
| MyApp::Controller::User                                         | instance |
| MyApp::Model::DBIC                                              | instance |
| MyApp::Model::DBIC::FindOrDefault                               | class    |
| MyApp::Model::DBIC::SkipEnd                                     | class    |
| MyApp::Model::DBIC::User                                        | class    |
| MyApp::View::JSON                                               | instance |
| MyApp::View::TT                                                 | instance |
'-----------------------------------------------------------------+----------'

[debug] Loaded Private actions:
.----------------------+--------------------------------------+--------------.
| Private              | Class                                | Method       |
+----------------------+--------------------------------------+--------------+
| /api/src             | MyApp::Controller::API               | src          |
| /api/router          | MyApp::Controller::API               | router       |
| /api/end             | MyApp::Controller::API               | end          |
| /api/index           | MyApp::Controller::API               | index        |
| /api/begin           | MyApp::Controller::API               | begin        |
| /findordefault/base  | MyApp::Controller::FindOrDefault     | base         |
| /findordefault/obje- | MyApp::Controller::FindOrDefault     | object       |
| ct                   |                                      |              |
| /findordefault/obje- | MyApp::Controller::FindOrDefault     | object_DELE- |
| ct_DELETE            |                                      | TE           |
| /findordefault/obje- | MyApp::Controller::FindOrDefault     | object_POST  |
| ct_POST              |                                      |              |
| /findordefault/obje- | MyApp::Controller::FindOrDefault     | object_GET   |
| ct_GET               |                                      |              |
| /findordefault/obje- | MyApp::Controller::FindOrDefault     | object_PUT   |
| ct_PUT               |                                      |              |
| /findordefault/end   | MyApp::Controller::FindOrDefault     | end          |
| /findordefault/begin | MyApp::Controller::FindOrDefault     | begin        |
| /findordefault/list  | MyApp::Controller::FindOrDefault     | list         |
| /calc/add            | MyApp::Controller::Calculator        | add          |
| /calc/subtract       | MyApp::Controller::Calculator        | subtract     |
| /calc/upload         | MyApp::Controller::Calculator        | upload       |
| /calc/add_to         | MyApp::Controller::Calculator        | add_to       |
| /json/index          | MyApp::Controller::JSON              | index        |
| /forbrowsers/base    | MyApp::Controller::ForBrowsers       | base         |
| /forbrowsers/object  | MyApp::Controller::ForBrowsers       | object       |
| /forbrowsers/object- | MyApp::Controller::ForBrowsers       | object_DELE- |
| _DELETE              |                                      | TE           |
| /forbrowsers/object- | MyApp::Controller::ForBrowsers       | object_POST  |
| _POST                |                                      |              |
| /forbrowsers/object- | MyApp::Controller::ForBrowsers       | object_GET   |
| _GET                 |                                      |              |
| /forbrowsers/object- | MyApp::Controller::ForBrowsers       | object_PUT   |
| _PUT                 |                                      |              |
| /forbrowsers/end     | MyApp::Controller::ForBrowsers       | end          |
| /forbrowsers/begin   | MyApp::Controller::ForBrowsers       | begin        |
| /forbrowsers/list    | MyApp::Controller::ForBrowsers       | list         |
| /rest/object         | MyApp::Controller::REST              | object       |
| /rest/begin          | MyApp::Controller::REST              | begin        |
| /rest/end            | MyApp::Controller::REST              | end          |
| /nested/controller/- | MyApp::Controller::Nested::Controll- | index        |
| index                | er                                   |              |
| /skipend/load_form   | MyApp::Controller::SkipEnd           | load_form    |
| /skipend/object      | MyApp::Controller::SkipEnd           | object       |
| /skipend/object_GET  | MyApp::Controller::SkipEnd           | object_GET   |
| /skipend/object_PUT  | MyApp::Controller::SkipEnd           | object_PUT   |
| /skipend/begin       | MyApp::Controller::SkipEnd           | begin        |
| /skipend/list        | MyApp::Controller::SkipEnd           | list         |
| /skipend/base        | MyApp::Controller::SkipEnd           | base         |
| /skipend/object_POST | MyApp::Controller::SkipEnd           | object_POST  |
| /skipend/object_DEL- | MyApp::Controller::SkipEnd           | object_DELE- |
| ETE                  |                                      | TE           |
| /skipend/end         | MyApp::Controller::SkipEnd           | end          |
| /skipend/edit_record | MyApp::Controller::SkipEnd           | edit_record  |
| /forbrowser/base     | MyApp::Controller::ForBrowser        | base         |
| /forbrowser/object   | MyApp::Controller::ForBrowser        | object       |
| /forbrowser/object_- | MyApp::Controller::ForBrowser        | object_DELE- |
| DELETE               |                                      | TE           |
| /forbrowser/object_- | MyApp::Controller::ForBrowser        | object_POST  |
| POST                 |                                      |              |
| /forbrowser/object_- | MyApp::Controller::ForBrowser        | object_GET   |
| GET                  |                                      |              |
| /forbrowser/object_- | MyApp::Controller::ForBrowser        | object_PUT   |
| PUT                  |                                      |              |
| /forbrowser/end      | MyApp::Controller::ForBrowser        | end          |
| /forbrowser/begin    | MyApp::Controller::ForBrowser        | begin        |
| /forbrowser/list     | MyApp::Controller::ForBrowser        | list         |
| /requestclass/params | MyApp::Controller::RequestClass      | params       |
| /requestclass/reque- | MyApp::Controller::RequestClass      | request_cla- |
| st_class             |                                      | ss           |
| /user/base           | MyApp::Controller::User              | base         |
| /user/object         | MyApp::Controller::User              | object       |
| /user/object_DELETE  | MyApp::Controller::User              | object_DELE- |
|                      |                                      | TE           |
| /user/object_POST    | MyApp::Controller::User              | object_POST  |
| /user/object_GET     | MyApp::Controller::User              | object_GET   |
| /user/object_PUT     | MyApp::Controller::User              | object_PUT   |
| /user/end            | MyApp::Controller::User              | end          |
| /user/add_to_group   | MyApp::Controller::User              | add_to_group |
| /user/begin          | MyApp::Controller::User              | begin        |
| /user/list           | MyApp::Controller::User              | list         |
'----------------------+--------------------------------------+--------------'

[debug] Loaded Path actions:
.-------------------------------------+--------------------------------------.
| Path                                | Private                              |
+-------------------------------------+--------------------------------------+
| /api                                | /api/index                           |
| /api/router                         | /api/router                          |
| /api/src                            | /api/src                             |
| /calc                               | /calc/upload                         |
| /calc                               | /calc/add                            |
| /calc/subtract                      | /calc/subtract                       |
| /nested/controller/index            | /nested/controller/index             |
| /requestclass/params                | /requestclass/params                 |
| /requestclass/request_class         | /requestclass/request_class          |
'-------------------------------------+--------------------------------------'

[debug] Loaded Chained actions:
.-------------------------------------+--------------------------------------.
| Path Spec                           | Private                              |
+-------------------------------------+--------------------------------------+
| /add/*/to/*                         | /calc/add (1)                        |
|                                     | => /calc/add_to                      |
| /findordefaults/...                 | /findordefault/list                  |
| /findordefault/...                  | /findordefault/object                |
| /forbrowsers/...                    | /forbrowser/list                     |
| /forbrowser/...                     | /forbrowser/object                   |
| /forbrowser/...                     | /forbrowsers/list                    |
| /forbrowsers/...                    | /forbrowsers/object                  |
| /rest/object/*                      | /rest/object                         |
| /skipend/form/edit_record           | /skipend/load_form (0)               |
|                                     | => /skipend/edit_record              |
| /skipends/...                       | /skipend/list                        |
| /skipend/...                        | /skipend/object                      |
| /user/*/add_to_group/*              | /user/base (1)                       |
|                                     | => /user/add_to_group                |
| /users/...                          | /user/list                           |
| /user/...                           | /user/object                         |
'-------------------------------------+--------------------------------------'

[info] Application powered by Catalyst 5.80029
[info] *** Request 1 (1.000/s) [1026] [Tue Nov 30 14:04:40 2010] ***
[debug] "GET" request for "findordefault/nonsense" from "127.0.0.1"
[debug] Path is "/findordefault/object"
[debug] Arguments are "nonsense"
[debug] Default resultset method extjs_rest_findordefault cannot be found
[debug] Loading form t/root/forms/findordefault.yml
[debug] Serializing with Catalyst::Action::Serialize::JSON
[debug] Response Code: 200; Content-Type: application/json; Content-Length: 75
[info] Request took 0.222388s (4.497/s)
.------------------------------------------------------------+-----------.
| Action                                                     | Time      |
+------------------------------------------------------------+-----------+
| /findordefault/begin                                       | 0.000447s |
| /findordefault/object                                      | 0.202870s |
|  -> /findordefault/object_GET                              | 0.021372s |
| /findordefault/end                                         | 0.015170s |
'------------------------------------------------------------+-----------'

t/rest/findordefault.t ........ ok
[debug] Debug messages enabled
[debug] Statistics enabled
[debug] Loaded dispatcher "Catalyst::Dispatcher"
[debug] Loaded engine "Catalyst::Engine::CGI"
[debug] Found home "/export/home/cpantest/.cpan/build/CatalystX-ExtJS-1.123000-0xrqnd/t/lib/MyApp"
[debug] Loaded components:
.-----------------------------------------------------------------+----------.
| Class                                                           | Type     |
+-----------------------------------------------------------------+----------+
| MyApp::Controller::API                                          | instance |
| MyApp::Controller::Artist                                       | instance |
| MyApp::Controller::Calculator                                   | instance |
| MyApp::Controller::FindOrDefault                                | instance |
| MyApp::Controller::ForBrowser                                   | instance |
| MyApp::Controller::ForBrowsers                                  | instance |
| MyApp::Controller::JSON                                         | instance |
| MyApp::Controller::Nested::Controller                           | instance |
| MyApp::Controller::REST                                         | instance |
| MyApp::Controller::RequestClass                                 | instance |
| MyApp::Controller::SkipEnd                                      | instance |
| MyApp::Controller::User                                         | instance |
| MyApp::Model::DBIC                                              | instance |
| MyApp::Model::DBIC::FindOrDefault                               | class    |
| MyApp::Model::DBIC::SkipEnd                                     | class    |
| MyApp::Model::DBIC::User                                        | class    |
| MyApp::View::JSON                                               | instance |
| MyApp::View::TT                                                 | instance |
'-----------------------------------------------------------------+----------'

[debug] Loaded Private actions:
.----------------------+--------------------------------------+--------------.
| Private              | Class                                | Method       |
+----------------------+--------------------------------------+--------------+
| /api/src             | MyApp::Controller::API               | src          |
| /api/router          | MyApp::Controller::API               | router       |
| /api/end             | MyApp::Controller::API               | end          |
| /api/index           | MyApp::Controller::API               | index        |
| /api/begin           | MyApp::Controller::API               | begin        |
| /findordefault/base  | MyApp::Controller::FindOrDefault     | base         |
| /findordefault/obje- | MyApp::Controller::FindOrDefault     | object       |
| ct                   |                                      |              |
| /findordefault/obje- | MyApp::Controller::FindOrDefault     | object_DELE- |
| ct_DELETE            |                                      | TE           |
| /findordefault/obje- | MyApp::Controller::FindOrDefault     | object_POST  |
| ct_POST              |                                      |              |
| /findordefault/obje- | MyApp::Controller::FindOrDefault     | object_GET   |
| ct_GET               |                                      |              |
| /findordefault/obje- | MyApp::Controller::FindOrDefault     | object_PUT   |
| ct_PUT               |                                      |              |
| /findordefault/end   | MyApp::Controller::FindOrDefault     | end          |
| /findordefault/begin | MyApp::Controller::FindOrDefault     | begin        |
| /findordefault/list  | MyApp::Controller::FindOrDefault     | list         |
| /calc/add            | MyApp::Controller::Calculator        | add          |
| /calc/subtract       | MyApp::Controller::Calculator        | subtract     |
| /calc/upload         | MyApp::Controller::Calculator        | upload       |
| /calc/add_to         | MyApp::Controller::Calculator        | add_to       |
| /json/index          | MyApp::Controller::JSON              | index        |
| /forbrowsers/base    | MyApp::Controller::ForBrowsers       | base         |
| /forbrowsers/object  | MyApp::Controller::ForBrowsers       | object       |
| /forbrowsers/object- | MyApp::Controller::ForBrowsers       | object_DELE- |
| _DELETE              |                                      | TE           |
| /forbrowsers/object- | MyApp::Controller::ForBrowsers       | object_POST  |
| _POST                |                                      |              |
| /forbrowsers/object- | MyApp::Controller::ForBrowsers       | object_GET   |
| _GET                 |                                      |              |
| /forbrowsers/object- | MyApp::Controller::ForBrowsers       | object_PUT   |
| _PUT                 |                                      |              |
| /forbrowsers/end     | MyApp::Controller::ForBrowsers       | end          |
| /forbrowsers/begin   | MyApp::Controller::ForBrowsers       | begin        |
| /forbrowsers/list    | MyApp::Controller::ForBrowsers       | list         |
| /rest/object         | MyApp::Controller::REST              | object       |
| /rest/begin          | MyApp::Controller::REST              | begin        |
| /rest/end            | MyApp::Controller::REST              | end          |
| /nested/controller/- | MyApp::Controller::Nested::Controll- | index        |
| index                | er                                   |              |
| /skipend/load_form   | MyApp::Controller::SkipEnd           | load_form    |
| /skipend/object      | MyApp::Controller::SkipEnd           | object       |
| /skipend/object_GET  | MyApp::Controller::SkipEnd           | object_GET   |
| /skipend/object_PUT  | MyApp::Controller::SkipEnd           | object_PUT   |
| /skipend/begin       | MyApp::Controller::SkipEnd           | begin        |
| /skipend/list        | MyApp::Controller::SkipEnd           | list         |
| /skipend/base        | MyApp::Controller::SkipEnd           | base         |
| /skipend/object_POST | MyApp::Controller::SkipEnd           | object_POST  |
| /skipend/object_DEL- | MyApp::Controller::SkipEnd           | object_DELE- |
| ETE                  |                                      | TE           |
| /skipend/end         | MyApp::Controller::SkipEnd           | end          |
| /skipend/edit_record | MyApp::Controller::SkipEnd           | edit_record  |
| /forbrowser/base     | MyApp::Controller::ForBrowser        | base         |
| /forbrowser/object   | MyApp::Controller::ForBrowser        | object       |
| /forbrowser/object_- | MyApp::Controller::ForBrowser        | object_DELE- |
| DELETE               |                                      | TE           |
| /forbrowser/object_- | MyApp::Controller::ForBrowser        | object_POST  |
| POST                 |                                      |              |
| /forbrowser/object_- | MyApp::Controller::ForBrowser        | object_GET   |
| GET                  |                                      |              |
| /forbrowser/object_- | MyApp::Controller::ForBrowser        | object_PUT   |
| PUT                  |                                      |              |
| /forbrowser/end      | MyApp::Controller::ForBrowser        | end          |
| /forbrowser/begin    | MyApp::Controller::ForBrowser        | begin        |
| /forbrowser/list     | MyApp::Controller::ForBrowser        | list         |
| /requestclass/params | MyApp::Controller::RequestClass      | params       |
| /requestclass/reque- | MyApp::Controller::RequestClass      | request_cla- |
| st_class             |                                      | ss           |
| /user/base           | MyApp::Controller::User              | base         |
| /user/object         | MyApp::Controller::User              | object       |
| /user/object_DELETE  | MyApp::Controller::User              | object_DELE- |
|                      |                                      | TE           |
| /user/object_POST    | MyApp::Controller::User              | object_POST  |
| /user/object_GET     | MyApp::Controller::User              | object_GET   |
| /user/object_PUT     | MyApp::Controller::User              | object_PUT   |
| /user/end            | MyApp::Controller::User              | end          |
| /user/add_to_group   | MyApp::Controller::User              | add_to_group |
| /user/begin          | MyApp::Controller::User              | begin        |
| /user/list           | MyApp::Controller::User              | list         |
'----------------------+--------------------------------------+--------------'

[debug] Loaded Path actions:
.-------------------------------------+--------------------------------------.
| Path                                | Private                              |
+-------------------------------------+--------------------------------------+
| /api                                | /api/index                           |
| /api/router                         | /api/router                          |
| /api/src                            | /api/src                             |
| /calc                               | /calc/upload                         |
| /calc                               | /calc/add                            |
| /calc/subtract                      | /calc/subtract                       |
| /nested/controller/index            | /nested/controller/index             |
| /requestclass/params                | /requestclass/params                 |
| /requestclass/request_class         | /requestclass/request_class          |
'-------------------------------------+--------------------------------------'

[debug] Loaded Chained actions:
.-------------------------------------+--------------------------------------.
| Path Spec                           | Private                              |
+-------------------------------------+--------------------------------------+
| /add/*/to/*                         | /calc/add (1)                        |
|                                     | => /calc/add_to                      |
| /findordefaults/...                 | /findordefault/list                  |
| /findordefault/...                  | /findordefault/object                |
| /forbrowsers/...                    | /forbrowser/list                     |
| /forbrowser/...                     | /forbrowser/object                   |
| /forbrowser/...                     | /forbrowsers/list                    |
| /forbrowsers/...                    | /forbrowsers/object                  |
| /rest/object/*                      | /rest/object                         |
| /skipend/form/edit_record           | /skipend/load_form (0)               |
|                                     | => /skipend/edit_record              |
| /skipends/...                       | /skipend/list                        |
| /skipend/...                        | /skipend/object                      |
| /user/*/add_to_group/*              | /user/base (1)                       |
|                                     | => /user/add_to_group                |
| /users/...                          | /user/list                           |
| /user/...                           | /user/object                         |
'-------------------------------------+--------------------------------------'

[info] Application powered by Catalyst 5.80029
[info] *** Request 1 (1.000/s) [1027] [Tue Nov 30 14:04:42 2010] ***
[debug] "POST" request for "user" from "127.0.0.1"
[debug] Body Parameters are:
.-------------------------------------+--------------------------------------.
| Parameter                           | Value                                |
+-------------------------------------+--------------------------------------+
| name                                | bar                                  |
| password                            | foo                                  |
'-------------------------------------+--------------------------------------'
[debug] Path is "/user/object"
[debug] I would have deserialized, but there was nothing in the body!
[debug] Calling default resultset method extjs_rest_user
[debug] Loading form t/root/forms/user.yml
[debug] Serializing with Catalyst::Action::Serialize::JSON
[debug] Response Code: 201; Content-Type: application/json; Content-Length: 62
[info] Request took 0.152199s (6.570/s)
.------------------------------------------------------------+-----------.
| Action                                                     | Time      |
+------------------------------------------------------------+-----------+
| /user/begin                                                | 0.009334s |
| /user/object                                               | 0.123835s |
|  -> /user/object_POST                                      | 0.046408s |
| /user/end                                                  | 0.014288s |
'------------------------------------------------------------+-----------'

[info] *** Request 2 (1.000/s) [1027] [Tue Nov 30 14:04:43 2010] ***
[debug] "DELETE" request for "user/1" from "127.0.0.1"
[debug] Query Parameters are:
.-------------------------------------+--------------------------------------.
| Parameter                           | Value                                |
+-------------------------------------+--------------------------------------+
| x-tunneled-method                   | DELETE                               |
'-------------------------------------+--------------------------------------'
[debug] Path is "/user/object"
[debug] Arguments are "1"
[debug] I would have deserialized, but there was nothing in the body!
[debug] Calling default resultset method extjs_rest_user
[debug] Loading form t/root/forms/user.yml
[debug] Serializing with Catalyst::Action::Serialize::JSON
[debug] Response Code: 200; Content-Type: application/json; Content-Length: 62
[info] Request took 0.014159s (70.626/s)
.------------------------------------------------------------+-----------.
| Action                                                     | Time      |
+------------------------------------------------------------+-----------+
| /user/begin                                                | 0.000476s |
| /user/object                                               | 0.009676s |
|  -> /user/object_DELETE                                    | 0.000909s |
| /user/end                                                  | 0.000854s |
'------------------------------------------------------------+-----------'

[info] *** Request 3 (1.500/s) [1027] [Tue Nov 30 14:04:43 2010] ***
[debug] "GET" request for "users" from "127.0.0.1"
[debug] Path is "/user/list"
[debug] Loading form t/root/lists/user.yml
[debug] found configuration file for parameters
[debug] Calling resultset method extjs_rest_user
[debug] Serializing with Catalyst::Action::Serialize::JSON
[debug] Response Code: 200; Content-Type: application/json; Content-Length: 284
[info] Request took 0.094870s (10.541/s)
.------------------------------------------------------------+-----------.
| Action                                                     | Time      |
+------------------------------------------------------------+-----------+
| /user/begin                                                | 0.000208s |
| /user/list                                                 | 0.090377s |
| /user/end                                                  | 0.001287s |
'------------------------------------------------------------+-----------'

t/rest/for_browser.t .......... ok
[debug] Debug messages enabled
[debug] Statistics enabled
[debug] Loaded dispatcher "Catalyst::Dispatcher"
[debug] Loaded engine "Catalyst::Engine::CGI"
[debug] Found home "/export/home/cpantest/.cpan/build/CatalystX-ExtJS-1.123000-0xrqnd/t/lib/MyApp"
[debug] Loaded components:
.-----------------------------------------------------------------+----------.
| Class                                                           | Type     |
+-----------------------------------------------------------------+----------+
| MyApp::Controller::API                                          | instance |
| MyApp::Controller::Artist                                       | instance |
| MyApp::Controller::Calculator                                   | instance |
| MyApp::Controller::FindOrDefault                                | instance |
| MyApp::Controller::ForBrowser                                   | instance |
| MyApp::Controller::ForBrowsers                                  | instance |
| MyApp::Controller::JSON                                         | instance |
| MyApp::Controller::Nested::Controller                           | instance |
| MyApp::Controller::REST                                         | instance |
| MyApp::Controller::RequestClass                                 | instance |
| MyApp::Controller::SkipEnd                                      | instance |
| MyApp::Controller::User                                         | instance |
| MyApp::Model::DBIC                                              | instance |
| MyApp::Model::DBIC::FindOrDefault                               | class    |
| MyApp::Model::DBIC::SkipEnd                                     | class    |
| MyApp::Model::DBIC::User                                        | class    |
| MyApp::View::JSON                                               | instance |
| MyApp::View::TT                                                 | instance |
'-----------------------------------------------------------------+----------'

[debug] Loaded Private actions:
.----------------------+--------------------------------------+--------------.
| Private              | Class                                | Method       |
+----------------------+--------------------------------------+--------------+
| /api/src             | MyApp::Controller::API               | src          |
| /api/router          | MyApp::Controller::API               | router       |
| /api/end             | MyApp::Controller::API               | end          |
| /api/index           | MyApp::Controller::API               | index        |
| /api/begin           | MyApp::Controller::API               | begin        |
| /findordefault/base  | MyApp::Controller::FindOrDefault     | base         |
| /findordefault/obje- | MyApp::Controller::FindOrDefault     | object       |
| ct                   |                                      |              |
| /findordefault/obje- | MyApp::Controller::FindOrDefault     | object_DELE- |
| ct_DELETE            |                                      | TE           |
| /findordefault/obje- | MyApp::Controller::FindOrDefault     | object_POST  |
| ct_POST              |                                      |              |
| /findordefault/obje- | MyApp::Controller::FindOrDefault     | object_GET   |
| ct_GET               |                                      |              |
| /findordefault/obje- | MyApp::Controller::FindOrDefault     | object_PUT   |
| ct_PUT               |                                      |              |
| /findordefault/end   | MyApp::Controller::FindOrDefault     | end          |
| /findordefault/begin | MyApp::Controller::FindOrDefault     | begin        |
| /findordefault/list  | MyApp::Controller::FindOrDefault     | list         |
| /calc/add            | MyApp::Controller::Calculator        | add          |
| /calc/subtract       | MyApp::Controller::Calculator        | subtract     |
| /calc/upload         | MyApp::Controller::Calculator        | upload       |
| /calc/add_to         | MyApp::Controller::Calculator        | add_to       |
| /json/index          | MyApp::Controller::JSON              | index        |
| /forbrowsers/base    | MyApp::Controller::ForBrowsers       | base         |
| /forbrowsers/object  | MyApp::Controller::ForBrowsers       | object       |
| /forbrowsers/object- | MyApp::Controller::ForBrowsers       | object_DELE- |
| _DELETE              |                                      | TE           |
| /forbrowsers/object- | MyApp::Controller::ForBrowsers       | object_POST  |
| _POST                |                                      |              |
| /forbrowsers/object- | MyApp::Controller::ForBrowsers       | object_GET   |
| _GET                 |                                      |              |
| /forbrowsers/object- | MyApp::Controller::ForBrowsers       | object_PUT   |
| _PUT                 |                                      |              |
| /forbrowsers/end     | MyApp::Controller::ForBrowsers       | end          |
| /forbrowsers/begin   | MyApp::Controller::ForBrowsers       | begin        |
| /forbrowsers/list    | MyApp::Controller::ForBrowsers       | list         |
| /rest/object         | MyApp::Controller::REST              | object       |
| /rest/begin          | MyApp::Controller::REST              | begin        |
| /rest/end            | MyApp::Controller::REST              | end          |
| /nested/controller/- | MyApp::Controller::Nested::Controll- | index        |
| index                | er                                   |              |
| /skipend/load_form   | MyApp::Controller::SkipEnd           | load_form    |
| /skipend/object      | MyApp::Controller::SkipEnd           | object       |
| /skipend/object_GET  | MyApp::Controller::SkipEnd           | object_GET   |
| /skipend/object_PUT  | MyApp::Controller::SkipEnd           | object_PUT   |
| /skipend/begin       | MyApp::Controller::SkipEnd           | begin        |
| /skipend/list        | MyApp::Controller::SkipEnd           | list         |
| /skipend/base        | MyApp::Controller::SkipEnd           | base         |
| /skipend/object_POST | MyApp::Controller::SkipEnd           | object_POST  |
| /skipend/object_DEL- | MyApp::Controller::SkipEnd           | object_DELE- |
| ETE                  |                                      | TE           |
| /skipend/end         | MyApp::Controller::SkipEnd           | end          |
| /skipend/edit_record | MyApp::Controller::SkipEnd           | edit_record  |
| /forbrowser/base     | MyApp::Controller::ForBrowser        | base         |
| /forbrowser/object   | MyApp::Controller::ForBrowser        | object       |
| /forbrowser/object_- | MyApp::Controller::ForBrowser        | object_DELE- |
| DELETE               |                                      | TE           |
| /forbrowser/object_- | MyApp::Controller::ForBrowser        | object_POST  |
| POST                 |                                      |              |
| /forbrowser/object_- | MyApp::Controller::ForBrowser        | object_GET   |
| GET                  |                                      |              |
| /forbrowser/object_- | MyApp::Controller::ForBrowser        | object_PUT   |
| PUT                  |                                      |              |
| /forbrowser/end      | MyApp::Controller::ForBrowser        | end          |
| /forbrowser/begin    | MyApp::Controller::ForBrowser        | begin        |
| /forbrowser/list     | MyApp::Controller::ForBrowser        | list         |
| /requestclass/params | MyApp::Controller::RequestClass      | params       |
| /requestclass/reque- | MyApp::Controller::RequestClass      | request_cla- |
| st_class             |                                      | ss           |
| /user/base           | MyApp::Controller::User              | base         |
| /user/object         | MyApp::Controller::User              | object       |
| /user/object_DELETE  | MyApp::Controller::User              | object_DELE- |
|                      |                                      | TE           |
| /user/object_POST    | MyApp::Controller::User              | object_POST  |
| /user/object_GET     | MyApp::Controller::User              | object_GET   |
| /user/object_PUT     | MyApp::Controller::User              | object_PUT   |
| /user/end            | MyApp::Controller::User              | end          |
| /user/add_to_group   | MyApp::Controller::User              | add_to_group |
| /user/begin          | MyApp::Controller::User              | begin        |
| /user/list           | MyApp::Controller::User              | list         |
'----------------------+--------------------------------------+--------------'

[debug] Loaded Path actions:
.-------------------------------------+--------------------------------------.
| Path                                | Private                              |
+-------------------------------------+--------------------------------------+
| /api                                | /api/index                           |
| /api/router                         | /api/router                          |
| /api/src                            | /api/src                             |
| /calc                               | /calc/upload                         |
| /calc                               | /calc/add                            |
| /calc/subtract                      | /calc/subtract                       |
| /nested/controller/index            | /nested/controller/index             |
| /requestclass/params                | /requestclass/params                 |
| /requestclass/request_class         | /requestclass/request_class          |
'-------------------------------------+--------------------------------------'

[debug] Loaded Chained actions:
.-------------------------------------+--------------------------------------.
| Path Spec                           | Private                              |
+-------------------------------------+--------------------------------------+
| /add/*/to/*                         | /calc/add (1)                        |
|                                     | => /calc/add_to                      |
| /findordefaults/...                 | /findordefault/list                  |
| /findordefault/...                  | /findordefault/object                |
| /forbrowsers/...                    | /forbrowser/list                     |
| /forbrowser/...                     | /forbrowser/object                   |
| /forbrowser/...                     | /forbrowsers/list                    |
| /forbrowsers/...                    | /forbrowsers/object                  |
| /rest/object/*                      | /rest/object                         |
| /skipend/form/edit_record           | /skipend/load_form (0)               |
|                                     | => /skipend/edit_record              |
| /skipends/...                       | /skipend/list                        |
| /skipend/...                        | /skipend/object                      |
| /user/*/add_to_group/*              | /user/base (1)                       |
|                                     | => /user/add_to_group                |
| /users/...                          | /user/list                           |
| /user/...                           | /user/object                         |
'-------------------------------------+--------------------------------------'

[info] Application powered by Catalyst 5.80029
[info] *** Request 1 (1.000/s) [1028] [Tue Nov 30 14:04:45 2010] ***
[debug] "GET" request for "skipend/form/edit_record" from "127.0.0.1"
[debug] Path is "/skipend/edit_record"
[debug] Rendering template "edit_record.tt2.js"
[debug] Response Code: 200; Content-Type: text/html; charset=utf-8; Content-Length: 3395
[info] Request took 0.178691s (5.596/s)
.------------------------------------------------------------+-----------.
| Action                                                     | Time      |
+------------------------------------------------------------+-----------+
| /skipend/begin                                             | 0.000275s |
| /skipend/load_form                                         | 0.087237s |
| /skipend/edit_record                                       | 0.086522s |
|  -> MyApp::View::TT->process                               | 0.085516s |
| /skipend/end                                               | 0.000332s |
'------------------------------------------------------------+-----------'

t/rest/skip_end.t ............. ok
[debug] Debug messages enabled
[debug] Statistics enabled
[debug] Loaded dispatcher "Catalyst::Dispatcher"
[debug] Loaded engine "Catalyst::Engine::CGI"
[debug] Found home "/export/home/cpantest/.cpan/build/CatalystX-ExtJS-1.123000-0xrqnd/t/lib/MyApp"
[debug] Loaded components:
.-----------------------------------------------------------------+----------.
| Class                                                           | Type     |
+-----------------------------------------------------------------+----------+
| MyApp::Controller::API                                          | instance |
| MyApp::Controller::Artist                                       | instance |
| MyApp::Controller::Calculator                                   | instance |
| MyApp::Controller::FindOrDefault                                | instance |
| MyApp::Controller::ForBrowser                                   | instance |
| MyApp::Controller::ForBrowsers                                  | instance |
| MyApp::Controller::JSON                                         | instance |
| MyApp::Controller::Nested::Controller                           | instance |
| MyApp::Controller::REST                                         | instance |
| MyApp::Controller::RequestClass                                 | instance |
| MyApp::Controller::SkipEnd                                      | instance |
| MyApp::Controller::User                                         | instance |
| MyApp::Model::DBIC                                              | instance |
| MyApp::Model::DBIC::FindOrDefault                               | class    |
| MyApp::Model::DBIC::SkipEnd                                     | class    |
| MyApp::Model::DBIC::User                                        | class    |
| MyApp::View::JSON                                               | instance |
| MyApp::View::TT                                                 | instance |
'-----------------------------------------------------------------+----------'

[debug] Loaded Private actions:
.----------------------+--------------------------------------+--------------.
| Private              | Class                                | Method       |
+----------------------+--------------------------------------+--------------+
| /api/src             | MyApp::Controller::API               | src          |
| /api/router          | MyApp::Controller::API               | router       |
| /api/end             | MyApp::Controller::API               | end          |
| /api/index           | MyApp::Controller::API               | index        |
| /api/begin           | MyApp::Controller::API               | begin        |
| /findordefault/base  | MyApp::Controller::FindOrDefault     | base         |
| /findordefault/obje- | MyApp::Controller::FindOrDefault     | object       |
| ct                   |                                      |              |
| /findordefault/obje- | MyApp::Controller::FindOrDefault     | object_DELE- |
| ct_DELETE            |                                      | TE           |
| /findordefault/obje- | MyApp::Controller::FindOrDefault     | object_POST  |
| ct_POST              |                                      |              |
| /findordefault/obje- | MyApp::Controller::FindOrDefault     | object_GET   |
| ct_GET               |                                      |              |
| /findordefault/obje- | MyApp::Controller::FindOrDefault     | object_PUT   |
| ct_PUT               |                                      |              |
| /findordefault/end   | MyApp::Controller::FindOrDefault     | end          |
| /findordefault/begin | MyApp::Controller::FindOrDefault     | begin        |
| /findordefault/list  | MyApp::Controller::FindOrDefault     | list         |
| /calc/add            | MyApp::Controller::Calculator        | add          |
| /calc/subtract       | MyApp::Controller::Calculator        | subtract     |
| /calc/upload         | MyApp::Controller::Calculator        | upload       |
| /calc/add_to         | MyApp::Controller::Calculator        | add_to       |
| /json/index          | MyApp::Controller::JSON              | index        |
| /forbrowsers/base    | MyApp::Controller::ForBrowsers       | base         |
| /forbrowsers/object  | MyApp::Controller::ForBrowsers       | object       |
| /forbrowsers/object- | MyApp::Controller::ForBrowsers       | object_DELE- |
| _DELETE              |                                      | TE           |
| /forbrowsers/object- | MyApp::Controller::ForBrowsers       | object_POST  |
| _POST                |                                      |              |
| /forbrowsers/object- | MyApp::Controller::ForBrowsers       | object_GET   |
| _GET                 |                                      |              |
| /forbrowsers/object- | MyApp::Controller::ForBrowsers       | object_PUT   |
| _PUT                 |                                      |              |
| /forbrowsers/end     | MyApp::Controller::ForBrowsers       | end          |
| /forbrowsers/begin   | MyApp::Controller::ForBrowsers       | begin        |
| /forbrowsers/list    | MyApp::Controller::ForBrowsers       | list         |
| /rest/object         | MyApp::Controller::REST              | object       |
| /rest/begin          | MyApp::Controller::REST              | begin        |
| /rest/end            | MyApp::Controller::REST              | end          |
| /nested/controller/- | MyApp::Controller::Nested::Controll- | index        |
| index                | er                                   |              |
| /skipend/load_form   | MyApp::Controller::SkipEnd           | load_form    |
| /skipend/object      | MyApp::Controller::SkipEnd           | object       |
| /skipend/object_GET  | MyApp::Controller::SkipEnd           | object_GET   |
| /skipend/object_PUT  | MyApp::Controller::SkipEnd           | object_PUT   |
| /skipend/begin       | MyApp::Controller::SkipEnd           | begin        |
| /skipend/list        | MyApp::Controller::SkipEnd           | list         |
| /skipend/base        | MyApp::Controller::SkipEnd           | base         |
| /skipend/object_POST | MyApp::Controller::SkipEnd           | object_POST  |
| /skipend/object_DEL- | MyApp::Controller::SkipEnd           | object_DELE- |
| ETE                  |                                      | TE           |
| /skipend/end         | MyApp::Controller::SkipEnd           | end          |
| /skipend/edit_record | MyApp::Controller::SkipEnd           | edit_record  |
| /forbrowser/base     | MyApp::Controller::ForBrowser        | base         |
| /forbrowser/object   | MyApp::Controller::ForBrowser        | object       |
| /forbrowser/object_- | MyApp::Controller::ForBrowser        | object_DELE- |
| DELETE               |                                      | TE           |
| /forbrowser/object_- | MyApp::Controller::ForBrowser        | object_POST  |
| POST                 |                                      |              |
| /forbrowser/object_- | MyApp::Controller::ForBrowser        | object_GET   |
| GET                  |                                      |              |
| /forbrowser/object_- | MyApp::Controller::ForBrowser        | object_PUT   |
| PUT                  |                                      |              |
| /forbrowser/end      | MyApp::Controller::ForBrowser        | end          |
| /forbrowser/begin    | MyApp::Controller::ForBrowser        | begin        |
| /forbrowser/list     | MyApp::Controller::ForBrowser        | list         |
| /requestclass/params | MyApp::Controller::RequestClass      | params       |
| /requestclass/reque- | MyApp::Controller::RequestClass      | request_cla- |
| st_class             |                                      | ss           |
| /user/base           | MyApp::Controller::User              | base         |
| /user/object         | MyApp::Controller::User              | object       |
| /user/object_DELETE  | MyApp::Controller::User              | object_DELE- |
|                      |                                      | TE           |
| /user/object_POST    | MyApp::Controller::User              | object_POST  |
| /user/object_GET     | MyApp::Controller::User              | object_GET   |
| /user/object_PUT     | MyApp::Controller::User              | object_PUT   |
| /user/end            | MyApp::Controller::User              | end          |
| /user/add_to_group   | MyApp::Controller::User              | add_to_group |
| /user/begin          | MyApp::Controller::User              | begin        |
| /user/list           | MyApp::Controller::User              | list         |
'----------------------+--------------------------------------+--------------'

[debug] Loaded Path actions:
.-------------------------------------+--------------------------------------.
| Path                                | Private                              |
+-------------------------------------+--------------------------------------+
| /api                                | /api/index                           |
| /api/router                         | /api/router                          |
| /api/src                            | /api/src                             |
| /calc                               | /calc/upload                         |
| /calc                               | /calc/add                            |
| /calc/subtract                      | /calc/subtract                       |
| /nested/controller/index            | /nested/controller/index             |
| /requestclass/params                | /requestclass/params                 |
| /requestclass/request_class         | /requestclass/request_class          |
'-------------------------------------+--------------------------------------'

[debug] Loaded Chained actions:
.-------------------------------------+--------------------------------------.
| Path Spec                           | Private                              |
+-------------------------------------+--------------------------------------+
| /add/*/to/*                         | /calc/add (1)                        |
|                                     | => /calc/add_to                      |
| /findordefaults/...                 | /findordefault/list                  |
| /findordefault/...                  | /findordefault/object                |
| /forbrowsers/...                    | /forbrowser/list                     |
| /forbrowser/...                     | /forbrowser/object                   |
| /forbrowser/...                     | /forbrowsers/list                    |
| /forbrowsers/...                    | /forbrowsers/object                  |
| /rest/object/*                      | /rest/object                         |
| /skipend/form/edit_record           | /skipend/load_form (0)               |
|                                     | => /skipend/edit_record              |
| /skipends/...                       | /skipend/list                        |
| /skipend/...                        | /skipend/object                      |
| /user/*/add_to_group/*              | /user/base (1)                       |
|                                     | => /user/add_to_group                |
| /users/...                          | /user/list                           |
| /user/...                           | /user/object                         |
'-------------------------------------+--------------------------------------'

[info] Application powered by Catalyst 5.80029
[info] *** Request 1 (1.000/s) [1039] [Tue Nov 30 14:04:48 2010] ***
[debug] "GET" request for "users" from "127.0.0.1"
[debug] Path is "/user/list"
[debug] Loading form t/root/lists/user.yml
[debug] found configuration file for parameters
[debug] Calling resultset method extjs_rest_user
[debug] Serializing with Catalyst::Action::Serialize::JSON
[debug] Response Code: 200; Content-Type: application/json; Content-Length: 284
[info] Request took 0.197474s (5.064/s)
.------------------------------------------------------------+-----------.
| Action                                                     | Time      |
+------------------------------------------------------------+-----------+
| /user/begin                                                | 0.000248s |
| /user/list                                                 | 0.180356s |
| /user/end                                                  | 0.012814s |
'------------------------------------------------------------+-----------'

[info] *** Request 2 (2.000/s) [1039] [Tue Nov 30 14:04:48 2010] ***
[debug] "POST" request for "user" from "127.0.0.1"
[debug] Body Parameters are:
.-------------------------------------+--------------------------------------.
| Parameter                           | Value                                |
+-------------------------------------+--------------------------------------+
| name                                | bar                                  |
| password                            | foo                                  |
'-------------------------------------+--------------------------------------'
[debug] Path is "/user/object"
[debug] I would have deserialized, but there was nothing in the body!
[debug] Calling default resultset method extjs_rest_user
[debug] Loading form t/root/forms/user.yml
[debug] Serializing with Catalyst::Action::Serialize::JSON
[debug] Response Code: 201; Content-Type: application/json; Content-Length: 62
[info] Request took 0.047450s (21.075/s)
.------------------------------------------------------------+-----------.
| Action                                                     | Time      |
+------------------------------------------------------------+-----------+
| /user/begin                                                | 0.010181s |
| /user/object                                               | 0.032604s |
|  -> /user/object_POST                                      | 0.025243s |
| /user/end                                                  | 0.000866s |
'------------------------------------------------------------+-----------'

[info] *** Request 3 (3.000/s) [1039] [Tue Nov 30 14:04:48 2010] ***
[debug] "GET" request for "users" from "127.0.0.1"
[debug] Path is "/user/list"
[debug] Loading form t/root/lists/user.yml
[debug] found configuration file for parameters
[debug] Calling resultset method extjs_rest_user
[debug] Serializing with Catalyst::Action::Serialize::JSON
[debug] Response Code: 200; Content-Type: application/json; Content-Length: 322
[info] Request took 0.020725s (48.251/s)
.------------------------------------------------------------+-----------.
| Action                                                     | Time      |
+------------------------------------------------------------+-----------+
| /user/begin                                                | 0.000209s |
| /user/list                                                 | 0.016661s |
| /user/end                                                  | 0.000952s |
'------------------------------------------------------------+-----------'

[info] *** Request 4 (4.000/s) [1039] [Tue Nov 30 14:04:48 2010] ***
[debug] "GET" request for "user/1" from "127.0.0.1"
[debug] Path is "/user/object"
[debug] Arguments are "1"
[debug] Calling default resultset method extjs_rest_user
[debug] Loading form t/root/forms/user.yml
[debug] Serializing with Catalyst::Action::Serialize::JSON
[debug] Response Code: 200; Content-Type: application/json; Content-Length: 62
[info] Request took 0.013648s (73.271/s)
.------------------------------------------------------------+-----------.
| Action                                                     | Time      |
+------------------------------------------------------------+-----------+
| /user/begin                                                | 0.000186s |
| /user/object                                               | 0.009842s |
|  -> /user/object_GET                                       | 0.002015s |
| /user/end                                                  | 0.000876s |
'------------------------------------------------------------+-----------'

[info] *** Request 5 (5.000/s) [1039] [Tue Nov 30 14:04:48 2010] ***
[debug] "PUT" request for "user/1" from "127.0.0.1"
[debug] Body Parameters are:
.-------------------------------------+--------------------------------------.
| Parameter                           | Value                                |
+-------------------------------------+--------------------------------------+
| name                                | bas                                  |
| password                            | foo                                  |
'-------------------------------------+--------------------------------------'
[debug] Path is "/user/object"
[debug] Arguments are "1"
[debug] I would have deserialized, but there was nothing in the body!
[debug] Calling default resultset method extjs_rest_user
[debug] Loading form t/root/forms/user.yml
[debug] Serializing with Catalyst::Action::Serialize::JSON
[debug] Response Code: 200; Content-Type: application/json; Content-Length: 62
[info] Request took 0.018483s (54.104/s)
.------------------------------------------------------------+-----------.
| Action                                                     | Time      |
+------------------------------------------------------------+-----------+
| /user/begin                                                | 0.000453s |
| /user/object                                               | 0.013963s |
|  -> /user/object_PUT                                       | 0.006199s |
| /user/end                                                  | 0.000820s |
'------------------------------------------------------------+-----------'

[info] *** Request 6 (6.000/s) [1039] [Tue Nov 30 14:04:48 2010] ***
[debug] "PUT" request for "user" from "127.0.0.1"
[debug] Body Parameters are:
.-------------------------------------+--------------------------------------.
| Parameter                           | Value                                |
+-------------------------------------+--------------------------------------+
| id                                  | 1                                    |
| name                                | bast                                 |
| password                            | foo                                  |
'-------------------------------------+--------------------------------------'
[debug] Path is "/user/object"
[debug] I would have deserialized, but there was nothing in the body!
[debug] Calling default resultset method extjs_rest_user
[debug] Loading form t/root/forms/user.yml
[debug] Serializing with Catalyst::Action::Serialize::JSON
[debug] Response Code: 200; Content-Type: application/json; Content-Length: 65
[info] Request took 0.018179s (55.009/s)
.------------------------------------------------------------+-----------.
| Action                                                     | Time      |
+------------------------------------------------------------+-----------+
| /user/begin                                                | 0.000439s |
| /user/object                                               | 0.013654s |
|  -> /user/object_PUT                                       | 0.005828s |
| /user/end                                                  | 0.000811s |
'------------------------------------------------------------+-----------'

[info] *** Request 7 (7.000/s) [1039] [Tue Nov 30 14:04:48 2010] ***
[debug] "GET" request for "user/1" from "127.0.0.1"
[debug] Path is "/user/object"
[debug] Arguments are "1"
[debug] Calling default resultset method extjs_rest_user
[debug] Loading form t/root/forms/user.yml
[debug] Serializing with Catalyst::Action::Serialize::JSON
[debug] Response Code: 200; Content-Type: application/json; Content-Length: 63
[info] Request took 0.013589s (73.589/s)
.------------------------------------------------------------+-----------.
| Action                                                     | Time      |
+------------------------------------------------------------+-----------+
| /user/begin                                                | 0.000205s |
| /user/object                                               | 0.009702s |
|  -> /user/object_GET                                       | 0.002012s |
| /user/end                                                  | 0.000875s |
'------------------------------------------------------------+-----------'

[info] *** Request 8 (8.000/s) [1039] [Tue Nov 30 14:04:48 2010] ***
[debug] "DELETE" request for "user/1" from "127.0.0.1"
[debug] Body Parameters are:
.-------------------------------------+--------------------------------------.
| Parameter                           | Value                                |
+-------------------------------------+--------------------------------------+
| name                                | bas                                  |
| password                            | foo                                  |
'-------------------------------------+--------------------------------------'
[debug] Path is "/user/object"
[debug] Arguments are "1"
[debug] I would have deserialized, but there was nothing in the body!
[debug] Calling default resultset method extjs_rest_user
[debug] Loading form t/root/forms/user.yml
[debug] Serializing with Catalyst::Action::Serialize::JSON
[debug] Response Code: 200; Content-Type: application/json; Content-Length: 62
[info] Request took 0.013088s (76.406/s)
.------------------------------------------------------------+-----------.
| Action                                                     | Time      |
+------------------------------------------------------------+-----------+
| /user/begin                                                | 0.000464s |
| /user/object                                               | 0.008608s |
|  -> /user/object_DELETE                                    | 0.000856s |
| /user/end                                                  | 0.000801s |
'------------------------------------------------------------+-----------'

[info] *** Request 9 (9.000/s) [1039] [Tue Nov 30 14:04:48 2010] ***
[debug] "GET" request for "user/1" from "127.0.0.1"
[debug] Path is "/user/object"
[debug] Arguments are "1"
[debug] Calling default resultset method extjs_rest_user
[debug] Loading form t/root/forms/user.yml
[debug] Status Not Found: Object could not be found.
[debug] Serializing with Catalyst::Action::Serialize::JSON
[debug] Response Code: 404; Content-Type: application/json; Content-Length: 38
[info] Request took 0.012101s (82.638/s)
.------------------------------------------------------------+-----------.
| Action                                                     | Time      |
+------------------------------------------------------------+-----------+
| /user/begin                                                | 0.000214s |
| /user/object                                               | 0.008320s |
|  -> /user/object_GET                                       | 0.000681s |
| /user/end                                                  | 0.000885s |
'------------------------------------------------------------+-----------'

t/rest/user.t ................. ok
[debug] Debug messages enabled
[debug] Statistics enabled
[debug] Loaded dispatcher "Catalyst::Dispatcher"
[debug] Loaded engine "Catalyst::Engine::CGI"
[debug] Found home "/export/home/cpantest/.cpan/build/CatalystX-ExtJS-1.123000-0xrqnd/t/lib/MyApp"
[debug] Loaded components:
.-----------------------------------------------------------------+----------.
| Class                                                           | Type     |
+-----------------------------------------------------------------+----------+
| MyApp::Controller::API                                          | instance |
| MyApp::Controller::Artist                                       | instance |
| MyApp::Controller::Calculator                                   | instance |
| MyApp::Controller::FindOrDefault                                | instance |
| MyApp::Controller::ForBrowser                                   | instance |
| MyApp::Controller::ForBrowsers                                  | instance |
| MyApp::Controller::JSON                                         | instance |
| MyApp::Controller::Nested::Controller                           | instance |
| MyApp::Controller::REST                                         | instance |
| MyApp::Controller::RequestClass                                 | instance |
| MyApp::Controller::SkipEnd                                      | instance |
| MyApp::Controller::User                                         | instance |
| MyApp::Model::DBIC                                              | instance |
| MyApp::Model::DBIC::FindOrDefault                               | class    |
| MyApp::Model::DBIC::SkipEnd                                     | class    |
| MyApp::Model::DBIC::User                                        | class    |
| MyApp::View::JSON                                               | instance |
| MyApp::View::TT                                                 | instance |
'-----------------------------------------------------------------+----------'

[debug] Loaded Private actions:
.----------------------+--------------------------------------+--------------.
| Private              | Class                                | Method       |
+----------------------+--------------------------------------+--------------+
| /api/src             | MyApp::Controller::API               | src          |
| /api/router          | MyApp::Controller::API               | router       |
| /api/end             | MyApp::Controller::API               | end          |
| /api/index           | MyApp::Controller::API               | index        |
| /api/begin           | MyApp::Controller::API               | begin        |
| /findordefault/base  | MyApp::Controller::FindOrDefault     | base         |
| /findordefault/obje- | MyApp::Controller::FindOrDefault     | object       |
| ct                   |                                      |              |
| /findordefault/obje- | MyApp::Controller::FindOrDefault     | object_DELE- |
| ct_DELETE            |                                      | TE           |
| /findordefault/obje- | MyApp::Controller::FindOrDefault     | object_POST  |
| ct_POST              |                                      |              |
| /findordefault/obje- | MyApp::Controller::FindOrDefault     | object_GET   |
| ct_GET               |                                      |              |
| /findordefault/obje- | MyApp::Controller::FindOrDefault     | object_PUT   |
| ct_PUT               |                                      |              |
| /findordefault/end   | MyApp::Controller::FindOrDefault     | end          |
| /findordefault/begin | MyApp::Controller::FindOrDefault     | begin        |
| /findordefault/list  | MyApp::Controller::FindOrDefault     | list         |
| /calc/add            | MyApp::Controller::Calculator        | add          |
| /calc/subtract       | MyApp::Controller::Calculator        | subtract     |
| /calc/upload         | MyApp::Controller::Calculator        | upload       |
| /calc/add_to         | MyApp::Controller::Calculator        | add_to       |
| /json/index          | MyApp::Controller::JSON              | index        |
| /forbrowsers/base    | MyApp::Controller::ForBrowsers       | base         |
| /forbrowsers/object  | MyApp::Controller::ForBrowsers       | object       |
| /forbrowsers/object- | MyApp::Controller::ForBrowsers       | object_DELE- |
| _DELETE              |                                      | TE           |
| /forbrowsers/object- | MyApp::Controller::ForBrowsers       | object_POST  |
| _POST                |                                      |              |
| /forbrowsers/object- | MyApp::Controller::ForBrowsers       | object_GET   |
| _GET                 |                                      |              |
| /forbrowsers/object- | MyApp::Controller::ForBrowsers       | object_PUT   |
| _PUT                 |                                      |              |
| /forbrowsers/end     | MyApp::Controller::ForBrowsers       | end          |
| /forbrowsers/begin   | MyApp::Controller::ForBrowsers       | begin        |
| /forbrowsers/list    | MyApp::Controller::ForBrowsers       | list         |
| /rest/object         | MyApp::Controller::REST              | object       |
| /rest/begin          | MyApp::Controller::REST              | begin        |
| /rest/end            | MyApp::Controller::REST              | end          |
| /nested/controller/- | MyApp::Controller::Nested::Controll- | index        |
| index                | er                                   |              |
| /skipend/load_form   | MyApp::Controller::SkipEnd           | load_form    |
| /skipend/object      | MyApp::Controller::SkipEnd           | object       |
| /skipend/object_GET  | MyApp::Controller::SkipEnd           | object_GET   |
| /skipend/object_PUT  | MyApp::Controller::SkipEnd           | object_PUT   |
| /skipend/begin       | MyApp::Controller::SkipEnd           | begin        |
| /skipend/list        | MyApp::Controller::SkipEnd           | list         |
| /skipend/base        | MyApp::Controller::SkipEnd           | base         |
| /skipend/object_POST | MyApp::Controller::SkipEnd           | object_POST  |
| /skipend/object_DEL- | MyApp::Controller::SkipEnd           | object_DELE- |
| ETE                  |                                      | TE           |
| /skipend/end         | MyApp::Controller::SkipEnd           | end          |
| /skipend/edit_record | MyApp::Controller::SkipEnd           | edit_record  |
| /forbrowser/base     | MyApp::Controller::ForBrowser        | base         |
| /forbrowser/object   | MyApp::Controller::ForBrowser        | object       |
| /forbrowser/object_- | MyApp::Controller::ForBrowser        | object_DELE- |
| DELETE               |                                      | TE           |
| /forbrowser/object_- | MyApp::Controller::ForBrowser        | object_POST  |
| POST                 |                                      |              |
| /forbrowser/object_- | MyApp::Controller::ForBrowser        | object_GET   |
| GET                  |                                      |              |
| /forbrowser/object_- | MyApp::Controller::ForBrowser        | object_PUT   |
| PUT                  |                                      |              |
| /forbrowser/end      | MyApp::Controller::ForBrowser        | end          |
| /forbrowser/begin    | MyApp::Controller::ForBrowser        | begin        |
| /forbrowser/list     | MyApp::Controller::ForBrowser        | list         |
| /requestclass/params | MyApp::Controller::RequestClass      | params       |
| /requestclass/reque- | MyApp::Controller::RequestClass      | request_cla- |
| st_class             |                                      | ss           |
| /user/base           | MyApp::Controller::User              | base         |
| /user/object         | MyApp::Controller::User              | object       |
| /user/object_DELETE  | MyApp::Controller::User              | object_DELE- |
|                      |                                      | TE           |
| /user/object_POST    | MyApp::Controller::User              | object_POST  |
| /user/object_GET     | MyApp::Controller::User              | object_GET   |
| /user/object_PUT     | MyApp::Controller::User              | object_PUT   |
| /user/end            | MyApp::Controller::User              | end          |
| /user/add_to_group   | MyApp::Controller::User              | add_to_group |
| /user/begin          | MyApp::Controller::User              | begin        |
| /user/list           | MyApp::Controller::User              | list         |
'----------------------+--------------------------------------+--------------'

[debug] Loaded Path actions:
.-------------------------------------+--------------------------------------.
| Path                                | Private                              |
+-------------------------------------+--------------------------------------+
| /api                                | /api/index                           |
| /api/router                         | /api/router                          |
| /api/src                            | /api/src                             |
| /calc                               | /calc/upload                         |
| /calc                               | /calc/add                            |
| /calc/subtract                      | /calc/subtract                       |
| /nested/controller/index            | /nested/controller/index             |
| /requestclass/params                | /requestclass/params                 |
| /requestclass/request_class         | /requestclass/request_class          |
'-------------------------------------+--------------------------------------'

[debug] Loaded Chained actions:
.-------------------------------------+--------------------------------------.
| Path Spec                           | Private                              |
+-------------------------------------+--------------------------------------+
| /add/*/to/*                         | /calc/add (1)                        |
|                                     | => /calc/add_to                      |
| /findordefaults/...                 | /findordefault/list                  |
| /findordefault/...                  | /findordefault/object                |
| /forbrowsers/...                    | /forbrowser/list                     |
| /forbrowser/...                     | /forbrowser/object                   |
| /forbrowser/...                     | /forbrowsers/list                    |
| /forbrowsers/...                    | /forbrowsers/object                  |
| /rest/object/*                      | /rest/object                         |
| /skipend/form/edit_record           | /skipend/load_form (0)               |
|                                     | => /skipend/edit_record              |
| /skipends/...                       | /skipend/list                        |
| /skipend/...                        | /skipend/object                      |
| /user/*/add_to_group/*              | /user/base (1)                       |
|                                     | => /user/add_to_group                |
| /users/...                          | /user/list                           |
| /user/...                           | /user/object                         |
'-------------------------------------+--------------------------------------'

[info] Application powered by Catalyst 5.80029
[info] *** Request 1 (0.500/s) [1041] [Tue Nov 30 14:04:51 2010] ***
[debug] "GET" request for "users" from "127.0.0.1"
[debug] Path is "/user/list"
[debug] Loading form t/root/lists/user.yml
[debug] found configuration file for parameters
[debug] Calling resultset method extjs_rest_user
[debug] Serializing with Catalyst::Action::Serialize::JSON
[debug] Response Code: 200; Content-Type: application/json; Content-Length: 10377
[info] Request took 0.434589s (2.301/s)
.------------------------------------------------------------+-----------.
| Action                                                     | Time      |
+------------------------------------------------------------+-----------+
| /user/begin                                                | 0.000275s |
| /user/list                                                 | 0.416890s |
| /user/end                                                  | 0.013241s |
'------------------------------------------------------------+-----------'

[info] *** Request 2 (1.000/s) [1041] [Tue Nov 30 14:04:51 2010] ***
[debug] "GET" request for "user" from "127.0.0.1"
[debug] Path is "/user/object"
[debug] Loading form t/root/lists/user.yml
[debug] found configuration file for parameters
[debug] Calling resultset method extjs_rest_user
[debug] Serializing with Catalyst::Action::Serialize::JSON
[debug] Response Code: 200; Content-Type: application/json; Content-Length: 10377
[info] Request took 0.267455s (3.739/s)
.------------------------------------------------------------+-----------.
| Action                                                     | Time      |
+------------------------------------------------------------+-----------+
| /user/begin                                                | 0.000208s |
| /user/object                                               | 0.262401s |
|  -> /user/list                                             | 0.256539s |
| /user/end                                                  | 0.001424s |
'------------------------------------------------------------+-----------'

[info] *** Request 3 (1.500/s) [1041] [Tue Nov 30 14:04:51 2010] ***
[debug] "GET" request for "users" from "127.0.0.1"
[debug] Query Parameters are:
.-------------------------------------+--------------------------------------.
| Parameter                           | Value                                |
+-------------------------------------+--------------------------------------+
| start                               | 10                                   |
'-------------------------------------+--------------------------------------'
[debug] Path is "/user/list"
[debug] Loading form t/root/lists/user.yml
[debug] found configuration file for parameters
[debug] Calling resultset method extjs_rest_user
[debug] Serializing with Catalyst::Action::Serialize::JSON
[debug] Response Code: 200; Content-Type: application/json; Content-Length: 9886
[info] Request took 0.254467s (3.930/s)
.------------------------------------------------------------+-----------.
| Action                                                     | Time      |
+------------------------------------------------------------+-----------+
| /user/begin                                                | 0.000192s |
| /user/list                                                 | 0.249666s |
| /user/end                                                  | 0.001245s |
'------------------------------------------------------------+-----------'

[info] *** Request 4 (1.333/s) [1041] [Tue Nov 30 14:04:52 2010] ***
[debug] "GET" request for "users" from "127.0.0.1"
[debug] Query Parameters are:
.-------------------------------------+--------------------------------------.
| Parameter                           | Value                                |
+-------------------------------------+--------------------------------------+
| limit                               | 20                                   |
| start                               | 10                                   |
'-------------------------------------+--------------------------------------'
[debug] Path is "/user/list"
[debug] Loading form t/root/lists/user.yml
[debug] found configuration file for parameters
[debug] Calling resultset method extjs_rest_user
[debug] Serializing with Catalyst::Action::Serialize::JSON
[debug] Response Code: 200; Content-Type: application/json; Content-Length: 1285
[info] Request took 0.046654s (21.434/s)
.------------------------------------------------------------+-----------.
| Action                                                     | Time      |
+------------------------------------------------------------+-----------+
| /user/begin                                                | 0.000191s |
| /user/list                                                 | 0.042421s |
| /user/end                                                  | 0.000973s |
'------------------------------------------------------------+-----------'

[info] *** Request 5 (1.667/s) [1041] [Tue Nov 30 14:04:52 2010] ***
[debug] "GET" request for "users" from "127.0.0.1"
[debug] Query Parameters are:
.-------------------------------------+--------------------------------------.
| Parameter                           | Value                                |
+-------------------------------------+--------------------------------------+
| limit                               | 20                                   |
| sort                                | name                                 |
| start                               | 10                                   |
'-------------------------------------+--------------------------------------'
[debug] Path is "/user/list"
[debug] Loading form t/root/lists/user.yml
[debug] found configuration file for parameters
[debug] Calling resultset method extjs_rest_user
[debug] Serializing with Catalyst::Action::Serialize::JSON
[debug] Response Code: 200; Content-Type: application/json; Content-Length: 1285
[info] Request took 0.048100s (20.790/s)
.------------------------------------------------------------+-----------.
| Action                                                     | Time      |
+------------------------------------------------------------+-----------+
| /user/begin                                                | 0.000191s |
| /user/list                                                 | 0.043837s |
| /user/end                                                  | 0.000991s |
'------------------------------------------------------------+-----------'

[info] *** Request 6 (2.000/s) [1041] [Tue Nov 30 14:04:52 2010] ***
[debug] "GET" request for "users" from "127.0.0.1"
[debug] Query Parameters are:
.-------------------------------------+--------------------------------------.
| Parameter                           | Value                                |
+-------------------------------------+--------------------------------------+
| dir                                 | desc                                 |
| limit                               | 20                                   |
| sort                                | name                                 |
| start                               | 10                                   |
'-------------------------------------+--------------------------------------'
[debug] Path is "/user/list"
[debug] Loading form t/root/lists/user.yml
[debug] found configuration file for parameters
[debug] Calling resultset method extjs_rest_user
[debug] Serializing with Catalyst::Action::Serialize::JSON
[debug] Response Code: 200; Content-Type: application/json; Content-Length: 1305
[info] Request took 0.048384s (20.668/s)
.------------------------------------------------------------+-----------.
| Action                                                     | Time      |
+------------------------------------------------------------+-----------+
| /user/begin                                                | 0.000206s |
| /user/list                                                 | 0.043792s |
| /user/end                                                  | 0.001011s |
'------------------------------------------------------------+-----------'

[info] *** Request 7 (2.333/s) [1041] [Tue Nov 30 14:04:52 2010] ***
[debug] "GET" request for "users" from "127.0.0.1"
[debug] Query Parameters are:
.-------------------------------------+--------------------------------------.
| Parameter                           | Value                                |
+-------------------------------------+--------------------------------------+
| dir                                 | asc                                  |
| limit                               | 20                                   |
| sort                                | password                             |
| start                               | 10                                   |
'-------------------------------------+--------------------------------------'
[debug] Path is "/user/list"
[debug] Loading form t/root/lists/user.yml
[debug] found configuration file for parameters
[debug] Calling resultset method extjs_rest_user
[debug] Serializing with Catalyst::Action::Serialize::JSON
[debug] Response Code: 200; Content-Type: application/json; Content-Length: 1305
[info] Request took 0.048512s (20.613/s)
.------------------------------------------------------------+-----------.
| Action                                                     | Time      |
+------------------------------------------------------------+-----------+
| /user/begin                                                | 0.000196s |
| /user/list                                                 | 0.043543s |
| /user/end                                                  | 0.001069s |
'------------------------------------------------------------+-----------'

[info] *** Request 8 (2.667/s) [1041] [Tue Nov 30 14:04:52 2010] ***
[debug] "GET" request for "users" from "127.0.0.1"
[debug] Query Parameters are:
.-------------------------------------+--------------------------------------.
| Parameter                           | Value                                |
+-------------------------------------+--------------------------------------+
| dir                                 | asc                                  |
| ending                              | 1                                    |
| limit                               | 20                                   |
| sort                                | password                             |
| start                               | 10                                   |
'-------------------------------------+--------------------------------------'
[debug] Path is "/user/list"
[debug] Loading form t/root/lists/user.yml
[debug] found configuration file for parameters
[debug] Status Bad Request: One ore more parameters did not pass the validation
[debug] Serializing with Catalyst::Action::Serialize::JSON
[debug] Response Code: 400; Content-Type: application/json; Content-Length: 60
[info] Request took 0.034185s (29.253/s)
.------------------------------------------------------------+-----------.
| Action                                                     | Time      |
+------------------------------------------------------------+-----------+
| /user/begin                                                | 0.000197s |
| /user/list                                                 | 0.029648s |
| /user/end                                                  | 0.000973s |
'------------------------------------------------------------+-----------'

[info] *** Request 9 (3.000/s) [1041] [Tue Nov 30 14:04:52 2010] ***
[debug] "GET" request for "users" from "127.0.0.1"
[debug] Query Parameters are:
.-------------------------------------+--------------------------------------.
| Parameter                           | Value                                |
+-------------------------------------+--------------------------------------+
| dir                                 | ASC                                  |
| ending                              | 2                                    |
| limit                               | 20                                   |
| sort                                | password                             |
| start                               | 10                                   |
'-------------------------------------+--------------------------------------'
[debug] Path is "/user/list"
[debug] Loading form t/root/lists/user.yml
[debug] found configuration file for parameters
[debug] Calling resultset method extjs_rest_user
[debug] Serializing with Catalyst::Action::Serialize::JSON
[debug] Response Code: 200; Content-Type: application/json; Content-Length: 783
[info] Request took 0.036574s (27.342/s)
.------------------------------------------------------------+-----------.
| Action                                                     | Time      |
+------------------------------------------------------------+-----------+
| /user/begin                                                | 0.000190s |
| /user/list                                                 | 0.032180s |
| /user/end                                                  | 0.000980s |
'------------------------------------------------------------+-----------'

t/rest/users.t ................ ok
All tests successful.
Files=21, Tests=450, 38 wallclock secs ( 0.27 usr  0.23 sys + 26.12 cusr  8.15 csys = 34.77 CPU)
Result: PASS

------------------------------
PREREQUISITES
------------------------------

Prerequisite modules loaded:

requires:

    Module                               Need    Have    
    ------------------------------------ ------- --------
    Carp                                 0       1.11    
    Catalyst::Action                     0       0       
    Catalyst::Action::Deserialize        0       0.87    
    Catalyst::Action::RenderView         0       0.14    
    Catalyst::Action::REST               0.83    0.87    
    Catalyst::Action::Serialize          0       0.87    
    Catalyst::Controller                 0       0       
    Catalyst::Controller::REST           0       0.87    
    Catalyst::Runtime                    5.80024 5.80029 
    Catalyst::Utils                      0       0       
    Class::Accessor::Fast                0       0.34    
    Config::Any                          0       0.20    
    DBIx::Class                          0.08123 0.08124 
    HTML::Entities                       0       3.68    
    HTML::FormFu                         0.08    0.08002 
    HTML::FormFu::ExtJS                  0.076   0.077   
    HTML::FormFu::Model::DBIC            0.08    0.08002 
    JavaScript::Dumper                   0.011   0.011   
    JSON::Any                            0       1.25    
    JSON::XS                             0       2.3     
    Lingua::EN::Inflect                  0       1.893   
    List::Util                           0       1.23    
    Moose                                1.06    1.21    
    Moose::Role                          0       1.21    
    Moose::Util::TypeConstraints         0       1.21    
    MooseX::MethodAttributes             0       0.24    
    namespace::autoclean                 0       0.11    
    Path::Class                          0       0.21    
    Scalar::Util                         0       1.23    

build_requires:

    Module                               Need    Have    
    ------------------------------------ ------- --------
    Catalyst                             0       5.80029 
    Catalyst::Engine::HTTP               0       0       
    Catalyst::Model::DBIC::Schema        0       0.43    
    Catalyst::Request::REST::ForBrowsers 0       0.87    
    Catalyst::View::JSON                 0       0.31    
    Catalyst::View::TT                   0       0.36    
    DBIx::Class                          0       0.08124 
    DBIx::Class::ResultSet               0       0       
    DBIx::Class::Schema                  0       0       
    English                              0       1.04    
    File::Find                           0       1.14    
    File::Spec                           0       3.33    
    File::Temp                           0       0.22    
    FindBin                              0       1.50    
    Getopt::Long                         0       2.38    
    HTTP::Request::Common                0       5.824   
    JSON                                 0       2.27    
    Module::Build                        0.3601  0.3607  
    Path::Class::File                    0       0.21    
    perl                                 5.004   5.010001
    Pod::Usage                           0       1.36    
    Test::More                           0.94    0.96    
    Test::WWW::Mechanize::Catalyst       0       0.52    

configure_requires:

    Module                               Need    Have    
    ------------------------------------ ------- --------
    Module::Build                        0.3601  0.3607  


------------------------------
ENVIRONMENT AND OTHER CONTEXT
------------------------------

Environment variables:

    AUTOMATED_TESTING = 1
    LANG = en_US.UTF-8
    PATH = /export/home/cpantest/perl5/bin:/usr/bin
    PERL5LIB = /export/home/cpantest/.cpan/build/HTML-FormFu-Model-DBIC-0.08002-qRzD8k/blib/arch:/export/home/cpantest/.cpan/build/HTML-FormFu-Model-DBIC-0.08002-qRzD8k/blib/lib:/export/home/cpantest/.cpan/build/DateTime-Format-SQLite-0.11-2KGSsz/blib/arch:/export/home/cpantest/.cpan/build/DateTime-Format-SQLite-0.11-2KGSsz/blib/lib:/export/home/cpantest/.cpan/build/HTML-FormFu-ExtJS-0.077-zTgp5v/blib/arch:/export/home/cpantest/.cpan/build/HTML-FormFu-ExtJS-0.077-zTgp5v/blib/lib:/export/home/cpantest/.cpan/build/Tie-Hash-Indexed-0.05-o6m9oA/blib/arch:/export/home/cpantest/.cpan/build/Tie-Hash-Indexed-0.05-o6m9oA/blib/lib:/export/home/cpantest/.cpan/build/JavaScript-Dumper-0.011-Q7zRTy/blib/arch:/export/home/cpantest/.cpan/build/JavaScript-Dumper-0.011-Q7zRTy/blib/lib:/export/home/cpantest/.cpan/build/Catalyst-View-JSON-0.31-TLmMcR/blib/arch:/export/home/cpantest/.cpan/build/Catalyst-View-JSON-0.31-TLmMcR/blib/lib
    PERL5OPT = 
    PERL5_CPANPLUS_IS_RUNNING = 29871
    PERL5_CPAN_IS_RUNNING = 29871
    PERL5_CPAN_IS_RUNNING_IN_RECURSION = 29311,29871
    PERL_CR_SMOKER_CURRENT = CatalystX-ExtJS-1.123000
    PERL_CR_SMOKER_RUNONCE = 1
    PERL_EXTUTILS_AUTOINSTALL = --defaultdeps
    PERL_MM_USE_DEFAULT = 1
    SHELL = /bin/bash
    TERM = xterm

Perl special variables (and OS-specific diagnostics, for MSWin32):

    $^X = /export/home/cpantest/perl5/bin/perl
    $UID/$EUID = 100 / 100
    $GID = 1 1
    $EGID = 1 1

Perl module toolchain versions installed:

    Module              Have  
    ------------------- ------
    CPAN                1.9402
    Cwd                 3.33  
    ExtUtils::CBuilder  0.2703
    ExtUtils::Command   1.16  
    ExtUtils::Install   1.54  
    ExtUtils::MakeMaker 6.56  
    ExtUtils::Manifest  1.58  
    ExtUtils::ParseXS   2.2206
    File::Spec          3.33  
    Module::Build       0.3607
    Module::Signature   n/a   
    Test::Harness       3.22  
    Test::More          0.96  
    YAML                0.72  
    YAML::Syck          1.17  
    version             0.86  


--

Summary of my perl5 (revision 5 version 10 subversion 1) configuration:
   
  Platform:
    osname=solaris, osvers=2.11, archname=i86pc-solaris-64int
    uname='sunos open-solaris-noc 5.11 snv_95 i86pc i386 i86pc '
    config_args='-Dcc=gcc -Dprefix=~/perl5 -Duse64bitint -d'
    hint=recommended, useposix=true, d_sigaction=define
    useithreads=undef, usemultiplicity=undef
    useperlio=define, d_sfio=undef, uselargefiles=define, usesocks=undef
    use64bitint=define, use64bitall=undef, uselongdouble=undef
    usemymalloc=n, bincompat5005=undef
  Compiler:
    cc='gcc', ccflags ='-DPTR_IS_LONG -fno-strict-aliasing -pipe -D_LARGEFILE_SOURCE -D_FILE_OFFSET_BITS=64 -DPERL_USE_SAFE_PUTENV',
    optimize='-O',
    cppflags='-DPTR_IS_LONG -fno-strict-aliasing -pipe'
    ccversion='', gccversion='3.4.3 (csl-sol210-3_4-20050802)', gccosandvers='solaris2.11'
    intsize=4, longsize=4, ptrsize=4, doublesize=8, byteorder=12345678
    d_longlong=define, longlongsize=8, d_longdbl=define, longdblsize=12
    ivtype='long long', ivsize=8, nvtype='double', nvsize=8, Off_t='off_t', lseeksize=8
    alignbytes=4, prototype=define
  Linker and Libraries:
    ld='gcc', ldflags =' '
    libpth=/usr/lib /usr/ccs/lib
    libs=-lsocket -lnsl -ldl -lm -lc
    perllibs=-lsocket -lnsl -ldl -lm -lc
    libc=/lib/libc.so, so=so, useshrplib=false, libperl=libperl.a
    gnulibc_version=''
  Dynamic Linking:
    dlsrc=dl_dlopen.xs, dlext=so, d_dlsymun=undef, ccdlflags=' '
    cccdlflags='-fPIC', lddlflags='-G'


Characteristics of this binary (from libperl): 
  Compile-time options: PERL_DONT_CREATE_GVSV PERL_MALLOC_WRAP
                        PERL_USE_SAFE_PUTENV USE_64_BIT_INT USE_LARGE_FILES
                        USE_PERLIO
  Built under solaris
  Compiled at Aug 26 2009 15:53:47
  %ENV:
    PERL5LIB="/export/home/cpantest/.cpan/build/HTML-FormFu-Model-DBIC-0.08002-qRzD8k/blib/arch:/export/home/cpantest/.cpan/build/HTML-FormFu-Model-DBIC-0.08002-qRzD8k/blib/lib:/export/home/cpantest/.cpan/build/DateTime-Format-SQLite-0.11-2KGSsz/blib/arch:/export/home/cpantest/.cpan/build/DateTime-Format-SQLite-0.11-2KGSsz/blib/lib:/export/home/cpantest/.cpan/build/HTML-FormFu-ExtJS-0.077-zTgp5v/blib/arch:/export/home/cpantest/.cpan/build/HTML-FormFu-ExtJS-0.077-zTgp5v/blib/lib:/export/home/cpantest/.cpan/build/Tie-Hash-Indexed-0.05-o6m9oA/blib/arch:/export/home/cpantest/.cpan/build/Tie-Hash-Indexed-0.05-o6m9oA/blib/lib:/export/home/cpantest/.cpan/build/JavaScript-Dumper-0.011-Q7zRTy/blib/arch:/export/home/cpantest/.cpan/build/JavaScript-Dumper-0.011-Q7zRTy/blib/lib:/export/home/cpantest/.cpan/build/Catalyst-View-JSON-0.31-TLmMcR/blib/arch:/export/home/cpantest/.cpan/build/Catalyst-View-JSON-0.31-TLmMcR/blib/lib"
    PERL5OPT=""
    PERL5_CPANPLUS_IS_RUNNING="29871"
    PERL5_CPAN_IS_RUNNING="29871"
    PERL5_CPAN_IS_RUNNING_IN_RECURSION="29311,29871"
    PERL_CR_SMOKER_CURRENT="CatalystX-ExtJS-1.123000"
    PERL_CR_SMOKER_RUNONCE="1"
    PERL_EXTUTILS_AUTOINSTALL="--defaultdeps"
    PERL_MM_USE_DEFAULT="1"
  @INC:
    /export/home/cpantest/.cpan/build/HTML-FormFu-Model-DBIC-0.08002-qRzD8k/blib/arch
    /export/home/cpantest/.cpan/build/HTML-FormFu-Model-DBIC-0.08002-qRzD8k/blib/lib
    /export/home/cpantest/.cpan/build/DateTime-Format-SQLite-0.11-2KGSsz/blib/arch
    /export/home/cpantest/.cpan/build/DateTime-Format-SQLite-0.11-2KGSsz/blib/lib
    /export/home/cpantest/.cpan/build/HTML-FormFu-ExtJS-0.077-zTgp5v/blib/arch
    /export/home/cpantest/.cpan/build/HTML-FormFu-ExtJS-0.077-zTgp5v/blib/lib
    /export/home/cpantest/.cpan/build/Tie-Hash-Indexed-0.05-o6m9oA/blib/arch
    /export/home/cpantest/.cpan/build/Tie-Hash-Indexed-0.05-o6m9oA/blib/lib
    /export/home/cpantest/.cpan/build/JavaScript-Dumper-0.011-Q7zRTy/blib/arch
    /export/home/cpantest/.cpan/build/JavaScript-Dumper-0.011-Q7zRTy/blib/lib
    /export/home/cpantest/.cpan/build/Catalyst-View-JSON-0.31-TLmMcR/blib/arch
    /export/home/cpantest/.cpan/build/Catalyst-View-JSON-0.31-TLmMcR/blib/lib
    /export/home/cpantest/perl5/lib/5.10.1/i86pc-solaris-64int
    /export/home/cpantest/perl5/lib/5.10.1
    /export/home/cpantest/perl5/lib/site_perl/5.10.1/i86pc-solaris-64int
    /export/home/cpantest/perl5/lib/site_perl/5.10.1
    /export/home/cpantest/perl5/lib/site_perl/5.10.0/i86pc-solaris-64int
    /export/home/cpantest/perl5/lib/site_perl/5.10.0
    /export/home/cpantest/perl5/lib/site_perl
    .