Back
From: metabase:user:9820532a-708b-1014-9a05-b18a96298da1
Subject: PASS Dist-Zilla-Plugin-Test-UseAllModules-0.002 v5.15.4 GNU/Linux
Date: 2011-11-11T17:56:07Z
This distribution has been tested as part of the CPAN Testers
project, supporting the Perl programming language. See
http://wiki.cpantesters.org/ for more information or email
questions to cpan-testers-discuss@perl.org
--
Dear Alexei Znamensky,
This is a computer-generated report for Dist-Zilla-Plugin-Test-UseAllModules-0.002
on perl 5.15.4, created by CPAN-Reporter-1.2002.
Thank you for uploading your work to CPAN. Congratulations!
All tests were successful.
Sections of this report:
* Tester comments
* Program output
* Prerequisites
* Environment and other context
------------------------------
TESTER COMMENTS
------------------------------
Additional comments from tester:
this report is from an automated smoke testing program
and was not reviewed by a human for accuracy
------------------------------
PROGRAM OUTPUT
------------------------------
Output from '/usr/bin/make test':
PERL_DL_NONLAZY=1 /home/bri/perl5/perlbrew/perls/perl-5.15.4-th-ld/bin/perl5.15.4 "-MExtUtils::Command::MM" "-e" "test_harness(0, 'blib/lib', 'blib/arch')" t/*.t
t/00-compile.t ................ skipped: no tests to run
t/00-load.t ................... ok
#
#
# perl: v5.15.4 (wanted 5.006) on linux from /home/bri/perl5/perlbrew/perls/perl-5.15.4-th-ld/bin/perl5.15.4
#
# Dist::Zilla::Plugin::InlineFiles => 4.300003 (want any version)
# Dist::Zilla::Role::PrereqSource => 4.300003 (want any version)
# English => 1.04 (want any version)
# ExtUtils::MakeMaker => 6.62 (want 6.30)
# File::Find => 1.20 (want any version)
# File::Temp => 0.22 (want any version)
# Moose => 2.0302 (want any version)
# Test::More => 0.9801 (want 0.88)
# Test::UseAllModules => 0.13 (want 0.13)
# namespace::autoclean => 0.13 (want any version)
#
# Thanks for using my code. I hope it works for you.
# If not, please try and include this output in the bug report.
# That will help me reproduce the issue and solve you problem.
#
t/000-report-versions-tiny.t .. ok
t/author-critic.t ............. skipped: these tests are for testing by the author
t/release-dist-manifest.t ..... skipped: these tests are for release candidate testing
t/release-distmeta.t .......... skipped: these tests are for release candidate testing
t/release-eol.t ............... skipped: these tests are for release candidate testing
t/release-kwalitee.t .......... skipped: these tests are for release candidate testing
t/release-meta-json.t ......... skipped: these tests are for release candidate testing
t/release-minimum-version.t ... skipped: these tests are for release candidate testing
t/release-mojibake.t .......... skipped: these tests are for release candidate testing
t/release-no-tabs.t ........... skipped: these tests are for release candidate testing
t/release-pod-coverage.t ...... skipped: these tests are for release candidate testing
t/release-pod-linkcheck.t ..... skipped: these tests are for release candidate testing
t/release-pod-syntax.t ........ skipped: these tests are for release candidate testing
t/release-portability.t ....... skipped: these tests are for release candidate testing
t/release-test-version.t ...... skipped: these tests are for release candidate testing
t/release-unused-vars.t ....... skipped: these tests are for release candidate testing
All tests successful.
Files=18, Tests=2, 2 wallclock secs ( 0.05 usr 0.04 sys + 1.58 cusr 0.08 csys = 1.75 CPU)
Result: PASS
------------------------------
PREREQUISITES
------------------------------
Prerequisite modules loaded:
requires:
Module Need Have
-------------------------------- ----- --------
Dist::Zilla::Plugin::InlineFiles 0 4.300003
Dist::Zilla::Role::PrereqSource 0 4.300003
Moose 0 2.0302
namespace::autoclean 0 0.13
Test::UseAllModules 0.13 0.13
build_requires:
Module Need Have
-------------------------------- ----- --------
English 0 1.04
File::Find 0 1.20
File::Temp 0 0.22
perl 5.006 5.015004
Test::More 0.88 0.98_01
Test::UseAllModules 0 0.13
configure_requires:
Module Need Have
-------------------------------- ----- --------
ExtUtils::MakeMaker 6.30 6.62
------------------------------
ENVIRONMENT AND OTHER CONTEXT
------------------------------
Environment variables:
AUTOMATED_TESTING = 1
LANG = C
LANGUAGE = en_GB:en
LC_ALL = C
PATH = /home/bri/bin:/home/bri/perl5/perlbrew/bin:/home/bri/perl5/perlbrew/perls/perl-5.15.4-th-ld/bin:~/bin:/usr/local/sbin:/usr/local/bin:/usr/sbin:/usr/bin:/sbin:/bin:/usr/games
PATH_WITHOUT_PERLBREW = ~/bin:/usr/local/sbin:/usr/local/bin:/usr/sbin:/usr/bin:/sbin:/bin:/usr/games
PERL5LIB =
PERL5OPT =
PERL5_CPANPLUS_IS_RUNNING = 22600
PERL5_CPAN_IS_RUNNING = 22600
PERL5_CPAN_IS_RUNNING_IN_RECURSION = 2321,22600
PERLBREW_BASHRC_VERSION = 0.31
PERLBREW_HOME = /home/bri/.perlbrew
PERLBREW_PATH = /home/bri/perl5/perlbrew/bin:/home/bri/perl5/perlbrew/perls/perl-5.15.4-th-ld/bin
PERLBREW_PERL = perl-5.15.4-th-ld
PERLBREW_ROOT = /home/bri/perl5/perlbrew
PERLBREW_VERSION = 0.31
PERL_CPANM_OPT = --prompt --mirror http://172.16.1.3/cpan/
PERL_CR_SMOKER_CURRENT = Dist-Zilla-Plugin-Test-UseAllModules-0.002
PERL_EXTUTILS_AUTOINSTALL = --defaultdeps
PERL_MM_USE_DEFAULT = 1
SHELL = /bin/bash
TERM = linux
Perl special variables (and OS-specific diagnostics, for MSWin32):
$^X = /home/bri/perl5/perlbrew/perls/perl-5.15.4-th-ld/bin/perl5.15.4
$UID/$EUID = 1000 / 1000
$GID = 1000 4 20 24 46 112 120 122 1000
$EGID = 1000 4 20 24 46 112 120 122 1000
Perl module toolchain versions installed:
Module Have
------------------- --------
CPAN 1.9800
CPAN::Meta 2.112621
Cwd 3.37
ExtUtils::CBuilder 0.280204
ExtUtils::Command 1.17
ExtUtils::Install 1.57
ExtUtils::MakeMaker 6.62
ExtUtils::Manifest 1.60
ExtUtils::ParseXS 3.05
File::Spec 3.34
JSON 2.53
JSON::PP 2.27200
Module::Build 0.39_01
Module::Signature n/a
Parse::CPAN::Meta 1.4401
Test::Harness 3.23
Test::More 0.98_01
YAML 0.77
YAML::Syck 1.19
version 0.94
--
Summary of my perl5 (revision 5 version 15 subversion 4) configuration:
Platform:
osname=linux, osvers=2.6.38-11-generic, archname=i686-linux-thread-multi-ld
uname='linux lappy 2.6.38-11-generic #48-ubuntu smp fri jul 29 19:05:14 utc 2011 i686 i686 i386 gnulinux '
config_args='-de -Dprefix=/home/bri/perl5/perlbrew/perls/perl-5.15.4-th-ld -Dusethreads -Duselongdouble -Dusedevel'
hint=recommended, useposix=true, d_sigaction=define
useithreads=define, usemultiplicity=define
useperlio=define, d_sfio=undef, uselargefiles=define, usesocks=undef
use64bitint=undef, use64bitall=undef, uselongdouble=define
usemymalloc=n, bincompat5005=undef
Compiler:
cc='cc', ccflags ='-D_REENTRANT -D_GNU_SOURCE -fno-strict-aliasing -pipe -fstack-protector -I/usr/local/include -D_LARGEFILE_SOURCE -D_FILE_OFFSET_BITS=64',
optimize='-O2',
cppflags='-D_REENTRANT -D_GNU_SOURCE -fno-strict-aliasing -pipe -fstack-protector -I/usr/local/include'
ccversion='', gccversion='4.5.2', gccosandvers=''
intsize=4, longsize=4, ptrsize=4, doublesize=8, byteorder=1234
d_longlong=define, longlongsize=8, d_longdbl=define, longdblsize=12
ivtype='long', ivsize=4, nvtype='long double', nvsize=12, Off_t='off_t', lseeksize=8
alignbytes=4, prototype=define
Linker and Libraries:
ld='cc', ldflags =' -fstack-protector -L/usr/local/lib'
libpth=/usr/local/lib /lib /usr/lib /usr/lib/i386-linux-gnu /usr/lib64
libs=-lnsl -ldl -lm -lcrypt -lutil -lpthread -lc
perllibs=-lnsl -ldl -lm -lcrypt -lutil -lpthread -lc
libc=, so=so, useshrplib=false, libperl=libperl.a
gnulibc_version='2.13'
Dynamic Linking:
dlsrc=dl_dlopen.xs, dlext=so, d_dlsymun=undef, ccdlflags='-Wl,-E'
cccdlflags='-fPIC', lddlflags='-shared -O2 -L/usr/local/lib -fstack-protector'
Characteristics of this binary (from libperl):
Compile-time options: HAS_TIMES MULTIPLICITY PERLIO_LAYERS
PERL_DONT_CREATE_GVSV PERL_IMPLICIT_CONTEXT
PERL_MALLOC_WRAP PERL_PRESERVE_IVUV PERL_USE_DEVEL
USE_ITHREADS USE_LARGE_FILES USE_LOCALE
USE_LOCALE_COLLATE USE_LOCALE_CTYPE
USE_LOCALE_NUMERIC USE_LONG_DOUBLE USE_PERLIO
USE_PERL_ATOF USE_REENTRANT_API
Built under linux
Compiled at Nov 9 2011 22:49:20
%ENV:
PERL5LIB=""
PERL5OPT=""
PERL5_CPANPLUS_IS_RUNNING="22600"
PERL5_CPAN_IS_RUNNING="22600"
PERL5_CPAN_IS_RUNNING_IN_RECURSION="2321,22600"
PERLBREW_BASHRC_VERSION="0.31"
PERLBREW_HOME="/home/bri/.perlbrew"
PERLBREW_PATH="/home/bri/perl5/perlbrew/bin:/home/bri/perl5/perlbrew/perls/perl-5.15.4-th-ld/bin"
PERLBREW_PERL="perl-5.15.4-th-ld"
PERLBREW_ROOT="/home/bri/perl5/perlbrew"
PERLBREW_VERSION="0.31"
PERL_CPANM_OPT="--prompt --mirror http://172.16.1.3/cpan/"
PERL_CR_SMOKER_CURRENT="Dist-Zilla-Plugin-Test-UseAllModules-0.002"
PERL_EXTUTILS_AUTOINSTALL="--defaultdeps"
PERL_MM_USE_DEFAULT="1"
@INC:
/home/bri/perl5/perlbrew/perls/perl-5.15.4-th-ld/lib/site_perl/5.15.4/i686-linux-thread-multi-ld
/home/bri/perl5/perlbrew/perls/perl-5.15.4-th-ld/lib/site_perl/5.15.4
/home/bri/perl5/perlbrew/perls/perl-5.15.4-th-ld/lib/5.15.4/i686-linux-thread-multi-ld
/home/bri/perl5/perlbrew/perls/perl-5.15.4-th-ld/lib/5.15.4
.