Back
From: metabase:user:838e5b0a-2bb6-1016-a696-43a2537fa0c6
Subject: PASS Soar-Production-0.03 v5.18.0
Date: 2013-06-26T05:44:30Z
This distribution has been tested as part of the CPAN Testers
project, supporting the Perl programming language. See
http://wiki.cpantesters.org/ for more information or email
questions to cpan-testers-discuss@perl.org
--
Dear Nathan Gary Glenn,
This is a computer-generated report for Soar-Production-0.03
on perl 5.18.0, created by CPAN-Reporter-1.2010.
Thank you for uploading your work to CPAN. Congratulations!
All tests were successful.
Sections of this report:
* Tester comments
* Program output
* Prerequisites
* Environment and other context
------------------------------
TESTER COMMENTS
------------------------------
Additional comments from tester:
this report is from an automated smoke testing program
and was not reviewed by a human for accuracy
------------------------------
PROGRAM OUTPUT
------------------------------
Output from 'G:\perl\5.18.0.1\perl\bin\perl.exe ./Build test':
t/0-use.t ........................ ok
t/00-compile.t ................... ok
#
#
# Generated by Dist::Zilla::Plugin::ReportVersions::Tiny v1.08
# perl: 5.018000 (wanted 5.010) on MSWin32 from G:\perl\5.18.0.1\perl\bin\perl.exe
#
# Carp => 1.29 (want any version)
# Data::Diver => 1.0101 (want any version)
# Data::Dumper => 2.145 (want any version)
# Exporter::Easy => 0.16 (want any version)
# File::Find => 1.23 (want any version)
# File::Spec => 3.40 (want any version)
# File::Spec::Functions => 3.40 (want any version)
# File::Temp => 0.2301 (want any version)
# FindBin => 1.51 (want any version)
# Module::Build => 0.4005 (want 0.3601)
# Parse::RecDescent => 1.967009 (want any version)
# Path::Tiny => 0.024 (want any version)
# Pod::Coverage::TrustPod => module not found. (want any version)
# Test::Base => 0.60 (want any version)
# Test::Base::Filter => <undef> (want any version)
# Test::CPAN::Meta => module not found. (want any version)
# Test::Deep => 0.11 (want any version)
# Test::Exception => 0.32 (want any version)
# Test::LongString => 0.15 (want any version)
# Test::More => 0.98 (want 0.88)
# Test::Pod => module not found. (want 1.41)
# Test::Pod::Coverage => module not found. (want 1.08)
# Test::Warn => 0.24 (want any version)
# strict => 1.07 (want any version)
# utf8 => 1.10 (want any version)
# version => 0.9902 (want 0.9901)
# warnings => 1.18 (want any version)
#
# Thanks for using my code. I hope it works for you.
# If not, please try and include this output in the bug report.
# That will help me reproduce the issue and solve your problem.
#
t/000-report-versions-tiny.t ..... ok
t/1-basic.t ...................... ok
t/parser/00-use.t ................ ok
t/parser/01-bad_input.t .......... ok
t/parser/01_5-comments.t ......... ok
t/parser/02-split-productions.t .. ok
Subroutine main::is redefined at t/parser/03-production-names.t line 4.
t/parser/03-production-names.t ... ok
Subroutine main::is redefined at t/parser/04-documentation.t line 5.
t/parser/04-documentation.t ...... ok
Subroutine main::is redefined at t/parser/05-Flags.t line 5.
t/parser/05-Flags.t .............. ok
Subroutine main::is redefined at t/parser/06-State.t line 6.
t/parser/06-State.t .............. ok
Subroutine main::is redefined at t/parser/07-variables.t line 6.
t/parser/07-variables.t .......... ok
Subroutine main::is redefined at t/parser/08-attributes.t line 6.
t/parser/08-attributes.t ......... ok
Subroutine main::is redefined at t/parser/09-int.t line 6.
t/parser/09-int.t ................ ok
Subroutine main::is redefined at t/parser/10-float.t line 6.
t/parser/10-float.t .............. ok
Subroutine main::is redefined at t/parser/11-string.t line 5.
t/parser/11-string.t ............. ok
Subroutine main::is redefined at t/parser/12-quoted.t line 5.
t/parser/12-quoted.t ............. ok
Subroutine main::is redefined at t/parser/13-disjunct.t line 5.
t/parser/13-disjunct.t ........... ok
Subroutine main::is redefined at t/parser/14-conjunct.t line 5.
t/parser/14-conjunct.t ........... ok
Subroutine main::is redefined at t/parser/15-predicate.t line 5.
t/parser/15-predicate.t .......... ok
Subroutine main::is redefined at t/parser/16-preference.t line 6.
t/parser/16-preference.t ......... ok
Subroutine main::is redefined at t/parser/17-function.t line 5.
t/parser/17-function.t ........... ok
Subroutine main::is redefined at t/parser/18-negative.t line 5.
t/parser/18-negative.t ........... ok
Subroutine main::is redefined at t/parser/19-conjunctiveCond.t line 5.
t/parser/19-conjunctiveCond.t .... ok
t/parser/20-test_data.t .......... ok
t/printer/0-use.t ................ ok
t/printer/1-test_data.t .......... ok
All tests successful.
Files=28, Tests=1816, 141 wallclock secs ( 0.73 usr + 0.13 sys = 0.86 CPU)
Result: PASS
------------------------------
PREREQUISITES
------------------------------
Prerequisite modules loaded:
requires:
Module Need Have
--------------------- ------ --------
Carp 0 1.29
Data::Dumper 0 2.145
Exporter::Easy 0 0.16
Parse::RecDescent 0 1.967009
perl 5.010 5.018000
strict 0 1.07
warnings 0 1.18
build_requires:
Module Need Have
--------------------- ------ --------
Data::Diver 0 1.0101
File::Find 0 1.23
File::Spec 0 3.40
File::Spec::Functions 0 3.40
File::Temp 0 0.2301
FindBin 0 1.51
Module::Build 0.3601 0.4005
Path::Tiny 0 0.024
Test::Base 0 0.60
Test::Base::Filter 0 0
Test::Deep 0 0.110
Test::Exception 0 0.32
Test::LongString 0 0.15
Test::More 0.88 0.98
Test::Warn 0 0.24
utf8 0 1.10
configure_requires:
Module Need Have
--------------------- ------ --------
Module::Build 0.3601 0.4005
------------------------------
ENVIRONMENT AND OTHER CONTEXT
------------------------------
Environment variables:
AUTOMATED_TESTING = 1
COMSPEC = C:\Windows\system32\cmd.exe
NUMBER_OF_PROCESSORS = 8
PATH = G:\perl\5.18.0.1\perl\site\bin;G:\perl\5.18.0.1\perl\bin;G:\perl\5.18.0.1\c\bin;C:\Program Files\MiKTeX\2.9\miktex\bin;C:\Windows\system32;C:\Windows;C:\Windows\System32\Wbem;C:\Windows\System32\WindowsPowerShell\v1.0\;C:\rv\BIN;c:\Program Files\Microsoft SQL Server\100\Tools\Binn\;c:\Program Files\Microsoft SQL Server\100\DTS\Binn\;C:\strawberry\c\bin;C:\strawberry\perl\site\bin;C:\strawberry\perl\bin;C:\Program Files\Microsoft SQL Server\100\Tools\Binn\VSShell\Common7\IDE\;C:\Program Files\Microsoft Visual Studio 9.0\Common7\IDE\PrivateAssemblies\;C:\Program Files\Microsoft SQL Server\80\Tools\Binn\;C:\Program Files\Microsoft SQL Server\90\Tools\binn\;C:\Program Files\Microsoft SQL Server\90\DTS\Binn\;C:\Program Files\Microsoft SQL Server\90\Tools\Binn\VSShell\Common7\IDE\;C:\Program Files\Microsoft Visual Studio 8\Common7\IDE\PrivateAssemblies\;C:\Program Files\TortoiseSVN\bin;C:\Program Files\MIT\Kerberos\bin;C:\Users\DSolimano\AppData\Local\Fidessa\systemfiles
PERL5LIB = G:\perl\5.18.0.1\cpan\build\Parse-RecDescent-1.967009-USfC_3/blib/arch;G:\perl\5.18.0.1\cpan\build\Parse-RecDescent-1.967009-USfC_3/blib/lib;G:\perl\5.18.0.1\cpan\build\Path-Tiny-0.024-UNddJs/blib/arch;G:\perl\5.18.0.1\cpan\build\Path-Tiny-0.024-UNddJs/blib/lib;G:\perl\5.18.0.1\cpan\build\Test-FailWarnings-0.005-kW9aTy/blib/arch;G:\perl\5.18.0.1\cpan\build\Test-FailWarnings-0.005-kW9aTy/blib/lib;G:\perl\5.18.0.1\cpan\build\Devel-Hide-0.0009-g7j62Z/blib/arch;G:\perl\5.18.0.1\cpan\build\Devel-Hide-0.0009-g7j62Z/blib/lib;G:\perl\5.18.0.1\cpan\build\Data-Diver-1.0101-J2isEj/blib/arch;G:\perl\5.18.0.1\cpan\build\Data-Diver-1.0101-J2isEj/blib/lib;G:\perl\5.18.0.1\cpan\build\Exporter-Easy-0.16-F8GSnU/blib/arch;G:\perl\5.18.0.1\cpan\build\Exporter-Easy-0.16-F8GSnU/blib/lib;G:\perl\5.18.0.1\cpan\build\Test-LongString-0.15-Fw2KAK/blib/arch;G:\perl\5.18.0.1\cpan\build\Test-LongString-0.15-Fw2KAK/blib/lib;G:\perl\5.18.0.1\cpan\build\Test-Base-0.60-IbTKUn/blib/arch;G:\perl\5.18.0.1\cpan\build\Test-Base-0.60-IbTKUn/blib/lib;G:\perl\5.18.0.1\cpan\build\Spiffy-0.31-GzW_Iu/blib/arch;G:\perl\5.18.0.1\cpan\build\Spiffy-0.31-GzW_Iu/blib/lib
PERL5OPT =
PERL5_CPANPLUS_IS_RUNNING = 6980
PERL5_CPAN_IS_RUNNING = 6980
PERL5_CPAN_IS_RUNNING_IN_RECURSION = 14144,6980
PERL_CR_SMOKER_CURRENT = Soar-Production-0.03
PERL_EXTUTILS_AUTOINSTALL = --defaultdeps
PERL_MM_USE_DEFAULT = 1
PROCESSOR_IDENTIFIER = x86 Family 6 Model 23 Stepping 6, GenuineIntel
TEMP = C:\Users\DSOLIM~1\AppData\Local\Temp
TERM = dumb
Perl special variables (and OS-specific diagnostics, for MSWin32):
$^X = G:\perl\5.18.0.1\perl\bin\perl.exe
$UID/$EUID = 0 / 0
$GID = 0
$EGID = 0
Win32::GetOSName = Win7
Win32::GetOSVersion = Service Pack 1, 6, 1, 7601, 2, 1, 0, 256, 1
Win32::FsType = NTFS
Win32::IsAdminUser = 1
Perl module toolchain versions installed:
Module Have
------------------- --------
CPAN 2.00
CPAN::Meta 2.130880
Cwd 3.40
ExtUtils::CBuilder 0.280210
ExtUtils::Command 1.17
ExtUtils::Install 1.59
ExtUtils::MakeMaker 6.66
ExtUtils::Manifest 1.63
ExtUtils::ParseXS 3.18
File::Spec 3.40
JSON 2.57
JSON::PP 2.27202
Module::Build 0.4005
Module::Signature n/a
Parse::CPAN::Meta 1.4404
Test::Harness 3.28
Test::More 0.98
YAML 0.84
YAML::Syck n/a
version 0.9902
--
Summary of my perl5 (revision 5 version 18 subversion 0) configuration:
Platform:
osname=MSWin32, osvers=4.0, archname=MSWin32-x86-multi-thread-64int
uname='Win32 strawberry-perl 5.18.0.1 #1 Sat May 18 17:46:00 2013 i386'
config_args='undef'
hint=recommended, useposix=true, d_sigaction=undef
useithreads=define, usemultiplicity=define
useperlio=define, d_sfio=undef, uselargefiles=define, usesocks=undef
use64bitint=define, use64bitall=undef, uselongdouble=undef
usemymalloc=n, bincompat5005=undef
Compiler:
cc='gcc', ccflags =' -s -O2 -DWIN32 -DPERL_TEXTMODE_SCRIPTS -DPERL_IMPLICIT_CONTEXT -DPERL_IMPLICIT_SYS -DUSE_PERLIO -fno-strict-aliasing -mms-bitfields',
optimize='-s -O2',
cppflags='-DWIN32'
ccversion='', gccversion='4.6.3', gccosandvers=''
intsize=4, longsize=4, ptrsize=4, doublesize=8, byteorder=12345678
d_longlong=define, longlongsize=8, d_longdbl=define, longdblsize=12
ivtype='long long', ivsize=8, nvtype='double', nvsize=8, Off_t='long long', lseeksize=8
alignbytes=8, prototype=define
Linker and Libraries:
ld='g++.exe', ldflags ='-s -L"G:\perl\5.18.0.1\perl\lib\CORE" -L"G:\perl\5.18.0.1\c\lib"'
libpth=G:\perl\5.18.0.1\c\lib G:\perl\5.18.0.1\c\i686-w64-mingw32\lib
libs=-lmoldname -lkernel32 -luser32 -lgdi32 -lwinspool -lcomdlg32 -ladvapi32 -lshell32 -lole32 -loleaut32 -lnetapi32 -luuid -lws2_32 -lmpr -lwinmm -lversion -lodbc32 -lodbccp32 -lcomctl32
perllibs=-lmoldname -lkernel32 -luser32 -lgdi32 -lwinspool -lcomdlg32 -ladvapi32 -lshell32 -lole32 -loleaut32 -lnetapi32 -luuid -lws2_32 -lmpr -lwinmm -lversion -lodbc32 -lodbccp32 -lcomctl32
libc=, so=dll, useshrplib=true, libperl=libperl518.a
gnulibc_version=''
Dynamic Linking:
dlsrc=dl_win32.xs, dlext=dll, d_dlsymun=undef, ccdlflags=' '
cccdlflags=' ', lddlflags='-mdll -s -L"G:\perl\5.18.0.1\perl\lib\CORE" -L"G:\perl\5.18.0.1\c\lib"'
Characteristics of this binary (from libperl):
Compile-time options: HAS_TIMES HAVE_INTERP_INTERN MULTIPLICITY
PERLIO_LAYERS PERL_DONT_CREATE_GVSV
PERL_HASH_FUNC_ONE_AT_A_TIME_HARD
PERL_IMPLICIT_CONTEXT PERL_IMPLICIT_SYS
PERL_MALLOC_WRAP PERL_PRESERVE_IVUV PERL_SAWAMPERSAND
USE_64_BIT_INT USE_ITHREADS USE_LARGE_FILES
USE_LOCALE USE_LOCALE_COLLATE USE_LOCALE_CTYPE
USE_LOCALE_NUMERIC USE_PERLIO USE_PERL_ATOF
Built under MSWin32
Compiled at May 18 2013 17:53:14
%ENV:
PERL5LIB="G:\perl\5.18.0.1\cpan\build\Parse-RecDescent-1.967009-USfC_3/blib/arch;G:\perl\5.18.0.1\cpan\build\Parse-RecDescent-1.967009-USfC_3/blib/lib;G:\perl\5.18.0.1\cpan\build\Path-Tiny-0.024-UNddJs/blib/arch;G:\perl\5.18.0.1\cpan\build\Path-Tiny-0.024-UNddJs/blib/lib;G:\perl\5.18.0.1\cpan\build\Test-FailWarnings-0.005-kW9aTy/blib/arch;G:\perl\5.18.0.1\cpan\build\Test-FailWarnings-0.005-kW9aTy/blib/lib;G:\perl\5.18.0.1\cpan\build\Devel-Hide-0.0009-g7j62Z/blib/arch;G:\perl\5.18.0.1\cpan\build\Devel-Hide-0.0009-g7j62Z/blib/lib;G:\perl\5.18.0.1\cpan\build\Data-Diver-1.0101-J2isEj/blib/arch;G:\perl\5.18.0.1\cpan\build\Data-Diver-1.0101-J2isEj/blib/lib;G:\perl\5.18.0.1\cpan\build\Exporter-Easy-0.16-F8GSnU/blib/arch;G:\perl\5.18.0.1\cpan\build\Exporter-Easy-0.16-F8GSnU/blib/lib;G:\perl\5.18.0.1\cpan\build\Test-LongString-0.15-Fw2KAK/blib/arch;G:\perl\5.18.0.1\cpan\build\Test-LongString-0.15-Fw2KAK/blib/lib;G:\perl\5.18.0.1\cpan\build\Test-Base-0.60-IbTKUn/blib/arch;G:\perl\5.18.0.1\cpan\build\Test-Base-0.60-IbTKUn/blib/lib;G:\perl\5.18.0.1\cpan\build\Spiffy-0.31-GzW_Iu/blib/arch;G:\perl\5.18.0.1\cpan\build\Spiffy-0.31-GzW_Iu/blib/lib"
PERL5_CPANPLUS_IS_RUNNING="6980"
PERL5_CPAN_IS_RUNNING="6980"
PERL5_CPAN_IS_RUNNING_IN_RECURSION="14144,6980"
PERL_CR_SMOKER_CURRENT="Soar-Production-0.03"
PERL_EXTUTILS_AUTOINSTALL="--defaultdeps"
PERL_MM_USE_DEFAULT="1"
@INC:
G:\perl\5.18.0.1\cpan\build\Parse-RecDescent-1.967009-USfC_3/blib/arch
G:\perl\5.18.0.1\cpan\build\Parse-RecDescent-1.967009-USfC_3/blib/lib
G:\perl\5.18.0.1\cpan\build\Path-Tiny-0.024-UNddJs/blib/arch
G:\perl\5.18.0.1\cpan\build\Path-Tiny-0.024-UNddJs/blib/lib
G:\perl\5.18.0.1\cpan\build\Test-FailWarnings-0.005-kW9aTy/blib/arch
G:\perl\5.18.0.1\cpan\build\Test-FailWarnings-0.005-kW9aTy/blib/lib
G:\perl\5.18.0.1\cpan\build\Devel-Hide-0.0009-g7j62Z/blib/arch
G:\perl\5.18.0.1\cpan\build\Devel-Hide-0.0009-g7j62Z/blib/lib
G:\perl\5.18.0.1\cpan\build\Data-Diver-1.0101-J2isEj/blib/arch
G:\perl\5.18.0.1\cpan\build\Data-Diver-1.0101-J2isEj/blib/lib
G:\perl\5.18.0.1\cpan\build\Exporter-Easy-0.16-F8GSnU/blib/arch
G:\perl\5.18.0.1\cpan\build\Exporter-Easy-0.16-F8GSnU/blib/lib
G:\perl\5.18.0.1\cpan\build\Test-LongString-0.15-Fw2KAK/blib/arch
G:\perl\5.18.0.1\cpan\build\Test-LongString-0.15-Fw2KAK/blib/lib
G:\perl\5.18.0.1\cpan\build\Test-Base-0.60-IbTKUn/blib/arch
G:\perl\5.18.0.1\cpan\build\Test-Base-0.60-IbTKUn/blib/lib
G:\perl\5.18.0.1\cpan\build\Spiffy-0.31-GzW_Iu/blib/arch
G:\perl\5.18.0.1\cpan\build\Spiffy-0.31-GzW_Iu/blib/lib
G:/perl/5.18.0.1/perl/site/lib
G:/perl/5.18.0.1/perl/vendor/lib
G:/perl/5.18.0.1/perl/lib
.