HTML-Scrubber v0.17 Perl 5 v5.27.11 OpenBSD.amd64-openbsd-thread-multi
- Status
- Pass
- From
- Alceu Rodrigues de Freitas Junior
- Dist
-
HTML-Scrubber v0.17
- Platform
- Perl 5 v5.27.11 OpenBSD.amd64-openbsd-thread-multi
- Date
- 2018-04-06 01:54:24
- ID
- 6ea61200-393d-11e8-9bdd-eddd27fe79be
This distribution has been tested as part of the CPAN Testers
project, supporting the Perl programming language. See
http://wiki.cpantesters.org/ for more information or email
questions to cpan-testers-discuss@perl.org
--
Dear Nigel Metheringham,
This is a computer-generated report for HTML-Scrubber-0.17
on perl 5.27.11, created by CPAN-Reporter-1.2018.
Thank you for uploading your work to CPAN. Congratulations!
All tests were successful.
Sections of this report:
* Tester comments
* Program output
* Prerequisites
* Environment and other context
------------------------------
TESTER COMMENTS
------------------------------
Additional comments from tester:
this report is from an automated smoke testing program
and was not reviewed by a human for accuracy
------------------------------
PROGRAM OUTPUT
------------------------------
Output from '/usr/bin/make test':
PERL_DL_NONLAZY=1 "/home/vegeta/perl5/perlbrew/perls/perl-blead/bin/perl5.27.11" "-MExtUtils::Command::MM" "-MTest::Harness" "-e" "undef *Test::Harness::Switches; test_harness(0, 'blib/lib', 'blib/arch')" t/*.t
#
# Versions for all modules listed in MYMETA.json (including optional ones):
#
# === Configure Requires ===
#
# Module Want Have
# ------------------- ---- ----
# ExtUtils::MakeMaker any 7.34
#
# === Build Requires ===
#
# Module Want Have
# ------------------- ---- ----
# ExtUtils::MakeMaker any 7.34
#
# === Test Requires ===
#
# Module Want Have
# ------------------------ ---- --------
# ExtUtils::MakeMaker any 7.34
# File::Spec any 3.74
# File::Temp any 0.2304
# Pod::Coverage::TrustPod any 0.100005
# Test any 1.31
# Test::CPAN::Meta any 0.25
# Test::Differences any 0.64
# Test::EOL any 2.00
# Test::Kwalitee 1.21 1.27
# Test::Memory::Cycle any 1.06
# Test::More 0.88 1.302135
# Test::NoTabs any 2.00
# Test::PAUSE::Permissions any missing
# Test::Pod 1.41 1.51
# Test::Pod::Coverage 1.08 1.10
# utf8 any 1.21
#
# === Test Recommends ===
#
# Module Want Have
# ---------- -------- --------
# CPAN::Meta 2.120900 2.150010
#
# === Runtime Requires ===
#
# Module Want Have
# -------------- ---- ----
# HTML::Entities any 3.69
# HTML::Parser 3.47 3.72
# List::Util any 1.50
# Scalar::Util any 1.50
# strict any 1.11
# warnings any 1.42
#
#
# *** WARNING WARNING WARNING WARNING WARNING WARNING WARNING WARNING ***
#
# The following REQUIRED prerequisites were not satisfied:
#
# Test::PAUSE::Permissions is not installed (any version required)
#
t/00-report-prereqs.t ........... ok
# Testing HTML::Scrubber 0.17, Perl 5.027011, /home/vegeta/perl5/perlbrew/perls/perl-blead/bin/perl5.27.11
t/01_use.t ...................... ok
t/02_basic.t .................... ok
t/03_more.t ..................... ok
t/04_style_script.t ............. ok
t/05_pi_comment.t ............... ok
t/06_scrub_file.t ............... ok
t/07_booleans.t ................. ok
t/08_cb_attrs.t ................. ok
t/09_memory_cycle.t ............. ok
t/09_no_scrub_warnings.t ........ ok
t/jvn53973084.t ................. ok
t/rt120384_remove_false_tags.t .. ok
t/rt19063_xhtml.t ............... ok
t/rt25477_self_closing.t ........ ok
t/rt72659_utf8.t ................ ok
t/rt79044_multiple.t ............ ok
All tests successful.
Files=17, Tests=172, 3 wallclock secs ( 0.06 usr 0.14 sys + 1.51 cusr 0.71 csys = 2.42 CPU)
Result: PASS
------------------------------
PREREQUISITES
------------------------------
Prerequisite modules loaded:
requires:
Module Need Have
------------------------ -------- --------
HTML::Entities 0 3.69
HTML::Parser 3.47 3.72
List::Util 0 1.50
perl 5.008 5.027011
Scalar::Util 0 1.50
strict 0 1.11
warnings 0 1.42
build_requires:
Module Need Have
------------------------ -------- --------
ExtUtils::MakeMaker 0 7.34
File::Spec 0 3.74
File::Temp 0 0.2304
Pod::Coverage::TrustPod 0 0.100005
Test 0 1.31
Test::CPAN::Meta 0 0.25
Test::Differences 0 0.64
Test::EOL 0 2.00
Test::Kwalitee 1.21 1.27
Test::Memory::Cycle 0 1.06
Test::More 0.88 1.302135
Test::NoTabs 0 2.00
! Test::PAUSE::Permissions 0 n/a
Test::Pod 1.41 1.51
Test::Pod::Coverage 1.08 1.10
utf8 0 1.21
configure_requires:
Module Need Have
------------------------ -------- --------
ExtUtils::MakeMaker 0 7.34
opt_build_requires:
Module Need Have
------------------------ -------- --------
CPAN::Meta 2.120900 2.150010
------------------------------
ENVIRONMENT AND OTHER CONTEXT
------------------------------
Environment variables:
AUTOMATED_TESTING = 1
DBD_MYSQL_TESTDB = test
DBD_MYSQL_TESTHOST = localhost
DBD_MYSQL_TESTPASSWORD =
DBD_MYSQL_TESTPORT = 3306
DBD_MYSQL_TESTUSER = vegeta
EXTENDED_TESTING = 1
PATH = /home/vegeta/perl5/perlbrew/bin:/home/vegeta/perl5/perlbrew/perls/perl-blead/bin:/home/vegeta/bin:/usr/bin:/bin:/usr/sbin:/sbin:/usr/X11R6/bin:/usr/local/bin:/usr/local/sbin
PERL5LIB =
PERL5OPT =
PERL5_CPANPLUS_IS_RUNNING = 27172
PERL5_CPAN_IS_RUNNING = 27172
PERL5_CPAN_IS_RUNNING_IN_RECURSION = 84093,27172
PERLBREW_HOME = /home/vegeta/.perlbrew
PERLBREW_MANPATH = /home/vegeta/perl5/perlbrew/perls/perl-blead/man
PERLBREW_PATH = /home/vegeta/perl5/perlbrew/bin:/home/vegeta/perl5/perlbrew/perls/perl-blead/bin
PERLBREW_PERL = perl-blead
PERLBREW_ROOT = /home/vegeta/perl5/perlbrew
PERLBREW_SHELLRC_VERSION = 0.82
PERLBREW_VERSION = 0.82
PERL_CR_SMOKER_CURRENT = Cmd-Dwarf-1.70
PERL_EXTUTILS_AUTOINSTALL = --defaultdeps
PERL_MM_USE_DEFAULT = 1
PERL_USE_UNSAFE_INC = 1
SHELL = /usr/local/bin/bash
TERM = xterm
Perl special variables (and OS-specific diagnostics, for MSWin32):
$^X = /home/vegeta/perl5/perlbrew/perls/perl-blead/bin/perl5.27.11
$UID/$EUID = 1001 / 1001
$GID = 998 998 1001
$EGID = 998 998 1001
Perl module toolchain versions installed:
Module Have
------------------- --------
CPAN 2.20
CPAN::Meta 2.150010
Cwd 3.74
ExtUtils::CBuilder 0.280230
ExtUtils::Command 7.34
ExtUtils::Install 2.14
ExtUtils::MakeMaker 7.34
ExtUtils::Manifest 1.70
ExtUtils::ParseXS 3.39
File::Spec 3.74
JSON 2.97001
JSON::PP 2.97001
Module::Build 0.4224
Module::Signature n/a
Parse::CPAN::Meta 2.150010
Test::Harness 3.42
Test::More 1.302135
YAML 1.24
YAML::Syck n/a
version 0.9918
--
Summary of my perl5 (revision 5 version 27 subversion 11) configuration:
Snapshot of: 2f49491f5d1c7c1014a5af26c13a743812995ee1
Platform:
osname=openbsd
osvers=6.2
archname=OpenBSD.amd64-openbsd-thread-multi
uname='openbsd cpan-smoker-openbsd 6.2 generic.mp#134 amd64 '
config_args='-de -Dprefix=/home/vegeta/perl5/perlbrew/perls/perl-blead -Dman1dir=none -Dman3dir=none -Duse64bitint -Dusethreads -Dusemultiplicity -Duse64bitall -Dusedevel'
hint=recommended
useposix=true
d_sigaction=define
useithreads=define
usemultiplicity=define
use64bitint=define
use64bitall=define
uselongdouble=undef
usemymalloc=n
default_inc_excludes_dot=define
bincompat5005=undef
Compiler:
cc='cc'
ccflags ='-pthread -fno-strict-aliasing -pipe -fstack-protector-strong -I/usr/local/include -D_FORTIFY_SOURCE=2'
optimize='-O2'
cppflags='-pthread -fno-strict-aliasing -pipe -fstack-protector-strong -I/usr/local/include'
ccversion=''
gccversion='4.2.1 Compatible OpenBSD Clang 4.0.0 (tags/RELEASE_400/final)'
gccosandvers=''
intsize=4
longsize=8
ptrsize=8
doublesize=8
byteorder=12345678
doublekind=3
d_longlong=define
longlongsize=8
d_longdbl=define
longdblsize=16
longdblkind=3
ivtype='long'
ivsize=8
nvtype='double'
nvsize=8
Off_t='off_t'
lseeksize=8
alignbytes=8
prototype=define
Linker and Libraries:
ld='cc'
ldflags ='-pthread -Wl,-E -fstack-protector-strong -L/usr/local/lib'
libpth=/usr/lib /usr/local/lib
libs=-lpthread -lm -lutil -lc
perllibs=-lpthread -lm -lutil -lc
libc=/usr/lib/libc.so.90.0
so=so
useshrplib=false
libperl=libperl.a
gnulibc_version=''
Dynamic Linking:
dlsrc=dl_dlopen.xs
dlext=so
d_dlsymun=undef
ccdlflags=' '
cccdlflags='-DPIC -fPIC '
lddlflags='-shared -fPIC -L/usr/local/lib -fstack-protector-strong'
Characteristics of this binary (from libperl):
Compile-time options:
HAS_TIMES
MULTIPLICITY
PERLIO_LAYERS
PERL_COPY_ON_WRITE
PERL_DONT_CREATE_GVSV
PERL_IMPLICIT_CONTEXT
PERL_MALLOC_WRAP
PERL_OP_PARENT
PERL_PRESERVE_IVUV
PERL_USE_DEVEL
USE_64_BIT_ALL
USE_64_BIT_INT
USE_ITHREADS
USE_LARGE_FILES
USE_LOCALE
USE_LOCALE_COLLATE
USE_LOCALE_CTYPE
USE_LOCALE_NUMERIC
USE_LOCALE_TIME
USE_PERLIO
USE_PERL_ATOF
USE_REENTRANT_API
Locally applied patches:
Devel::PatchPerl 1.48
Built under openbsd
Compiled at Apr 4 2018 17:50:48
%ENV:
PERL5LIB=""
PERL5OPT=""
PERL5_CPANPLUS_IS_RUNNING="27172"
PERL5_CPAN_IS_RUNNING="27172"
PERL5_CPAN_IS_RUNNING_IN_RECURSION="84093,27172"
PERLBREW_HOME="/home/vegeta/.perlbrew"
PERLBREW_MANPATH="/home/vegeta/perl5/perlbrew/perls/perl-blead/man"
PERLBREW_PATH="/home/vegeta/perl5/perlbrew/bin:/home/vegeta/perl5/perlbrew/perls/perl-blead/bin"
PERLBREW_PERL="perl-blead"
PERLBREW_ROOT="/home/vegeta/perl5/perlbrew"
PERLBREW_SHELLRC_VERSION="0.82"
PERLBREW_VERSION="0.82"
PERL_CR_SMOKER_CURRENT="Cmd-Dwarf-1.70"
PERL_EXTUTILS_AUTOINSTALL="--defaultdeps"
PERL_MM_USE_DEFAULT="1"
PERL_USE_UNSAFE_INC="1"
@INC:
/home/vegeta/perl5/perlbrew/perls/perl-blead/lib/site_perl/5.27.11/OpenBSD.amd64-openbsd-thread-multi
/home/vegeta/perl5/perlbrew/perls/perl-blead/lib/site_perl/5.27.11
/home/vegeta/perl5/perlbrew/perls/perl-blead/lib/5.27.11/OpenBSD.amd64-openbsd-thread-multi
/home/vegeta/perl5/perlbrew/perls/perl-blead/lib/5.27.11
.