Data-Session v1.18 Perl 5 v5.40.2 RC1 x86_64-linux-thread-multi-ld

Status
Pass
From
Andreas J. König (ANDK)
Dist
Data-Session v1.18
Platform
Perl 5 v5.40.2 RC1 x86_64-linux-thread-multi-ld
Date
2025-04-01 00:01:16
ID
6ee19d44-0e8c-11f0-b114-94e352d8e52f
This distribution has been tested as part of the CPAN Testers
project, supporting the Perl programming language.  See
http://wiki.cpantesters.org/ for more information or email
questions to cpan-testers-discuss@perl.org


--
Dear Ron Savage,

This is a computer-generated report for Data-Session-1.18
on perl 5.40.2, created by CPAN-Reporter-1.2020.

Thank you for uploading your work to CPAN.  Congratulations!
All tests were successful.

Sections of this report:

    * Tester comments
    * Program output
    * Prerequisites
    * Environment and other context

------------------------------
TESTER COMMENTS
------------------------------

Additional comments from tester:

this report is from an automated smoke testing program
and was not reviewed by a human for accuracy

------------------------------
PROGRAM OUTPUT
------------------------------

Output from '/usr/bin/make test':

PERL_DL_NONLAZY=1 "/tmp/basesmoker-reloperl-WLyo/bin/perl" "-MExtUtils::Command::MM" "-MTest::Harness" "-e" "undef *Test::Harness::Switches; test_harness(0, 'blib/lib', 'blib/arch')" t/*.t
# Testing Data::Session V 1.18
# Using autovivification V 0.18
# Using CGI V 4.67
# Using Class::Load V 0.25
# Using Config::Tiny V 2.30
# Using Data::Dumper V 2.189
# Using Data::UUID V 1.227
# Using DBD::SQLite V 1.76
# Using DBI V 1.647
# Using DBIx::Admin::CreateTable V 2.11
# Using Digest::MD5 V 2.58_01
# Using Digest::SHA V 6.04
# Using Fcntl V 1.18
# Using File::Basename V 2.86
# Using File::Path V 2.18
# Using File::Slurper V 0.014
# Using File::Spec V 3.91
# Using File::Temp V 0.2311
# Using FreezeThaw V 0.5001
# Using Hash::FieldHash V 0.15
# Using JSON V 4.10
# Using overload V 1.37
# Using parent V 0.244
# Using Safe V 2.46
# Using Scalar::Util V 1.63
# Using Storable V 3.32
# Using strict V 1.13
# Using Try::Tiny V 0.32
# Using vars V 1.05
# Using warnings V 1.70
# Using YAML::Tiny V 1.76
t/00.versions.t .. ok
# Test: File.1. DSN: dbi:File:. ID generator: AutoIncrement. Serializer: DataDumper
# id 1: 1002
# Test: File.1. DSN: dbi:File:. ID generator: AutoIncrement. Serializer: FreezeThaw
# id 1: 1008
# Test: File.1. DSN: dbi:File:. ID generator: AutoIncrement. Serializer: JSON
# id 1: 1014
# Test: File.1. DSN: dbi:File:. ID generator: AutoIncrement. Serializer: Storable
# id 1: 1020
# Test: File.1. DSN: dbi:File:. ID generator: AutoIncrement. Serializer: YAML
# id 1: 1026
# Test: File.1. DSN: dbi:File:. ID generator: MD5. Serializer: DataDumper
# id 1: 4fb4515c8dc394edf5063aad5152d4e0
# Test: File.1. DSN: dbi:File:. ID generator: MD5. Serializer: FreezeThaw
# id 1: 8ab037657caa41e32618a52f7ccb59fc
# Test: File.1. DSN: dbi:File:. ID generator: MD5. Serializer: JSON
# id 1: 0a53723f9103395787241c81c9611095
# Test: File.1. DSN: dbi:File:. ID generator: MD5. Serializer: Storable
# id 1: abe964ebdc10c4d73ca29f418f87b20b
# Test: File.1. DSN: dbi:File:. ID generator: MD5. Serializer: YAML
# id 1: fae44197525c1963d97d582486e8f3f9
# Test: File.1. DSN: dbi:File:. ID generator: SHA1. Serializer: DataDumper
# id 1: 58d44b3a56d1a29d9d6461116dd94fd0614ebb55
# Test: File.1. DSN: dbi:File:. ID generator: SHA1. Serializer: FreezeThaw
# id 1: 9cb085d1413035aec7a5b01b250d2be18fc7cdf1
# Test: File.1. DSN: dbi:File:. ID generator: SHA1. Serializer: JSON
# id 1: 730f9da4bf3af9dca21cfc3d7aa97ec37c663c2b
# Test: File.1. DSN: dbi:File:. ID generator: SHA1. Serializer: Storable
# id 1: 4a106184eb574d512f781c84038b8bd39e022386
# Test: File.1. DSN: dbi:File:. ID generator: SHA1. Serializer: YAML
# id 1: 78327405c072e20ff621d8a5060bc49dd12ec938
# Test: File.1. DSN: dbi:File:. ID generator: SHA256. Serializer: DataDumper
# id 1: 055c2f1dfaca5921c0f168d5b50b2cfea595f3be70887879f4775f58dfe5db19
# Test: File.1. DSN: dbi:File:. ID generator: SHA256. Serializer: FreezeThaw
# id 1: afd0a630d0e4474d41265468a8182fc280d21d14bc685854dafc819272e6cd6a
# Test: File.1. DSN: dbi:File:. ID generator: SHA256. Serializer: JSON
# id 1: 2794275d4f97120bab780dc6138aa54926184df8fb3e9ff6cc9f00acebf793c5
# Test: File.1. DSN: dbi:File:. ID generator: SHA256. Serializer: Storable
# id 1: 1e794b8a23513498a26968cfd5530acc79f68db7c695643d66b4150d9a543579
# Test: File.1. DSN: dbi:File:. ID generator: SHA256. Serializer: YAML
# id 1: 471f27fa7ea88ac0fa7329f94dd0486b70631786c2e0406fd88e9239812dee9a
# Test: File.1. DSN: dbi:File:. ID generator: SHA512. Serializer: DataDumper
# id 1: 575728fa2f86c212517f55496eb96aa932284d74b9ff77c2a35fc2aa3f7d41d9735071157668a2fb34553781e58eb4e052736a80c87c46e39552025e2301be19
# Test: File.1. DSN: dbi:File:. ID generator: SHA512. Serializer: FreezeThaw
# id 1: 1db81ad559b08c7f154f94a5e48157ec59b0e69044e53440fb6234f37d87aff069f90440707a4b6096fc2ccc8b8439e14e4dec0a15fbdc59b5e13376f103c41e
# Test: File.1. DSN: dbi:File:. ID generator: SHA512. Serializer: JSON
# id 1: 3efaa2d82f02301f11afadeb614098430b35c84e19cea0cf493e6c62128518f459c67c5e35d36478550c83f0645a129683708b9377f0c37b83565ed2f032e037
# Test: File.1. DSN: dbi:File:. ID generator: SHA512. Serializer: Storable
# id 1: 3ec1de8bf3914df0dcb0e8fd47a89d0b78e01f94ab34c0d18e8924e0dc24e7081db530e5fc44e3ab103d8ca45c15d3c1ec572ed9fd59902e854ba9caf8f31647
# Test: File.1. DSN: dbi:File:. ID generator: SHA512. Serializer: YAML
# id 1: 992975c8f5c4f8f5268988e83311fed4830e05def74a6e7bcdba1c7ce6fba7a67d74dd9a9b30d9c62873a367c76ce72f62f029ccd80a09dfe12eaa6428b592d6
# Test: File.1. DSN: dbi:File:. ID generator: Static. Serializer: DataDumper
# id 1: 1234
# Test: File.1. DSN: dbi:File:. ID generator: Static. Serializer: FreezeThaw
# id 1: 1234
# Test: File.1. DSN: dbi:File:. ID generator: Static. Serializer: JSON
# id 1: 1234
# Test: File.1. DSN: dbi:File:. ID generator: Static. Serializer: Storable
# id 1: 1234
# Test: File.1. DSN: dbi:File:. ID generator: Static. Serializer: YAML
# id 1: 1234
# Test: File.1. DSN: dbi:File:. ID generator: UUID34. Serializer: DataDumper
# id 1: 0x185EAE800E8C11F0A858F50354073BBA
# Test: File.1. DSN: dbi:File:. ID generator: UUID34. Serializer: FreezeThaw
# id 1: 0x186038040E8C11F09482E3AC4CB58F8B
# Test: File.1. DSN: dbi:File:. ID generator: UUID34. Serializer: JSON
# id 1: 0x1861680A0E8C11F0A0D2D05B7CEBDD53
# Test: File.1. DSN: dbi:File:. ID generator: UUID34. Serializer: Storable
# id 1: 0x18628E6A0E8C11F0A9CEC809C2020F2B
# Test: File.1. DSN: dbi:File:. ID generator: UUID34. Serializer: YAML
# id 1: 0x1863B61E0E8C11F08424BF61D0D75E54
# Test: File.1. DSN: dbi:File:. ID generator: UUID36. Serializer: DataDumper
# id 1: 18650DF2-0E8C-11F0-B71D-82C7A13121C4
# Test: File.1. DSN: dbi:File:. ID generator: UUID36. Serializer: FreezeThaw
# id 1: 186680CE-0E8C-11F0-B6D8-AF0D1D9B9ADF
# Test: File.1. DSN: dbi:File:. ID generator: UUID36. Serializer: JSON
# id 1: 1867AB98-0E8C-11F0-A440-8DFDC0A94FC8
# Test: File.1. DSN: dbi:File:. ID generator: UUID36. Serializer: Storable
# id 1: 1868C7A8-0E8C-11F0-9CEA-90F4B1AF3018
# Test: File.1. DSN: dbi:File:. ID generator: UUID36. Serializer: YAML
# id 1: 1869E958-0E8C-11F0-A272-D3F30609741B
# Skipping dsn 'dbi:SQLite:dbname=/tmp/sessions.sqlite' because the SQLite directory does not exist
# 
# Testing HTTP header generation
# 
# Testing expire the session. Sleeping for 1 second ...
# Expiring id: 186B6BF2-0E8C-11F0-84A1-B568FA9F3DF7
# 
# Testing expire a session parameter. Sleeping for 1 second ...
t/basic.t ........ ok
# DSN name: File.1. DSN: dbi:File:. ID generator: MD5. Serializer: DataDumper
# id1: d8e3ad2c7538c3e17810afcf781372a1
# 1: Recovered known id ccf9cae92ae738b29d2c8275a9560b68 from traverse
# 2: Recovered known id 2296420b5fb8d6e7694ca8d118b0d0f1 from traverse
# 3: Recovered known id 00362c60977b2c2ebec9679e1d101a32 from traverse
# 4: Recovered known id 970b9af7853607ceba1b3873afaa63fb from traverse
# Skipping dsn 'dbi:SQLite:dbname=/tmp/sessions.sqlite' because the SQLite directory does not exist
t/traverse.t ..... ok
All tests successful.
Files=3, Tests=52,  7 wallclock secs ( 0.06 usr  0.02 sys +  0.81 cusr  0.11 csys =  1.00 CPU)
Result: PASS

------------------------------
PREREQUISITES
------------------------------

Prerequisite modules loaded:

requires:

    Module                   Need     Have    
    ------------------------ -------- --------
    autovivification         0        0.18    
    CGI                      3.63     4.67    
    Class::Load              0.19     0.25    
    Config::Tiny             2.14     2.30    
    Data::Dumper             2.145    2.189   
    Data::UUID               1.218    1.227   
    DBD::SQLite              1.39     1.76    
    DBI                      1.627    1.647   
    DBIx::Admin::CreateTable 2.07     2.11    
    Digest::MD5              2.52     2.58_01 
    Digest::SHA              5.84     6.04    
    Fcntl                    1.06     1.18    
    File::Basename           2.77     2.86    
    File::Path               2.07     2.18    
    File::Slurper            0.012    0.014   
    File::Spec               3.3      3.91    
    File::Temp               0.22     0.2311  
    FreezeThaw               0.5001   0.5001  
    Hash::FieldHash          0.14     0.15    
    JSON                     2.59     4.10    
    overload                 0        1.37    
    parent                   0        0.244   
    Safe                     2.35     2.46    
    Scalar::Util             1.27     1.63    
    Storable                 2.39     3.32    
    strict                   0        1.13    
    Try::Tiny                0.12     0.32    
    vars                     0        1.05    
    warnings                 0        1.70    
    YAML::Tiny               1.51     1.76    

build_requires:

    Module                   Need     Have    
    ------------------------ -------- --------
    ExtUtils::MakeMaker      0        7.72    
    Test::More               1.001014 1.302210
    Test::Pod                1.48     1.52    

configure_requires:

    Module                   Need     Have    
    ------------------------ -------- --------
    ExtUtils::MakeMaker      0        7.72    


------------------------------
ENVIRONMENT AND OTHER CONTEXT
------------------------------

Environment variables:

    AUTOMATED_TESTING = 1
    LANG = en_US.UTF-8
    LC_ADDRESS = de_DE.UTF-8
    LC_IDENTIFICATION = de_DE.UTF-8
    LC_MEASUREMENT = de_DE.UTF-8
    LC_MONETARY = de_DE.UTF-8
    LC_NAME = de_DE.UTF-8
    LC_NUMERIC = de_DE.UTF-8
    LC_PAPER = de_DE.UTF-8
    LC_TELEPHONE = de_DE.UTF-8
    LC_TIME = de_DE.UTF-8
    PATH = /home/sand/bin:/usr/local/bin:/usr/local/sbin:/usr/sbin:/usr/bin:/sbin:/bin:/usr/games:/usr/local/games:/snap/bin:/usr/local/perl/bin:/usr/X11/bin
    PERL = /tmp/basesmoker-reloperl-WLyo/bin/perl
    PERL5LIB = 
    PERL5OPT = 
    PERL5_CPANPLUS_IS_RUNNING = 4051755
    PERL5_CPAN_IS_RUNNING = 4051755
    PERL_CANARY_STABILITY_NOPROMPT = 1
    PERL_MM_USE_DEFAULT = 1
    PERL_USE_UNSAFE_INC = 1
    SHELL = /usr/bin/zsh
    TERM = screen

Perl special variables (and OS-specific diagnostics, for MSWin32):

    $^X = /tmp/basesmoker-reloperl-WLyo/bin/perl
    $UID/$EUID = 1005 / 1005
    $GID = 1005 1005
    $EGID = 1005 1005

Perl module toolchain versions installed:

    Module              Have    
    ------------------- --------
    CPAN                2.38    
    CPAN::Meta          2.150010
    Cwd                 3.91    
    ExtUtils::CBuilder  0.280240
    ExtUtils::Command   7.72    
    ExtUtils::Install   2.22    
    ExtUtils::MakeMaker 7.72    
    ExtUtils::Manifest  1.75    
    ExtUtils::ParseXS   3.51    
    File::Spec          3.91    
    JSON                4.10    
    JSON::PP            4.16    
    Module::Build       0.4234  
    Module::Signature   0.89    
    Parse::CPAN::Meta   2.150010
    Test2               1.302210
    Test::Harness       3.50    
    Test::More          1.302210
    YAML                1.31    
    YAML::Syck          1.34    
    version             0.9933  


--

Summary of my perl5 (revision 5 version 40 subversion 2) configuration:
   
  Platform:
    osname=linux
    osvers=6.8.0-52-generic
    archname=x86_64-linux-thread-multi-ld
    uname='linux k93jammy 6.8.0-52-generic #53~22.04.1-ubuntu smp preempt_dynamic wed jan 15 19:18:46 utc 2 x86_64 x86_64 x86_64 gnulinux '
    config_args='-Dprefix=/home/sand/src/perl/repoperls/installed-perls/host/k93jammy/perl-5.40.2-RC1/322f -Dmyhostname=k93jammy -Dinstallusrbinperl=n -Uversiononly -Dusedevel -des -Ui_db -Dlibswanted=cl pthread socket inet nsl gdbm dbm malloc dl ld sun m crypt sec util c cposix posix ucb BSD gdbm_compat -Duseithreads -Duselongdouble -DEBUGGING=-g'
    hint=recommended
    useposix=true
    d_sigaction=define
    useithreads=define
    usemultiplicity=define
    use64bitint=define
    use64bitall=define
    uselongdouble=define
    usemymalloc=n
    default_inc_excludes_dot=define
  Compiler:
    cc='cc'
    ccflags ='-D_REENTRANT -D_GNU_SOURCE -fwrapv -fno-strict-aliasing -pipe -fstack-protector-strong -I/usr/local/include -D_LARGEFILE_SOURCE -D_FILE_OFFSET_BITS=64'
    optimize='-O2 -g'
    cppflags='-D_REENTRANT -D_GNU_SOURCE -fwrapv -fno-strict-aliasing -pipe -fstack-protector-strong -I/usr/local/include'
    ccversion=''
    gccversion='11.4.0'
    gccosandvers=''
    intsize=4
    longsize=8
    ptrsize=8
    doublesize=8
    byteorder=12345678
    doublekind=3
    d_longlong=define
    longlongsize=8
    d_longdbl=define
    longdblsize=16
    longdblkind=3
    ivtype='long'
    ivsize=8
    nvtype='long double'
    nvsize=16
    Off_t='off_t'
    lseeksize=8
    alignbytes=16
    prototype=define
  Linker and Libraries:
    ld='cc'
    ldflags =' -fstack-protector-strong -L/usr/local/lib'
    libpth=/usr/local/lib /usr/lib/x86_64-linux-gnu /usr/lib /usr/lib64
    libs=-lpthread -lnsl -ldl -lm -lcrypt -lutil -lc
    perllibs=-lpthread -lnsl -ldl -lm -lcrypt -lutil -lc
    libc=/lib/x86_64-linux-gnu/libc.so.6
    so=so
    useshrplib=false
    libperl=libperl.a
    gnulibc_version='2.35'
  Dynamic Linking:
    dlsrc=dl_dlopen.xs
    dlext=so
    d_dlsymun=undef
    ccdlflags='-Wl,-E'
    cccdlflags='-fPIC'
    lddlflags='-shared -O2 -g -L/usr/local/lib -fstack-protector-strong'


Characteristics of this binary (from libperl): 
  Compile-time options:
    HAS_LONG_DOUBLE
    HAS_STRTOLD
    HAS_TIMES
    MULTIPLICITY
    PERLIO_LAYERS
    PERL_COPY_ON_WRITE
    PERL_DONT_CREATE_GVSV
    PERL_HASH_FUNC_SIPHASH13
    PERL_HASH_USE_SBOX32
    PERL_MALLOC_WRAP
    PERL_OP_PARENT
    PERL_PRESERVE_IVUV
    PERL_USE_DEVEL
    PERL_USE_SAFE_PUTENV
    USE_64_BIT_ALL
    USE_64_BIT_INT
    USE_ITHREADS
    USE_LARGE_FILES
    USE_LOCALE
    USE_LOCALE_COLLATE
    USE_LOCALE_CTYPE
    USE_LOCALE_NUMERIC
    USE_LOCALE_TIME
    USE_LONG_DOUBLE
    USE_PERLIO
    USE_PERL_ATOF
    USE_REENTRANT_API
    USE_THREAD_SAFE_LOCALE
  Locally applied patches:
    RC1
  Built under linux
  Compiled at Mar 30 2025 18:54:35
  %ENV:
    PERL="/tmp/basesmoker-reloperl-WLyo/bin/perl"
    PERL5LIB=""
    PERL5OPT=""
    PERL5_CPANPLUS_IS_RUNNING="4051755"
    PERL5_CPAN_IS_RUNNING="4051755"
    PERL_CANARY_STABILITY_NOPROMPT="1"
    PERL_MM_USE_DEFAULT="1"
    PERL_USE_UNSAFE_INC="1"
  @INC:
    /home/sand/src/perl/repoperls/installed-perls/host/k93jammy/perl-5.40.2-RC1/322f/lib/site_perl/5.40.2/x86_64-linux-thread-multi-ld
    /home/sand/src/perl/repoperls/installed-perls/host/k93jammy/perl-5.40.2-RC1/322f/lib/site_perl/5.40.2
    /home/sand/src/perl/repoperls/installed-perls/host/k93jammy/perl-5.40.2-RC1/322f/lib/5.40.2/x86_64-linux-thread-multi-ld
    /home/sand/src/perl/repoperls/installed-perls/host/k93jammy/perl-5.40.2-RC1/322f/lib/5.40.2
    .