Back
From: metabase:user:322ec32c-2aae-11df-837a-5e0a49663a4f
Subject: PASS Test-Portability-Files-0.06 v5.22.0 Mac OS X
Date: 2015-06-03T07:37:49Z
This distribution has been tested as part of the CPAN Testers
project, supporting the Perl programming language. See
http://wiki.cpantesters.org/ for more information or email
questions to cpan-testers-discuss@perl.org
--
Dear Alexander Hartmaier,
This is a computer-generated error report created automatically by
CPANPLUS, version 0.9152. Testers personal comments may appear
at the end of this report.
Thank you for uploading your work to CPAN. Congratulations!
All tests were successful.
TEST RESULTS:
Below is the error stack from stage 'make test':
PERL_DL_NONLAZY=1 "/Users/vincent/perl/builds/5.22.0/bin/perl" "-MExtUtils::Command::MM" "-MTest::Harness" "-e" "undef *Test::Harness::Switches; test_harness(0, 'blib/lib', 'blib/arch')" t/*.t
t/00-compile.t ............... ok
t/01basic.t .................. ok
t/author-critic.t ............ skipped: these tests are for testing by the author
t/author-test-eol.t .......... skipped: these tests are for testing by the author
t/portfs.t ................... ok
t/release-cpan-changes.t ..... skipped: these tests are for release candidate testing
t/release-dist-manifest.t .... skipped: these tests are for release candidate testing
t/release-distmeta.t ......... skipped: these tests are for release candidate testing
t/release-kwalitee.t ......... skipped: these tests are for release candidate testing
t/release-meta-json.t ........ skipped: these tests are for release candidate testing
t/release-minimum-version.t .. skipped: these tests are for release candidate testing
t/release-mojibake.t ......... skipped: these tests are for release candidate testing
t/release-no-tabs.t .......... skipped: these tests are for release candidate testing
t/release-pod-coverage.t ..... skipped: these tests are for release candidate testing
t/release-pod-linkcheck.t .... skipped: these tests are for release candidate testing
t/release-pod-syntax.t ....... skipped: these tests are for release candidate testing
t/release-portability.t ...... skipped: these tests are for release candidate testing
t/release-synopsis.t ......... skipped: these tests are for release candidate testing
t/release-test-version.t ..... skipped: these tests are for release candidate testing
t/release-unused-vars.t ...... skipped: these tests are for release candidate testing
All tests successful.
Files=20, Tests=5, 0 wallclock secs ( 0.07 usr 0.04 sys + 0.52 cusr 0.09 csys = 0.72 CPU)
Result: PASS
PREREQUISITES:
Here is a list of prerequisites you specified and versions we
managed to load:
Module Name Have Want
File::Basename 2.85 0
File::Find 1.29 0
File::Spec 3.56 0
Test::Builder 1.001014 0
Test::More 1.001014 0.98
Perl module toolchain versions installed:
Module Name Have
CPANPLUS 0.9152
CPANPLUS::Dist::Build 0.78
Cwd 3.56
ExtUtils::CBuilder 0.280223
ExtUtils::Command 1.20
ExtUtils::Install 2.04
ExtUtils::MakeMaker 7.04_01
ExtUtils::Manifest 1.70
ExtUtils::ParseXS 3.28
File::Spec 3.56
Module::Build 0.4212
Pod::Parser 1.63
Pod::Simple 3.30
Test::Harness 3.35
Test::More 1.001014
version 0.9912
******************************** NOTE ********************************
The comments above are created mechanically, possibly without manual
checking by the sender. As there are many people performing automatic
tests on each upload to CPAN, it is likely that you will receive
identical messages about the same problem.
If you believe that the message is mistaken, please reply to the first
one with correction and/or additional informations, and do not take
it personally. We appreciate your patience. :)
**********************************************************************
Additional comments:
--
Summary of my perl5 (revision 5 version 22 subversion 0) configuration:
Platform:
osname=darwin, osvers=13.4.0, archname=darwin-2level
uname='darwin vega.home 13.4.0 darwin kernel version 13.4.0: wed mar 18 16:20:14 pdt 2015; root:xnu-2422.115.14~1release_x86_64 x86_64 '
config_args='-Doptimize=-march=native -O3 -fomit-frame-pointer -ftree-vectorize -pipe -DNDEBUG -des -Dman1dir=none -Dman3dir=none -Dcf_email=vpit@cpan.org -Dmydomain=vega.home -DEBUGGING=none -Dprefix=/Users/vincent/perl/builds/5.22.0'
hint=recommended, useposix=true, d_sigaction=define
useithreads=undef, usemultiplicity=undef
use64bitint=define, use64bitall=define, uselongdouble=undef
usemymalloc=n, bincompat5005=undef
Compiler:
cc='cc', ccflags ='-fno-common -DPERL_DARWIN -fno-strict-aliasing -pipe -fstack-protector -I/usr/local/include',
optimize='-march=native -O3 -fomit-frame-pointer -ftree-vectorize -pipe -DNDEBUG',
cppflags='-fno-common -DPERL_DARWIN -fno-strict-aliasing -pipe -fstack-protector -I/usr/local/include'
ccversion='', gccversion='4.2.1 Compatible Apple LLVM 6.0 (clang-600.0.57)', gccosandvers=''
intsize=4, longsize=8, ptrsize=8, doublesize=8, byteorder=12345678, doublekind=3
d_longlong=define, longlongsize=8, d_longdbl=define, longdblsize=16, longdblkind=3
ivtype='long', ivsize=8, nvtype='double', nvsize=8, Off_t='off_t', lseeksize=8
alignbytes=8, prototype=define
Linker and Libraries:
ld='env MACOSX_DEPLOYMENT_TARGET=10.3 cc', ldflags =' -fstack-protector -L/usr/local/lib'
libpth=/usr/local/lib /Library/Developer/CommandLineTools/usr/bin/../lib/clang/6.0/lib /Library/Developer/CommandLineTools/usr/lib /usr/lib
libs=-lpthread -lgdbm -ldbm -ldl -lm -lutil -lc
perllibs=-lpthread -ldl -lm -lutil -lc
libc=, so=dylib, useshrplib=false, libperl=libperl.a
gnulibc_version=''
Dynamic Linking:
dlsrc=dl_dlopen.xs, dlext=bundle, d_dlsymun=undef, ccdlflags=' '
cccdlflags=' ', lddlflags=' -bundle -undefined dynamic_lookup -L/usr/local/lib -fstack-protector'
Characteristics of this binary (from libperl):
Compile-time options: HAS_TIMES PERLIO_LAYERS PERL_DONT_CREATE_GVSV
PERL_HASH_FUNC_ONE_AT_A_TIME_HARD PERL_MALLOC_WRAP
PERL_NEW_COPY_ON_WRITE PERL_PRESERVE_IVUV
USE_64_BIT_ALL USE_64_BIT_INT USE_LARGE_FILES
USE_LOCALE USE_LOCALE_COLLATE USE_LOCALE_CTYPE
USE_LOCALE_NUMERIC USE_LOCALE_TIME USE_PERLIO
USE_PERL_ATOF
Built under darwin
Compiled at Jun 3 2015 09:13:29
%ENV:
PERL5LIB=":/tmp/vincent/vincent/.cpanplus/build/f9a8dd2233672483522d05af1e0f4f98/Test-Portability-Files-0.06/blib/lib:/tmp/vincent/vincent/.cpanplus/build/f9a8dd2233672483522d05af1e0f4f98/Test-Portability-Files-0.06/blib/arch"
PERL5_CPANPLUS_IS_RUNNING="77123"
PERL5_CPANPLUS_IS_VERSION="0.9152"
PERLDOC_PAGER="less -R"
PERL_READLINE_NOWARN="1"
@INC:
/tmp/vincent/vincent/.cpanplus/build/f9a8dd2233672483522d05af1e0f4f98/Test-Portability-Files-0.06/blib/lib
/tmp/vincent/vincent/.cpanplus/build/f9a8dd2233672483522d05af1e0f4f98/Test-Portability-Files-0.06/blib/arch
/Users/vincent/perl/builds/5.22.0/lib/site_perl/5.22.0/darwin-2level
/Users/vincent/perl/builds/5.22.0/lib/site_perl/5.22.0
/Users/vincent/perl/builds/5.22.0/lib/5.22.0/darwin-2level
/Users/vincent/perl/builds/5.22.0/lib/5.22.0
.