Spreadsheet-Read v0.93 Perl 5 v5.41.10 x86_64-linux

Status
Pass
From
Carlos Guevara
Dist
Spreadsheet-Read v0.93
Platform
Perl 5 v5.41.10 x86_64-linux
Date
2025-03-20 07:17:51
ID
6f3d70fe-055b-11f0-94b8-ffa01250943c
This distribution has been tested as part of the CPAN Testers
project, supporting the Perl programming language.  See
http://wiki.cpantesters.org/ for more information or email
questions to cpan-testers-discuss@perl.org


--
Dear H.Merijn Brand,

This is a computer-generated report for Spreadsheet-Read-0.93
on perl 5.41.10, created by CPAN-Reporter-1.2020.

Thank you for uploading your work to CPAN.  Congratulations!
All tests were successful.

Sections of this report:

    * Tester comments
    * Program output
    * Prerequisites
    * Environment and other context

------------------------------
TESTER COMMENTS
------------------------------

Additional comments from tester:

this report is from an automated smoke testing program
and was not reviewed by a human for accuracy

------------------------------
PROGRAM OUTPUT
------------------------------

Output from '/usr/bin/make test':

PERL_DL_NONLAZY=1 "/home/cpan/bin/perl/bin/perl5.41.10" "-MExtUtils::Command::MM" "-MTest::Harness" "-e" "undef *Test::Harness::Switches; test_harness(0, 'blib/lib', 'blib/arch')" t/*.t
t/10_basics.t ..... ok
t/11_call.t ....... ok
# Parser: Text::CSV_XS-1.60
t/200_csv.t ....... ok
t/201_csv.t ....... ok
t/202_csv.t ....... ok
t/203_csv.t ....... ok
t/204_csv.t ....... ok
t/205_csv.t ....... ok
# Parser: Text::CSV_XS-1.60
t/210_csv.t ....... ok
t/211_csv.t ....... ok
t/212_csv.t ....... ok
t/213_csv.t ....... ok
t/214_csv.t ....... ok
# Parser: Text::CSV_PP-2.06
t/220_csv.t ....... ok
t/221_csv.t ....... ok
t/222_csv.t ....... ok
t/223_csv.t ....... ok
t/224_csv.t ....... ok
t/30_xls.t ........ skipped: No M$-Excel parser found
t/31_clr.t ........ skipped: No M$-Excel parser found
t/32_fmt.t ........ skipped: No M$-Excel parser found
t/33_misc.t ....... skipped: No M$-Excel parser found
t/34_dates.t ...... skipped: No M$-Excel parser found
t/35_perc.t ....... skipped: No M$-Excel parser found
t/36_xls.t ........ skipped: No M$-Excel parser found
t/37_merged.t ..... skipped: No M$-Excel parser found
t/410_ods.t ....... skipped: Cannot use Spreadsheet::ParseODS
t/411_clr.t ....... skipped: Cannot use Spreadsheet::ParseODS
t/412_fmt.t ....... skipped: Cannot use Spreadsheet::ParseODS
t/413_misc.t ...... skipped: Cannot use Spreadsheet::ParseODS
t/414_dates.t ..... skipped: Cannot use Spreadsheet::ParseODS
t/415_perc.t ...... skipped: Cannot use Spreadsheet::ParseODS
t/417_merged.t .... skipped: Cannot use Spreadsheet::ParseODS
t/420_sxc.t ....... skipped: No SXC parser found
t/425_ods.t ....... skipped: No SXC parser found
t/426_clr.t ....... ok
# Parser: Spreadsheet::Read-0.93
t/50_sc.t ......... ok
t/51_sc.t ......... ok
t/600_xlsx.t ...... skipped: No MS-Excel parser found
t/601_clr.t ....... skipped: No MS-Excel parser found
t/602_fmt.t ....... skipped: No MS-Excel parser found
t/603_misc.t ...... skipped: No MS-Excel parser found
t/604_dates.t ..... skipped: No MS-Excel parser found
t/605_perc.t ...... skipped: No MS-Excel parser found
t/607_merged.t .... skipped: No MS-Excel parser found
t/610_xlsx.t ...... skipped: Cannot use Spreadsheet::ParseXLSX
t/611_clr.t ....... skipped: Cannot use Spreadsheet::ParseXLSX
t/612_fmt.t ....... skipped: Cannot use Spreadsheet::ParseXLSX
t/613_misc.t ...... skipped: Cannot use Spreadsheet::ParseXLSX
t/614_dates.t ..... skipped: Cannot use Spreadsheet::ParseXLSX
t/615_perc.t ...... skipped: Cannot use Spreadsheet::ParseXLSX
t/617_merged.t .... skipped: Cannot use Spreadsheet::ParseXLSX
t/620_xlsx.t ...... skipped: Cannot use Spreadsheet::XLSX
t/621_clr.t ....... skipped: Cannot use Spreadsheet::XLSX
t/622_fmt.t ....... skipped: Cannot use Spreadsheet::XLSX
t/623_misc.t ...... skipped: Cannot use Spreadsheet::XLSX
t/624_dates.t ..... skipped: Cannot use Spreadsheet::XLSX
t/625_perc.t ...... skipped: Cannot use Spreadsheet::XLSX
t/627_merged.t .... ok
t/630_xlsx.t ...... skipped: Cannot use Excel::ValueReader::XLSX
t/631_clr.t ....... skipped: Cannot use Excel::ValueReader::XLSX
t/632_fmt.t ....... skipped: Cannot use Excel::ValueReader::XLSX
t/633_misc.t ...... skipped: Cannot use Excel::ValueReader::XLSX
t/634_dates.t ..... skipped: Cannot use Excel::ValueReader::XLSX
t/635_perc.t ...... skipped: Cannot use Excel::ValueReader::XLSX
t/637_merged.t .... skipped: Cannot use Excel::ValueReader::XLSX
t/700_gnumeric.t .. skipped: No Gnumeric parser found
t/701_clr.t ....... skipped: No Gnumeric parser found
t/702_fmt.t ....... skipped: No Gnumeric parser found
t/704_dates.t ..... skipped: Cannot use Spreadsheet::ReadGnumeric
t/707_merged.t .... skipped: Cannot use Spreadsheet::ReadGnumeric
t/999_fail.t ...... ok
All tests successful.
Files=72, Tests=2108,  7 wallclock secs ( 0.26 usr  0.04 sys +  5.25 cusr  1.23 csys =  6.78 CPU)
Result: PASS

------------------------------
PREREQUISITES
------------------------------

Prerequisite modules loaded:

requires:

    Module              Need Have    
    ------------------- ---- --------
    Carp                0    1.54    
    Data::Dumper        0    2.191   
    Encode              0    3.21    
    Exporter            0    5.79    
    File::Temp          0.22 0.2311  
    IO::Scalar          0    2.113   
    List::Util          0    1.68_01 
    Test::More          0.88 1.302209
    Test::NoWarnings    0    1.06    

build_requires:

    Module              Need Have    
    ------------------- ---- --------
    ExtUtils::MakeMaker 0    7.72    
    Test::Harness       0    3.50    
    Test::More          0.88 1.302209
    Test::NoWarnings    0    1.06    

configure_requires:

    Module              Need Have    
    ------------------- ---- --------
    ExtUtils::MakeMaker 0    7.72    


------------------------------
ENVIRONMENT AND OTHER CONTEXT
------------------------------

Environment variables:

    AUTOMATED_TESTING = 1
    DATE_MANIP_TEST_DM5 = 1
    LANG = C.UTF-8
    LC_COLLATE = C
    NONINTERACTIVE_TESTING = 1
    NO_NETWORK_TESTING = 1
    PATH = /home/cpan/bin/perl/bin:/usr/local/sbin:/usr/local/bin:/usr/sbin:/usr/bin:/sbin:/bin
    PERL5LIB = 
    PERL5OPT = 
    PERL5_CPANPLUS_IS_RUNNING = 9133
    PERL5_CPAN_IS_RUNNING = 9133
    PERL_MM_USE_DEFAULT = 1
    PERL_USE_UNSAFE_INC = 1
    SHELL = /bin/bash
    TERM = screen

Perl special variables (and OS-specific diagnostics, for MSWin32):

    $^X = /home/cpan/bin/perl/bin/perl5.41.10
    $UID/$EUID = 1001 / 1001
    $GID = 1001 1001
    $EGID = 1001 1001

Perl module toolchain versions installed:

    Module              Have    
    ------------------- --------
    CPAN                2.38    
    CPAN::Meta          2.150010
    Cwd                 3.92    
    ExtUtils::CBuilder  0.280240
    ExtUtils::Command   7.72    
    ExtUtils::Install   2.22    
    ExtUtils::MakeMaker 7.72    
    ExtUtils::Manifest  1.75    
    ExtUtils::ParseXS   3.57    
    File::Spec          3.93    
    JSON                4.10    
    JSON::PP            4.16    
    Module::Build       0.4234  
    Module::Signature   n/a     
    Parse::CPAN::Meta   2.150010
    Test2               1.302209
    Test::Harness       3.50    
    Test::More          1.302209
    YAML                1.31    
    YAML::Syck          1.34    
    version             0.9933  


--

Summary of my perl5 (revision 5 version 41 subversion 10) configuration:
  Commit id: abaee7c6ca652e5e74f8bc3ebffc49a92341bd65
  Platform:
    osname=linux
    osvers=6.12.18-0-lts
    archname=x86_64-linux
    uname='linux cjg-alpine3 6.12.18-0-lts #1-alpine smp preempt_dynamic 2025-03-10 19:21:24 x86_64 linux '
    config_args='-des -Dprefix=/home/cpan/bin/perl -Dscriptdir=/home/cpan/bin/perl/bin -Dusedevel -Duse64bitall'
    hint=recommended
    useposix=true
    d_sigaction=define
    useithreads=undef
    usemultiplicity=undef
    use64bitint=define
    use64bitall=define
    uselongdouble=undef
    usemymalloc=n
    default_inc_excludes_dot=define
  Compiler:
    cc='cc'
    ccflags ='-D_GNU_SOURCE -fwrapv -fno-strict-aliasing -pipe -fstack-protector-strong -D_LARGEFILE_SOURCE -D_FILE_OFFSET_BITS=64'
    optimize='-O2'
    cppflags='-D_GNU_SOURCE -fwrapv -fno-strict-aliasing -pipe -fstack-protector-strong'
    ccversion=''
    gccversion='14.2.0'
    gccosandvers=''
    intsize=4
    longsize=8
    ptrsize=8
    doublesize=8
    byteorder=12345678
    doublekind=3
    d_longlong=define
    longlongsize=8
    d_longdbl=define
    longdblsize=16
    longdblkind=3
    ivtype='long'
    ivsize=8
    nvtype='double'
    nvsize=8
    Off_t='off_t'
    lseeksize=8
    alignbytes=8
    prototype=define
  Linker and Libraries:
    ld='cc'
    ldflags =' -fstack-protector-strong -L/usr/local/lib'
    libpth=/usr/lib /usr/local/lib /lib
    libs=-lpthread -ldb -ldl -lm -lcrypt -lutil -lc
    perllibs=-lpthread -ldl -lm -lcrypt -lutil -lc
    libc=/usr/lib/libc.a
    so=so
    useshrplib=false
    libperl=libperl.a
    gnulibc_version=''
  Dynamic Linking:
    dlsrc=dl_dlopen.xs
    dlext=so
    d_dlsymun=undef
    ccdlflags='-Wl,-E'
    cccdlflags='-fPIC'
    lddlflags='-shared -O2 -L/usr/local/lib -fstack-protector-strong'


Characteristics of this binary (from libperl): 
  Compile-time options:
    HAS_LONG_DOUBLE
    HAS_STRTOLD
    HAS_TIMES
    PERLIO_LAYERS
    PERL_COPY_ON_WRITE
    PERL_DONT_CREATE_GVSV
    PERL_HASH_FUNC_SIPHASH13
    PERL_HASH_USE_SBOX32
    PERL_MALLOC_WRAP
    PERL_OP_PARENT
    PERL_PRESERVE_IVUV
    PERL_USE_DEVEL
    PERL_USE_SAFE_PUTENV
    USE_64_BIT_ALL
    USE_64_BIT_INT
    USE_LARGE_FILES
    USE_LOCALE
    USE_LOCALE_COLLATE
    USE_LOCALE_CTYPE
    USE_LOCALE_NUMERIC
    USE_LOCALE_TIME
    USE_PERLIO
    USE_PERL_ATOF
  Built under linux
  Compiled at Mar 19 2025 23:55:11
  %ENV:
    PERL5LIB=""
    PERL5OPT=""
    PERL5_CPANPLUS_IS_RUNNING="9133"
    PERL5_CPAN_IS_RUNNING="9133"
    PERL_MM_USE_DEFAULT="1"
    PERL_USE_UNSAFE_INC="1"
  @INC:
    /home/cpan/bin/perl/lib/site_perl/5.41.10/x86_64-linux
    /home/cpan/bin/perl/lib/site_perl/5.41.10
    /home/cpan/bin/perl/lib/5.41.10/x86_64-linux
    /home/cpan/bin/perl/lib/5.41.10
    .