Report for GraphViz2-Abstract-Node-0.002000

Back
From: metabase:user:314402c4-2aae-11df-837a-5e0a49663a4f
Subject: PASS GraphViz2-Abstract-Node-0.002000 v5.22.1 GNU/Linux
Date: 2015-12-18T11:28:17Z

This distribution has been tested as part of the CPAN Testers
project, supporting the Perl programming language.  See
http://wiki.cpantesters.org/ for more information or email
questions to cpan-testers-discuss@perl.org


--
Dear Kent Fredric,

This is a computer-generated report for GraphViz2-Abstract-Node-0.002000
on perl 5.22.1, created by CPAN-Reporter-1.2015.

Thank you for uploading your work to CPAN.  Congratulations!
All tests were successful.

Sections of this report:

    * Tester comments
    * Program output
    * Prerequisites
    * Environment and other context

------------------------------
TESTER COMMENTS
------------------------------

Additional comments from tester:

none provided

------------------------------
PROGRAM OUTPUT
------------------------------

Output from './Build test':

t/00-compile/lib_GraphViz2_Abstract_Node_pm.t .. ok
# 
# 
# Generated by Dist::Zilla::Plugin::ReportVersions::Tiny v1.10
# perl: 5.022001 (wanted 5.014002) on linux from /bbbike/perl-5.22.1/bin/perl
# 
# Carp                                          => 1.38       (want any version)
# Class::Tiny                                   => 1.004      (want any version)
# GraphViz2                                     => 2.37       (want any version)
# GraphViz2::Abstract::Util::Constants          => 0.001000   (want any version)
# Module::Build                                 => 0.4214     (want 0.4203) 
# Path::Tiny                                    => 0.076      (want any version)
# Scalar::Util                                  => 1.42       (want any version)
# Test::Fatal                                   => 0.014      (want any version)
# Test::More                                    => 1.001014   (want 1.001002)
# parent                                        => 0.234      (want any version)
# strict                                        => 1.09       (want any version)
# utf8                                          => 1.17       (want any version)
# warnings                                      => 1.34       (want any version)
# 
# Thanks for using my code.  I hope it works for you.
# If not, please try and include this output in the bug report.
# That will help me reproduce the issue and solve your problem.
# 
t/000-report-versions-tiny.t ................... ok
t/atts_valid.t ................................. ok
t/basic.t ...................................... ok
t/subclass.t ................................... ok
All tests successful.
Files=5, Tests=14,  0 wallclock secs ( 0.03 usr  0.03 sys +  0.26 cusr  0.12 csys =  0.44 CPU)
Result: PASS

------------------------------
PREREQUISITES
------------------------------

Prerequisite modules loaded:

requires:

    Module                               Need     Have    
    ------------------------------------ -------- --------
    Carp                                 0        1.38    
    Class::Tiny                          0        1.004   
    GraphViz2::Abstract::Util::Constants 0        0.001000
    perl                                 5.014002 5.022001
    Scalar::Util                         0        1.42    
    strict                               0        1.09    
    utf8                                 0        1.17    
    warnings                             0        1.34    

build_requires:

    Module                               Need     Have    
    ------------------------------------ -------- --------
    GraphViz2                            0        2.37    
    Module::Build                        0.4203   0.4214  
    parent                               0        0.234   
    Path::Tiny                           0        0.076   
    Test::Fatal                          0        0.014   
    Test::More                           1.001002 1.001014

configure_requires:

    Module                               Need     Have    
    ------------------------------------ -------- --------
    Module::Build                        0.4203   0.4214  


------------------------------
ENVIRONMENT AND OTHER CONTEXT
------------------------------

Environment variables:

    LANG = C
    PATH = /usr/local/bin:/usr/bin:/bin:/usr/local/sbin:/usr/sbin:/sbin:/home/eserte/bin/linux-gnu:/home/eserte/bin/sh:/home/eserte/bin:/usr/games:/home/eserte/devel:/home/eserte/src/srezic-misc/scripts
    PERL5LIB = /home/eserte/.cpan/build/2015121809/GraphViz2-Abstract-Edge-0.002000-Mkiaq8/blib/arch:/home/eserte/.cpan/build/2015121809/GraphViz2-Abstract-Edge-0.002000-Mkiaq8/blib/lib:/home/eserte/.cpan/build/2015121809/GraphViz2-Abstract-Util-Constants-0.001000-7290B1/blib/arch:/home/eserte/.cpan/build/2015121809/GraphViz2-Abstract-Util-Constants-0.001000-7290B1/blib/lib:/home/eserte/.cpan/build/2015121809/Encode-BetaCode-0.07-KgNw8m/blib/arch:/home/eserte/.cpan/build/2015121809/Encode-BetaCode-0.07-KgNw8m/blib/lib:/home/eserte/.cpan/build/2015121809/Web-XDO-0.11-StcxCr/blib/arch:/home/eserte/.cpan/build/2015121809/Web-XDO-0.11-StcxCr/blib/lib
    PERL5OPT = 
    PERL5_CPANPLUS_IS_RUNNING = 25282
    PERL5_CPAN_IS_RUNNING = 25282
    PERL5_CPAN_IS_RUNNING_IN_RECURSION = 29981,25282
    PERLDOC = -MPod::Perldoc::ToTextOverstrike
    PERL_BATCH = yes
    PERL_CANARY_STABILITY_NOPROMPT = 1
    PERL_CPAN_REPORTER_CONFIG = /var/tmp/cpansmoker-1001/2015121809/cpanreporter_000_config.ini
    PERL_EXTUTILS_AUTOINSTALL = --defaultdeps
    SHELL = /bin/zsh
    TERM = screen
    TMPDIR = /var/tmp/cpansmoker-1001/2015121809

Perl special variables (and OS-specific diagnostics, for MSWin32):

    $^X = /bbbike/perl-5.22.1/bin/perl
    $UID/$EUID = 1001 / 1001
    $GID = 1001 109 1001
    $EGID = 1001 109 1001

Perl module toolchain versions installed:

    Module              Have    
    ------------------- --------
    CPAN                2.10    
    CPAN::Meta          2.150005
    Cwd                 3.60    
    ExtUtils::CBuilder  0.280224
    ExtUtils::Command   7.10    
    ExtUtils::Install   2.04    
    ExtUtils::MakeMaker 7.10    
    ExtUtils::Manifest  1.70    
    ExtUtils::ParseXS   3.30    
    File::Spec          3.60    
    JSON                2.90    
    JSON::PP            2.27300 
    Module::Build       0.4214  
    Module::Signature   n/a     
    Parse::CPAN::Meta   1.4417  
    Test::Harness       3.35    
    Test::More          1.001014
    YAML                1.15    
    YAML::Syck          1.29    
    version             0.9912  


--

Summary of my perl5 (revision 5 version 22 subversion 1) configuration:
   
  Platform:
    osname=linux, osvers=3.2.0-4-amd64, archname=x86_64-linux
    uname='linux eserte 3.2.0-4-amd64 #1 smp debian 3.2.68-1+deb7u6 x86_64 gnulinux '
    config_args='-ds -e -Dprefix=/opt/perl-5.22.1 -Dcf_email=srezic@cpan.org'
    hint=recommended, useposix=true, d_sigaction=define
    useithreads=undef, usemultiplicity=undef
    use64bitint=define, use64bitall=define, uselongdouble=undef
    usemymalloc=n, bincompat5005=undef
  Compiler:
    cc='cc', ccflags ='-fwrapv -fno-strict-aliasing -pipe -fstack-protector -I/usr/local/include -D_LARGEFILE_SOURCE -D_FILE_OFFSET_BITS=64 -D_FORTIFY_SOURCE=2',
    optimize='-O2',
    cppflags='-fwrapv -fno-strict-aliasing -pipe -fstack-protector -I/usr/local/include'
    ccversion='', gccversion='4.7.2', gccosandvers=''
    intsize=4, longsize=8, ptrsize=8, doublesize=8, byteorder=12345678, doublekind=3
    d_longlong=define, longlongsize=8, d_longdbl=define, longdblsize=16, longdblkind=3
    ivtype='long', ivsize=8, nvtype='double', nvsize=8, Off_t='off_t', lseeksize=8
    alignbytes=8, prototype=define
  Linker and Libraries:
    ld='cc', ldflags =' -fstack-protector -L/usr/local/lib'
    libpth=/usr/local/lib /usr/lib/gcc/x86_64-linux-gnu/4.7/include-fixed /usr/include/x86_64-linux-gnu /usr/lib /lib/x86_64-linux-gnu /lib/../lib /usr/lib/x86_64-linux-gnu /usr/lib/../lib /lib
    libs=-lpthread -lnsl -ldb -ldl -lm -lcrypt -lutil -lc
    perllibs=-lpthread -lnsl -ldl -lm -lcrypt -lutil -lc
    libc=libc-2.13.so, so=so, useshrplib=false, libperl=libperl.a
    gnulibc_version='2.13'
  Dynamic Linking:
    dlsrc=dl_dlopen.xs, dlext=so, d_dlsymun=undef, ccdlflags='-Wl,-E'
    cccdlflags='-fPIC', lddlflags='-shared -O2 -L/usr/local/lib -fstack-protector'


Characteristics of this binary (from libperl): 
  Compile-time options: HAS_TIMES PERLIO_LAYERS PERL_DONT_CREATE_GVSV
                        PERL_HASH_FUNC_ONE_AT_A_TIME_HARD PERL_MALLOC_WRAP
                        PERL_NEW_COPY_ON_WRITE PERL_PRESERVE_IVUV
                        USE_64_BIT_ALL USE_64_BIT_INT USE_LARGE_FILES
                        USE_LOCALE USE_LOCALE_COLLATE USE_LOCALE_CTYPE
                        USE_LOCALE_NUMERIC USE_LOCALE_TIME USE_PERLIO
                        USE_PERL_ATOF
  Built under linux
  Compiled at Dec 15 2015 06:36:58
  %ENV:
    PERL5LIB="/home/eserte/.cpan/build/2015121809/GraphViz2-Abstract-Edge-0.002000-Mkiaq8/blib/arch:/home/eserte/.cpan/build/2015121809/GraphViz2-Abstract-Edge-0.002000-Mkiaq8/blib/lib:/home/eserte/.cpan/build/2015121809/GraphViz2-Abstract-Util-Constants-0.001000-7290B1/blib/arch:/home/eserte/.cpan/build/2015121809/GraphViz2-Abstract-Util-Constants-0.001000-7290B1/blib/lib:/home/eserte/.cpan/build/2015121809/Encode-BetaCode-0.07-KgNw8m/blib/arch:/home/eserte/.cpan/build/2015121809/Encode-BetaCode-0.07-KgNw8m/blib/lib:/home/eserte/.cpan/build/2015121809/Web-XDO-0.11-StcxCr/blib/arch:/home/eserte/.cpan/build/2015121809/Web-XDO-0.11-StcxCr/blib/lib"
    PERL5OPT=""
    PERL5_CPANPLUS_IS_RUNNING="25282"
    PERL5_CPAN_IS_RUNNING="25282"
    PERL5_CPAN_IS_RUNNING_IN_RECURSION="29981,25282"
    PERLDOC="-MPod::Perldoc::ToTextOverstrike"
    PERL_BATCH="yes"
    PERL_CANARY_STABILITY_NOPROMPT="1"
    PERL_CPAN_REPORTER_CONFIG="/var/tmp/cpansmoker-1001/2015121809/cpanreporter_000_config.ini"
    PERL_EXTUTILS_AUTOINSTALL="--defaultdeps"
  @INC:
    /home/eserte/.cpan/build/2015121809/GraphViz2-Abstract-Edge-0.002000-Mkiaq8/blib/arch
    /home/eserte/.cpan/build/2015121809/GraphViz2-Abstract-Edge-0.002000-Mkiaq8/blib/lib
    /home/eserte/.cpan/build/2015121809/GraphViz2-Abstract-Util-Constants-0.001000-7290B1/blib/arch
    /home/eserte/.cpan/build/2015121809/GraphViz2-Abstract-Util-Constants-0.001000-7290B1/blib/lib
    /home/eserte/.cpan/build/2015121809/Encode-BetaCode-0.07-KgNw8m/blib/arch
    /home/eserte/.cpan/build/2015121809/Encode-BetaCode-0.07-KgNw8m/blib/lib
    /home/eserte/.cpan/build/2015121809/Web-XDO-0.11-StcxCr/blib/arch
    /home/eserte/.cpan/build/2015121809/Web-XDO-0.11-StcxCr/blib/lib
    /opt/perl-5.22.1/lib/site_perl/5.22.1/x86_64-linux
    /opt/perl-5.22.1/lib/site_perl/5.22.1
    /opt/perl-5.22.1/lib/5.22.1/x86_64-linux
    /opt/perl-5.22.1/lib/5.22.1
    .