Back
From: metabase:user:320bfe00-2aae-11df-837a-5e0a49663a4f
Subject: PASS Any-Renderer-Pretty-HTML-0.01 v5.17.2 GNU/Linux
Date: 2012-07-12T12:23:50Z
This distribution has been tested as part of the CPAN Testers
project, supporting the Perl programming language. See
http://wiki.cpantesters.org/ for more information or email
questions to cpan-testers-discuss@perl.org
--
Dear Steven Haryanto,
This is a computer-generated report for Any-Renderer-Pretty-HTML-0.01
on perl 5.17.2, created by CPAN-Reporter-1.2006.
Thank you for uploading your work to CPAN. Congratulations!
All tests were successful.
Sections of this report:
* Tester comments
* Program output
* Prerequisites
* Environment and other context
------------------------------
TESTER COMMENTS
------------------------------
Additional comments from tester:
this report is from an automated smoke testing program
and was not reviewed by a human for accuracy
------------------------------
PROGRAM OUTPUT
------------------------------
Output from './Build test':
defined(@array) is deprecated at /home/src/perl/repoperls/installed-perls/perl/v5.17.1-322-g5edb02d/165a/lib/site_perl/5.17.2/YAML/Any.pm line 98.
(Maybe you should just omit the defined()?)
t/00-compile.t ............ ok
defined(@array) is deprecated at /home/src/perl/repoperls/installed-perls/perl/v5.17.1-322-g5edb02d/165a/lib/site_perl/5.17.2/YAML/Any.pm line 98.
(Maybe you should just omit the defined()?)
Any::Renderer - problem loading backend module: Can't locate Any/Template.pm in @INC (@INC contains: /tmp/loop_over_bdir-qka_78/Any-Renderer-Pretty-HTML-0.01-zHdA8q/blib/lib /tmp/loop_over_bdir-qka_78/Any-Renderer-Pretty-HTML-0.01-zHdA8q/blib/arch /home/src/perl/repoperls/installed-perls/perl/v5.17.1-322-g5edb02d/165a/lib/site_perl/5.17.2/x86_64-linux /home/src/perl/repoperls/installed-perls/perl/v5.17.1-322-g5edb02d/165a/lib/site_perl/5.17.2 /home/src/perl/repoperls/installed-perls/perl/v5.17.1-322-g5edb02d/165a/lib/5.17.2/x86_64-linux /home/src/perl/repoperls/installed-perls/perl/v5.17.1-322-g5edb02d/165a/lib/5.17.2 .) at /home/src/perl/repoperls/installed-perls/perl/v5.17.1-322-g5edb02d/165a/lib/site_perl/5.17.2/Any/Renderer/Template.pm line 7.
BEGIN failed--compilation aborted at /home/src/perl/repoperls/installed-perls/perl/v5.17.1-322-g5edb02d/165a/lib/site_perl/5.17.2/Any/Renderer/Template.pm line 7.
Compilation failed in require at (eval 24) line 2.
Unescaped left brace in regex is deprecated, passed through in regex; marked by <-- HERE in m/\${ <-- HERE ([\w.]+)}/ at /home/src/perl/repoperls/installed-perls/perl/v5.17.1-322-g5edb02d/165a/lib/site_perl/5.17.2/XML/Simple.pm line 1013.
Unescaped left brace in regex is deprecated, passed through in regex; marked by <-- HERE in m/\${ <-- HERE (\w+)}/ at /home/src/perl/repoperls/installed-perls/perl/v5.17.1-322-g5edb02d/165a/lib/site_perl/5.17.2/XML/Simple.pm line 1050.
Any::Renderer - problem loading backend module: Can't locate Cache/AgainstFile.pm in @INC (@INC contains: /tmp/loop_over_bdir-qka_78/Any-Renderer-Pretty-HTML-0.01-zHdA8q/blib/lib /tmp/loop_over_bdir-qka_78/Any-Renderer-Pretty-HTML-0.01-zHdA8q/blib/arch /home/src/perl/repoperls/installed-perls/perl/v5.17.1-322-g5edb02d/165a/lib/site_perl/5.17.2/x86_64-linux /home/src/perl/repoperls/installed-perls/perl/v5.17.1-322-g5edb02d/165a/lib/site_perl/5.17.2 /home/src/perl/repoperls/installed-perls/perl/v5.17.1-322-g5edb02d/165a/lib/5.17.2/x86_64-linux /home/src/perl/repoperls/installed-perls/perl/v5.17.1-322-g5edb02d/165a/lib/5.17.2 .) at /home/src/perl/repoperls/installed-perls/perl/v5.17.1-322-g5edb02d/165a/lib/site_perl/5.17.2/Any/Renderer/XSLT.pm line 6.
BEGIN failed--compilation aborted at /home/src/perl/repoperls/installed-perls/perl/v5.17.1-322-g5edb02d/165a/lib/site_perl/5.17.2/Any/Renderer/XSLT.pm line 6.
Compilation failed in require at (eval 26) line 2.
Any::Renderer - problem loading backend module: Can't locate Hash/Flatten.pm in @INC (@INC contains: /tmp/loop_over_bdir-qka_78/Any-Renderer-Pretty-HTML-0.01-zHdA8q/blib/lib /tmp/loop_over_bdir-qka_78/Any-Renderer-Pretty-HTML-0.01-zHdA8q/blib/arch /home/src/perl/repoperls/installed-perls/perl/v5.17.1-322-g5edb02d/165a/lib/site_perl/5.17.2/x86_64-linux /home/src/perl/repoperls/installed-perls/perl/v5.17.1-322-g5edb02d/165a/lib/site_perl/5.17.2 /home/src/perl/repoperls/installed-perls/perl/v5.17.1-322-g5edb02d/165a/lib/5.17.2/x86_64-linux /home/src/perl/repoperls/installed-perls/perl/v5.17.1-322-g5edb02d/165a/lib/5.17.2 .) at /home/src/perl/repoperls/installed-perls/perl/v5.17.1-322-g5edb02d/165a/lib/site_perl/5.17.2/Any/Renderer/UrlEncoded.pm line 8.
BEGIN failed--compilation aborted at /home/src/perl/repoperls/installed-perls/perl/v5.17.1-322-g5edb02d/165a/lib/site_perl/5.17.2/Any/Renderer/UrlEncoded.pm line 8.
Compilation failed in require at (eval 27) line 2.
Any::Renderer - problem loading backend module: Can't locate Data/JavaScript/Anon.pm in @INC (@INC contains: /tmp/loop_over_bdir-qka_78/Any-Renderer-Pretty-HTML-0.01-zHdA8q/blib/lib /tmp/loop_over_bdir-qka_78/Any-Renderer-Pretty-HTML-0.01-zHdA8q/blib/arch /home/src/perl/repoperls/installed-perls/perl/v5.17.1-322-g5edb02d/165a/lib/site_perl/5.17.2/x86_64-linux /home/src/perl/repoperls/installed-perls/perl/v5.17.1-322-g5edb02d/165a/lib/site_perl/5.17.2 /home/src/perl/repoperls/installed-perls/perl/v5.17.1-322-g5edb02d/165a/lib/5.17.2/x86_64-linux /home/src/perl/repoperls/installed-perls/perl/v5.17.1-322-g5edb02d/165a/lib/5.17.2 .) at /home/src/perl/repoperls/installed-perls/perl/v5.17.1-322-g5edb02d/165a/lib/site_perl/5.17.2/Any/Renderer/JavaScript/Anon.pm line 7.
BEGIN failed--compilation aborted at /home/src/perl/repoperls/installed-perls/perl/v5.17.1-322-g5edb02d/165a/lib/site_perl/5.17.2/Any/Renderer/JavaScript/Anon.pm line 7.
Compilation failed in require at (eval 28) line 2.
Any::Renderer - problem loading backend module: Can't locate Data/JavaScript.pm in @INC (@INC contains: /tmp/loop_over_bdir-qka_78/Any-Renderer-Pretty-HTML-0.01-zHdA8q/blib/lib /tmp/loop_over_bdir-qka_78/Any-Renderer-Pretty-HTML-0.01-zHdA8q/blib/arch /home/src/perl/repoperls/installed-perls/perl/v5.17.1-322-g5edb02d/165a/lib/site_perl/5.17.2/x86_64-linux /home/src/perl/repoperls/installed-perls/perl/v5.17.1-322-g5edb02d/165a/lib/site_perl/5.17.2 /home/src/perl/repoperls/installed-perls/perl/v5.17.1-322-g5edb02d/165a/lib/5.17.2/x86_64-linux /home/src/perl/repoperls/installed-perls/perl/v5.17.1-322-g5edb02d/165a/lib/5.17.2 .) at /home/src/perl/repoperls/installed-perls/perl/v5.17.1-322-g5edb02d/165a/lib/site_perl/5.17.2/Any/Renderer/JavaScript.pm line 7.
BEGIN failed--compilation aborted at /home/src/perl/repoperls/installed-perls/perl/v5.17.1-322-g5edb02d/165a/lib/site_perl/5.17.2/Any/Renderer/JavaScript.pm line 7.
Compilation failed in require at (eval 29) line 2.
t/01-basics.t ............. ok
t/release-pod-coverage.t .. skipped: these tests are for release candidate testing
t/release-pod-syntax.t .... skipped: these tests are for release candidate testing
All tests successful.
Files=4, Tests=3, 0 wallclock secs ( 0.02 usr 0.00 sys + 0.27 cusr 0.05 csys = 0.34 CPU)
Result: PASS
------------------------------
PREREQUISITES
------------------------------
Prerequisite modules loaded:
requires:
Module Need Have
-------------------------- -------- --------
Any::Renderer 0 1.014
Data::Format::Pretty::HTML 0 0.04
perl 5.010000 5.017002
Test::More 0.96 0.98
build_requires:
Module Need Have
-------------------------- -------- --------
Module::Build 0.3601 0.4001
configure_requires:
Module Need Have
-------------------------- -------- --------
Module::Build 0.3601 0.4001
------------------------------
ENVIRONMENT AND OTHER CONTEXT
------------------------------
Environment variables:
AUTOMATED_TESTING = 1
LANG = en_US.UTF-8
LANGUAGE = en_US:en
PATH = /home/sand/bin:/usr/local/bin:/usr/bin:/bin:/usr/bin/X11:/usr/games:/usr/local/perl/bin:/usr/X11/bin:/sbin:/usr/sbin
PERL5LIB =
PERL5OPT =
PERL5_CPANPLUS_IS_RUNNING = 10872
PERL5_CPAN_IS_RUNNING = 10872
PERL_MM_USE_DEFAULT = 1
SHELL = /usr/bin/zsh
TERM = screen
Perl special variables (and OS-specific diagnostics, for MSWin32):
$^X = /mnt/k75/homesand/src/perl/repoperls/installed-perls/perl/v5.17.1-322-g5edb02d/165a/bin/perl
$UID/$EUID = 1005 / 1005
$GID = 1005 1005
$EGID = 1005 1005
Perl module toolchain versions installed:
Module Have
------------------- --------
CPAN 1.9800
CPAN::Meta 2.120921
Cwd 3.39_02
ExtUtils::CBuilder 0.280208
ExtUtils::Command 1.17
ExtUtils::Install 1.58
ExtUtils::MakeMaker 6.63_02
ExtUtils::Manifest 1.61
ExtUtils::ParseXS 3.17
File::Spec 3.39_02
JSON 2.53
JSON::PP 2.27200
Module::Build 0.4001
Module::Signature 0.68
Parse::CPAN::Meta 1.4404
Test::Harness 3.25_01
Test::More 0.98
YAML 0.81
YAML::Syck 1.20
version 0.99
--
Summary of my perl5 (revision 5 version 17 subversion 2) configuration:
Commit id: 5edb02d0a68e8d966ed01c8afa32415130bf49fd
Platform:
osname=linux, osvers=3.2.0-3-amd64, archname=x86_64-linux
uname='linux k83 3.2.0-3-amd64 #1 smp thu jun 28 09:07:26 utc 2012 x86_64 gnulinux '
config_args='-Dprefix=/home/src/perl/repoperls/installed-perls/perl/v5.17.1-322-g5edb02d/165a -Dmyhostname=k83 -Dinstallusrbinperl=n -Uversiononly -Dusedevel -des -Ui_db -Uuseithreads -Uuselongdouble -DDEBUGGING=-g'
hint=recommended, useposix=true, d_sigaction=define
useithreads=undef, usemultiplicity=undef
useperlio=define, d_sfio=undef, uselargefiles=define, usesocks=undef
use64bitint=define, use64bitall=define, uselongdouble=undef
usemymalloc=n, bincompat5005=undef
Compiler:
cc='cc', ccflags ='-fno-strict-aliasing -pipe -fstack-protector -I/usr/local/include -D_LARGEFILE_SOURCE -D_FILE_OFFSET_BITS=64',
optimize='-O2 -g',
cppflags='-fno-strict-aliasing -pipe -fstack-protector -I/usr/local/include'
ccversion='', gccversion='4.7.1', gccosandvers=''
intsize=4, longsize=8, ptrsize=8, doublesize=8, byteorder=12345678
d_longlong=define, longlongsize=8, d_longdbl=define, longdblsize=16
ivtype='long', ivsize=8, nvtype='double', nvsize=8, Off_t='off_t', lseeksize=8
alignbytes=8, prototype=define
Linker and Libraries:
ld='cc', ldflags =' -fstack-protector -L/usr/local/lib'
libpth=/usr/local/lib /lib/x86_64-linux-gnu /lib/../lib /usr/lib/x86_64-linux-gnu /usr/lib/../lib /lib /usr/lib
libs=-lnsl -ldb -ldl -lm -lcrypt -lutil -lc
perllibs=-lnsl -ldl -lm -lcrypt -lutil -lc
libc=, so=so, useshrplib=false, libperl=libperl.a
gnulibc_version='2.13'
Dynamic Linking:
dlsrc=dl_dlopen.xs, dlext=so, d_dlsymun=undef, ccdlflags='-Wl,-E'
cccdlflags='-fPIC', lddlflags='-shared -O2 -g -L/usr/local/lib -fstack-protector'
Characteristics of this binary (from libperl):
Compile-time options: HAS_TIMES PERLIO_LAYERS PERL_DONT_CREATE_GVSV
PERL_MALLOC_WRAP PERL_PRESERVE_IVUV PERL_USE_DEVEL
USE_64_BIT_ALL USE_64_BIT_INT USE_LARGE_FILES
USE_LOCALE USE_LOCALE_COLLATE USE_LOCALE_CTYPE
USE_LOCALE_NUMERIC USE_PERLIO USE_PERL_ATOF
Built under linux
Compiled at Jul 6 2012 04:58:40
%ENV:
PERL5LIB=""
PERL5OPT=""
PERL5_CPANPLUS_IS_RUNNING="10872"
PERL5_CPAN_IS_RUNNING="10872"
PERL_MM_USE_DEFAULT="1"
@INC:
/home/src/perl/repoperls/installed-perls/perl/v5.17.1-322-g5edb02d/165a/lib/site_perl/5.17.2/x86_64-linux
/home/src/perl/repoperls/installed-perls/perl/v5.17.1-322-g5edb02d/165a/lib/site_perl/5.17.2
/home/src/perl/repoperls/installed-perls/perl/v5.17.1-322-g5edb02d/165a/lib/5.17.2/x86_64-linux
/home/src/perl/repoperls/installed-perls/perl/v5.17.1-322-g5edb02d/165a/lib/5.17.2
.