LWP-Protocol-Coro-http vv1.14.0 Perl 5 v5.33.1 x86_64-linux

Status
Pass
From
Andreas J. König (ANDK)
Dist
LWP-Protocol-Coro-http vv1.14.0
Platform
Perl 5 v5.33.1 x86_64-linux
Date
2020-08-04 02:37:27
ID
6fa15c16-d5fb-11ea-8af7-3eee8c11a798
This distribution has been tested as part of the CPAN Testers
project, supporting the Perl programming language.  See
http://wiki.cpantesters.org/ for more information or email
questions to cpan-testers-discuss@perl.org


--
Dear ikegami,

This is a computer-generated report for LWP-Protocol-Coro-http-v1.14.0
on perl 5.33.1, created by CPAN-Reporter-1.2018.

Thank you for uploading your work to CPAN.  Congratulations!
All tests were successful.

Sections of this report:

    * Tester comments
    * Program output
    * Prerequisites
    * Environment and other context

------------------------------
TESTER COMMENTS
------------------------------

Additional comments from tester:

this report is from an automated smoke testing program
and was not reviewed by a human for accuracy

------------------------------
PROGRAM OUTPUT
------------------------------

Output from './Build test':

# Testing LWP::Protocol::Coro::http v1.14.0, Perl 5.033001
# AnyEvent 7.17
# AnyEvent::DNS 7.17
# AnyEvent::HTTP 2.25
# AnyEvent::HTTP::Socks 0.05
# AnyEvent::Handle 7.17
# AnyEvent::Socket 7.17
# AnyEvent::Util 7.17
# AutoLoader 5.74
# Carp 1.50
# Clone 0.45
# Config 5.033001
# Coro 6.57
# Coro::Channel 6.57
# Coro::Semaphore 6.57
# Coro::State 6.57
# DynaLoader 1.48
# Errno 1.31
# Exporter 5.75
# Exporter::Heavy 5.75
# Fcntl 1.14
# Guard 1.023
# HTTP::Headers 6.25
# HTTP::Message 6.25
# HTTP::Response 6.25
# HTTP::Status 6.25
# IO 1.44
# IO::Handle 1.42
# IO::Select 1.42
# IO::Socket 1.44
# IO::Socket::INET 1.41
# IO::Socket::IP 0.39
# IO::Socket::Socks 0.74
# IO::Socket::UNIX 1.42
# LWP::MemberMixin 6.46
# LWP::Protocol 6.46
# LWP::Protocol::Coro::http v1.14.0
# LWP::Protocol::http 6.46
# List::Util 1.55
# Net::HTTP 6.19
# Net::HTTP::Methods 6.19
# POSIX 1.95
# PerlIO 1.11
# Scalar::Util 1.55
# SelectSaver 1.02
# Socket 2.030
# Sub::Util 1.55
# Symbol 1.08
# Test::Builder 1.302175
# Test::Builder::Formatter 1.302175
# Test::Builder::Module 1.302175
# Test::Builder::TodoDiag 1.302175
# Test::More 1.302175
# Test2::API 1.302175
# Test2::API::Context 1.302175
# Test2::API::Instance 1.302175
# Test2::API::Stack 1.302175
# Test2::Event 1.302175
# Test2::Event::Bail 1.302175
# Test2::Event::Diag 1.302175
# Test2::Event::Exception 1.302175
# Test2::Event::Fail 1.302175
# Test2::Event::Note 1.302175
# Test2::Event::Ok 1.302175
# Test2::Event::Pass 1.302175
# Test2::Event::Plan 1.302175
# Test2::Event::Skip 1.302175
# Test2::Event::Subtest 1.302175
# Test2::Event::V2 1.302175
# Test2::Event::Waiting 1.302175
# Test2::EventFacet 1.302175
# Test2::EventFacet::About 1.302175
# Test2::EventFacet::Amnesty 1.302175
# Test2::EventFacet::Assert 1.302175
# Test2::EventFacet::Control 1.302175
# Test2::EventFacet::Error 1.302175
# Test2::EventFacet::Hub 1.302175
# Test2::EventFacet::Info 1.302175
# Test2::EventFacet::Meta 1.302175
# Test2::EventFacet::Parent 1.302175
# Test2::EventFacet::Plan 1.302175
# Test2::EventFacet::Trace 1.302175
# Test2::Formatter 1.302175
# Test2::Formatter::TAP 1.302175
# Test2::Hub 1.302175
# Test2::Hub::Interceptor 1.302175
# Test2::Hub::Interceptor::Terminator 1.302175
# Test2::Hub::Subtest 1.302175
# Test2::Util 1.302175
# Test2::Util::ExternalMeta 1.302175
# Test2::Util::Facets2Legacy 1.302175
# Test2::Util::HashBase 1.302175
# Test2::Util::Trace 1.302175
# Tie::Hash 1.05
# Try::Tiny 0.30
# URI 1.76
# URI::Escape 3.31
# XSLoader 0.30
# base 2.27
# common::sense 3.75
# constant 1.33
# mro 1.23
# overload 1.31
# overloading 0.02
# parent 0.238
# strict 1.12
# vars 1.05
# version 0.9924
# version::regex 0.9924
# warnings 1.48
# warnings::register 1.04
t/00_load.t .................. ok
# Retrieving URL: http://localhost:35631/
# Waiting for reply
# Waiting for reply
# Waiting for reply
# Waiting for reply
# Shutting down server
# Done
t/01_timer.t ................. ok
# Retrieving URL: http://localhost:50717/chunks
# Waiting for reply
# Got chunk
# Waiting for reply
# Got chunk
# Waiting for reply
# Got chunk
# Waiting for reply
# Got chunk
# Waiting for reply
# Got chunk
# Waiting for reply
# Shutting down server
# Done
t/02_large.t ................. ok
# Retrieving URL: http://localhost:41583/error/after_headers
# Waiting for reply
# Got chunk
# Waiting for reply
# Got chunk
# Waiting for reply
Use of uninitialized value in vec at /home/sand/src/perl/repoperls/installed-perls/host/k93msid/v5.33.0-197-g190ae7ea95/3c10/lib/site_perl/5.33.1/HTTP/Daemon.pm line 111, <DATA> line 32.
sysread() on closed filehandle GEN1 at /home/sand/src/perl/repoperls/installed-perls/host/k93msid/v5.33.0-197-g190ae7ea95/3c10/lib/site_perl/5.33.1/HTTP/Daemon.pm line 344, <DATA> line 32.
# Shutting down server
# Done
t/03_error_after_headers.t ... ok
# Retrieving URL: http://localhost:45835/error/notfound/foo
# Waiting for reply
# Shutting down server
# Done
t/04_error_404.t ............. ok
# Retrieving URL: http://doesnotexist.example
t/05_error_500_bogus_host.t .. ok
# Retrieving URL: http://localhost:38379/referer
# Waiting for reply
# Shutting down server
# Done
t/06_referer.t ............... ok
# Retrieving URL: http://localhost:35457/
# Shutting down server
# Done
t/07_proxy.t ................. ok
# Retrieving URL: http://localhost:57639/multiline_header
# Waiting for reply
# Shutting down server
# Done
t/08_multiline_header.t ...... ok
All tests successful.
Files=9, Tests=28, 32 wallclock secs ( 0.03 usr  0.04 sys +  1.77 cusr  0.42 csys =  2.26 CPU)
Result: PASS

------------------------------
PREREQUISITES
------------------------------

Prerequisite modules loaded:

requires:

    Module                     Need   Have    
    -------------------------- ------ --------
    AnyEvent::HTTP             2      2.25    
    AnyEvent::HTTP::Socks      0      0.05    
    Coro::Channel              0      6.57    
    HTTP::Response             0      6.25    
    LWP::Protocol              0      6.46    
    LWP::Protocol::http        0      6.46    
    LWP::Simple                5.827  6.46    
    version                    0      0.9924  

build_requires:

    Module                     Need   Have    
    -------------------------- ------ --------
    AnyEvent                   0      7.17    
    Carp                       0      1.50    
    CGI                        0      4.50    
    File::Spec                 0      3.78    
    File::Temp                 0      0.2309  
    FindBin                    0      1.51    
    Getopt::Long               0      2.51    
    HTTP::Daemon               0      6.12    
    LWP::Simple                0      6.46    
    Test::More                 0      1.302175
    URI                        0      1.76    
    URI::URL                   0      5.04    

configure_requires:

    Module                     Need   Have    
    -------------------------- ------ --------
    Module::Build              0.3614 0.4231  
    Software::License::CC0_1_0 0      0.103014


------------------------------
ENVIRONMENT AND OTHER CONTEXT
------------------------------

Environment variables:

    AUTOMATED_TESTING = 1
    LANG = en_US.UTF-8
    PATH = /home/sand/bin:/usr/local/bin:/usr/bin:/bin:/usr/games:/usr/local/perl/bin:/usr/X11/bin:/sbin:/usr/sbin
    PERL5LIB = 
    PERL5OPT = 
    PERL5_CPANPLUS_IS_RUNNING = 2578467
    PERL5_CPAN_IS_RUNNING = 2578467
    PERL_CANARY_STABILITY_NOPROMPT = 1
    PERL_MM_USE_DEFAULT = 1
    PERL_USE_UNSAFE_INC = 1
    SHELL = /usr/bin/zsh
    TERM = screen

Perl special variables (and OS-specific diagnostics, for MSWin32):

    $^X = /tmp/basesmoker-reloperl-Kfc3/bin/perl
    $UID/$EUID = 1005 / 1005
    $GID = 1005 1005
    $EGID = 1005 1005

Perl module toolchain versions installed:

    Module              Have    
    ------------------- --------
    CPAN                2.28    
    CPAN::Meta          2.150010
    Cwd                 3.78    
    ExtUtils::CBuilder  0.280234
    ExtUtils::Command   7.46    
    ExtUtils::Install   2.14    
    ExtUtils::MakeMaker 7.46    
    ExtUtils::Manifest  1.72    
    ExtUtils::ParseXS   3.40    
    File::Spec          3.78    
    JSON                4.02    
    JSON::PP            4.05    
    Module::Build       0.4231  
    Module::Signature   0.87    
    Parse::CPAN::Meta   2.150010
    Test::Harness       3.42    
    Test::More          1.302175
    YAML                1.30    
    YAML::Syck          1.32    
    version             0.9924  


--

Summary of my perl5 (revision 5 version 33 subversion 1) configuration:
  Commit id: 190ae7ea95828d4b9266cb3fdbc0d1d1a989e963
  Platform:
    osname=linux
    osvers=5.3.0-2-amd64
    archname=x86_64-linux
    uname='linux k93msid 5.3.0-2-amd64 #1 smp debian 5.3.9-3 (2019-11-19) x86_64 gnulinux '
    config_args='-Dprefix=/home/sand/src/perl/repoperls/installed-perls/host/k93msid/v5.33.0-197-g190ae7ea95/3c10 -Dmyhostname=k93msid -Dinstallusrbinperl=n -Uversiononly -Dusedevel -des -Ui_db -Dlibswanted=cl pthread socket inet nsl gdbm dbm malloc dl ld sun m crypt sec util c cposix posix ucb BSD gdbm_compat -Uuseithreads -Uuselongdouble -DEBUGGING=none'
    hint=recommended
    useposix=true
    d_sigaction=define
    useithreads=undef
    usemultiplicity=undef
    use64bitint=define
    use64bitall=define
    uselongdouble=undef
    usemymalloc=n
    default_inc_excludes_dot=define
    bincompat5005=undef
  Compiler:
    cc='cc'
    ccflags ='-fwrapv -fno-strict-aliasing -pipe -fstack-protector-strong -I/usr/local/include -D_LARGEFILE_SOURCE -D_FILE_OFFSET_BITS=64 -D_FORTIFY_SOURCE=2'
    optimize='-O2'
    cppflags='-fwrapv -fno-strict-aliasing -pipe -fstack-protector-strong -I/usr/local/include'
    ccversion=''
    gccversion='9.2.1 20191109'
    gccosandvers=''
    intsize=4
    longsize=8
    ptrsize=8
    doublesize=8
    byteorder=12345678
    doublekind=3
    d_longlong=define
    longlongsize=8
    d_longdbl=define
    longdblsize=16
    longdblkind=3
    ivtype='long'
    ivsize=8
    nvtype='double'
    nvsize=8
    Off_t='off_t'
    lseeksize=8
    alignbytes=8
    prototype=define
  Linker and Libraries:
    ld='cc'
    ldflags =' -fstack-protector-strong -L/usr/local/lib'
    libpth=/usr/local/lib /usr/lib/gcc/x86_64-linux-gnu/9/include-fixed /usr/include/x86_64-linux-gnu /usr/lib /lib/x86_64-linux-gnu /lib/../lib /usr/lib/x86_64-linux-gnu /usr/lib/../lib /lib
    libs=-lpthread -lnsl -ldl -lm -lcrypt -lutil -lc
    perllibs=-lpthread -lnsl -ldl -lm -lcrypt -lutil -lc
    libc=libc-2.29.so
    so=so
    useshrplib=false
    libperl=libperl.a
    gnulibc_version='2.29'
  Dynamic Linking:
    dlsrc=dl_dlopen.xs
    dlext=so
    d_dlsymun=undef
    ccdlflags='-Wl,-E'
    cccdlflags='-fPIC'
    lddlflags='-shared -O2 -L/usr/local/lib -fstack-protector-strong'


Characteristics of this binary (from libperl): 
  Compile-time options:
    HAS_TIMES
    PERLIO_LAYERS
    PERL_COPY_ON_WRITE
    PERL_DONT_CREATE_GVSV
    PERL_MALLOC_WRAP
    PERL_OP_PARENT
    PERL_PRESERVE_IVUV
    PERL_USE_DEVEL
    USE_64_BIT_ALL
    USE_64_BIT_INT
    USE_LARGE_FILES
    USE_LOCALE
    USE_LOCALE_COLLATE
    USE_LOCALE_CTYPE
    USE_LOCALE_NUMERIC
    USE_LOCALE_TIME
    USE_PERLIO
    USE_PERL_ATOF
  Built under linux
  Compiled at Aug  3 2020 03:25:35
  %ENV:
    PERL5LIB=""
    PERL5OPT=""
    PERL5_CPANPLUS_IS_RUNNING="2578467"
    PERL5_CPAN_IS_RUNNING="2578467"
    PERL_CANARY_STABILITY_NOPROMPT="1"
    PERL_MM_USE_DEFAULT="1"
    PERL_USE_UNSAFE_INC="1"
  @INC:
    /home/sand/src/perl/repoperls/installed-perls/host/k93msid/v5.33.0-197-g190ae7ea95/3c10/lib/site_perl/5.33.1/x86_64-linux
    /home/sand/src/perl/repoperls/installed-perls/host/k93msid/v5.33.0-197-g190ae7ea95/3c10/lib/site_perl/5.33.1
    /home/sand/src/perl/repoperls/installed-perls/host/k93msid/v5.33.0-197-g190ae7ea95/3c10/lib/5.33.1/x86_64-linux
    /home/sand/src/perl/repoperls/installed-perls/host/k93msid/v5.33.0-197-g190ae7ea95/3c10/lib/5.33.1
    .