MooseX-Role-BuildInstanceOf v0.08 Perl 5 v5.26.1 x86_64-linux-thread-multi

Status
Pass
From
Andreas J. König (ANDK)
Dist
MooseX-Role-BuildInstanceOf v0.08
Platform
Perl 5 v5.26.1 x86_64-linux-thread-multi
Date
2017-11-13 01:03:18
ID
6fafe9be-c80e-11e7-857f-81d0e2a4d81f
This distribution has been tested as part of the CPAN Testers
project, supporting the Perl programming language.  See
http://wiki.cpantesters.org/ for more information or email
questions to cpan-testers-discuss@perl.org


--
Dear John Napiorkowski,

This is a computer-generated report for MooseX-Role-BuildInstanceOf-0.08
on perl 5.26.1, created by CPAN-Reporter-1.2018.

Thank you for uploading your work to CPAN.  Congratulations!
All tests were successful.

Sections of this report:

    * Tester comments
    * Program output
    * Prerequisites
    * Environment and other context

------------------------------
TESTER COMMENTS
------------------------------

Additional comments from tester:

this report is from an automated smoke testing program
and was not reviewed by a human for accuracy

------------------------------
PROGRAM OUTPUT
------------------------------

Output from '/usr/bin/make test':

PERL_DL_NONLAZY=1 "/home/sand/src/perl/repoperls/installed-perls/host/k93msid/v5.26.1/276a/bin/perl" "-MExtUtils::Command::MM" "-MTest::Harness" "-e" "undef *Test::Harness::Switches; test_harness(0, 'blib/lib', 'blib/arch')" t/*.t
t/01-load.t ............... ok
Class::MOP::load_class is deprecated at /home/sand/src/perl/repoperls/installed-perls/host/k93msid/v5.26.1/276a/lib/site_perl/5.26.1/x86_64-linux-thread-multi/Class/MOP.pm line 69.
	Class::MOP::load_class("Album::Storage::File") called at /tmp/loop_over_bdir-22626-qb1bkp/MooseX-Role-BuildInstanceOf-0.08-0/blib/lib/MooseX/Role/BuildInstanceOf.pm line 15
	MooseX::Role::BuildInstanceOf::__ANON__("Album::Storage::File") called at /home/sand/src/perl/repoperls/installed-perls/host/k93msid/v5.26.1/276a/lib/site_perl/5.26.1/x86_64-linux-thread-multi/Moose/Meta/TypeCoercion.pm line 65
	Moose::Meta::TypeCoercion::__ANON__("Album::Storage::File") called at /home/sand/src/perl/repoperls/installed-perls/host/k93msid/v5.26.1/276a/lib/site_perl/5.26.1/x86_64-linux-thread-multi/Moose/Meta/TypeCoercion.pm line 100
	Moose::Meta::TypeCoercion::coerce(Moose::Meta::TypeCoercion=HASH(0x561a93ee39e0), "Album::Storage::File") called at /home/sand/src/perl/repoperls/installed-perls/host/k93msid/v5.26.1/276a/lib/site_perl/5.26.1/x86_64-linux-thread-multi/Moose/Meta/TypeConstraint.pm line 145
	Moose::Meta::TypeConstraint::coerce(Moose::Meta::TypeConstraint=HASH(0x561a93ee3860), "Album::Storage::File") called at /home/sand/src/perl/repoperls/installed-perls/host/k93msid/v5.26.1/276a/lib/site_perl/5.26.1/x86_64-linux-thread-multi/Moose/Meta/Attribute.pm line 1317
	Moose::Meta::Attribute::_coerce_and_verify(Moose::Meta::Attribute=HASH(0x561a93f5d828), "Album::Storage::File", Album=HASH(0x561a926cc338)) called at /home/sand/src/perl/repoperls/installed-perls/host/k93msid/v5.26.1/276a/lib/site_perl/5.26.1/x86_64-linux-thread-multi/Moose/Meta/Attribute.pm line 517
	Moose::Meta::Attribute::initialize_instance_slot(Moose::Meta::Attribute=HASH(0x561a93f5d828), Moose::Meta::Instance=HASH(0x561a93fed2b8), Album=HASH(0x561a926cc338), HASH(0x561a926f6f08)) called at /home/sand/src/perl/repoperls/installed-perls/host/k93msid/v5.26.1/276a/lib/site_perl/5.26.1/x86_64-linux-thread-multi/Class/MOP/Class.pm line 526
	Class::MOP::Class::_construct_instance(Moose::Meta::Class=HASH(0x561a93bdc8b0), HASH(0x561a926f6f08)) called at /home/sand/src/perl/repoperls/installed-perls/host/k93msid/v5.26.1/276a/lib/site_perl/5.26.1/x86_64-linux-thread-multi/Class/MOP/Class.pm line 496
	Class::MOP::Class::new_object(Moose::Meta::Class=HASH(0x561a93bdc8b0), HASH(0x561a926f6f08)) called at /home/sand/src/perl/repoperls/installed-perls/host/k93msid/v5.26.1/276a/lib/site_perl/5.26.1/x86_64-linux-thread-multi/Moose/Meta/Class.pm line 275
	Moose::Meta::Class::new_object(Moose::Meta::Class=HASH(0x561a93bdc8b0), HASH(0x561a926f6f08)) called at /home/sand/src/perl/repoperls/installed-perls/host/k93msid/v5.26.1/276a/lib/site_perl/5.26.1/x86_64-linux-thread-multi/Moose/Object.pm line 24
	Moose::Object::new("Album", "storage_args", ARRAY(0x561a926eb1e8), "storage_class", "Album::Storage::File") called at t/02-basic.t line 9
Class::MOP::load_class is deprecated at /home/sand/src/perl/repoperls/installed-perls/host/k93msid/v5.26.1/276a/lib/site_perl/5.26.1/x86_64-linux-thread-multi/Class/MOP.pm line 69.
	Class::MOP::load_class("Album::Image") called at t/lib/Album/ResourceTypes.pm line 18
	Album::ResourceTypes::__ANON__(ARRAY(0x561a92700548)) called at /home/sand/src/perl/repoperls/installed-perls/host/k93msid/v5.26.1/276a/lib/site_perl/5.26.1/x86_64-linux-thread-multi/Moose/Meta/TypeCoercion.pm line 65
	Moose::Meta::TypeCoercion::__ANON__(ARRAY(0x561a92700548)) called at /home/sand/src/perl/repoperls/installed-perls/host/k93msid/v5.26.1/276a/lib/site_perl/5.26.1/x86_64-linux-thread-multi/Moose/Meta/TypeCoercion.pm line 100
	Moose::Meta::TypeCoercion::coerce(Moose::Meta::TypeCoercion=HASH(0x561a9487b3f8), ARRAY(0x561a92700548)) called at /home/sand/src/perl/repoperls/installed-perls/host/k93msid/v5.26.1/276a/lib/site_perl/5.26.1/x86_64-linux-thread-multi/Moose/Meta/TypeConstraint.pm line 145
	Moose::Meta::TypeConstraint::coerce(Moose::Meta::TypeConstraint::Parameterizable=HASH(0x561a9477af70), ARRAY(0x561a92700548)) called at /home/sand/src/perl/repoperls/installed-perls/host/k93msid/v5.26.1/276a/lib/site_perl/5.26.1/x86_64-linux-thread-multi/Moose/Meta/Attribute.pm line 1317
	Moose::Meta::Attribute::_coerce_and_verify(Moose::Meta::Attribute=HASH(0x561a9487ff60), ARRAY(0x561a92700548), Album::ResourceTypes=HASH(0x561a93fec9d0)) called at /home/sand/src/perl/repoperls/installed-perls/host/k93msid/v5.26.1/276a/lib/site_perl/5.26.1/x86_64-linux-thread-multi/Moose/Meta/Attribute.pm line 517
	Moose::Meta::Attribute::initialize_instance_slot(Moose::Meta::Attribute=HASH(0x561a9487ff60), Moose::Meta::Instance=HASH(0x561a9487fdf8), Album::ResourceTypes=HASH(0x561a93fec9d0), HASH(0x561a927004e8)) called at /home/sand/src/perl/repoperls/installed-perls/host/k93msid/v5.26.1/276a/lib/site_perl/5.26.1/x86_64-linux-thread-multi/Class/MOP/Class.pm line 526
	Class::MOP::Class::_construct_instance(Moose::Meta::Class=HASH(0x561a947736c8), HASH(0x561a927004e8)) called at /home/sand/src/perl/repoperls/installed-perls/host/k93msid/v5.26.1/276a/lib/site_perl/5.26.1/x86_64-linux-thread-multi/Class/MOP/Class.pm line 496
	Class::MOP::Class::new_object(Moose::Meta::Class=HASH(0x561a947736c8), HASH(0x561a927004e8)) called at /home/sand/src/perl/repoperls/installed-perls/host/k93msid/v5.26.1/276a/lib/site_perl/5.26.1/x86_64-linux-thread-multi/Moose/Meta/Class.pm line 275
	Moose::Meta::Class::new_object(Moose::Meta::Class=HASH(0x561a947736c8), HASH(0x561a927004e8)) called at /home/sand/src/perl/repoperls/installed-perls/host/k93msid/v5.26.1/276a/lib/site_perl/5.26.1/x86_64-linux-thread-multi/Moose/Object.pm line 24
	Moose::Object::new("Album::ResourceTypes", "resources", ARRAY(0x561a92700548)) called at inline delegation in Album for resource_types_class->new (attribute declared in /tmp/loop_over_bdir-22626-qb1bkp/MooseX-Role-BuildInstanceOf-0.08-0/blib/lib/MooseX/Role/BuildInstanceOf.pm at line 93) line 18
	Album::create_resource_types(Album=HASH(0x561a926cc338), "resources", ARRAY(0x561a92700548)) called at /tmp/loop_over_bdir-22626-qb1bkp/MooseX-Role-BuildInstanceOf-0.08-0/blib/lib/MooseX/Role/BuildInstanceOf.pm line 196
	MooseX::Role::BuildInstanceOf::__ANON__::SERIAL::3::_build_resource_types(Album=HASH(0x561a926cc338)) called at reader Album::resource_types (defined at /tmp/loop_over_bdir-22626-qb1bkp/MooseX-Role-BuildInstanceOf-0.08-0/blib/lib/MooseX/Role/BuildInstanceOf.pm line 176) line 8
	Album::resource_types(Album=HASH(0x561a926cc338)) called at t/02-basic.t line 17
t/02-basic.t .............. ok
Class::MOP::load_class is deprecated at /home/sand/src/perl/repoperls/installed-perls/host/k93msid/v5.26.1/276a/lib/site_perl/5.26.1/x86_64-linux-thread-multi/Class/MOP.pm line 69.
	Class::MOP::load_class("Foo::Bar") called at /tmp/loop_over_bdir-22626-qb1bkp/MooseX-Role-BuildInstanceOf-0.08-0/blib/lib/MooseX/Role/BuildInstanceOf.pm line 15
	MooseX::Role::BuildInstanceOf::__ANON__("Foo::Bar") called at /home/sand/src/perl/repoperls/installed-perls/host/k93msid/v5.26.1/276a/lib/site_perl/5.26.1/x86_64-linux-thread-multi/Moose/Meta/TypeCoercion.pm line 65
	Moose::Meta::TypeCoercion::__ANON__("Foo::Bar") called at reader Foo::bar_class (defined at /tmp/loop_over_bdir-22626-qb1bkp/MooseX-Role-BuildInstanceOf-0.08-0/blib/lib/MooseX/Role/BuildInstanceOf.pm line 93) line 15
	Foo::bar_class(Foo=HASH(0x55f99e1edf90)) called at inline delegation in Foo for bar_class->new (attribute declared in /tmp/loop_over_bdir-22626-qb1bkp/MooseX-Role-BuildInstanceOf-0.08-0/blib/lib/MooseX/Role/BuildInstanceOf.pm at line 93) line 4
	Foo::create_bar(Foo=HASH(0x55f99e1edf90), "parent", Foo=HASH(0x55f99e1edf90), "that", "stuff", "thingy", "toaster") called at /tmp/loop_over_bdir-22626-qb1bkp/MooseX-Role-BuildInstanceOf-0.08-0/blib/lib/MooseX/Role/BuildInstanceOf.pm line 196
	MooseX::Role::BuildInstanceOf::__ANON__::SERIAL::1::_build_bar(Foo=HASH(0x55f99e1edf90)) called at reader Foo::bar (defined at /tmp/loop_over_bdir-22626-qb1bkp/MooseX-Role-BuildInstanceOf-0.08-0/blib/lib/MooseX/Role/BuildInstanceOf.pm line 176) line 8
	Foo::bar(Foo=HASH(0x55f99e1edf90)) called at t/inherit-arguments.t line 15
t/inherit-arguments.t ..... ok
t/release-eol.t ........... skipped: these tests are for release candidate testing
t/release-no-tabs.t ....... skipped: these tests are for release candidate testing
t/release-pod-coverage.t .. skipped: these tests are for release candidate testing
t/release-pod-syntax.t .... skipped: these tests are for release candidate testing
All tests successful.
Files=7, Tests=13,  8 wallclock secs ( 0.04 usr  0.06 sys +  1.67 cusr  0.33 csys =  2.10 CPU)
Result: PASS

------------------------------
PREREQUISITES
------------------------------

Prerequisite modules loaded:

requires:

    Module                       Need Have     
    ---------------------------- ---- ---------
    Moose::Util::TypeConstraints 0    2.2006   
    MooseX::Role::Parameterized  0.13 1.10     

build_requires:

    Module                       Need Have     
    ---------------------------- ---- ---------
    Class::MOP                   0    2.2006   
    List::MoreUtils              0    0.427_001
    List::Util                   0    1.49     
    Moose                        0    2.2006   
    Moose::Role                  0    2.2006   
    MooseX::Iterator             0    0.11     
    MooseX::Types::Path::Class   0    0.09     
    Perl6::Junction              0    1.60000  
    Scalar::Util                 0    1.49     
    strict                       0    1.11     
    Test::More                   0    1.302106 
    warnings                     0    1.37     

configure_requires:

    Module                       Need Have     
    ---------------------------- ---- ---------
    ExtUtils::MakeMaker          6.30 7.31_04  


------------------------------
ENVIRONMENT AND OTHER CONTEXT
------------------------------

Environment variables:

    AUTOMATED_TESTING = 1
    LANG = en_US.UTF-8
    PATH = /home/sand/bin:/usr/local/bin:/usr/bin:/bin:/usr/games:/usr/local/perl/bin:/usr/X11/bin:/sbin:/usr/sbin
    PERL5LIB = /tmp/loop_over_bdir-22626-qb1bkp/Perl6-Junction-1.60000-0/blib/arch:/tmp/loop_over_bdir-22626-qb1bkp/Perl6-Junction-1.60000-0/blib/lib:/tmp/loop_over_bdir-22626-qb1bkp/MooseX-Iterator-0.11-0/blib/arch:/tmp/loop_over_bdir-22626-qb1bkp/MooseX-Iterator-0.11-0/blib/lib:/tmp/loop_over_bdir-22626-qb1bkp/Catalyst-Model-DBIC-Schema-0.65-0/blib/arch:/tmp/loop_over_bdir-22626-qb1bkp/Catalyst-Model-DBIC-Schema-0.65-0/blib/lib:/tmp/loop_over_bdir-22626-qb1bkp/MooseX-MarkAsMethods-0.15-0/blib/arch:/tmp/loop_over_bdir-22626-qb1bkp/MooseX-MarkAsMethods-0.15-0/blib/lib:/tmp/loop_over_bdir-22626-qb1bkp/CatalystX-Component-Traits-0.19-0/blib/arch:/tmp/loop_over_bdir-22626-qb1bkp/CatalystX-Component-Traits-0.19-0/blib/lib:/tmp/loop_over_bdir-22626-qb1bkp/Catalyst-Component-InstancePerContext-0.001001-0/blib/arch:/tmp/loop_over_bdir-22626-qb1bkp/Catalyst-Component-InstancePerContext-0.001001-0/blib/lib
    PERL5OPT = 
    PERL5_CPANPLUS_IS_RUNNING = 22640
    PERL5_CPAN_IS_RUNNING = 22640
    PERL5_CPAN_IS_RUNNING_IN_RECURSION = 10675,22640
    PERL_CANARY_STABILITY_NOPROMPT = 1
    PERL_MM_USE_DEFAULT = 1
    PERL_USE_UNSAFE_INC = 1
    SHELL = /usr/bin/zsh
    TERM = screen

Perl special variables (and OS-specific diagnostics, for MSWin32):

    $^X = /home/sand/src/perl/repoperls/installed-perls/host/k93msid/v5.26.1/276a/bin/perl
    $UID/$EUID = 1005 / 1005
    $GID = 1005 1005
    $EGID = 1005 1005

Perl module toolchain versions installed:

    Module              Have    
    ------------------- --------
    CPAN                2.18    
    CPAN::Meta          2.150010
    Cwd                 3.67    
    ExtUtils::CBuilder  0.280226
    ExtUtils::Command   7.31_04 
    ExtUtils::Install   2.06    
    ExtUtils::MakeMaker 7.31_04 
    ExtUtils::Manifest  1.70    
    ExtUtils::ParseXS   3.34    
    File::Spec          3.67    
    JSON                2.94    
    JSON::PP            2.94    
    Module::Build       0.4224  
    Module::Signature   0.81    
    Parse::CPAN::Meta   2.150010
    Test::Harness       3.39    
    Test::More          1.302106
    YAML                1.23_003
    YAML::Syck          1.30    
    version             0.9917  


--

Summary of my perl5 (revision 5 version 26 subversion 1) configuration:
  Commit id: 714a461a2ab3017f19ea0f7bbb4934b2309d3aa8
  Platform:
    osname=linux
    osvers=4.12.0-2-amd64
    archname=x86_64-linux-thread-multi
    uname='linux k93msid 4.12.0-2-amd64 #1 smp debian 4.12.13-1 (2017-09-19) x86_64 gnulinux '
    config_args='-Dprefix=/home/sand/src/perl/repoperls/installed-perls/host/k93msid/v5.26.1/276a -Dmyhostname=k93msid -Dinstallusrbinperl=n -Uversiononly -Dusedevel -des -Ui_db -Dlibswanted=cl pthread socket inet nsl gdbm dbm malloc dl ld sun m crypt sec util c cposix posix ucb BSD gdbm_compat -Duseithreads -Uuselongdouble -DDEBUGGING=both'
    hint=recommended
    useposix=true
    d_sigaction=define
    useithreads=define
    usemultiplicity=define
    use64bitint=define
    use64bitall=define
    uselongdouble=undef
    usemymalloc=n
    default_inc_excludes_dot=define
    bincompat5005=undef
  Compiler:
    cc='cc'
    ccflags ='-D_REENTRANT -D_GNU_SOURCE -fwrapv -DDEBUGGING -fno-strict-aliasing -pipe -fstack-protector-strong -I/usr/local/include -D_LARGEFILE_SOURCE -D_FILE_OFFSET_BITS=64 -D_FORTIFY_SOURCE=2'
    optimize='-O2 -g'
    cppflags='-D_REENTRANT -D_GNU_SOURCE -fwrapv -DDEBUGGING -fno-strict-aliasing -pipe -fstack-protector-strong -I/usr/local/include'
    ccversion=''
    gccversion='7.2.0'
    gccosandvers=''
    intsize=4
    longsize=8
    ptrsize=8
    doublesize=8
    byteorder=12345678
    doublekind=3
    d_longlong=define
    longlongsize=8
    d_longdbl=define
    longdblsize=16
    longdblkind=3
    ivtype='long'
    ivsize=8
    nvtype='double'
    nvsize=8
    Off_t='off_t'
    lseeksize=8
    alignbytes=8
    prototype=define
  Linker and Libraries:
    ld='cc'
    ldflags =' -fstack-protector-strong -L/usr/local/lib'
    libpth=/usr/local/lib /usr/lib/gcc/x86_64-linux-gnu/7/include-fixed /usr/include/x86_64-linux-gnu /usr/lib /lib/x86_64-linux-gnu /lib/../lib /usr/lib/x86_64-linux-gnu /usr/lib/../lib /lib
    libs=-lpthread -lnsl -ldl -lm -lcrypt -lutil -lc
    perllibs=-lpthread -lnsl -ldl -lm -lcrypt -lutil -lc
    libc=libc-2.24.so
    so=so
    useshrplib=false
    libperl=libperl.a
    gnulibc_version='2.24'
  Dynamic Linking:
    dlsrc=dl_dlopen.xs
    dlext=so
    d_dlsymun=undef
    ccdlflags='-Wl,-E'
    cccdlflags='-fPIC'
    lddlflags='-shared -O2 -g -L/usr/local/lib -fstack-protector-strong'


Characteristics of this binary (from libperl): 
  Compile-time options:
    DEBUGGING
    HAS_TIMES
    MULTIPLICITY
    PERLIO_LAYERS
    PERL_COPY_ON_WRITE
    PERL_DONT_CREATE_GVSV
    PERL_IMPLICIT_CONTEXT
    PERL_MALLOC_WRAP
    PERL_OP_PARENT
    PERL_PRESERVE_IVUV
    PERL_TRACK_MEMPOOL
    PERL_USE_DEVEL
    USE_64_BIT_ALL
    USE_64_BIT_INT
    USE_ITHREADS
    USE_LARGE_FILES
    USE_LOCALE
    USE_LOCALE_COLLATE
    USE_LOCALE_CTYPE
    USE_LOCALE_NUMERIC
    USE_LOCALE_TIME
    USE_PERLIO
    USE_PERL_ATOF
    USE_REENTRANT_API
  Built under linux
  Compiled at Oct  2 2017 14:47:21
  %ENV:
    PERL5LIB="/tmp/loop_over_bdir-22626-qb1bkp/Perl6-Junction-1.60000-0/blib/arch:/tmp/loop_over_bdir-22626-qb1bkp/Perl6-Junction-1.60000-0/blib/lib:/tmp/loop_over_bdir-22626-qb1bkp/MooseX-Iterator-0.11-0/blib/arch:/tmp/loop_over_bdir-22626-qb1bkp/MooseX-Iterator-0.11-0/blib/lib:/tmp/loop_over_bdir-22626-qb1bkp/Catalyst-Model-DBIC-Schema-0.65-0/blib/arch:/tmp/loop_over_bdir-22626-qb1bkp/Catalyst-Model-DBIC-Schema-0.65-0/blib/lib:/tmp/loop_over_bdir-22626-qb1bkp/MooseX-MarkAsMethods-0.15-0/blib/arch:/tmp/loop_over_bdir-22626-qb1bkp/MooseX-MarkAsMethods-0.15-0/blib/lib:/tmp/loop_over_bdir-22626-qb1bkp/CatalystX-Component-Traits-0.19-0/blib/arch:/tmp/loop_over_bdir-22626-qb1bkp/CatalystX-Component-Traits-0.19-0/blib/lib:/tmp/loop_over_bdir-22626-qb1bkp/Catalyst-Component-InstancePerContext-0.001001-0/blib/arch:/tmp/loop_over_bdir-22626-qb1bkp/Catalyst-Component-InstancePerContext-0.001001-0/blib/lib"
    PERL5OPT=""
    PERL5_CPANPLUS_IS_RUNNING="22640"
    PERL5_CPAN_IS_RUNNING="22640"
    PERL5_CPAN_IS_RUNNING_IN_RECURSION="10675,22640"
    PERL_CANARY_STABILITY_NOPROMPT="1"
    PERL_MM_USE_DEFAULT="1"
    PERL_USE_UNSAFE_INC="1"
  @INC:
    /tmp/loop_over_bdir-22626-qb1bkp/Perl6-Junction-1.60000-0/blib/arch
    /tmp/loop_over_bdir-22626-qb1bkp/Perl6-Junction-1.60000-0/blib/lib
    /tmp/loop_over_bdir-22626-qb1bkp/MooseX-Iterator-0.11-0/blib/arch
    /tmp/loop_over_bdir-22626-qb1bkp/MooseX-Iterator-0.11-0/blib/lib
    /tmp/loop_over_bdir-22626-qb1bkp/Catalyst-Model-DBIC-Schema-0.65-0/blib/arch
    /tmp/loop_over_bdir-22626-qb1bkp/Catalyst-Model-DBIC-Schema-0.65-0/blib/lib
    /tmp/loop_over_bdir-22626-qb1bkp/MooseX-MarkAsMethods-0.15-0/blib/arch
    /tmp/loop_over_bdir-22626-qb1bkp/MooseX-MarkAsMethods-0.15-0/blib/lib
    /tmp/loop_over_bdir-22626-qb1bkp/CatalystX-Component-Traits-0.19-0/blib/arch
    /tmp/loop_over_bdir-22626-qb1bkp/CatalystX-Component-Traits-0.19-0/blib/lib
    /tmp/loop_over_bdir-22626-qb1bkp/Catalyst-Component-InstancePerContext-0.001001-0/blib/arch
    /tmp/loop_over_bdir-22626-qb1bkp/Catalyst-Component-InstancePerContext-0.001001-0/blib/lib
    /home/sand/src/perl/repoperls/installed-perls/host/k93msid/v5.26.1/276a/lib/site_perl/5.26.1/x86_64-linux-thread-multi
    /home/sand/src/perl/repoperls/installed-perls/host/k93msid/v5.26.1/276a/lib/site_perl/5.26.1
    /home/sand/src/perl/repoperls/installed-perls/host/k93msid/v5.26.1/276a/lib/5.26.1/x86_64-linux-thread-multi
    /home/sand/src/perl/repoperls/installed-perls/host/k93msid/v5.26.1/276a/lib/5.26.1
    .