Back
From: metabase:user:1da2f4dc-cbab-11e6-a834-7ccdc8cc1c8d
Subject: PASS XSLoader-0.24 v5.22.2 Mac OS X
Date: 2016-12-26T20:54:04Z
This distribution has been tested as part of the CPAN Testers
project, supporting the Perl programming language. See
http://wiki.cpantesters.org/ for more information or email
questions to cpan-testers-discuss@perl.org
--
Dear SAPER,
This is a computer-generated report for XSLoader-0.24
on perl 5.22.2, created by App::cpanminus::reporter 0.17 (1.7042).
Thank you for uploading your work to CPAN. Congratulations!
All tests were successful.
Sections of this report:
* Tester comments
* Program output
* Prerequisites
* Environment and other context
------------------------------
TESTER COMMENTS
------------------------------
Additional comments from tester:
none provided
------------------------------
PROGRAM OUTPUT
------------------------------
Output from '':
Building and testing XSLoader-0.24
"/Users/marmanold/perl5/perlbrew/perls/perl-5.22.2/bin/perl" XSLoader_pm.PL XSLoader.pm
cp XSLoader.pm blib/arch/XSLoader.pm
Manifying 1 pod document
PERL_DL_NONLAZY=1 "/Users/marmanold/perl5/perlbrew/perls/perl-5.22.2/bin/perl" "-MExtUtils::Command::MM" "-MTest::Harness" "-e" "undef *Test::Harness::Switches; test_harness(0, 'blib/lib', 'blib/arch')" t/*.t
# testing XSLoader v0.24 under Perl 5.022002
t/00-load.t ... ok
t/01-api.t .... ok
t/distchk.t ... skipped: Test::Distribution required for checking distribution
t/pod.t ....... ok
t/podcover.t .. ok
t/portfs.t .... skipped: Test::Portability::Files required for testing filenames portability
t/XSLoader.t .. ok
All tests successful.
Files=7, Tests=30, 1 wallclock secs ( 0.03 usr 0.02 sys + 0.33 cusr 0.04 csys = 0.42 CPU)
Result: PASS
------------------------------
PREREQUISITES
------------------------------
Prerequisite modules loaded:
No requirements found
------------------------------
ENVIRONMENT AND OTHER CONTEXT
------------------------------
Environment variables:
LC_CTYPE = UTF-8
PATH = /Users/marmanold/perl5/perlbrew/bin:/Users/marmanold/perl5/perlbrew/perls/perl-5.22.2/bin:/usr/local/Cellar/coreutils/8.26/libexec/gnubin:/usr/local/bin:/usr/bin:/bin:/usr/sbin:/sbin:/Users/marmanold/.cabal/bin
PERLBREW_BASHRC_VERSION = 0.76
PERLBREW_HOME = /Users/marmanold/.perlbrew
PERLBREW_MANPATH = /Users/marmanold/perl5/perlbrew/perls/perl-5.22.2/man
PERLBREW_PATH = /Users/marmanold/perl5/perlbrew/bin:/Users/marmanold/perl5/perlbrew/perls/perl-5.22.2/bin
PERLBREW_PERL = perl-5.22.2
PERLBREW_ROOT = /Users/marmanold/perl5/perlbrew
PERLBREW_VERSION = 0.76
SHELL = /bin/bash
TERM = xterm-256color
TMPDIR = /var/folders/09/0_f57k011t5c81l2zj14sf080000gn/T/
Perl special variables (and OS-specific diagnostics, for MSWin32):
EGID = 20 20 12 61 79 80 81 98 401 33 100 204 395 398 399
EUID = 501
EXECUTABLE_NAME = /Users/marmanold/perl5/perlbrew/perls/perl-5.22.2/bin/perl
GID = 20 20 12 61 79 80 81 98 401 33 100 204 395 398 399
UID = 501
Perl module toolchain versions installed:
Module Have
------------------- --------
CPAN 2.14
CPAN::Meta 2.150010
Cwd 3.62
ExtUtils::CBuilder 0.280224
ExtUtils::Command 7.24
ExtUtils::Install 2.04
ExtUtils::MakeMaker 7.24
ExtUtils::Manifest 1.70
ExtUtils::ParseXS 3.30
File::Spec 3.62
JSON n/a
JSON::PP 2.27400
Module::Build 0.4220
Module::Signature n/a
Parse::CPAN::Meta 2.150010
Test::Harness 3.36
Test::More 1.302073
YAML n/a
YAML::Syck n/a
version 0.9917
--
Summary of my perl5 (revision 5 version 22 subversion 2) configuration:
Platform:
osname=darwin, osvers=15.5.0, archname=darwin-2level
uname='darwin michaels-macbook-air.local 15.5.0 darwin kernel version 15.5.0: tue apr 19 18:36:36 pdt 2016; root:xnu-3248.50.21~8release_x86_64 x86_64 '
config_args='-de -Dprefix=/Users/marmanold/perl5/perlbrew/perls/perl-5.22.2 -Aeval:scriptdir=/Users/marmanold/perl5/perlbrew/perls/perl-5.22.2/bin'
hint=recommended, useposix=true, d_sigaction=define
useithreads=undef, usemultiplicity=undef
use64bitint=define, use64bitall=define, uselongdouble=undef
usemymalloc=n, bincompat5005=undef
Compiler:
cc='cc', ccflags ='-fno-common -DPERL_DARWIN -fno-strict-aliasing -pipe -fstack-protector-strong -I/usr/local/include',
optimize='-O3',
cppflags='-fno-common -DPERL_DARWIN -fno-strict-aliasing -pipe -fstack-protector-strong -I/usr/local/include'
ccversion='', gccversion='4.2.1 Compatible Apple LLVM 7.3.0 (clang-703.0.31)', gccosandvers=''
intsize=4, longsize=8, ptrsize=8, doublesize=8, byteorder=12345678, doublekind=3
d_longlong=define, longlongsize=8, d_longdbl=define, longdblsize=16, longdblkind=3
ivtype='long', ivsize=8, nvtype='double', nvsize=8, Off_t='off_t', lseeksize=8
alignbytes=8, prototype=define
Linker and Libraries:
ld='env MACOSX_DEPLOYMENT_TARGET=10.3 cc', ldflags =' -fstack-protector-strong -L/usr/local/lib'
libpth=/usr/local/lib /Library/Developer/CommandLineTools/usr/bin/../lib/clang/7.3.0/lib /Library/Developer/CommandLineTools/usr/lib /usr/lib
libs=-lpthread -ldbm -ldl -lm -lutil -lc
perllibs=-lpthread -ldl -lm -lutil -lc
libc=, so=dylib, useshrplib=false, libperl=libperl.a
gnulibc_version=''
Dynamic Linking:
dlsrc=dl_dlopen.xs, dlext=bundle, d_dlsymun=undef, ccdlflags=' '
cccdlflags=' ', lddlflags=' -bundle -undefined dynamic_lookup -L/usr/local/lib -fstack-protector-strong'
Characteristics of this binary (from libperl):
Compile-time options: HAS_TIMES PERLIO_LAYERS PERL_DONT_CREATE_GVSV
PERL_HASH_FUNC_ONE_AT_A_TIME_HARD PERL_MALLOC_WRAP
PERL_NEW_COPY_ON_WRITE PERL_PRESERVE_IVUV
USE_64_BIT_ALL USE_64_BIT_INT USE_LARGE_FILES
USE_LOCALE USE_LOCALE_COLLATE USE_LOCALE_CTYPE
USE_LOCALE_NUMERIC USE_LOCALE_TIME USE_PERLIO
USE_PERL_ATOF
Built under darwin
Compiled at Jul 5 2016 20:11:24
%ENV:
PERLBREW_BASHRC_VERSION="0.76"
PERLBREW_HOME="/Users/marmanold/.perlbrew"
PERLBREW_MANPATH="/Users/marmanold/perl5/perlbrew/perls/perl-5.22.2/man"
PERLBREW_PATH="/Users/marmanold/perl5/perlbrew/bin:/Users/marmanold/perl5/perlbrew/perls/perl-5.22.2/bin"
PERLBREW_PERL="perl-5.22.2"
PERLBREW_ROOT="/Users/marmanold/perl5/perlbrew"
PERLBREW_VERSION="0.76"
@INC:
/Users/marmanold/perl5/perlbrew/perls/perl-5.22.2/lib/site_perl/5.22.2/darwin-2level
/Users/marmanold/perl5/perlbrew/perls/perl-5.22.2/lib/site_perl/5.22.2
/Users/marmanold/perl5/perlbrew/perls/perl-5.22.2/lib/5.22.2/darwin-2level
/Users/marmanold/perl5/perlbrew/perls/perl-5.22.2/lib/5.22.2
.