Report for Net-LDAP-SimpleServer-0.0.17

Back
From: metabase:user:314402c4-2aae-11df-837a-5e0a49663a4f
Subject: PASS Net-LDAP-SimpleServer-0.0.17 v5.25.12 GNU/Linux
Date: 2017-04-25T13:38:16Z

This distribution has been tested as part of the CPAN Testers
project, supporting the Perl programming language.  See
http://wiki.cpantesters.org/ for more information or email
questions to cpan-testers-discuss@perl.org


--
Dear Alexei Znamensky,

This is a computer-generated report for Net-LDAP-SimpleServer-0.0.17
on perl 5.25.12, created by CPAN-Reporter-1.2018.

Thank you for uploading your work to CPAN.  Congratulations!
All tests were successful.

Sections of this report:

    * Tester comments
    * Program output
    * Prerequisites
    * Environment and other context

------------------------------
TESTER COMMENTS
------------------------------

Additional comments from tester:

none provided

------------------------------
PROGRAM OUTPUT
------------------------------

Output from '/usr/bin/make test':

PERL_DL_NONLAZY=1 "/opt/perl-5.25.12/bin/perl5.25.12" "-MExtUtils::Command::MM" "-MTest::Harness" "-e" "undef *Test::Harness::Switches; test_harness(0, 'blib/lib', 'blib/arch')" t/*.t
t/00-compile.t ................ ok
t/00-load.t ................... ok
# 
# 
# Generated by Dist::Zilla::Plugin::ReportVersions::Tiny v1.05
# perl: v5.25.12 (wanted 5.010) on linux from /opt/perl-5.25.12/bin/perl5.25.12
# 
# Authen::SASL                                  => 2.16       (want any version)
# Carp                                          => 1.38       (want any version)
# Data::Dumper                                  => 2.161      (want any version)
# Exporter                                      => 5.72       (want any version)
# ExtUtils::MakeMaker                           => 7.24       (want 6.30)   
# File::Basename                                => 2.85       (want any version)
# File::Find                                    => 1.34       (want any version)
# File::HomeDir                                 => 1.002      (want any version)
# File::Path                                    => 2.12       (want 2.08)   
# File::Spec                                    => 3.62       (want any version)
# File::Temp                                    => 0.2304     (want any version)
# IO::Pipe                                      => 1.15       (want any version)
# Net::LDAP                                     => 0.65       (want any version)
# Net::LDAP::Constant                           => 0.23       (want any version)
# Net::LDAP::FilterMatch                        => 0.27       (want any version)
# Net::LDAP::LDIF                               => 0.26       (want any version)
# Net::LDAP::Server                             => 0.43       (want any version)
# Net::LDAP::Util                               => 0.19       (want any version)
# Net::Server                                   => 2.008      (want 2.003)  
# Proc::Fork                                    => 0.804      (want any version)
# Scalar::Util                                  => 1.47       (want any version)
# Test::More                                    => 1.302083   (want 0.88)   
# Test::UseAllModules                           => 0.17       (want any version)
# UNIVERSAL::isa                                => 1.20150614 (want any version)
# base                                          => 2.23       (want any version)
# fields                                        => 2.23       (want any version)
# strict                                        => 1.11       (want any version)
# warnings                                      => 1.37       (want any version)
# 
# Thanks for using my code.  I hope it works for you.
# If not, please try and include this output in the bug report.
# That will help me reproduce the issue and solve your problem.
# 
t/000-report-versions-tiny.t .. ok
# Testing the constructor params for ProtocolHandler
t/05-handler.t ................ ok
# Testing the constructor params for LDIFStore
t/06-store.t .................. ok
# Starting server on port: 30389
# Starting server on port: 30389
# Net::Server error below:
# Starting server on port: 30389
Couldn't open conf "/no/such/file.conf" [No such file or directory]
# Starting server on port: 30389
# Starting server on port: 30389
# Starting server on port: 30389
# Starting server on port: 30389
# Starting server on port: 30389
# Starting server on port: 30389
# Starting server on port: 30389
t/13-param.t .................. ok
# Net::LDAP::SimpleServer Instantiating    [Fork]
# Net::LDAP::SimpleServer Starting :30389  [Fork]
# Net::LDAP::SimpleServer Testing         [Knive]
# Binding anonymously
# Binding with authentication
# Upper case bind DN
# Wrong password -> no bind
# Unsupported auth mechanism
# Net::LDAP::SimpleServer Instantiating    [Fork]
# Net::LDAP::SimpleServer Starting :30389  [Fork]
# Net::LDAP::SimpleServer Testing         [Knive]
# Binding anonymously
# Binding with authentication
t/14-bind.t ................... ok
# Net::LDAP::SimpleServer Instantiating    [Fork]
# Net::LDAP::SimpleServer Starting :30389  [Fork]
# Net::LDAP::SimpleServer Testing         [Knive]
t/15-search.t ................. ok
t/author-critic.t ............. skipped: these tests are for testing by the author
t/author-test-eol.t ........... skipped: these tests are for testing by the author
t/release-dist-manifest.t ..... skipped: these tests are for release candidate testing
t/release-distmeta.t .......... skipped: these tests are for release candidate testing
t/release-kwalitee.t .......... skipped: these tests are for release candidate testing
t/release-meta-json.t ......... skipped: these tests are for release candidate testing
t/release-minimum-version.t ... skipped: these tests are for release candidate testing
t/release-mojibake.t .......... skipped: these tests are for release candidate testing
t/release-no-tabs.t ........... skipped: these tests are for release candidate testing
t/release-pod-coverage.t ...... skipped: these tests are for release candidate testing
t/release-pod-linkcheck.t ..... skipped: these tests are for release candidate testing
t/release-pod-syntax.t ........ skipped: these tests are for release candidate testing
t/release-portability.t ....... skipped: these tests are for release candidate testing
t/release-test-version.t ...... skipped: these tests are for release candidate testing
t/release-unused-vars.t ....... skipped: these tests are for release candidate testing
All tests successful.
Files=23, Tests=57, 39 wallclock secs ( 0.10 usr  0.02 sys +  3.50 cusr  0.43 csys =  4.05 CPU)
Result: PASS

------------------------------
PREREQUISITES
------------------------------

Prerequisite modules loaded:

requires:

    Module                 Need  Have      
    ---------------------- ----- ----------
    base                   0     2.23      
    Carp                   0     1.38      
    Data::Dumper           0     2.161     
    fields                 0     2.23      
    File::Basename         0     2.85      
    File::HomeDir          0     1.002     
    File::Path             2.08  2.12      
    File::Spec             0     3.62      
    Net::LDAP::Constant    0     0.23      
    Net::LDAP::FilterMatch 0     0.27      
    Net::LDAP::LDIF        0     0.26      
    Net::LDAP::Server      0     0.43      
    Net::LDAP::Util        0     0.19      
    Net::Server            2.003 2.008     
    Scalar::Util           0     1.47      
    strict                 0     1.11      
    UNIVERSAL::isa         0     1.20150614
    warnings               0     1.37      

build_requires:

    Module                 Need  Have      
    ---------------------- ----- ----------
    Authen::SASL           0     2.16      
    Exporter               0     5.72      
    File::Find             0     1.34      
    File::Temp             0     0.2304    
    IO::Pipe               0     1.15      
    Net::LDAP              0     0.65      
    Proc::Fork             0     0.804     
    Test::More             0.88  1.302083  
    Test::UseAllModules    0     0.17      

configure_requires:

    Module                 Need  Have      
    ---------------------- ----- ----------
    ExtUtils::MakeMaker    6.30  7.24      


------------------------------
ENVIRONMENT AND OTHER CONTEXT
------------------------------

Environment variables:

    LANG = en_US.UTF-8
    PATH = /usr/local/bin:/usr/bin:/bin:/usr/local/sbin:/usr/sbin:/sbin:/home/cpansand/bin/linux-gnu:/home/cpansand/bin/sh:/home/cpansand/bin:/usr/games:/home/cpansand/devel:/home/eserte/src/srezic-misc/scripts
    PERL5LIB = 
    PERL5OPT = 
    PERL5_CPANPLUS_IS_RUNNING = 10542
    PERL5_CPAN_IS_RUNNING = 10542
    PERL5_CPAN_IS_RUNNING_IN_RECURSION = 10394,10542
    PERLDOC = -MPod::Perldoc::ToTextOverstrike
    PERL_BATCH = yes
    PERL_CANARY_STABILITY_NOPROMPT = 1
    PERL_CPAN_REPORTER_CONFIG = /var/tmp/cpansmoker-1002/2017042403/cpanreporter_001_config.ini
    PERL_EXTUTILS_AUTOINSTALL = --defaultdeps
    PERL_USE_UNSAFE_INC = 1
    SHELL = /bin/zsh
    TERM = screen
    TMPDIR = /var/tmp/cpansmoker-1002/2017042403

Perl special variables (and OS-specific diagnostics, for MSWin32):

    $^X = /opt/perl-5.25.12/bin/perl5.25.12
    $UID/$EUID = 1002 / 1002
    $GID = 1002 1002
    $EGID = 1002 1002

Perl module toolchain versions installed:

    Module              Have    
    ------------------- --------
    CPAN                2.18    
    CPAN::Meta          2.150010
    Cwd                 3.62    
    ExtUtils::CBuilder  0.280224
    ExtUtils::Command   7.24    
    ExtUtils::Install   2.04    
    ExtUtils::MakeMaker 7.24    
    ExtUtils::Manifest  1.70    
    ExtUtils::ParseXS   3.30    
    File::Spec          3.62    
    JSON                2.90    
    JSON::PP            2.27400 
    Module::Build       0.4222  
    Module::Signature   0.81    
    Parse::CPAN::Meta   2.150010
    Test::Harness       3.39    
    Test::More          1.302083
    YAML                1.23    
    YAML::Syck          1.30    
    version             0.9918  


--

Summary of my perl5 (revision 5 version 25 subversion 12) configuration:
   
  Platform:
    osname=linux
    osvers=3.10.0-514.16.1.el7.x86_64
    archname=x86_64-linux
    uname='linux prod5 3.10.0-514.16.1.el7.x86_64 #1 smp wed apr 12 15:04:24 utc 2017 x86_64 x86_64 x86_64 gnulinux '
    config_args='-ds -e -Dprefix=/opt/perl-5.25.12 -Dusedevel -Dusemallocwrap=no -Dcf_email=srezic@cpan.org'
    hint=recommended
    useposix=true
    d_sigaction=define
    useithreads=undef
    usemultiplicity=undef
    use64bitint=define
    use64bitall=define
    uselongdouble=undef
    usemymalloc=n
    default_inc_excludes_dot=define
    bincompat5005=undef
  Compiler:
    cc='cc'
    ccflags ='-fwrapv -fno-strict-aliasing -pipe -fstack-protector-strong -I/usr/local/include -D_LARGEFILE_SOURCE -D_FILE_OFFSET_BITS=64 -D_FORTIFY_SOURCE=2'
    optimize='-O2'
    cppflags='-fwrapv -fno-strict-aliasing -pipe -fstack-protector-strong -I/usr/local/include'
    ccversion=''
    gccversion='4.8.5 20150623 (Red Hat 4.8.5-11)'
    gccosandvers=''
    intsize=4
    longsize=8
    ptrsize=8
    doublesize=8
    byteorder=12345678
    doublekind=3
    d_longlong=define
    longlongsize=8
    d_longdbl=define
    longdblsize=16
    longdblkind=3
    ivtype='long'
    ivsize=8
    nvtype='double'
    nvsize=8
    Off_t='off_t'
    lseeksize=8
    alignbytes=8
    prototype=define
  Linker and Libraries:
    ld='cc'
    ldflags =' -fstack-protector-strong -L/usr/local/lib'
    libpth=/usr/local/lib /usr/lib /lib/../lib64 /usr/lib/../lib64 /lib /lib64 /usr/lib64 /usr/local/lib64
    libs=-lpthread -lnsl -lgdbm -ldb -ldl -lm -lcrypt -lutil -lc -lgdbm_compat
    perllibs=-lpthread -lnsl -ldl -lm -lcrypt -lutil -lc
    libc=libc-2.17.so
    so=so
    useshrplib=false
    libperl=libperl.a
    gnulibc_version='2.17'
  Dynamic Linking:
    dlsrc=dl_dlopen.xs
    dlext=so
    d_dlsymun=undef
    ccdlflags='-Wl,-E'
    cccdlflags='-fPIC'
    lddlflags='-shared -O2 -L/usr/local/lib -fstack-protector-strong'


Characteristics of this binary (from libperl): 
  Compile-time options:
    HAS_TIMES
    PERLIO_LAYERS
    PERL_COPY_ON_WRITE
    PERL_DONT_CREATE_GVSV
    PERL_OP_PARENT
    PERL_PRESERVE_IVUV
    PERL_USE_DEVEL
    USE_64_BIT_ALL
    USE_64_BIT_INT
    USE_LARGE_FILES
    USE_LOCALE
    USE_LOCALE_COLLATE
    USE_LOCALE_CTYPE
    USE_LOCALE_NUMERIC
    USE_LOCALE_TIME
    USE_PERLIO
    USE_PERL_ATOF
  Built under linux
  Compiled at Apr 20 2017 22:37:08
  %ENV:
    PERL5LIB=""
    PERL5OPT=""
    PERL5_CPANPLUS_IS_RUNNING="10542"
    PERL5_CPAN_IS_RUNNING="10542"
    PERL5_CPAN_IS_RUNNING_IN_RECURSION="10394,10542"
    PERLDOC="-MPod::Perldoc::ToTextOverstrike"
    PERL_BATCH="yes"
    PERL_CANARY_STABILITY_NOPROMPT="1"
    PERL_CPAN_REPORTER_CONFIG="/var/tmp/cpansmoker-1002/2017042403/cpanreporter_001_config.ini"
    PERL_EXTUTILS_AUTOINSTALL="--defaultdeps"
    PERL_USE_UNSAFE_INC="1"
  @INC:
    /opt/perl-5.25.12/lib/site_perl/5.25.12/x86_64-linux
    /opt/perl-5.25.12/lib/site_perl/5.25.12
    /opt/perl-5.25.12/lib/5.25.12/x86_64-linux
    /opt/perl-5.25.12/lib/5.25.12
    .