Dist-Zilla-Plugin-Git-NextVersion-Sanitized v0.002003 Perl 5 v5.37.2 x86_64-linux-thread-multi-quadmath

Status
Pass
From
Andreas J. König (ANDK)
Dist
Dist-Zilla-Plugin-Git-NextVersion-Sanitized v0.002003
Platform
Perl 5 v5.37.2 x86_64-linux-thread-multi-quadmath
Date
2022-08-06 16:18:41
ID
6fbcedd4-15a3-11ed-a38a-a66b5b6f59f2
This distribution has been tested as part of the CPAN Testers
project, supporting the Perl programming language.  See
http://wiki.cpantesters.org/ for more information or email
questions to cpan-testers-discuss@perl.org


--
Dear Kent Fredric (PAUSE Custodial Account),

This is a computer-generated report for Dist-Zilla-Plugin-Git-NextVersion-Sanitized-0.002003
on perl 5.37.2, created by CPAN-Reporter-1.2018.

Thank you for uploading your work to CPAN.  Congratulations!
All tests were successful.

Sections of this report:

    * Tester comments
    * Program output
    * Prerequisites
    * Environment and other context

------------------------------
TESTER COMMENTS
------------------------------

Additional comments from tester:

this report is from an automated smoke testing program
and was not reviewed by a human for accuracy

------------------------------
PROGRAM OUTPUT
------------------------------

Output from '/usr/bin/make test':

PERL_DL_NONLAZY=1 "/tmp/basesmoker-reloperl-wZvE/bin/perl" "-MExtUtils::Command::MM" "-MTest::Harness" "-e" "undef *Test::Harness::Switches; test_harness(0, 'blib/lib', 'blib/arch')" t/*.t t/00-compile/*.t
t/00-compile/lib_Dist_Zilla_Plugin_Git_NextVersion_Sanitized_pm.t .. ok
# 
# Versions for all modules listed in MYMETA.json (including optional ones):
# 
# === Configure Requires ===
# 
#     Module              Want Have
#     ------------------- ---- ----
#     ExtUtils::MakeMaker  any 7.64
# 
# === Configure Recommends ===
# 
#     Module              Want Have
#     ------------------- ---- ----
#     ExtUtils::MakeMaker 7.00 7.64
# 
# === Build Requires ===
# 
#     Module              Want Have
#     ------------------- ---- ----
#     ExtUtils::MakeMaker  any 7.64
# 
# === Test Requires ===
# 
#     Module                              Want     Have
#     ------------------------------- -------- --------
#     Dist::Zilla::Util::Test::KENTNL 1.003001 1.005014
#     ExtUtils::MakeMaker                  any     7.64
#     File::Spec                           any     3.86
#     Git::Wrapper::Plus::Support          any 0.004011
#     Git::Wrapper::Plus::Tester           any 0.004011
#     Test::DZil                           any    6.025
#     Test::Fatal                          any    0.016
#     Test::More                           any 1.302191
# 
# === Test Recommends ===
# 
#     Module                  Want     Have
#     ------------------- -------- --------
#     CPAN::Meta          2.120900 2.150010
#     ExtUtils::MakeMaker     7.00     7.64
#     Test::More              0.99 1.302191
# 
# === Runtime Requires ===
# 
#     Module                                Want     Have
#     ------------------------------------- ---- --------
#     Dist::Zilla::Plugin::Git::NextVersion  any    2.048
#     Dist::Zilla::Role::Version::Sanitize   any 0.002003
#     Moose                                  any   2.2201
#     strict                                 any     1.12
#     utf8                                   any     1.24
#     warnings                               any     1.58
# 
# === Runtime Recommends ===
# 
#     Module  Want   Have
#     ------ ----- ------
#     Moose  2.000 2.2201
# 
t/00-report-prereqs.t .............................................. ok
t/basic.t .......................................................... ok
t/normalise_env.t .................................................. ok
t/normalise_env_dotted.t ........................................... ok
t/normalise_env_vdotted.t .......................................... ok
All tests successful.
Files=6, Tests=14,  8 wallclock secs ( 0.05 usr  0.01 sys +  5.16 cusr  0.74 csys =  5.96 CPU)
Result: PASS

------------------------------
PREREQUISITES
------------------------------

Prerequisite modules loaded:

requires:

    Module                                Need     Have    
    ------------------------------------- -------- --------
    Dist::Zilla::Plugin::Git::NextVersion 0        2.048   
    Dist::Zilla::Role::Version::Sanitize  0        0.002003
    Moose                                 0        2.2201  
    perl                                  5.008    5.037002
    strict                                0        1.12    
    utf8                                  0        1.24    
    warnings                              0        1.58    

build_requires:

    Module                                Need     Have    
    ------------------------------------- -------- --------
    Dist::Zilla::Util::Test::KENTNL       1.003001 1.005014
    ExtUtils::MakeMaker                   0        7.64    
    File::Spec                            0        3.86    
    Git::Wrapper::Plus::Support           0        0.004011
    Git::Wrapper::Plus::Tester            0        0.004011
    Test::DZil                            0        6.025   
    Test::Fatal                           0        0.016   
    Test::More                            0        1.302191

configure_requires:

    Module                                Need     Have    
    ------------------------------------- -------- --------
    ExtUtils::MakeMaker                   0        7.64    
    perl                                  5.008    5.037002

opt_requires:

    Module                                Need     Have    
    ------------------------------------- -------- --------
    Moose                                 2.000    2.2201  


------------------------------
ENVIRONMENT AND OTHER CONTEXT
------------------------------

Environment variables:

    AUTOMATED_TESTING = 1
    LANG = en_US.UTF-8
    LANGUAGE = en_US:en
    PATH = /home/sand/bin:/usr/local/bin:/usr/bin:/bin:/usr/games:/usr/local/perl/bin:/usr/X11/bin:/sbin:/usr/sbin
    PERL5LIB = /home/sand/.cpan/privbuild/k93msid/Devel-Required-0.16-25/blib/arch:/home/sand/.cpan/privbuild/k93msid/Devel-Required-0.16-25/blib/lib:/home/sand/.cpan/privbuild/k93msid/ProjectBuilder-0.14.1-25/blib/arch:/home/sand/.cpan/privbuild/k93msid/ProjectBuilder-0.14.1-25/blib/lib
    PERL5OPT = 
    PERL5_CPANPLUS_IS_RUNNING = 185637
    PERL5_CPAN_IS_RUNNING = 185637
    PERL_CANARY_STABILITY_NOPROMPT = 1
    PERL_MM_USE_DEFAULT = 1
    PERL_USE_UNSAFE_INC = 1
    SHELL = /usr/bin/zsh
    TERM = screen

Perl special variables (and OS-specific diagnostics, for MSWin32):

    $^X = /tmp/basesmoker-reloperl-wZvE/bin/perl
    $UID/$EUID = 1005 / 1005
    $GID = 1005 1005
    $EGID = 1005 1005

Perl module toolchain versions installed:

    Module              Have    
    ------------------- --------
    CPAN                2.34    
    CPAN::Meta          2.150010
    Cwd                 3.86    
    ExtUtils::CBuilder  0.280237
    ExtUtils::Command   7.64    
    ExtUtils::Install   2.20    
    ExtUtils::MakeMaker 7.64    
    ExtUtils::Manifest  1.73    
    ExtUtils::ParseXS   3.45    
    File::Spec          3.86    
    JSON                4.09    
    JSON::PP            4.11    
    Module::Build       0.4231  
    Module::Signature   0.88    
    Parse::CPAN::Meta   2.150010
    Test::Harness       3.44    
    Test::More          1.302191
    YAML                1.30    
    YAML::Syck          1.34    
    version             0.9929  


--

Summary of my perl5 (revision 5 version 37 subversion 2) configuration:
  Commit id: 7f9b65d969a1c8b44028cacbb9e88596d1e5a8a3
  Platform:
    osname=linux
    osvers=5.10.0-14-amd64
    archname=x86_64-linux-thread-multi-quadmath
    uname='linux k93msid 5.10.0-14-amd64 #1 smp debian 5.10.113-1 (2022-04-29) x86_64 gnulinux '
    config_args='-Dprefix=/home/sand/src/perl/repoperls/installed-perls/host/k93msid/v5.37.2/db45 -Dmyhostname=k93msid -Dinstallusrbinperl=n -Uversiononly -Dusedevel -des -Ui_db -Dlibswanted=cl pthread socket inet nsl gdbm dbm malloc dl ld sun m crypt sec util c cposix posix ucb BSD gdbm_compat -Duseithreads -Uuselongdouble -DEBUGGING=both -Dusequadmath'
    hint=recommended
    useposix=true
    d_sigaction=define
    useithreads=define
    usemultiplicity=define
    use64bitint=define
    use64bitall=define
    uselongdouble=undef
    usemymalloc=n
    default_inc_excludes_dot=define
  Compiler:
    cc='cc'
    ccflags ='-D_REENTRANT -D_GNU_SOURCE -fwrapv -DDEBUGGING -fno-strict-aliasing -pipe -fstack-protector-strong -I/usr/local/include -D_LARGEFILE_SOURCE -D_FILE_OFFSET_BITS=64 -D_FORTIFY_SOURCE=2'
    optimize='-O2 -g'
    cppflags='-D_REENTRANT -D_GNU_SOURCE -fwrapv -DDEBUGGING -fno-strict-aliasing -pipe -fstack-protector-strong -I/usr/local/include'
    ccversion=''
    gccversion='11.3.0'
    gccosandvers=''
    intsize=4
    longsize=8
    ptrsize=8
    doublesize=8
    byteorder=12345678
    doublekind=3
    d_longlong=define
    longlongsize=8
    d_longdbl=define
    longdblsize=16
    longdblkind=3
    ivtype='long'
    ivsize=8
    nvtype='__float128'
    nvsize=16
    Off_t='off_t'
    lseeksize=8
    alignbytes=16
    prototype=define
  Linker and Libraries:
    ld='cc'
    ldflags =' -fstack-protector-strong -L/usr/local/lib'
    libpth=/usr/local/lib /usr/lib/x86_64-linux-gnu /usr/lib /usr/lib64
    libs=-lpthread -lnsl -ldl -lm -lcrypt -lutil -lc -lquadmath
    perllibs=-lpthread -lnsl -ldl -lm -lcrypt -lutil -lc -lquadmath
    libc=libc-2.33.so
    so=so
    useshrplib=false
    libperl=libperl.a
    gnulibc_version='2.33'
  Dynamic Linking:
    dlsrc=dl_dlopen.xs
    dlext=so
    d_dlsymun=undef
    ccdlflags='-Wl,-E'
    cccdlflags='-fPIC'
    lddlflags='-shared -O2 -g -L/usr/local/lib -fstack-protector-strong'


Characteristics of this binary (from libperl): 
  Compile-time options:
    DEBUGGING
    HAS_TIMES
    MULTIPLICITY
    PERLIO_LAYERS
    PERL_COPY_ON_WRITE
    PERL_DONT_CREATE_GVSV
    PERL_MALLOC_WRAP
    PERL_OP_PARENT
    PERL_PRESERVE_IVUV
    PERL_TRACK_MEMPOOL
    PERL_USE_DEVEL
    PERL_USE_SAFE_PUTENV
    USE_64_BIT_ALL
    USE_64_BIT_INT
    USE_ITHREADS
    USE_LARGE_FILES
    USE_LOCALE
    USE_LOCALE_COLLATE
    USE_LOCALE_CTYPE
    USE_LOCALE_NUMERIC
    USE_LOCALE_TIME
    USE_PERLIO
    USE_PERL_ATOF
    USE_QUADMATH
    USE_REENTRANT_API
    USE_THREAD_SAFE_LOCALE
  Built under linux
  Compiled at Jul 28 2022 20:06:28
  %ENV:
    PERL5LIB="/home/sand/.cpan/privbuild/k93msid/Devel-Required-0.16-25/blib/arch:/home/sand/.cpan/privbuild/k93msid/Devel-Required-0.16-25/blib/lib:/home/sand/.cpan/privbuild/k93msid/ProjectBuilder-0.14.1-25/blib/arch:/home/sand/.cpan/privbuild/k93msid/ProjectBuilder-0.14.1-25/blib/lib"
    PERL5OPT=""
    PERL5_CPANPLUS_IS_RUNNING="185637"
    PERL5_CPAN_IS_RUNNING="185637"
    PERL_CANARY_STABILITY_NOPROMPT="1"
    PERL_MM_USE_DEFAULT="1"
    PERL_USE_UNSAFE_INC="1"
  @INC:
    /home/sand/.cpan/privbuild/k93msid/Devel-Required-0.16-25/blib/arch
    /home/sand/.cpan/privbuild/k93msid/Devel-Required-0.16-25/blib/lib
    /home/sand/.cpan/privbuild/k93msid/ProjectBuilder-0.14.1-25/blib/arch
    /home/sand/.cpan/privbuild/k93msid/ProjectBuilder-0.14.1-25/blib/lib
    /home/sand/src/perl/repoperls/installed-perls/host/k93msid/v5.37.2/db45/lib/site_perl/5.37.2/x86_64-linux-thread-multi-quadmath
    /home/sand/src/perl/repoperls/installed-perls/host/k93msid/v5.37.2/db45/lib/site_perl/5.37.2
    /home/sand/src/perl/repoperls/installed-perls/host/k93msid/v5.37.2/db45/lib/5.37.2/x86_64-linux-thread-multi-quadmath
    /home/sand/src/perl/repoperls/installed-perls/host/k93msid/v5.37.2/db45/lib/5.37.2
    .