Test-Differences v0.71 Perl 5 v5.38.2 x86_64-cygwin-thread-multi-quadmath
- Status
- Pass
- From
- Peter John Acklam (PJACKLAM)
- Dist
-
Test-Differences v0.71
- Platform
- Perl 5 v5.38.2 x86_64-cygwin-thread-multi-quadmath
- Date
- 2024-08-02 08:33:37
- ID
- 6ff9c046-7db0-1014-9b17-fed00796cadc
This distribution has been tested as part of the CPAN Testers
project, supporting the Perl programming language. See
http://wiki.cpantesters.org/ for more information or email
questions to cpan-testers-discuss@perl.org
--
Dear David Cantrell,
This is a computer-generated report for Test-Differences-0.71
on perl 5.38.2, created by CPAN-Reporter-1.2019.
Thank you for uploading your work to CPAN. Congratulations!
All tests were successful.
Sections of this report:
* Tester comments
* Program output
* Prerequisites
* Environment and other context
------------------------------
TESTER COMMENTS
------------------------------
Additional comments from tester:
this report is from an automated smoke testing program
and was not reviewed by a human for accuracy
------------------------------
PROGRAM OUTPUT
------------------------------
Output from '/usr/bin/make test':
PERL_DL_NONLAZY=1 "/cygdrive/h/opt/perl5/cygwin_nt-10.0/3.5.3/x86_64/perl/5.38.2/x86_64-cygwin-thread-multi-quadmath/bin/perl5.38.2.exe" "-MExtUtils::Command::MM" "-MTest::Harness" "-e" "undef *Test::Harness::Switches; test_harness(0, 'blib/lib', 'blib/arch')" t/*.t
# Testing Test::Differences 0.71, Perl 5.038002, /cygdrive/h/opt/perl5/cygwin_nt-10.0/3.5.3/x86_64/perl/5.38.2/x86_64-cygwin-thread-multi-quadmath/bin/perl5.38.2
t/00-load.t ......... ok
t/boilerplate.t ..... ok
t/bools.t ........... ok
t/column-headers.t .. ok
t/diff_styles.t ..... ok
t/example.t ......... ok
t/pass.t ............ ok
t/pod-coverage.t .... skipped: Test::Pod::Coverage 1.08 required for testing POD coverage
t/pod.t ............. ok
t/regression.t ...... ok
t/struct.t .......... ok
t/sub-refs.t ........ ok
# This test misuses TODO: these TODOs are actually real tests.
t/test.t ............ ok
t/text_vs_data.t .... ok
t/undef.t ........... ok
t/unicode.t ......... ok
t/unknown-values.t .. skipped: Unknown::Values is needed for these tests
All tests successful.
Files=17, Tests=49, 446 wallclock secs ( 0.25 usr 1.19 sys + 11.69 cusr 55.77 csys = 68.90 CPU)
Result: PASS
------------------------------
PREREQUISITES
------------------------------
Prerequisite modules loaded:
requires:
Module Need Have
------------------- ----- --------
Capture::Tiny 0.24 0.48
Data::Dumper 2.126 2.188
Test::More 0.88 1.302194
Text::Diff 1.43 1.45
build_requires:
Module Need Have
------------------- ----- --------
ExtUtils::MakeMaker 0 7.70
configure_requires:
Module Need Have
------------------- ----- --------
ExtUtils::MakeMaker 0 7.70
------------------------------
ENVIRONMENT AND OTHER CONTEXT
------------------------------
Environment variables:
AUTOMATED_TESTING = 1
COMSPEC = C:\WINDOWS\system32\cmd.exe
NUMBER_OF_PROCESSORS = 8
PATH = /opt/perl5/cygwin_nt-10.0/3.5.3/x86_64/perl/5.38.2/x86_64-cygwin-thread-multi-quadmath/bin:/opt/perl5/cygwin_nt-10.0/3.5.3/x86_64/perl/5.38.2/x86_64-cygwin-thread-multi-quadmath/local/bin:/usr/lib/lapack:/usr/local/bin:/usr/bin:/bin
PERL5LIB = /opt/perl5/cygwin_nt-10.0/3.5.3/x86_64/perl/5.38.2/x86_64-cygwin-thread-multi-quadmath/local/lib/perl5:/opt/perl5/cygwin_nt-10.0/3.5.3/x86_64/perl/5.38.2/x86_64-cygwin-thread-multi-quadmath/local/lib/site_perl:/opt/perl5/cygwin_nt-10.0/3.5.3/x86_64/perl/5.38.2/x86_64-cygwin-thread-multi-quadmath/local/lib
PERL5OPT =
PERL5_CPANPLUS_IS_RUNNING = 38943
PERL5_CPAN_IS_RUNNING = 38943
PERL_CANARY_STABILITY_NOPROMPT = 1
PERL_CPAN_REPORTER_CONFIG = /cygdrive/d/home/peter/.cpanreporter/config-cygwin-rigel.ini
PERL_EXTUTILS_AUTOINSTALL = 1
PERL_MB_OPT = --install_base /opt/perl5/cygwin_nt-10.0/3.5.3/x86_64/perl/5.38.2/x86_64-cygwin-thread-multi-quadmath/local
PERL_MM_OPT = INSTALL_BASE=/opt/perl5/cygwin_nt-10.0/3.5.3/x86_64/perl/5.38.2/x86_64-cygwin-thread-multi-quadmath/local LIBS=-lquadmath
PERL_MM_USE_DEFAULT = 1
PERL_TEST_CRITIC = 1
PERL_TEST_CRITIC = 1
PERL_TEST_POD = 1
PERL_TEST_POD = 1
PERL_USE_UNSAFE_INC = 1
POD_TESTING = 1
POD_TESTS = 1
PROCESSOR_IDENTIFIER = Intel64 Family 6 Model 42 Stepping 7, GenuineIntel
SHELL = /bin/bash
TEMP = /tmp
TERM = xterm
Perl special variables (and OS-specific diagnostics, for MSWin32):
$^X = /cygdrive/h/opt/perl5/cygwin_nt-10.0/3.5.3/x86_64/perl/5.38.2/x86_64-cygwin-thread-multi-quadmath/bin/perl5.38.2
$UID/$EUID = 197609 / 197609
$GID = 197609 401408 545 4 66049 11 15 68380 113 4095 66048 262180
$EGID = 197609 401408 545 4 66049 11 15 68380 113 4095 66048 262180
Perl module toolchain versions installed:
Module Have
------------------- --------
CPAN 2.36
CPAN::Meta 2.150010
Cwd 3.89
ExtUtils::CBuilder 0.280238
ExtUtils::Command 7.70
ExtUtils::Install 2.22
ExtUtils::MakeMaker 7.70
ExtUtils::Manifest 1.73
ExtUtils::ParseXS 3.51
File::Spec 3.88
JSON n/a
JSON::PP 4.16
Module::Build 0.4234
Module::Signature n/a
Parse::CPAN::Meta 2.150010
Test2 1.302194
Test::Harness 3.44
Test::More 1.302194
YAML 1.31
YAML::Syck n/a
version 0.9929
--
Summary of my perl5 (revision 5 version 38 subversion 2) configuration:
Platform:
osname=cygwin
osvers=3.5.3-1.x86_64
archname=x86_64-cygwin-thread-multi-quadmath
uname='cygwin_nt-10.0-19045 rigel 3.5.3-1.x86_64 2024-04-03 17:25 utc x86_64 cygwin '
config_args='-de -Dmksymlinks -Uinc_version_list -Uinstallusrbinperl -Dusethreads -Dusemultiplicity -Dusequadmath -Uloclibpth -Dlibpth=/usr/lib /usr/lib/gcc/x86_64-pc-cygwin/11 -Dprefix=/opt/perl5/cygwin_nt-10.0/3.5.3/x86_64/perl/5.38.2/x86_64-cygwin-thread-multi-quadmath -Darchname=x86_64-cygwin-thread-multi-quadmath'
hint=recommended
useposix=true
d_sigaction=define
useithreads=define
usemultiplicity=define
use64bitint=define
use64bitall=define
uselongdouble=undef
usemymalloc=n
default_inc_excludes_dot=define
Compiler:
cc='gcc'
ccflags ='-U__STRICT_ANSI__ -D_GNU_SOURCE -fwrapv -fno-strict-aliasing -pipe -fstack-protector-strong -D_FORTIFY_SOURCE=2'
optimize='-O3'
cppflags='-U__STRICT_ANSI__ -D_GNU_SOURCE -fwrapv -fno-strict-aliasing -pipe -fstack-protector-strong'
ccversion=''
gccversion='11.4.0'
gccosandvers=''
intsize=4
longsize=8
ptrsize=8
doublesize=8
byteorder=12345678
doublekind=3
d_longlong=define
longlongsize=8
d_longdbl=define
longdblsize=16
longdblkind=3
ivtype='long'
ivsize=8
nvtype='__float128'
nvsize=16
Off_t='off_t'
lseeksize=8
alignbytes=16
prototype=define
Linker and Libraries:
ld='g++'
ldflags =' -Wl,--enable-auto-import -Wl,--export-all-symbols -Wl,--enable-auto-image-base -fstack-protector-strong'
libpth=/usr/lib /usr/lib/gcc/x86_64-pc-cygwin/11 /usr/lib/w32api /lib /usr/local/lib
libs=-lpthread -ldl -lcrypt -lquadmath
perllibs=-lpthread -ldl -lcrypt -lquadmath
libc=/usr/lib/libcygwin.a
so=dll
useshrplib=true
libperl=cygperl5_38_2.dll
gnulibc_version=''
Dynamic Linking:
dlsrc=dl_dlopen.xs
dlext=dll
d_dlsymun=undef
ccdlflags=' '
cccdlflags=' '
lddlflags=' --shared -Wl,--enable-auto-import -Wl,--export-all-symbols -Wl,--enable-auto-image-base -fstack-protector-strong'
Characteristics of this binary (from libperl):
Compile-time options:
HAS_LONG_DOUBLE
HAS_STRTOLD
HAS_TIMES
MULTIPLICITY
PERLIO_LAYERS
PERL_COPY_ON_WRITE
PERL_DONT_CREATE_GVSV
PERL_HASH_FUNC_SIPHASH13
PERL_HASH_USE_SBOX32
PERL_OP_PARENT
PERL_PRESERVE_IVUV
PERL_USE_SAFE_PUTENV
USE_64_BIT_ALL
USE_64_BIT_INT
USE_ITHREADS
USE_LARGE_FILES
USE_LOCALE
USE_LOCALE_COLLATE
USE_LOCALE_CTYPE
USE_LOCALE_NUMERIC
USE_LOCALE_TIME
USE_PERLIO
USE_PERL_ATOF
USE_QUADMATH
USE_REENTRANT_API
Built under cygwin
Compiled at Jul 8 2024 12:31:40
%ENV:
PERL5LIB="/opt/perl5/cygwin_nt-10.0/3.5.3/x86_64/perl/5.38.2/x86_64-cygwin-thread-multi-quadmath/local/lib/perl5:/opt/perl5/cygwin_nt-10.0/3.5.3/x86_64/perl/5.38.2/x86_64-cygwin-thread-multi-quadmath/local/lib/site_perl:/opt/perl5/cygwin_nt-10.0/3.5.3/x86_64/perl/5.38.2/x86_64-cygwin-thread-multi-quadmath/local/lib"
PERL5OPT=""
PERL5_CPANPLUS_IS_RUNNING="38943"
PERL5_CPAN_IS_RUNNING="38943"
PERL_CANARY_STABILITY_NOPROMPT="1"
PERL_CPAN_REPORTER_CONFIG="/cygdrive/d/home/peter/.cpanreporter/config-cygwin-rigel.ini"
PERL_EXTUTILS_AUTOINSTALL="1"
PERL_MB_OPT="--install_base /opt/perl5/cygwin_nt-10.0/3.5.3/x86_64/perl/5.38.2/x86_64-cygwin-thread-multi-quadmath/local"
PERL_MM_OPT="INSTALL_BASE=/opt/perl5/cygwin_nt-10.0/3.5.3/x86_64/perl/5.38.2/x86_64-cygwin-thread-multi-quadmath/local LIBS=-lquadmath"
PERL_MM_USE_DEFAULT="1"
PERL_TEST_CRITIC="1"
PERL_TEST_POD="1"
PERL_USE_UNSAFE_INC="1"
@INC:
/opt/perl5/cygwin_nt-10.0/3.5.3/x86_64/perl/5.38.2/x86_64-cygwin-thread-multi-quadmath/local/lib/perl5/x86_64-cygwin-thread-multi-quadmath
/opt/perl5/cygwin_nt-10.0/3.5.3/x86_64/perl/5.38.2/x86_64-cygwin-thread-multi-quadmath/local/lib/perl5
/opt/perl5/cygwin_nt-10.0/3.5.3/x86_64/perl/5.38.2/x86_64-cygwin-thread-multi-quadmath/local/lib/site_perl
/opt/perl5/cygwin_nt-10.0/3.5.3/x86_64/perl/5.38.2/x86_64-cygwin-thread-multi-quadmath/local/lib
/opt/perl5/cygwin_nt-10.0/3.5.3/x86_64/perl/5.38.2/x86_64-cygwin-thread-multi-quadmath/lib/site_perl/5.38.2/x86_64-cygwin-thread-multi-quadmath
/opt/perl5/cygwin_nt-10.0/3.5.3/x86_64/perl/5.38.2/x86_64-cygwin-thread-multi-quadmath/lib/site_perl/5.38.2
/opt/perl5/cygwin_nt-10.0/3.5.3/x86_64/perl/5.38.2/x86_64-cygwin-thread-multi-quadmath/lib/5.38.2/x86_64-cygwin-thread-multi-quadmath
/opt/perl5/cygwin_nt-10.0/3.5.3/x86_64/perl/5.38.2/x86_64-cygwin-thread-multi-quadmath/lib/5.38.2
.