HTTP-AnyUA v0.904 Perl 5 v5.26.1 x86_64-haiku

Status
Pass
From
Serguei Trouchelle (STRO)
Dist
HTTP-AnyUA v0.904
Platform
Perl 5 v5.26.1 x86_64-haiku
Date
2019-03-22 23:51:40
ID
7008bc18-4cfd-11e9-95fc-de7aa015e82b
This distribution has been tested as part of the CPAN Testers
project, supporting the Perl programming language.  See
http://wiki.cpantesters.org/ for more information or email
questions to cpan-testers-discuss@perl.org


--
Dear Charles McGarvey,

This is a computer-generated report for HTTP-AnyUA-0.904
on perl 5.26.1, created by CPAN-Reporter-1.2018.

Thank you for uploading your work to CPAN.  Congratulations!
All tests were successful.

Sections of this report:

    * Tester comments
    * Program output
    * Prerequisites
    * Environment and other context

------------------------------
TESTER COMMENTS
------------------------------

Additional comments from tester:

this report is from an automated smoke testing program
and was not reviewed by a human for accuracy

------------------------------
PROGRAM OUTPUT
------------------------------

Output from '/bin/make test':

"/packages/perl-5.26.1-2/.self/bin/perl" "-MExtUtils::Command::MM" "-MTest::Harness" "-e" "undef *Test::Harness::Switches; test_harness(0, 'blib/lib', 'blib/arch')" t/*.t
t/00-compile.t ..................... ok
# 
# Versions for all modules listed in MYMETA.json (including optional ones):
# 
# === Configure Requires ===
# 
#     Module              Want    Have
#     ------------------- ---- -------
#     ExtUtils::MakeMaker  any 7.35_10
# 
# === Build Requires ===
# 
#     Module              Want    Have
#     ------------------- ---- -------
#     ExtUtils::MakeMaker  any 7.35_10
# 
# === Test Requires ===
# 
#     Module              Want     Have
#     ------------------- ---- --------
#     ExtUtils::MakeMaker  any  7.35_10
#     File::Spec           any     3.67
#     IO::Handle           any     1.36
#     IPC::Open3           any     1.20
#     Test2::API           any 1.302162
#     Test::Exception      any     0.43
#     Test::More           any 1.302162
#     lib                  any     0.63
#     namespace::clean     any     0.27
# 
# === Test Recommends ===
# 
#     Module         Want     Have
#     ---------- -------- --------
#     CPAN::Meta 2.120900 2.150010
# 
# === Test Suggests ===
# 
#     Module          Want    Have
#     --------------- ---- -------
#     AnyEvent::HTTP   any missing
#     Furl             any missing
#     HTTP::Tiny       any   0.076
#     JSON             any    4.02
#     LWP::UserAgent   any    6.37
#     Mojo::UserAgent  any missing
#     Net::Curl::Easy  any    0.39
#     Plack::Runner    any missing
#     Starman          any missing
# 
# === Runtime Requires ===
# 
#     Module         Want    Have
#     -------------- ---- -------
#     Carp            any    1.50
#     Exporter        any    5.73
#     Fcntl           any    1.13
#     Future          any    0.39
#     MIME::Base64    any    3.15
#     Module::Loader  any    0.03
#     Scalar::Util    any 1.50_11
#     Time::HiRes     any  1.9741
#     Time::Local     any    1.28
#     bytes           any    1.05
#     parent          any   0.237
#     strict          any    1.11
#     warnings        any    1.37
# 
# === Runtime Recommends ===
# 
#     Module     Want  Have
#     ---------- ---- -----
#     HTTP::Tiny  any 0.076
# 
t/00-report-prereqs.t .............. ok
t/01-new.t ......................... ok
t/02-shortcuts.t ................... ok
t/03-post_form.t ................... ok
    # Can't locate AnyEvent/HTTP.pm in @INC (you may need to install the AnyEvent::HTTP module) (@INC contains: t/lib /boot/home/.cpan/build/HTTP-AnyUA-0.904-0/blib/lib /boot/home/.cpan/build/HTTP-AnyUA-0.904-0/blib/arch /boot/home/perl5/lib/perl5/5.26.1/x86_64-haiku /boot/home/perl5/lib/perl5/5.26.1 /boot/home/perl5/lib/perl5/x86_64-haiku /boot/home/perl5/lib/perl5 /packages/perl-5.26.1-2/.self/non-packaged/lib/perl5/site_perl/5.26/x86_64-haiku /packages/perl-5.26.1-2/.self/non-packaged/lib/perl5/site_perl/5.26 /packages/perl-5.26.1-2/.self/lib/perl5/vendor_perl/5.26/x86_64-haiku /packages/perl-5.26.1-2/.self/lib/perl5/vendor_perl/5.26 /packages/perl-5.26.1-2/.self/lib/perl5/5.26.1/x86_64-haiku /packages/perl-5.26.1-2/.self/lib/perl5/5.26.1 .) at (eval 100) line 1.
    # Can't locate Furl.pm in @INC (you may need to install the Furl module) (@INC contains: t/lib /boot/home/.cpan/build/HTTP-AnyUA-0.904-0/blib/lib /boot/home/.cpan/build/HTTP-AnyUA-0.904-0/blib/arch /boot/home/perl5/lib/perl5/5.26.1/x86_64-haiku /boot/home/perl5/lib/perl5/5.26.1 /boot/home/perl5/lib/perl5/x86_64-haiku /boot/home/perl5/lib/perl5 /packages/perl-5.26.1-2/.self/non-packaged/lib/perl5/site_perl/5.26/x86_64-haiku /packages/perl-5.26.1-2/.self/non-packaged/lib/perl5/site_perl/5.26 /packages/perl-5.26.1-2/.self/lib/perl5/vendor_perl/5.26/x86_64-haiku /packages/perl-5.26.1-2/.self/lib/perl5/vendor_perl/5.26 /packages/perl-5.26.1-2/.self/lib/perl5/5.26.1/x86_64-haiku /packages/perl-5.26.1-2/.self/lib/perl5/5.26.1 .) at (eval 101) line 1.
Use of uninitialized value in numeric eq (==) at /boot/home/perl5/lib/perl5/HTTP/Tiny.pm line 615.
Use of uninitialized value $port in numeric eq (==) at /boot/home/perl5/lib/perl5/HTTP/Tiny.pm line 615.
    # Can't locate Mojo/UserAgent.pm in @INC (you may need to install the Mojo::UserAgent module) (@INC contains: t/lib /boot/home/.cpan/build/HTTP-AnyUA-0.904-0/blib/lib /boot/home/.cpan/build/HTTP-AnyUA-0.904-0/blib/arch /boot/home/perl5/lib/perl5/5.26.1/x86_64-haiku /boot/home/perl5/lib/perl5/5.26.1 /boot/home/perl5/lib/perl5/x86_64-haiku /boot/home/perl5/lib/perl5 /packages/perl-5.26.1-2/.self/non-packaged/lib/perl5/site_perl/5.26/x86_64-haiku /packages/perl-5.26.1-2/.self/non-packaged/lib/perl5/site_perl/5.26 /packages/perl-5.26.1-2/.self/lib/perl5/vendor_perl/5.26/x86_64-haiku /packages/perl-5.26.1-2/.self/lib/perl5/vendor_perl/5.26 /packages/perl-5.26.1-2/.self/lib/perl5/5.26.1/x86_64-haiku /packages/perl-5.26.1-2/.self/lib/perl5/5.26.1 .) at (eval 123) line 1.
t/04-internal-exception.t .......... ok
# Can't locate Plack/Runner.pm in @INC (you may need to install the Plack::Runner module) (@INC contains: t/lib /boot/home/.cpan/build/HTTP-AnyUA-0.904-0/blib/lib /boot/home/.cpan/build/HTTP-AnyUA-0.904-0/blib/arch /boot/home/perl5/lib/perl5/5.26.1/x86_64-haiku /boot/home/perl5/lib/perl5/5.26.1 /boot/home/perl5/lib/perl5/x86_64-haiku /boot/home/perl5/lib/perl5 /packages/perl-5.26.1-2/.self/non-packaged/lib/perl5/site_perl/5.26/x86_64-haiku /packages/perl-5.26.1-2/.self/non-packaged/lib/perl5/site_perl/5.26 /packages/perl-5.26.1-2/.self/lib/perl5/vendor_perl/5.26/x86_64-haiku /packages/perl-5.26.1-2/.self/lib/perl5/vendor_perl/5.26 /packages/perl-5.26.1-2/.self/lib/perl5/5.26.1/x86_64-haiku /packages/perl-5.26.1-2/.self/lib/perl5/5.26.1 .) at t/lib/Server.pm line 20.
# BEGIN failed--compilation aborted at t/lib/Server.pm line 20.
# Compilation failed in require at (eval 100) line 1.
# BEGIN failed--compilation aborted at (eval 100) line 1.
t/10-get.t ......................... skipped: Could not compile test server runner.
# Can't locate Plack/Runner.pm in @INC (you may need to install the Plack::Runner module) (@INC contains: t/lib /boot/home/.cpan/build/HTTP-AnyUA-0.904-0/blib/lib /boot/home/.cpan/build/HTTP-AnyUA-0.904-0/blib/arch /boot/home/perl5/lib/perl5/5.26.1/x86_64-haiku /boot/home/perl5/lib/perl5/5.26.1 /boot/home/perl5/lib/perl5/x86_64-haiku /boot/home/perl5/lib/perl5 /packages/perl-5.26.1-2/.self/non-packaged/lib/perl5/site_perl/5.26/x86_64-haiku /packages/perl-5.26.1-2/.self/non-packaged/lib/perl5/site_perl/5.26 /packages/perl-5.26.1-2/.self/lib/perl5/vendor_perl/5.26/x86_64-haiku /packages/perl-5.26.1-2/.self/lib/perl5/vendor_perl/5.26 /packages/perl-5.26.1-2/.self/lib/perl5/5.26.1/x86_64-haiku /packages/perl-5.26.1-2/.self/lib/perl5/5.26.1 .) at t/lib/Server.pm line 20.
# BEGIN failed--compilation aborted at t/lib/Server.pm line 20.
# Compilation failed in require at (eval 100) line 1.
# BEGIN failed--compilation aborted at (eval 100) line 1.
t/11-post.t ........................ skipped: Could not compile test server runner.
# Can't locate Plack/Runner.pm in @INC (you may need to install the Plack::Runner module) (@INC contains: t/lib /boot/home/.cpan/build/HTTP-AnyUA-0.904-0/blib/lib /boot/home/.cpan/build/HTTP-AnyUA-0.904-0/blib/arch /boot/home/perl5/lib/perl5/5.26.1/x86_64-haiku /boot/home/perl5/lib/perl5/5.26.1 /boot/home/perl5/lib/perl5/x86_64-haiku /boot/home/perl5/lib/perl5 /packages/perl-5.26.1-2/.self/non-packaged/lib/perl5/site_perl/5.26/x86_64-haiku /packages/perl-5.26.1-2/.self/non-packaged/lib/perl5/site_perl/5.26 /packages/perl-5.26.1-2/.self/lib/perl5/vendor_perl/5.26/x86_64-haiku /packages/perl-5.26.1-2/.self/lib/perl5/vendor_perl/5.26 /packages/perl-5.26.1-2/.self/lib/perl5/5.26.1/x86_64-haiku /packages/perl-5.26.1-2/.self/lib/perl5/5.26.1 .) at t/lib/Server.pm line 20.
# BEGIN failed--compilation aborted at t/lib/Server.pm line 20.
# Compilation failed in require at (eval 100) line 1.
# BEGIN failed--compilation aborted at (eval 100) line 1.
t/12-put.t ......................... skipped: Could not compile test server runner.
# Can't locate Plack/Runner.pm in @INC (you may need to install the Plack::Runner module) (@INC contains: t/lib /boot/home/.cpan/build/HTTP-AnyUA-0.904-0/blib/lib /boot/home/.cpan/build/HTTP-AnyUA-0.904-0/blib/arch /boot/home/perl5/lib/perl5/5.26.1/x86_64-haiku /boot/home/perl5/lib/perl5/5.26.1 /boot/home/perl5/lib/perl5/x86_64-haiku /boot/home/perl5/lib/perl5 /packages/perl-5.26.1-2/.self/non-packaged/lib/perl5/site_perl/5.26/x86_64-haiku /packages/perl-5.26.1-2/.self/non-packaged/lib/perl5/site_perl/5.26 /packages/perl-5.26.1-2/.self/lib/perl5/vendor_perl/5.26/x86_64-haiku /packages/perl-5.26.1-2/.self/lib/perl5/vendor_perl/5.26 /packages/perl-5.26.1-2/.self/lib/perl5/5.26.1/x86_64-haiku /packages/perl-5.26.1-2/.self/lib/perl5/5.26.1 .) at t/lib/Server.pm line 20.
# BEGIN failed--compilation aborted at t/lib/Server.pm line 20.
# Compilation failed in require at (eval 100) line 1.
# BEGIN failed--compilation aborted at (eval 100) line 1.
t/13-head.t ........................ skipped: Could not compile test server runner.
# Can't locate Plack/Runner.pm in @INC (you may need to install the Plack::Runner module) (@INC contains: t/lib /boot/home/.cpan/build/HTTP-AnyUA-0.904-0/blib/lib /boot/home/.cpan/build/HTTP-AnyUA-0.904-0/blib/arch /boot/home/perl5/lib/perl5/5.26.1/x86_64-haiku /boot/home/perl5/lib/perl5/5.26.1 /boot/home/perl5/lib/perl5/x86_64-haiku /boot/home/perl5/lib/perl5 /packages/perl-5.26.1-2/.self/non-packaged/lib/perl5/site_perl/5.26/x86_64-haiku /packages/perl-5.26.1-2/.self/non-packaged/lib/perl5/site_perl/5.26 /packages/perl-5.26.1-2/.self/lib/perl5/vendor_perl/5.26/x86_64-haiku /packages/perl-5.26.1-2/.self/lib/perl5/vendor_perl/5.26 /packages/perl-5.26.1-2/.self/lib/perl5/5.26.1/x86_64-haiku /packages/perl-5.26.1-2/.self/lib/perl5/5.26.1 .) at t/lib/Server.pm line 20.
# BEGIN failed--compilation aborted at t/lib/Server.pm line 20.
# Compilation failed in require at (eval 100) line 1.
# BEGIN failed--compilation aborted at (eval 100) line 1.
t/14-delete.t ...................... skipped: Could not compile test server runner.
# Can't locate Plack/Runner.pm in @INC (you may need to install the Plack::Runner module) (@INC contains: t/lib /boot/home/.cpan/build/HTTP-AnyUA-0.904-0/blib/lib /boot/home/.cpan/build/HTTP-AnyUA-0.904-0/blib/arch /boot/home/perl5/lib/perl5/5.26.1/x86_64-haiku /boot/home/perl5/lib/perl5/5.26.1 /boot/home/perl5/lib/perl5/x86_64-haiku /boot/home/perl5/lib/perl5 /packages/perl-5.26.1-2/.self/non-packaged/lib/perl5/site_perl/5.26/x86_64-haiku /packages/perl-5.26.1-2/.self/non-packaged/lib/perl5/site_perl/5.26 /packages/perl-5.26.1-2/.self/lib/perl5/vendor_perl/5.26/x86_64-haiku /packages/perl-5.26.1-2/.self/lib/perl5/vendor_perl/5.26 /packages/perl-5.26.1-2/.self/lib/perl5/5.26.1/x86_64-haiku /packages/perl-5.26.1-2/.self/lib/perl5/5.26.1 .) at t/lib/Server.pm line 20.
# BEGIN failed--compilation aborted at t/lib/Server.pm line 20.
# Compilation failed in require at (eval 100) line 1.
# BEGIN failed--compilation aborted at (eval 100) line 1.
t/15-custom-method.t ............... skipped: Could not compile test server runner.
# Can't locate Plack/Runner.pm in @INC (you may need to install the Plack::Runner module) (@INC contains: t/lib /boot/home/.cpan/build/HTTP-AnyUA-0.904-0/blib/lib /boot/home/.cpan/build/HTTP-AnyUA-0.904-0/blib/arch /boot/home/perl5/lib/perl5/5.26.1/x86_64-haiku /boot/home/perl5/lib/perl5/5.26.1 /boot/home/perl5/lib/perl5/x86_64-haiku /boot/home/perl5/lib/perl5 /packages/perl-5.26.1-2/.self/non-packaged/lib/perl5/site_perl/5.26/x86_64-haiku /packages/perl-5.26.1-2/.self/non-packaged/lib/perl5/site_perl/5.26 /packages/perl-5.26.1-2/.self/lib/perl5/vendor_perl/5.26/x86_64-haiku /packages/perl-5.26.1-2/.self/lib/perl5/vendor_perl/5.26 /packages/perl-5.26.1-2/.self/lib/perl5/5.26.1/x86_64-haiku /packages/perl-5.26.1-2/.self/lib/perl5/5.26.1 .) at t/lib/Server.pm line 20.
# BEGIN failed--compilation aborted at t/lib/Server.pm line 20.
# Compilation failed in require at (eval 100) line 1.
# BEGIN failed--compilation aborted at (eval 100) line 1.
t/20-data_callback.t ............... skipped: Could not compile test server runner.
# Can't locate Plack/Runner.pm in @INC (you may need to install the Plack::Runner module) (@INC contains: t/lib /boot/home/.cpan/build/HTTP-AnyUA-0.904-0/blib/lib /boot/home/.cpan/build/HTTP-AnyUA-0.904-0/blib/arch /boot/home/perl5/lib/perl5/5.26.1/x86_64-haiku /boot/home/perl5/lib/perl5/5.26.1 /boot/home/perl5/lib/perl5/x86_64-haiku /boot/home/perl5/lib/perl5 /packages/perl-5.26.1-2/.self/non-packaged/lib/perl5/site_perl/5.26/x86_64-haiku /packages/perl-5.26.1-2/.self/non-packaged/lib/perl5/site_perl/5.26 /packages/perl-5.26.1-2/.self/lib/perl5/vendor_perl/5.26/x86_64-haiku /packages/perl-5.26.1-2/.self/lib/perl5/vendor_perl/5.26 /packages/perl-5.26.1-2/.self/lib/perl5/5.26.1/x86_64-haiku /packages/perl-5.26.1-2/.self/lib/perl5/5.26.1 .) at t/lib/Server.pm line 20.
# BEGIN failed--compilation aborted at t/lib/Server.pm line 20.
# Compilation failed in require at (eval 100) line 1.
# BEGIN failed--compilation aborted at (eval 100) line 1.
t/21-basic-auth.t .................. skipped: Could not compile test server runner.
# Can't locate Plack/Runner.pm in @INC (you may need to install the Plack::Runner module) (@INC contains: t/lib /boot/home/.cpan/build/HTTP-AnyUA-0.904-0/blib/lib /boot/home/.cpan/build/HTTP-AnyUA-0.904-0/blib/arch /boot/home/perl5/lib/perl5/5.26.1/x86_64-haiku /boot/home/perl5/lib/perl5/5.26.1 /boot/home/perl5/lib/perl5/x86_64-haiku /boot/home/perl5/lib/perl5 /packages/perl-5.26.1-2/.self/non-packaged/lib/perl5/site_perl/5.26/x86_64-haiku /packages/perl-5.26.1-2/.self/non-packaged/lib/perl5/site_perl/5.26 /packages/perl-5.26.1-2/.self/lib/perl5/vendor_perl/5.26/x86_64-haiku /packages/perl-5.26.1-2/.self/lib/perl5/vendor_perl/5.26 /packages/perl-5.26.1-2/.self/lib/perl5/5.26.1/x86_64-haiku /packages/perl-5.26.1-2/.self/lib/perl5/5.26.1 .) at t/lib/Server.pm line 20.
# BEGIN failed--compilation aborted at t/lib/Server.pm line 20.
# Compilation failed in require at (eval 100) line 1.
# BEGIN failed--compilation aborted at (eval 100) line 1.
t/22-redirects.t ................... skipped: Could not compile test server runner.
# Can't locate Plack/Runner.pm in @INC (you may need to install the Plack::Runner module) (@INC contains: t/lib /boot/home/.cpan/build/HTTP-AnyUA-0.904-0/blib/lib /boot/home/.cpan/build/HTTP-AnyUA-0.904-0/blib/arch /boot/home/perl5/lib/perl5/5.26.1/x86_64-haiku /boot/home/perl5/lib/perl5/5.26.1 /boot/home/perl5/lib/perl5/x86_64-haiku /boot/home/perl5/lib/perl5 /packages/perl-5.26.1-2/.self/non-packaged/lib/perl5/site_perl/5.26/x86_64-haiku /packages/perl-5.26.1-2/.self/non-packaged/lib/perl5/site_perl/5.26 /packages/perl-5.26.1-2/.self/lib/perl5/vendor_perl/5.26/x86_64-haiku /packages/perl-5.26.1-2/.self/lib/perl5/vendor_perl/5.26 /packages/perl-5.26.1-2/.self/lib/perl5/5.26.1/x86_64-haiku /packages/perl-5.26.1-2/.self/lib/perl5/5.26.1 .) at t/lib/Server.pm line 20.
# BEGIN failed--compilation aborted at t/lib/Server.pm line 20.
# Compilation failed in require at (eval 100) line 1.
# BEGIN failed--compilation aborted at (eval 100) line 1.
t/23-content-coderef.t ............. skipped: Could not compile test server runner.
t/40-middleware-content-length.t ... ok
t/40-middleware-request-headers.t .. ok
t/40-middleware-runtime.t .......... ok
    # Can't locate Mojo/UserAgent.pm in @INC (you may need to install the Mojo::UserAgent module) (@INC contains: t/lib /boot/home/.cpan/build/HTTP-AnyUA-0.904-0/blib/lib /boot/home/.cpan/build/HTTP-AnyUA-0.904-0/blib/arch /boot/home/perl5/lib/perl5/5.26.1/x86_64-haiku /boot/home/perl5/lib/perl5/5.26.1 /boot/home/perl5/lib/perl5/x86_64-haiku /boot/home/perl5/lib/perl5 /packages/perl-5.26.1-2/.self/non-packaged/lib/perl5/site_perl/5.26/x86_64-haiku /packages/perl-5.26.1-2/.self/non-packaged/lib/perl5/site_perl/5.26 /packages/perl-5.26.1-2/.self/lib/perl5/vendor_perl/5.26/x86_64-haiku /packages/perl-5.26.1-2/.self/lib/perl5/vendor_perl/5.26 /packages/perl-5.26.1-2/.self/lib/perl5/5.26.1/x86_64-haiku /packages/perl-5.26.1-2/.self/lib/perl5/5.26.1 .) at (eval 100) line 1.
    # Can't locate AnyEvent/HTTP.pm in @INC (you may need to install the AnyEvent::HTTP module) (@INC contains: t/lib /boot/home/.cpan/build/HTTP-AnyUA-0.904-0/blib/lib /boot/home/.cpan/build/HTTP-AnyUA-0.904-0/blib/arch /boot/home/perl5/lib/perl5/5.26.1/x86_64-haiku /boot/home/perl5/lib/perl5/5.26.1 /boot/home/perl5/lib/perl5/x86_64-haiku /boot/home/perl5/lib/perl5 /packages/perl-5.26.1-2/.self/non-packaged/lib/perl5/site_perl/5.26/x86_64-haiku /packages/perl-5.26.1-2/.self/non-packaged/lib/perl5/site_perl/5.26 /packages/perl-5.26.1-2/.self/lib/perl5/vendor_perl/5.26/x86_64-haiku /packages/perl-5.26.1-2/.self/lib/perl5/vendor_perl/5.26 /packages/perl-5.26.1-2/.self/lib/perl5/5.26.1/x86_64-haiku /packages/perl-5.26.1-2/.self/lib/perl5/5.26.1 .) at (eval 101) line 1.
t/50-future-subclass.t ............. ok
All tests successful.
Files=20, Tests=50,  7 wallclock secs ( 0.08 usr  0.05 sys +  4.43 cusr  1.47 csys =  6.03 CPU)
Result: PASS

------------------------------
PREREQUISITES
------------------------------

Prerequisite modules loaded:

requires:

    Module              Need  Have    
    ------------------- ----- --------
    bytes               0     1.05    
    Carp                0     1.50    
    Exporter            0     5.73    
    Fcntl               0     1.13    
    Future              0     0.39    
    MIME::Base64        0     3.15    
    Module::Loader      0     0.03    
    parent              0     0.237   
    perl                5.010 5.026001
    Scalar::Util        0     1.50_11 
    strict              0     1.11    
    Time::HiRes         0     1.9741  
    Time::Local         0     1.28    
    warnings            0     1.37    

build_requires:

    Module              Need  Have    
    ------------------- ----- --------
    ExtUtils::MakeMaker 0     7.35_10 
    File::Spec          0     3.67    
    IO::Handle          0     1.36    
    IPC::Open3          0     1.20    
    lib                 0     0.63    
    namespace::clean    0     0.27    
    Test2::API          0     1.302162
    Test::Exception     0     0.43    
    Test::More          0     1.302162

configure_requires:

    Module              Need  Have    
    ------------------- ----- --------
    ExtUtils::MakeMaker 0     7.35_10 


------------------------------
ENVIRONMENT AND OTHER CONTEXT
------------------------------

Environment variables:

    AUTOMATED_TESTING = 1
    LC_COLLATE = en.UTF-8
    LC_CTYPE = en.UTF-8
    LC_MESSAGES = en.UTF-8
    LC_MONETARY = en.UTF-8
    LC_NUMERIC = en.UTF-8
    LC_TIME = en.UTF-8
    LC_TYPE = en_US.UTF-8
    PATH = /boot/home/perl5/bin:.:/boot/home/config/non-packaged/bin:/boot/home/config/bin:/boot/system/non-packaged/bin:/bin:/boot/system/apps:/boot/system/preferences
    PERL5LIB = /boot/home/perl5/lib/perl5
    PERL5OPT = 
    PERL5_CPANPLUS_IS_RUNNING = 641930
    PERL5_CPAN_IS_RUNNING = 641930
    PERL5_CPAN_IS_RUNNING_IN_RECURSION = 376,641930
    PERL_CR_SMOKER_CURRENT = HTTP-AnyUA-0.904
    PERL_EXTUTILS_AUTOINSTALL = --defaultdeps
    PERL_LOCAL_LIB_ROOT = /boot/home/perl5
    PERL_MB_OPT = --install_base "/boot/home/perl5"
    PERL_MM_OPT = INSTALL_BASE=/boot/home/perl5
    PERL_MM_USE_DEFAULT = 1
    PERL_USE_UNSAFE_INC = 1
    TERM = xterm

Perl special variables (and OS-specific diagnostics, for MSWin32):

    $^X = /packages/perl-5.26.1-2/.self/bin/perl
    $UID/$EUID = 0 / 0
    $GID = 0 101 0
    $EGID = 0 101 0

Perl module toolchain versions installed:

    Module              Have     
    ------------------- ---------
    CPAN                2.26     
    CPAN::Meta          2.150010 
    Cwd                 3.67     
    ExtUtils::CBuilder  0.280230 
    ExtUtils::Command   7.35_10  
    ExtUtils::Install   2.14     
    ExtUtils::MakeMaker 7.35_10  
    ExtUtils::Manifest  1.72     
    ExtUtils::ParseXS   3.36_03  
    File::Spec          3.67     
    JSON                4.02     
    JSON::PP            4.02     
    Module::Build       0.42_28  
    Module::Signature   n/a      
    Parse::CPAN::Meta   2.150010 
    Test::Harness       3.42     
    Test::More          1.302162 
    YAML                1.27     
    YAML::Syck          1.31     
    version             0.9924_02


--

Summary of my perl5 (revision 5 version 26 subversion 1) configuration:
  Derived from: 
  Platform:
    osname=haiku
    osvers=1
    archname=x86_64-haiku
    uname='haiku shredder 1 hrev51655 dec 4 2017 12:44:17 x86_64 x86_64 haiku '
    config_args='-Dprefix=/packages/perl-5.26.1-2/.self -Dprivlib=/packages/perl-5.26.1-2/.self/lib/perl5/5.26.1 -Dsiteprefix=/packages/perl-5.26.1-2/.self/non-packaged -Dsitelib=/packages/perl-5.26.1-2/.self/non-packaged/lib/perl5/site_perl/5.26 -Dvendorprefix=/packages/perl-5.26.1-2/.self -Dvendorlib=/packages/perl-5.26.1-2/.self/lib/perl5/vendor_perl/5.26 -Dcf_email=zooey@hirschkaefer.de -Uusenm -Duseshrplib -Uusemymalloc -Dlibpth=/boot/home/config/develop/lib /boot/system/develop/lib -Dusrinc=/boot/system/develop/headers/posix -Dlocinc=/boot/home/config/develop/headers /boot/system/develop/headers -Dlibc='/boot/system/lib/libroot.so' -Dlibs=-lnetwork -Dcc=gcc -Dld=gcc -Ud_link -Ddont_use_nlink -Ud_syserrlst -Dldlibpthname=LIBRARY_PATH -Dstartperl=#! perl -Dccdlflags=-Wl,-fno-stack-protector,-rpath=/packages/perl-5.26.1-2/.self/lib/perl5/5.26.1/x86_64-haiku/CORE -Dusesitecustomize -de'
    hint=recommended
    useposix=true
    d_sigaction=define
    useithreads=undef
    usemultiplicity=undef
    use64bitint=define
    use64bitall=define
    uselongdouble=undef
    usemymalloc=n
    default_inc_excludes_dot=define
    bincompat5005=undef
  Compiler:
    cc='gcc'
    ccflags ='-fwrapv -fno-strict-aliasing -pipe -D_FORTIFY_SOURCE=2'
    optimize='-O'
    cppflags='-fwrapv -fno-strict-aliasing -pipe'
    ccversion=''
    gccversion='5.4.0'
    gccosandvers=''
    intsize=4
    longsize=8
    ptrsize=8
    doublesize=8
    byteorder=12345678
    doublekind=3
    d_longlong=define
    longlongsize=8
    d_longdbl=define
    longdblsize=16
    longdblkind=3
    ivtype='long'
    ivsize=8
    nvtype='double'
    nvsize=8
    Off_t='off_t'
    lseeksize=8
    alignbytes=8
    prototype=define
  Linker and Libraries:
    ld='gcc'
    ldflags =''
    libpth=/boot/home/config/develop/lib /boot/system/develop/lib /boot/system/develop/tools/bin/../lib/gcc/x86_64-unknown-haiku/5.4.0/include-fixed
    libs=-lnetwork
    perllibs=-lnetwork
    libc=/boot/system/lib/libroot.so
    so=so
    useshrplib=true
    libperl=libperl.so
    gnulibc_version=''
  Dynamic Linking:
    dlsrc=dl_dlopen.xs
    dlext=so
    d_dlsymun=undef
    ccdlflags='-Wl,-fno-stack-protector,-rpath=/packages/perl-5.26.1-2/.self/lib/perl5/5.26.1/x86_64-haiku/CORE -Wl,-rpath,/packages/perl-5.26.1-2/.self/lib/perl5/5.26.1/x86_64-haiku/CORE'
    cccdlflags='-fpic'
    lddlflags='-shared'


Characteristics of this binary (from libperl): 
  Compile-time options:
    HAS_TIMES
    PERLIO_LAYERS
    PERL_COPY_ON_WRITE
    PERL_DONT_CREATE_GVSV
    PERL_OP_PARENT
    PERL_PRESERVE_IVUV
    USE_64_BIT_ALL
    USE_64_BIT_INT
    USE_LARGE_FILES
    USE_LOCALE
    USE_LOCALE_COLLATE
    USE_LOCALE_CTYPE
    USE_LOCALE_NUMERIC
    USE_LOCALE_TIME
    USE_PERLIO
    USE_PERL_ATOF
    USE_SITECUSTOMIZE
  Locally applied patches:
    uncommitted-changes
  Built under haiku
  Compiled at Mar 14 2018 20:50:46
  %ENV:
    PERL5LIB="/boot/home/perl5/lib/perl5"
    PERL5OPT=""
    PERL5_CPANPLUS_IS_RUNNING="641930"
    PERL5_CPAN_IS_RUNNING="641930"
    PERL5_CPAN_IS_RUNNING_IN_RECURSION="376,641930"
    PERL_CR_SMOKER_CURRENT="HTTP-AnyUA-0.904"
    PERL_EXTUTILS_AUTOINSTALL="--defaultdeps"
    PERL_LOCAL_LIB_ROOT="/boot/home/perl5"
    PERL_MB_OPT="--install_base "/boot/home/perl5""
    PERL_MM_OPT="INSTALL_BASE=/boot/home/perl5"
    PERL_MM_USE_DEFAULT="1"
    PERL_USE_UNSAFE_INC="1"
  @INC:
    /boot/home/perl5/lib/perl5/5.26.1/x86_64-haiku
    /boot/home/perl5/lib/perl5/5.26.1
    /boot/home/perl5/lib/perl5/x86_64-haiku
    /boot/home/perl5/lib/perl5
    /packages/perl-5.26.1-2/.self/non-packaged/lib/perl5/site_perl/5.26/x86_64-haiku
    /packages/perl-5.26.1-2/.self/non-packaged/lib/perl5/site_perl/5.26
    /packages/perl-5.26.1-2/.self/lib/perl5/vendor_perl/5.26/x86_64-haiku
    /packages/perl-5.26.1-2/.self/lib/perl5/vendor_perl/5.26
    /packages/perl-5.26.1-2/.self/lib/perl5/5.26.1/x86_64-haiku
    /packages/perl-5.26.1-2/.self/lib/perl5/5.26.1
    .