Text-VimColor v0.28 Perl 5 v5.26.0 x86_64-linux-thread-multi

Status
Pass
From
David Cantrell (DCANTRELL)
Dist
Text-VimColor v0.28
Platform
Perl 5 v5.26.0 x86_64-linux-thread-multi
Date
2017-10-20 18:06:47
ID
704b5a34-b5c1-11e7-9213-d25e3a6f764e
This distribution has been tested as part of the CPAN Testers
project, supporting the Perl programming language.  See
http://wiki.cpantesters.org/ for more information or email
questions to cpan-testers-discuss@perl.org


--
Dear Randy Stauner,

This is a computer-generated report for Text-VimColor-0.28
on perl 5.26.0, created by CPAN-Reporter-1.2018.

Thank you for uploading your work to CPAN.  Congratulations!
All tests were successful.

Sections of this report:

    * Tester comments
    * Program output
    * Prerequisites
    * Environment and other context

------------------------------
TESTER COMMENTS
------------------------------

Additional comments from tester:

this report is from an automated smoke testing program
and was not reviewed by a human for accuracy

------------------------------
PROGRAM OUTPUT
------------------------------

Output from '/usr/bin/make test':

Skip blib/lib/auto/share/dist/Text-VimColor/light.css (unchanged)
Skip blib/lib/auto/share/dist/Text-VimColor/light.xsl (unchanged)
Skip blib/lib/auto/share/dist/Text-VimColor/mark.vim (unchanged)
Skip blib/lib/auto/share/dist/Text-VimColor/define_all.vim (unchanged)
PERL_DL_NONLAZY=1 "/home/david/cpantesting/perl-5.26.0/bin/perl" "-MExtUtils::Command::MM" "-MTest::Harness" "-e" "undef *Test::Harness::Switches; test_harness(0, 'blib/lib', 'blib/arch')" t/*.t
t/00-compile.t ......... ok
# 
# Versions for all modules listed in MYMETA.json (including optional ones):
# 
# === Configure Requires ===
# 
#     Module                  Want   Have
#     ----------------------- ---- ------
#     ExtUtils::MakeMaker      any   7.24
#     File::ShareDir::Install 0.06   0.11
#     File::Temp               any 0.2304
#     IO::File                 any   1.16
#     IPC::Open3               any   1.20
#     strict                   any   1.11
#     warnings                 any   1.37
# 
# === Build Requires ===
# 
#     Module              Want Have
#     ------------------- ---- ----
#     ExtUtils::MakeMaker  any 7.24
# 
# === Test Requires ===
# 
#     Module                     Want     Have
#     -------------------------- ---- --------
#     Exporter                    any     5.72
#     ExtUtils::MakeMaker         any     7.24
#     File::Spec                  any     3.67
#     File::Temp                  any   0.2304
#     IO::Handle                  any     1.36
#     IPC::Open3                  any     1.20
#     Path::Class                0.04     0.37
#     Test::File::ShareDir::Dist  any 1.001002
#     Test::More                 0.88 1.302104
#     blib                       1.01     1.06
#     lib                         any     0.64
# 
# === Test Recommends ===
# 
#     Module         Want     Have
#     ---------- -------- --------
#     CPAN::Meta 2.120900 2.150010
# 
# === Runtime Requires ===
# 
#     Module          Want   Have
#     --------------- ---- ------
#     Carp             any   1.42
#     File::Copy       any   2.32
#     File::ShareDir   any  1.104
#     File::Temp       any 0.2304
#     Getopt::Long     any   2.49
#     IO::File         any   1.16
#     IPC::Open3       any   1.20
#     Path::Class     0.04   0.37
#     Symbol           any   1.08
#     Term::ANSIColor 1.03   4.06
#     constant         any   1.33
#     strict           any   1.11
#     warnings         any   1.37
# 
# === Runtime Recommends ===
# 
#     Module          Want Have
#     --------------- ---- ----
#     Term::ANSIColor    3 4.06
# 
t/00-report-prereqs.t .. ok
# vim --version
# 
# VIM - Vi IMproved 7.4 (2013 Aug 10, compiled Mar 31 2015 23:35:24)
# Included patches: 1-488, 576
# Modified by pkg-vim-maintainers@lists.alioth.debian.org
# Compiled by jamessan@debian.org
# Huge version without GUI.  Features included (+) or not (-):
# +acl             +farsi           +mouse_netterm   +syntax
# +arabic          +file_in_path    +mouse_sgr       +tag_binary
# +autocmd         +find_in_path    -mouse_sysmouse  +tag_old_static
# -balloon_eval    +float           +mouse_urxvt     -tag_any_white
# -browse          +folding         +mouse_xterm     +tcl
# ++builtin_terms  -footer          +multi_byte      +terminfo
# +byte_offset     +fork()          +multi_lang      +termresponse
# +cindent         +gettext         -mzscheme        +textobjects
# -clientserver    -hangul_input    +netbeans_intg   +title
# -clipboard       +iconv           +path_extra      -toolbar
# +cmdline_compl   +insert_expand   +perl            +user_commands
# +cmdline_hist    +jumplist        +persistent_undo +vertsplit
# +cmdline_info    +keymap          +postscript      +virtualedit
# +comments        +langmap         +printer         +visual
# +conceal         +libcall         +profile         +visualextra
# +cryptv          +linebreak       +python          +viminfo
# +cscope          +lispindent      -python3         +vreplace
# +cursorbind      +listcmds        +quickfix        +wildignore
# +cursorshape     +localmap        +reltime         +wildmenu
# +dialog_con      +lua             +rightleft       +windows
# +diff            +menu            +ruby            +writebackup
# +digraphs        +mksession       +scrollbind      -X11
# -dnd             +modify_fname    +signs           -xfontset
# -ebcdic          +mouse           +smartindent     -xim
# +emacs_tags      -mouseshape      -sniff           -xsmp
# +eval            +mouse_dec       +startuptime     -xterm_clipboard
# +ex_extra        +mouse_gpm       +statusline      -xterm_save
# +extra_search    -mouse_jsbterm   -sun_workshop    -xpm
#    system vimrc file: "$VIM/vimrc"
#      user vimrc file: "$HOME/.vimrc"
#  2nd user vimrc file: "~/.vim/vimrc"
#       user exrc file: "$HOME/.exrc"
#   fall-back for $VIM: "/usr/share/vim"
# Compilation: gcc -c -I. -Iproto -DHAVE_CONFIG_H     -g -O2 -fPIE -fstack-protector-strong -Wformat -Werror=format-security -U_FORTIFY_SOURCE -D_FORTIFY_SOURCE=1     -I/usr/include/tcl8.6  -D_REENTRANT=1  -D_THREAD_SAFE=1  -D_LARGEFILE64_SOURCE=1  
# Linking: gcc   -L. -Wl,-z,relro -L/build/ruby2.1-64qTCU/ruby2.1-2.1.5/debian/lib -fstack-protector -rdynamic -Wl,-export-dynamic -Wl,-E  -fPIE -pie -Wl,-z,relro -Wl,-z,now -Wl,--as-needed -o vim        -lm -ltinfo -lnsl  -lselinux  -lacl -lattr -lgpm -ldl  -L/usr/lib -llua5.2 -Wl,-E  -fstack-protector -L/usr/local/lib  -L/usr/lib/x86_64-linux-gnu/perl/5.20/CORE -lperl -ldl -lm -lpthread -lcrypt -L/usr/lib/python2.7/config-x86_64-linux-gnu -lpython2.7 -lpthread -ldl -lutil -lm -Xlinker -export-dynamic -Wl,-O1 -Wl,-Bsymbolic-functions  -L/usr/lib/x86_64-linux-gnu -ltcl8.6 -ldl -lz -lpthread -lieee -lm -lruby-2.1 -lpthread -lgmp -ldl -lcrypt -lm    
# 
t/000-vim-version.t .... ok
t/all-syntax-groups.t .. ok
t/ansi.t ............... ok
t/bin.t ................ ok
t/compare-formats.t .... ok
Wide character in print at /home/david/cpantesting/perl-5.26.0/lib/site_perl/5.26.0/Test2/Formatter/TAP.pm line 113.
t/encoding.t ........... ok
t/html.t ............... ok
t/input_filename.t ..... ok
t/new.t ................ ok
t/override-options.t ... ok
t/share-dir.t .......... ok
t/tvctestsyn.t ......... ok
t/untie-std-handles.t .. ok
t/vim_let.t ............ ok
t/vim_options.t ........ ok
t/xml.t ................ ok
All tests successful.
Files=18, Tests=143, 17 wallclock secs ( 0.04 usr  0.08 sys +  2.62 cusr  0.67 csys =  3.41 CPU)
Result: PASS

------------------------------
PREREQUISITES
------------------------------

Prerequisite modules loaded:

requires:

    Module                     Need  Have    
    -------------------------- ----- --------
    Carp                       0     1.42    
    constant                   0     1.33    
    File::Copy                 0     2.32    
    File::ShareDir             0     1.104   
    File::Temp                 0     0.2304  
    Getopt::Long               0     2.49    
    IO::File                   0     1.16    
    IPC::Open3                 0     1.20    
    Path::Class                0.04  0.37    
    perl                       5.006 5.026000
    strict                     0     1.11    
    Symbol                     0     1.08    
    Term::ANSIColor            1.03  4.06    
    warnings                   0     1.37    

build_requires:

    Module                     Need  Have    
    -------------------------- ----- --------
    blib                       1.01  1.06    
    Exporter                   0     5.72    
    ExtUtils::MakeMaker        0     7.24    
    File::Spec                 0     3.67    
    File::Temp                 0     0.2304  
    IO::Handle                 0     1.36    
    IPC::Open3                 0     1.20    
    lib                        0     0.64    
    Path::Class                0.04  0.37    
    Test::File::ShareDir::Dist 0     1.001002
    Test::More                 0.88  1.302104

configure_requires:

    Module                     Need  Have    
    -------------------------- ----- --------
    ExtUtils::MakeMaker        0     7.24    
    File::ShareDir::Install    0.06  0.11    
    File::Temp                 0     0.2304  
    IO::File                   0     1.16    
    IPC::Open3                 0     1.20    
    perl                       5.006 5.026000
    strict                     0     1.11    
    warnings                   0     1.37    


------------------------------
ENVIRONMENT AND OTHER CONTEXT
------------------------------

Environment variables:

    AUTOMATED_TESTING = 1
    NONINTERACTIVE_TESTING = 1
    PATH = /usr/local/bin:/usr/bin:/bin:/usr/local/games:/usr/games
    PERL = 5.26.0
    PERL5LIB = 
    PERL5OPT = 
    PERL5_CPANPLUS_IS_RUNNING = 25909
    PERL5_CPAN_IS_RUNNING = 25909
    PERLVER = 5.26.0
    PERL_INLINE_DIRECTORY = /home/david/.Inline-5.26.0
    PERL_MM_USE_DEFAULT = 1
    PERL_USE_UNSAFE_INC = 0
    SHELL = /bin/bash
    TERM = screen

Perl special variables (and OS-specific diagnostics, for MSWin32):

    $^X = /home/david/cpantesting/perl-5.26.0/bin/perl
    $UID/$EUID = 1000 / 1000
    $GID = 1000 1000
    $EGID = 1000 1000

Perl module toolchain versions installed:

    Module              Have      
    ------------------- ----------
    CPAN                2.18      
    CPAN::Meta          2.150010  
    Cwd                 3.67      
    ExtUtils::CBuilder  0.280225  
    ExtUtils::Command   7.24      
    ExtUtils::Install   2.04      
    ExtUtils::MakeMaker 7.24      
    ExtUtils::Manifest  1.70      
    ExtUtils::ParseXS   3.34      
    File::Spec          3.67      
    JSON                2.94      
    JSON::PP            2.27400_02
    Module::Build       0.4224    
    Module::Signature   n/a       
    Parse::CPAN::Meta   2.150010  
    Test::Harness       3.38      
    Test::More          1.302104  
    YAML                1.23      
    YAML::Syck          1.30      
    version             0.9917    


--

Summary of my perl5 (revision 5 version 26 subversion 0) configuration:
   
  Platform:
    osname=linux
    osvers=3.16.0-4-amd64
    archname=x86_64-linux-thread-multi
    uname='linux pigsty.barnyard.co.uk 3.16.0-4-amd64 #1 smp debian 3.16.36-1+deb8u1 (2016-09-03) x86_64 gnulinux '
    config_args='-de -Duse64bitall -Dusethreads -Dprefix=/home/david/cpantesting/perl-5.26.0'
    hint=recommended
    useposix=true
    d_sigaction=define
    useithreads=define
    usemultiplicity=define
    use64bitint=define
    use64bitall=define
    uselongdouble=undef
    usemymalloc=n
    default_inc_excludes_dot=define
    bincompat5005=undef
  Compiler:
    cc='cc'
    ccflags ='-D_REENTRANT -D_GNU_SOURCE -fwrapv -fno-strict-aliasing -pipe -fstack-protector-strong -I/usr/local/include -D_LARGEFILE_SOURCE -D_FILE_OFFSET_BITS=64 -D_FORTIFY_SOURCE=2'
    optimize='-O2'
    cppflags='-D_REENTRANT -D_GNU_SOURCE -fwrapv -fno-strict-aliasing -pipe -fstack-protector-strong -I/usr/local/include'
    ccversion=''
    gccversion='4.9.2'
    gccosandvers=''
    intsize=4
    longsize=8
    ptrsize=8
    doublesize=8
    byteorder=12345678
    doublekind=3
    d_longlong=define
    longlongsize=8
    d_longdbl=define
    longdblsize=16
    longdblkind=3
    ivtype='long'
    ivsize=8
    nvtype='double'
    nvsize=8
    Off_t='off_t'
    lseeksize=8
    alignbytes=8
    prototype=define
  Linker and Libraries:
    ld='cc'
    ldflags =' -fstack-protector-strong -L/usr/local/lib'
    libpth=/usr/local/lib /usr/lib/gcc/x86_64-linux-gnu/4.9/include-fixed /usr/include/x86_64-linux-gnu /usr/lib /lib/x86_64-linux-gnu /lib/../lib /usr/lib/x86_64-linux-gnu /usr/lib/../lib /lib
    libs=-lpthread -lnsl -ldb -ldl -lm -lcrypt -lutil -lc
    perllibs=-lpthread -lnsl -ldl -lm -lcrypt -lutil -lc
    libc=libc-2.19.so
    so=so
    useshrplib=false
    libperl=libperl.a
    gnulibc_version='2.19'
  Dynamic Linking:
    dlsrc=dl_dlopen.xs
    dlext=so
    d_dlsymun=undef
    ccdlflags='-Wl,-E'
    cccdlflags='-fPIC'
    lddlflags='-shared -O2 -L/usr/local/lib -fstack-protector-strong'


Characteristics of this binary (from libperl): 
  Compile-time options:
    HAS_TIMES
    MULTIPLICITY
    PERLIO_LAYERS
    PERL_COPY_ON_WRITE
    PERL_DONT_CREATE_GVSV
    PERL_IMPLICIT_CONTEXT
    PERL_MALLOC_WRAP
    PERL_OP_PARENT
    PERL_PRESERVE_IVUV
    USE_64_BIT_ALL
    USE_64_BIT_INT
    USE_ITHREADS
    USE_LARGE_FILES
    USE_LOCALE
    USE_LOCALE_COLLATE
    USE_LOCALE_CTYPE
    USE_LOCALE_NUMERIC
    USE_LOCALE_TIME
    USE_PERLIO
    USE_PERL_ATOF
    USE_REENTRANT_API
  Built under linux
  Compiled at Jun  8 2017 14:33:31
  %ENV:
    PERL="5.26.0"
    PERL5LIB=""
    PERL5OPT=""
    PERL5_CPANPLUS_IS_RUNNING="25909"
    PERL5_CPAN_IS_RUNNING="25909"
    PERLVER="5.26.0"
    PERL_INLINE_DIRECTORY="/home/david/.Inline-5.26.0"
    PERL_MM_USE_DEFAULT="1"
    PERL_USE_UNSAFE_INC="0"
  @INC:
    /home/david/cpantesting/perl-5.26.0/lib/site_perl/5.26.0/x86_64-linux-thread-multi
    /home/david/cpantesting/perl-5.26.0/lib/site_perl/5.26.0
    /home/david/cpantesting/perl-5.26.0/lib/5.26.0/x86_64-linux-thread-multi
    /home/david/cpantesting/perl-5.26.0/lib/5.26.0