Storable-AMF v1.23 Perl 5 v5.31.8 x86_64-linux-ld

Status
Pass
From
Andreas J. König (ANDK)
Dist
Storable-AMF v1.23
Platform
Perl 5 v5.31.8 x86_64-linux-ld
Date
2019-12-21 23:34:31
ID
704f36a0-244a-11ea-8b1c-ee5ac3c86e71
This distribution has been tested as part of the CPAN Testers
project, supporting the Perl programming language.  See
http://wiki.cpantesters.org/ for more information or email
questions to cpan-testers-discuss@perl.org


--
Dear Grishayev Anatoliy,

This is a computer-generated report for Storable-AMF-1.23
on perl 5.31.8, created by CPAN-Reporter-1.2018.

Thank you for uploading your work to CPAN.  Congratulations!
All tests were successful.

Sections of this report:

    * Tester comments
    * Program output
    * Prerequisites
    * Environment and other context

------------------------------
TESTER COMMENTS
------------------------------

Additional comments from tester:

this report is from an automated smoke testing program
and was not reviewed by a human for accuracy

------------------------------
PROGRAM OUTPUT
------------------------------

Output from '/usr/bin/make test':

"/tmp/basesmoker-reloperl-H_wj/bin/perl" -MExtUtils::Command::MM -e 'cp_nonempty' -- AMF.bs blib/arch/auto/Storable/AMF/AMF.bs 644
PERL_DL_NONLAZY=1 "/tmp/basesmoker-reloperl-H_wj/bin/perl" "-MExtUtils::Command::MM" "-MTest::Harness" "-e" "undef *Test::Harness::Switches; test_harness(0, 'blib/lib', 'blib/arch')" t/*.t
78563412 LIT 12345678
t/00-compile.t .............. ok
t/01-parse_amf0.t ........... ok
t/02-parse_amf3.t ........... ok
t/03-format-long-str.t ...... ok
t/04-blessed.t .............. ok
t/05-dclone.t ............... ok
t/06-aux-utility.t .......... skipped: This perl version is too modern( >= 5.020 )
t/06-last-undef.t ........... ok
t/07-pod.t .................. ok
t/08-amf3-integer.t ......... ok
      ord(+-)=43 45. -number=256
t/10-dual-var.t ............. ok
t/20-amf-double.t ........... ok
t/21-amf-strings.t .......... ok
t/22-array.t ................ ok
t/23-array-flash0.t ......... ok
t/24-anon-object.t .......... ok
t/30-can-AMF0.t ............. ok
t/31-can-AMF0.t ............. ok
t/32-can-AMF3.t ............. ok
t/40-negative-freeze.t ...... ok
t/41-neg-parse.t ............ ok
t/45-total-sv.t ............. ok
t/46-mem-safe-AMF0.t ........ ok
t/47-mem-safe-AMF3.t ........ ok
t/48-mem-safe-neg-AMF0.t .... ok
t/49-mem-safe-neg-AMF3.t .... ok
t/50-AMF90-exception.t ...... ok
t/51-strict-pragma.t ........ ok
t/52-special-case.t ......... ok
t/53-strict-pragma-amf0.t ... ok
t/54-strict-pragma-amf3.t ... ok
t/55-store-etc-amf0.t ....... ok
t/56-store-etc-amf3.t ....... ok
t/57-deparse-amf0.t ......... ok
t/58-deparse-amf3.t ......... ok
t/60-bug.t .................. ok
t/61-amf-date.t ............. ok
t/62-basic-ext.t ............ ok
t/63-parse-option.t ......... ok
t/64-prefer-number.t ........ ok
t/65-prefer-number3.t ....... ok
t/66-boolean.t .............. ok
t/67-boolean-real.t ......... ok
t/68-boolean-json.t ......... ok
t/69-to_AMF-experimental.t .. ok
t/70-Mapper.t ............... ok
t/71-amf-plus-marker.t ...... ok
t/72-max-array.t ............ ok
t/73-amf-tmp-storage.t ...... ok
t/74-amf-skip-bad.t ......... ok
t/75-devel-api.t ............ ok
All tests successful.
Files=51, Tests=3742,  5 wallclock secs ( 0.35 usr  0.23 sys +  3.49 cusr  0.82 csys =  4.89 CPU)
Result: PASS

------------------------------
PREREQUISITES
------------------------------

Prerequisite modules loaded:

requires:

    Module              Need     Have    
    ------------------- -------- --------
    perl                5.007003 5.031008
    XSLoader            0.06     0.30    

build_requires:

    Module              Need     Have    
    ------------------- -------- --------
    ExtUtils::MakeMaker 0        7.42    

configure_requires:

    Module              Need     Have    
    ------------------- -------- --------
    ExtUtils::MakeMaker 0        7.42    


------------------------------
ENVIRONMENT AND OTHER CONTEXT
------------------------------

Environment variables:

    AUTOMATED_TESTING = 1
    LANG = en_US.UTF-8
    PATH = /home/sand/bin:/usr/local/bin:/usr/bin:/bin:/usr/games:/usr/local/perl/bin:/usr/X11/bin:/sbin:/usr/sbin
    PERL5LIB = 
    PERL5OPT = 
    PERL5_CPANPLUS_IS_RUNNING = 1789336
    PERL5_CPAN_IS_RUNNING = 1789336
    PERL_CANARY_STABILITY_NOPROMPT = 1
    PERL_MM_USE_DEFAULT = 1
    PERL_USE_UNSAFE_INC = 1
    SHELL = /usr/bin/zsh
    TERM = screen

Perl special variables (and OS-specific diagnostics, for MSWin32):

    $^X = /tmp/basesmoker-reloperl-H_wj/bin/perl
    $UID/$EUID = 1005 / 1005
    $GID = 1005 1005
    $EGID = 1005 1005

Perl module toolchain versions installed:

    Module              Have    
    ------------------- --------
    CPAN                2.27    
    CPAN::Meta          2.150010
    Cwd                 3.78    
    ExtUtils::CBuilder  0.280233
    ExtUtils::Command   7.42    
    ExtUtils::Install   2.14    
    ExtUtils::MakeMaker 7.42    
    ExtUtils::Manifest  1.72    
    ExtUtils::ParseXS   3.40    
    File::Spec          3.78    
    JSON                4.02    
    JSON::PP            4.04    
    Module::Build       0.4229  
    Module::Signature   0.83    
    Parse::CPAN::Meta   2.150010
    Test::Harness       3.42    
    Test::More          1.302170
    YAML                1.29    
    YAML::Syck          1.31    
    version             0.9924  


--

Summary of my perl5 (revision 5 version 31 subversion 8) configuration:
  Commit id: d1d17ec1ca01d3c59b76a0bf8f9882b5a4b667f6
  Platform:
    osname=linux
    osvers=5.3.0-2-amd64
    archname=x86_64-linux-ld
    uname='linux k93msid 5.3.0-2-amd64 #1 smp debian 5.3.9-3 (2019-11-19) x86_64 gnulinux '
    config_args='-Dprefix=/home/sand/src/perl/repoperls/installed-perls/host/k93msid/v5.31.7-11-gd1d17ec1ca/ea6b -Dmyhostname=k93msid -Dinstallusrbinperl=n -Uversiononly -Dusedevel -des -Ui_db -Dlibswanted=cl pthread socket inet nsl gdbm dbm malloc dl ld sun m crypt sec util c cposix posix ucb BSD gdbm_compat -Uuseithreads -Duselongdouble -DEBUGGING=none'
    hint=recommended
    useposix=true
    d_sigaction=define
    useithreads=undef
    usemultiplicity=undef
    use64bitint=define
    use64bitall=define
    uselongdouble=define
    usemymalloc=n
    default_inc_excludes_dot=define
    bincompat5005=undef
  Compiler:
    cc='cc'
    ccflags ='-fwrapv -fno-strict-aliasing -pipe -fstack-protector-strong -I/usr/local/include -D_LARGEFILE_SOURCE -D_FILE_OFFSET_BITS=64 -D_FORTIFY_SOURCE=2'
    optimize='-O2'
    cppflags='-fwrapv -fno-strict-aliasing -pipe -fstack-protector-strong -I/usr/local/include'
    ccversion=''
    gccversion='9.2.1 20191109'
    gccosandvers=''
    intsize=4
    longsize=8
    ptrsize=8
    doublesize=8
    byteorder=12345678
    doublekind=3
    d_longlong=define
    longlongsize=8
    d_longdbl=define
    longdblsize=16
    longdblkind=3
    ivtype='long'
    ivsize=8
    nvtype='long double'
    nvsize=16
    Off_t='off_t'
    lseeksize=8
    alignbytes=16
    prototype=define
  Linker and Libraries:
    ld='cc'
    ldflags =' -fstack-protector-strong -L/usr/local/lib'
    libpth=/usr/local/lib /usr/lib/gcc/x86_64-linux-gnu/9/include-fixed /usr/include/x86_64-linux-gnu /usr/lib /lib/x86_64-linux-gnu /lib/../lib /usr/lib/x86_64-linux-gnu /usr/lib/../lib /lib
    libs=-lpthread -lnsl -ldl -lm -lcrypt -lutil -lc
    perllibs=-lpthread -lnsl -ldl -lm -lcrypt -lutil -lc
    libc=libc-2.29.so
    so=so
    useshrplib=false
    libperl=libperl.a
    gnulibc_version='2.29'
  Dynamic Linking:
    dlsrc=dl_dlopen.xs
    dlext=so
    d_dlsymun=undef
    ccdlflags='-Wl,-E'
    cccdlflags='-fPIC'
    lddlflags='-shared -O2 -L/usr/local/lib -fstack-protector-strong'


Characteristics of this binary (from libperl): 
  Compile-time options:
    HAS_TIMES
    PERLIO_LAYERS
    PERL_COPY_ON_WRITE
    PERL_DONT_CREATE_GVSV
    PERL_MALLOC_WRAP
    PERL_OP_PARENT
    PERL_PRESERVE_IVUV
    PERL_USE_DEVEL
    USE_64_BIT_ALL
    USE_64_BIT_INT
    USE_LARGE_FILES
    USE_LOCALE
    USE_LOCALE_COLLATE
    USE_LOCALE_CTYPE
    USE_LOCALE_NUMERIC
    USE_LOCALE_TIME
    USE_LONG_DOUBLE
    USE_PERLIO
    USE_PERL_ATOF
  Built under linux
  Compiled at Dec 21 2019 11:11:05
  %ENV:
    PERL5LIB=""
    PERL5OPT=""
    PERL5_CPANPLUS_IS_RUNNING="1789336"
    PERL5_CPAN_IS_RUNNING="1789336"
    PERL_CANARY_STABILITY_NOPROMPT="1"
    PERL_MM_USE_DEFAULT="1"
    PERL_USE_UNSAFE_INC="1"
  @INC:
    /home/sand/src/perl/repoperls/installed-perls/host/k93msid/v5.31.7-11-gd1d17ec1ca/ea6b/lib/site_perl/5.31.8/x86_64-linux-ld
    /home/sand/src/perl/repoperls/installed-perls/host/k93msid/v5.31.7-11-gd1d17ec1ca/ea6b/lib/site_perl/5.31.8
    /home/sand/src/perl/repoperls/installed-perls/host/k93msid/v5.31.7-11-gd1d17ec1ca/ea6b/lib/5.31.8/x86_64-linux-ld
    /home/sand/src/perl/repoperls/installed-perls/host/k93msid/v5.31.7-11-gd1d17ec1ca/ea6b/lib/5.31.8
    .