Git-Wrapper v0.048 Perl 5 v5.41.5 MSWin32-x64-multi-thread

Status
Pass
From
twata
Dist
Git-Wrapper v0.048
Platform
Perl 5 v5.41.5 MSWin32-x64-multi-thread
Date
2024-11-23 06:25:23
ID
70a0d91c-712c-1014-a24f-8ea06c20a898
This distribution has been tested as part of the CPAN Testers
project, supporting the Perl programming language.  See
http://wiki.cpantesters.org/ for more information or email
questions to cpan-testers-discuss@perl.org


--
Dear John SJ Anderson,

This is a computer-generated report for Git-Wrapper-0.048
on perl 5.41.5, created by CPAN-Reporter-1.2020.

Thank you for uploading your work to CPAN.  Congratulations!
All tests were successful.

Sections of this report:

    * Tester comments
    * Program output
    * Prerequisites
    * Environment and other context

------------------------------
TESTER COMMENTS
------------------------------

Additional comments from tester:

none provided

------------------------------
PROGRAM OUTPUT
------------------------------

Output from '"C:\Program Files\Microsoft Visual Studio\2022\Community\VC\Tools\MSVC\14.33.31629\bin\Hostx64\x64\nmake.exe" test':


Microsoft (R) Program Maintenance Utility Version 14.33.31630.0
Copyright (C) Microsoft Corporation.  All rights reserved.

	"C:\perl64\5.41.5\bin\perl.exe" "-MExtUtils::Command::MM" "-MTest::Harness" "-e" "undef *Test::Harness::Switches; test_harness(0, 'blib\lib', 'blib\arch')" t\*.t
# Testing Git::Wrapper 0.048
t\00-load.t .............. ok
t\author-err.t ........... skipped: these tests are for testing by the author
t\author-pod-coverage.t .. skipped: these tests are for testing by the author
t\author-pod-syntax.t .... skipped: these tests are for testing by the author
# Testing git version: 2.26.2.windows.1
t\basic.t ................ ok
t\git_binary.t ........... ok
t\parse_args.t ........... ok
# Testing git version: 2.26.2.windows.1
t\path_class.t ........... ok
All tests successful.
Files=8, Tests=67, 18 wallclock secs ( 0.11 usr +  0.01 sys =  0.12 CPU)
Result: PASS

------------------------------
PREREQUISITES
------------------------------

Prerequisite modules loaded:

requires:

    Module              Need Have    
    ------------------- ---- --------
    File::chdir         0    0.1011  
    File::Temp          0    0.2311  
    IPC::Cmd            0    1.04    
    IPC::Open3          0    1.23    
    overload            0    1.39    
    Scalar::Util        0    1.68    
    Sort::Versions      0    1.62    
    strict              0    1.13    
    Symbol              0    1.09    
    warnings            0    1.70    

build_requires:

    Module              Need Have    
    ------------------- ---- --------
    Cwd                 0    3.92    
    ExtUtils::MakeMaker 0    7.71_02 
    File::Path          0    2.18    
    File::Spec          0    3.93    
    File::Temp          0    0.2311  
    IO::File            0    1.55    
    POSIX               0    2.22    
    Sort::Versions      0    1.62    
    Test::Deep          0    1.204   
    Test::Exception     0    0.43    
    Test::More          0    1.302204

configure_requires:

    Module              Need Have    
    ------------------- ---- --------
    Devel::CheckBin     0    0.04    
    ExtUtils::MakeMaker 0    7.71_02 
    File::Spec          0    3.93    

opt_build_requires:

    Module              Need Have    
    ------------------- ---- --------
    Path::Class         0.26 0.37    


------------------------------
ENVIRONMENT AND OTHER CONTEXT
------------------------------

Environment variables:

    COMSPEC = C:\WINDOWS\system32\cmd.exe
    INCLUDE = C:\Program Files\Microsoft Visual Studio\2022\Community\VC\Tools\MSVC\14.33.31629\include;C:\Program Files\Microsoft Visual Studio\2022\Community\VC\Tools\MSVC\14.33.31629\ATLMFC\include;C:\Program Files\Microsoft Visual Studio\2022\Community\VC\Auxiliary\VS\include;C:\Program Files (x86)\Windows Kits\10\include\10.0.19041.0\ucrt;C:\Program Files (x86)\Windows Kits\10\\include\10.0.19041.0\\um;C:\Program Files (x86)\Windows Kits\10\\include\10.0.19041.0\\shared;C:\Program Files (x86)\Windows Kits\10\\include\10.0.19041.0\\winrt;C:\Program Files (x86)\Windows Kits\10\\include\10.0.19041.0\\cppwinrt;C:\ext\include;C:\perl64\local\include
    LC_ALL = C
    LIB = C:\Program Files\Microsoft Visual Studio\2022\Community\VC\Tools\MSVC\14.33.31629\ATLMFC\lib\x64;C:\Program Files\Microsoft Visual Studio\2022\Community\VC\Tools\MSVC\14.33.31629\lib\x64;C:\Program Files (x86)\Windows Kits\10\lib\10.0.19041.0\ucrt\x64;C:\Program Files (x86)\Windows Kits\10\\lib\10.0.19041.0\\um\x64;C:\ext\lib
    NONINTERACTIVE_TESTING = 1
    NUMBER_OF_PROCESSORS = 4
    PATH = C:\PROGRA~1\Git\bin;C:\home\oat5415\perl5\bin;C:\perl64\5.41.5\bin;C:\build-openssl\bin;C:\ext\bin;C:\Program Files\Microsoft Visual Studio\2022\Community\VC\Tools\MSVC\14.33.31629\bin\HostX64\x64;C:\Program Files\Microsoft Visual Studio\2022\Community\Common7\IDE\VC\VCPackages;C:\Program Files\Microsoft Visual Studio\2022\Community\Common7\IDE\CommonExtensions\Microsoft\TestWindow;C:\Program Files\Microsoft Visual Studio\2022\Community\Common7\IDE\CommonExtensions\Microsoft\TeamFoundation\Team Explorer;C:\Program Files\Microsoft Visual Studio\2022\Community\MSBuild\Current\bin\Roslyn;C:\Program Files\Microsoft Visual Studio\2022\Community\Team Tools\Performance Tools\x64;C:\Program Files\Microsoft Visual Studio\2022\Community\Team Tools\Performance Tools;C:\Program Files (x86)\Windows Kits\10\bin\10.0.19041.0\\x64;C:\Program Files (x86)\Windows Kits\10\bin\\x64;C:\Program Files\Microsoft Visual Studio\2022\Community\\MSBuild\Current\Bin\amd64;C:\Windows\Microsoft.NET\Framework64\v4.0.30319;C:\Program Files\Microsoft Visual Studio\2022\Community\Common7\IDE\;C:\Program Files\Microsoft Visual Studio\2022\Community\Common7\Tools\;C:\Program Files (x86)\Windows Resource Kits\Tools\;C:\WINDOWS\system32;C:\WINDOWS;C:\WINDOWS\System32\Wbem;C:\WINDOWS\System32\WindowsPowerShell\v1.0\;C:\Program Files\Microsoft Visual Studio\2022\Community\Common7\IDE\CommonExtensions\Microsoft\CMake\CMake\bin;C:\Program Files\Microsoft Visual Studio\2022\Community\Common7\IDE\CommonExtensions\Microsoft\CMake\Ninja;C:\Program Files\Microsoft Visual Studio\2022\Community\Common7\IDE\VC\Linux\bin\ConnectionManagerExe
    PERL5LIB = C:\home\oat5415\perl5\lib\perl5
    PERL5OPT = 
    PERL5_CPANPLUS_IS_RUNNING = 18704
    PERL5_CPAN_IS_RUNNING = 18704
    PERL_LOCAL_LIB_ROOT = C:\home\oat5415\perl5
    PERL_MB_OPT = --install_base "C:\\home\\oat5415\\perl5"
    PERL_MM_OPT = INSTALL_BASE=C:\\home\\oat5415\\perl5
    PERL_MM_USE_DEFAULT = 1
    PERL_USE_UNSAFE_INC = 1
    PROCESSOR_IDENTIFIER = Intel64 Family 6 Model 58 Stepping 9, GenuineIntel
    TEMP = C:\Users\USER\AppData\Local\Temp
    TERM = dumb

Perl special variables (and OS-specific diagnostics, for MSWin32):

    $^X = C:\perl64\5.41.5\bin\perl.exe
    $UID/$EUID = 0 / 0
    $GID = 0
    $EGID = 0
    Win32::GetOSName = Win8.1
    Win32::GetOSVersion = , 6, 3, 9600, 2, 0, 0, 256, 1
    Win32::FsType = NTFS
    Win32::IsAdminUser = 0

Perl module toolchain versions installed:

    Module              Have    
    ------------------- --------
    CPAN                2.38    
    CPAN::Meta          2.150010
    Cwd                 3.92    
    ExtUtils::CBuilder  0.280240
    ExtUtils::Command   7.71_02 
    ExtUtils::Install   2.22    
    ExtUtils::MakeMaker 7.71_02 
    ExtUtils::Manifest  1.75    
    ExtUtils::ParseXS   3.55    
    File::Spec          3.93    
    JSON                4.10    
    JSON::PP            4.16    
    Module::Build       0.4234  
    Module::Signature   n/a     
    Parse::CPAN::Meta   2.150010
    Test2               1.302204
    Test::Harness       3.50    
    Test::More          1.302204
    YAML                1.31    
    YAML::Syck          n/a     
    version             0.9933  


--

Summary of my perl5 (revision 5 version 41 subversion 5) configuration:
   
  Platform:
    osname=MSWin32
    osvers=6.3.9600
    archname=MSWin32-x64-multi-thread
    uname=''
    config_args='undef'
    hint=recommended
    useposix=true
    d_sigaction=undef
    useithreads=define
    usemultiplicity=define
    use64bitint=define
    use64bitall=undef
    uselongdouble=undef
    usemymalloc=n
    default_inc_excludes_dot=define
  Compiler:
    cc='cl'
    ccflags ='-nologo -GF -W3 -MD -DWIN32 -D_CONSOLE -DNO_STRICT -DWIN64 -D_CRT_SECURE_NO_DEPRECATE  -D_CRT_NONSTDC_NO_DEPRECATE -D_WINSOCK_DEPRECATED_NO_WARNINGS  -DPERL_TEXTMODE_SCRIPTS -DMULTIPLICITY -DPERL_IMPLICIT_SYS'
    optimize='-O1 -Zi -GL -fp:precise'
    cppflags='-DWIN32'
    ccversion='19.33.31630'
    gccversion=''
    gccosandvers=''
    intsize=4
    longsize=4
    ptrsize=8
    doublesize=8
    byteorder=12345678
    doublekind=3
    d_longlong=undef
    longlongsize=8
    d_longdbl=define
    longdblsize=8
    longdblkind=0
    ivtype='__int64'
    ivsize=8
    nvtype='double'
    nvsize=8
    Off_t='__int64'
    lseeksize=8
    alignbytes=8
    prototype=define
  Linker and Libraries:
    ld='link'
    ldflags ='-nologo -nodefaultlib -debug -opt:ref,icf -ltcg  -libpath:"c:\perl64\5.41.5\lib\CORE"  -machine:AMD64 -subsystem:console,"5.02"'
    libpth="C:\Program Files\Microsoft Visual Studio\2022\Community\VC\Tools\MSVC\14.33.31629\\lib\x64"
    libs=oldnames.lib kernel32.lib user32.lib gdi32.lib winspool.lib  comdlg32.lib advapi32.lib shell32.lib ole32.lib oleaut32.lib  netapi32.lib uuid.lib ws2_32.lib mpr.lib winmm.lib  version.lib odbc32.lib odbccp32.lib comctl32.lib msvcrt.lib vcruntime.lib ucrt.lib
    perllibs=oldnames.lib kernel32.lib user32.lib gdi32.lib winspool.lib  comdlg32.lib advapi32.lib shell32.lib ole32.lib oleaut32.lib  netapi32.lib uuid.lib ws2_32.lib mpr.lib winmm.lib  version.lib odbc32.lib odbccp32.lib comctl32.lib msvcrt.lib vcruntime.lib ucrt.lib
    libc=ucrt.lib
    so=dll
    useshrplib=true
    libperl=perl541.lib
    gnulibc_version=''
  Dynamic Linking:
    dlsrc=dl_win32.xs
    dlext=dll
    d_dlsymun=undef
    ccdlflags=' '
    cccdlflags=' '
    lddlflags='-dll -nologo -nodefaultlib -debug -opt:ref,icf -ltcg  -libpath:"c:\perl64\5.41.5\lib\CORE"  -machine:AMD64 -subsystem:console,"5.02"'


Characteristics of this binary (from libperl): 
  Compile-time options:
    HAS_LONG_DOUBLE
    HAS_TIMES
    HAVE_INTERP_INTERN
    MULTIPLICITY
    PERLIO_LAYERS
    PERL_COPY_ON_WRITE
    PERL_DONT_CREATE_GVSV
    PERL_HASH_FUNC_SIPHASH13
    PERL_HASH_USE_SBOX32
    PERL_IMPLICIT_SYS
    PERL_MALLOC_WRAP
    PERL_OP_PARENT
    PERL_PRESERVE_IVUV
    PERL_USE_SAFE_PUTENV
    USE_64_BIT_INT
    USE_ITHREADS
    USE_LARGE_FILES
    USE_LOCALE
    USE_LOCALE_COLLATE
    USE_LOCALE_CTYPE
    USE_LOCALE_NUMERIC
    USE_LOCALE_TIME
    USE_PERLIO
    USE_PERL_ATOF
    USE_THREAD_SAFE_LOCALE
  Built under MSWin32
  Compiled at Oct 21 2024 23:18:08
  %ENV:
    PERL5LIB="C:\home\oat5415\perl5\lib\perl5"
    PERL5_CPANPLUS_IS_RUNNING="18704"
    PERL5_CPAN_IS_RUNNING="18704"
    PERL_LOCAL_LIB_ROOT="C:\home\oat5415\perl5"
    PERL_MB_OPT="--install_base "C:\\home\\oat5415\\perl5""
    PERL_MM_OPT="INSTALL_BASE=C:\\home\\oat5415\\perl5"
    PERL_MM_USE_DEFAULT="1"
    PERL_USE_UNSAFE_INC="1"
  @INC:
    C:\home\oat5415\perl5\lib\perl5/MSWin32-x64-multi-thread
    C:\home\oat5415\perl5\lib\perl5
    C:/perl64/site/5.41.5/lib
    C:/perl64/site/lib
    C:/perl64/5.41.5/lib
    .